{"text_format":"1","workbook":"xlsx","n_sheets":34,"sheets":["Anleitung","Select","R_Quali","R32_Baum","R32","R32_Ergebnis","R28_Baum","R28","R28_Ergebnis","R52_Baum","R52","R52_Ergebnis","R16_Baum","R16","R16_Ergebnis","R8_Baum","R8","R8_Ergebnis","C_Quali","C52_Baum","C52","C52_Ergebnis","C32_Baum","C32","C32_Ergebnis","C28_Baum","C28","C28_Ergebnis","C16_Baum","C16","C16_Ergebnis","C8_Baum","C8","C8_Ergebnis"],"not_rendered":{"charts":0,"images":27,"macros":1,"external_links":0,"defined_names":97,"comments":11,"pivot_tables":0},"unopened":[],"bounds":{"document_bytes":16777216,"sheet_cells":100000,"rows_first":2000,"rows_last":500,"rows_between":2000,"halvings":0,"cell_chars":16384,"cell_head_chars":4096},"cells_cut":0,"cells_raw":0,"read":"whole","date_system":"1900"}

{"sheet":"Anleitung","index":0,"n_rows":47,"n_cols":2,"rows_kept":47,"cut":false,"hidden":false,"merged":[[0,0,0,1],[46,0,46,1]]}
["Anleitung"]
[]
["1.","Grundsätzliches"]
[]
[null,"Die Datei enthält einen Satz Datenblätter für Recurve-Einzelfinale (blau) und einen Satz Datenblätter für das Compound-Einzelfinale (grün).Die Einzelfinale unterscheiden sich bei den Scorezetteln (Set-System bei Recurve, Match-System bei Compound)."]
[]
["2.","Vorarbeiten"]
[]
[null,"Eine Datei für Damen und eine Datei für Herren anlegen."]
[null,"Das jeweilige Kästchen \"Auswahl Finale\" anklicken, dadurch kommt rechts unten ein Pulldown-Dreieck zum Vorschein; dieses aufklappen und das gewünschte Finale auswählen und anschließend auf den Button \"Einblenden\" drücken."]
[null,"Wird nur ein Halbfinale (4 Teilnehmer) benötigt, ist das 1/4-Finale zu verwenden. Durch Eingabe * im Ergebnis steigen die Teilnehmer automatisch ins Halbfinale auf (siehe Abschnitt \"Baum\")."]
[null,"Je Bogenklasse werden folgende Blätter angelegt:"]
[null,"*  _Quali"]
[null,"*  _Baum (z.B.: R16_Baum, C8_Baum)"]
[null,"*  dazugeörende Scoreblätter (z.B.: R16, C8)"]
[null,"*  das dazugehörende Ergebnisblatt  (z.B.: R16_Ergebnis, C8_Ergebnis)"]
[null,"Die Grunddaten im Blatt \"Select\" erfassen, diese werden automatisch auf alle Seiten übertragen."]
[]
["3.","Qualifikationsblatt"]
[]
[null,"Dieses Blatt bildet die Basis für die Folgeseiten. Die Werte müssen aus dem Grunddurchgang spaltenberecht übernommen werden (Junioren, Senioren nicht vergessen!!)."]
[]
[null,"Spalte SO (Shoot Off)"]
[null,"Bei einem Stechen um den Einzug in das Finale oder um das Freilos Platz 4 wird das Ergebnis des Stechens in die Spalte SO eingetragen. Anschließend ist der Button \"Sortieren\" zu drücken."]
[null,"Bei Ringgleichheit und Messen zum Zentrum, wird der Sieger neben dem Ergebnis zusätzlich mit einem Stern (*) gekennzeichnet. \n\nACHTUNG!!!!!!!\nDurch den Stern funktioniert aber das Sortieren nicht mehr.\n\nLÖSUNG:\nStatt * das Ergebnis mit ,1 eintragen (z.B. 8,1) - Startnummer oder Name merken!!!\nButton \"Sortieren\" drücken\nAnschließend wieder die ganze Ringzahl mit * dahinter eintragen (z.B. 8*)"]
[]
["4.","Baum"]
[]
[null,"Die Paarungen werden aus dem Quali-Blatt automatisch übernommen."]
[null,"Die Scheibeneinteilung ist im Baum vorzunehmen. Die 1. Scheibe ist einzugeben (weisses Feld), die folgenden Scheibennummern werden automatisch vergeben. Wenn 2 Schützen auf einer Scheibe schießen sollen, ist bei der Scheibennummer z.B 5A einzugeben."]
[null,"Der Button \"Ergebnisse löschen\" löscht alle eingegebenen Ergebnisse, nur die Grundpaarungen bleiben erhalten (für Versuche recht praktisch)."]
[null,"Die Ergebnisse sind einzutragen, die Sieger werden automatisch in die nächste Runde weitergeschrieben."]
[null,"Bei einem Stechen ist beim Sieger ein * beim Ergebnis anzuhängen (z.B. 145*). Wird nach dem Setsystem geschossen bekommt der Sieger des Stechens einen Punkt dazu und gewinnt somit 6:5."]
[null,"Hat ein Schütze keinen Gegner ist im Ergebnis ein * einzutragen, damit die Daten automatisch in die nächste Runde weitergeschrieben werden."]
[]
["5.","Scoreblätter"]
[]
[null,"Je Schütze wird ein Scorezettel erstellt. Grunddaten, Name, Verein und Scheibeneinteilung bis zum Halbfinale sind bereits ausgefüllt. Ein Schütze behält den Zettel bis zu seinem Ausscheiden. Der Verlierer des Halbfinales behält den Zettel für das \"kleine Finale\". "]
[]
["6.","Ergebnis"]
[]
[null,"Über den Button \"Sortieren\" gelangen die Ergebnisse aus dem Baum in diese Liste. "]
[null,"Manuelle Korrekturen in der Ergebnisliste sind möglich, die ausgeblendeten Spalten L-Q dürfen auf keinen Fall zerstört werden!!!"]
[]
[]
[]
["Etwaige Fehler bitte per Mail an helmut.poell@gmx.at bekannt geben - Danke."]

{"sheet":"Select","index":1,"n_rows":23,"n_cols":11,"rows_kept":23,"cut":false,"hidden":false,"merged":[[13,2,13,3],[0,1,0,3],[9,1,9,3],[11,2,11,3],[12,2,12,3]]}
[null,"Auswahl der Blätter"]
[]
[null,"Klasse","Auswahl Finale","Blätter anzeigen",null,null,"NEU","ALT",null,"Neue Zeile in C5 und C7 über Daten/Datenüberprüfung einfügen"]
[null,null,null,null,null,null,null,null,null,"Kein Finale",0]
[null,"Recurve","Kein Finale",null,null,null,{"$f":"VLOOKUP(C5,$J$4:$K$11,2,FALSE)","v":0},0,null,"1/24 Elimination (52 Teilnehmer)",5]
[null,null,null,null,null,null,null,null,null,"1/16 Elimination (32 Teilnehmer)",1]
[null,"Compound","Kein Finale",null,null,null,{"$f":"VLOOKUP(C7,$J$4:$K$11,2,FALSE)","v":0},0,null,"1/12 Elimination (28 Teilnehmer)",2]
[null,null,null,null,null,null,null,null,null,"1/8 Elimination (16 Teilnehmer)",3]
[null,null,null,null,null,null,null,null,null,"1/4 Finale (8 Teilnehmer)",4]
[null,"Die hier eingegebenen Daten werden auf alle dahinter liegenden Blätter übernommen."]
[]
[null,"Veranstaltungstitel","Demoturnier"]
[null,"Datum","1. April 2019"]
[null,"Bewerb","WA-Outdoor"]
[]
[]
[null,"variables Feld","Inhalt"]
[null,"Recurve","Recurve Herren"]
[]
[null,"Compound","Compound Herren"]
[]
[null,"10er","10er"]
[null,"9er","X"]

{"sheet":"R_Quali","index":2,"n_rows":100,"n_cols":14,"rows_kept":100,"cut":false,"hidden":true,"merged":[[6,0,6,3],[4,0,4,3],[1,0,1,3],[2,0,2,3],[3,13,6,16]]}
[]
[{"$f":"Select!$C$12","v":"Demoturnier"}]
[{"$f":"Select!C13","v":"1. April 2019"}]
[null,null,null,null,null,null,null,null,null,null,null,null,null,"Spalte SO (Shoot Off)\n\nBitte dringend die Anleitung dazu lesen!!!\n(Punkt 3.)\n"]
["Qualifikationsrunde"]
[]
[{"$f":"Select!C18","v":"Recurve Herren"}]
[]
["Pl.","Start-Nr.","Name","Verein","Land",{"$f":"Select!C22","v":"10er"},{"$f":"Select!C23","v":"X"},"Quali.","SO"]
[{"$f":"IF(C10>\" \",1,\" \")","v":1},"22C","Url Günter","BSC-Wolfspfeil Raab-Holzer","ST",25,20,532]
[{"$f":"IF(C11>\" \",A10+1,\" \")","v":2},"21C","Berger Hermann","BSV Glemmerhof","S",16,29,531]
[{"$f":"IF(C12>\" \",A11+1,\" \")","v":3},"31D","Strohmaier Joachim","BSC Kumberg","ST",16,26,530]
[4,"19D","Krempl Werner","BSC Semriach","ST",15,24,529]
[5,"30A","Höllwirth Andreas","ASKÖ-Luftenberg","OÖ",16,22,528]
[6,"33C","Parschisek Alexander","BC-Oberschützen","B",13,27,527]
[7,"30B","Bucher Martin","LH Graz","ST",16,22,526]
[8,"29D","Robl Ronald","Austrian Free Archer","NÖ",14,25,525]
[9,"15C","Traxler Helmuth","UBC Diana NÖ","NÖ",16,17,524]
[10,"29A","Navratil Christoph","BSV Schönbrunn","W",12,22,523]
[11,"26A","Reicher Ernst","BSC Wörthersee","K",17,21,522]
[12,"19A","Bauer Helfried","Austrian Free Archer","NÖ",15,19,521]
[13,"16A","Jandl Ernst","PSV Burgenland - Sektion Bogen","B",13,23,520]
[14,"19B","Schramm Wolfgang","LINZ AG Sport - Sektion Bogen","OÖ",12,22,519]
[15,"35B","Markl Mario","BSV Dakota","NÖ",14,22,518]
[16,"31B","Lackner Uwe","LH Graz","ST",16,25,517]
[17,"35D","Schweiger Peter","BSV-Blumental","ST",14,21,516]
[18,"15A","Hamedl Wolfgang","PSV Burgenland - Sektion Bogen","B",11,22,515]
[19,"23D","Winkler Klaus","BSC Enzenreith","NÖ",14,20,514]
[20,"32A","Stiftner Alfred","BC Kronstorf","OÖ",9,23,513]
[21,"22A","Pupetschek Manfred","IHG Sektion Bogen","T",9,26,512]
[22,"24D","Schütz Raimund","TBs Weinviertel","NÖ",11,20,511]
[23,"18C","Kutmon Wilhelm","BS Ligist - Archery Freaks","ST",14,16,510]
[24,"14A","Eidenberger Karl","PSV Burgenland - Sektion Bogen","B",8,22,509]
[25,"25B","Wallner Ewald","BSC Sölkpass","ST",13,20,508]
[26,"25C","Kossek Heinz","BC Wildon Weitendorf","ST",11,22,507]
[27,"35C","Radauer Helmuth","BSC Ennstal","ST",6,23,506]
[28,"20A","Eberle Roland","Austrian Free Archer","NÖ",7,22,505]
[29,"32B","Simmer Gerhard","Union Bogensport Haag","NÖ",9,21,504]
[30,"18B","Lein Karl","BSV Mattersburg","B",7,19,503]
[31,"17B","Klemke Harald","BSV Mattersburg","B",9,20,502]
[32,"34A","Klampfer Markus","Club 3-D Austria Bogensport","S",5,21,501]
[33,"23A","Werlitsch Ernst","EAT-Bogensport","ST",6,21,500]
[34,"34C","Grünsteidl Klaus","BSV Stoneface - Archery","OÖ",6,20,488]
[35,"28D","Hochbaumer Thomas","Austrian Free Archer","NÖ",13,14,487]
[36,"21B","Zorgovsky Peter","BSV Schönbrunn","W",11,16,487]
[37,"18A","Mühlgassner Wolfgang","UBSC Artemis Wien","W",9,17,487]
[38,"28C","Greis Christian","BSV Spannberg","NÖ",6,17,484]
[39,"14D","Arfsten Sven","BC Golden Arrows","S",11,17,483]
[40,"33B","Kramer Michael","Union Ried in der Riedmark","OÖ",7,16,483]
[41,"27D","Thuswald Alfred","ASKÖ Gunskirchen","OÖ",5,19,479]
[42,"17A","Hoyer Wolfgang","UBSC Artemis Wien","W",8,12,477]
[43,"31C","Galler Joachim","BSV Mattersburg","B",6,20,476]
[44,"16B","Schauer Bernhard","SVM Sportverein Magistrat Linz","OÖ",5,15,476]
[45,"28A","Bouse Harald","BSV Schönbrunn","W",9,15,475]
[46,"16D","Doppler Wolfgang","Union BSC Ried","OÖ",7,17,475]
[47,"26B","Feizlmair Andreas","Union Bogensport Haag","NÖ",7,15,474]
[48,"22D","Schinko Bernhard","BSV Offenhausen","OÖ",8,16,472]
[49,"27A","Linhart Christian","BSV Stöttera","B",7,20,472]
[50,"24A","Hahn Gottfried","BSV Spannberg","NÖ",9,14,468]
[51,"21D","Vorauer Helmut","HSV Absam Bogensport","T",6,17,468]
[52,"13B","Thullner Erik","BSV - Lassee","NÖ",7,16,467]
[53,"28B","Aigner Joachim","SVM Sportverein Magistrat Linz","OÖ",6,15,466]
[54,"27C","Feizlmair Walter","Union Bogensport Haag","NÖ",3,14,466]
[55,"13C","Nadasi Markus","UBSC Artemis Wien","W",10,11,462]
[56,"14B","Hackl Franz","SVM Sportverein Magistrat Linz","OÖ",6,13,461]
[57,"29C","Reichmann Markus","BSV Spannberg","NÖ",7,13,456]
[58,"25D","Kragler Gerhard","BSC ASKÖ Trumau","NÖ",6,11,455]
[59,"26C","Grubmüller Georg","Union Maria Schmolln","OÖ",5,8,455]
[60,"22B","Sallaberger Ralf","Union Bogensport Haag","NÖ",6,13,454]
[61,"32C","Wiesenberger Christian","Union BSC Ried","OÖ",8,14,453]
[62,"34B","Dlapka Christian","Union Urfahr - Sektion Bogen","OÖ",4,17,453]
[63,"16C","Kuhn Jürgen Hans","UBC Diana NÖ","NÖ",6,14,451]
[64,"33D","Pitschmann Martin","Union Bogensport Haag","NÖ",6,9,450]
[65,"20C","Peer Erich","Bogenschützen Obervoitsberg","ST",6,15,448]
[66,"32D","Pfenicher Markus","Bogenschützen Obervoitsberg","ST",9,10,443]
[{"$f":"IF(C76>\" \",A75+1,\" \")","v":67},"15D","Rinner Christian","BC Golden Arrows","S",5,15,443]
[68,"15B","Primetzhofer Klaus","SVM Sportverein Magistrat Linz","OÖ",4,14,443]
[69,"25A","Drapela Norbert","BSC Stockerau","NÖ",2,11,440]
[70,"33A","Hofer Michael","LINZ AG Sport - Sektion Bogen","OÖ",6,14,436]
[71,"24B","Panhofer Harald","Union Urfahr - Sektion Bogen","OÖ",4,13,433]
[72,"30C","Bohnec Josef","UBSC Artemis Wien","W",3,10,430]
[73,"23B","Lanik Martin","UBC Diana NÖ","NÖ",7,7,426]
[74,"30D","Fuchs Günther","Bogensport Waldviertel","NÖ",2,12,420]
[75,"24C","Hrabovsky Manfred","BSC Ennstal","ST",3,10,413]
[76,"29B","Ilchmann Peter","SVM Sportverein Magistrat Linz","OÖ",8,9,411]
[77,"35A","Nawratil Oskar","Union SHSV","NÖ",6,7,407]
[78,"17C","Haas Adolf","BS Ligist - Archery Freaks","ST",3,12,405]
[79,"26D","Riesenhuber Viktor","Union SHSV","NÖ",2,8,384]
[80,"20B","Weißenegger Albert","Bogen Club Kufstein","T",7,6,374]
[81,"17D","Fruhwirth Konrad","Union BSC Ried","OÖ",6,3,351]
[82,"27B","Kapp Rudolf","LINZ AG Sport - Sektion Bogen","OÖ",3,10,344]
[83,"14C","Hessl Richard","BSC Wörthersee","K",2,4,343]
[" "," "," "," "," "]
[" "," "," "," "," "]
[" "," "," "," "," "]
[" "," "," "," "," "]
[" "," "," "," "," "]
[" "," "," "," "," "]
[" "," "," "," "," "]
[{"$f":"IF(C100>\" \",A99+1,\" \")","v":" "}," "," "," "," "]

{"sheet":"R32_Baum","index":3,"n_rows":103,"n_cols":28,"rows_kept":103,"cut":false,"hidden":true,"merged":[[63,20,64,21],[63,19,64,19],[22,16,23,17],[24,16,25,17],[65,2,66,6],[64,7,65,9],[60,12,61,14],[53,16,54,18],[65,10,66,16],[1,13,2,22],[3,13,4,22],[52,20,53,22],[39,16,40,17],[41,16,42,17],[6,19,7,19],[6,22,7,22],[8,22,9,22],[10,22,11,22],[8,19,9,19],[10,19,11,19],[6,20,7,21],[8,20,9,21],[10,20,11,21]]}
[]
[null,"Schb.","Qual.","Name","Land","Verein","Erg.",null,null,null,null,null,null,{"$f":"Select!C12","v":"Demoturnier"}]
[1,{"$f":"E72","v":"1A"},{"$f":"R_Quali!H10","v":532},{"$f":"R_Quali!C10","v":"Url Günter"},{"$f":"R_Quali!E10","v":"ST"},{"$f":"R_Quali!D10","v":"BSC-Wolfspfeil Raab-Holzer"}]
[32,{"$f":"E73","v":"1B"},{"$f":"R_Quali!H41","v":501},{"$f":"R_Quali!C41","v":"Klampfer Markus"},{"$f":"R_Quali!E41","v":"S"},{"$f":"R_Quali!D41","v":"Club 3-D Austria Bogensport"},null,"Schb","Name","Land","Erg.",null,null,{"$f":"Select!C13","v":"1. April 2019"}]
[null,null,null,null,null,null,null,{"$f":"J72","v":"1A"},{"$f":"IF($G3>$G4,$D3,IF($G4>$G3,$D4,IF(RIGHT($G3,1)=\"*\",$D3,IF(RIGHT($G4,1)=\"*\",$D4,\"\"))))","v":""},{"$f":"IF($G3>$G4,$E3,IF($G4>$G3,$E4,IF(RIGHT($G3,1)=\"*\",$E3,IF(RIGHT($G4,1)=\"*\",$E4,\"\"))))","v":""}]
[null,null,null,null,null,null,null,{"$f":"J73","v":"1B"},{"$f":"IF($G7>$G8,$D7,IF($G8>$G7,$D8,IF(RIGHT($G7,1)=\"*\",$D7,IF(RIGHT($G8,1)=\"*\",$D8,\"\"))))","v":""},{"$f":"IF($G7>$G8,$E7,IF($G8>$G7,$E8,IF(RIGHT($G7,1)=\"*\",$E7,IF(RIGHT($G8,1)=\"*\",$E8,\"\"))))","v":""}]
[17,{"$f":"E74","v":"2A"},{"$f":"R_Quali!H26","v":516},{"$f":"R_Quali!C26","v":"Schweiger Peter"},{"$f":"R_Quali!E26","v":"ST"},{"$f":"R_Quali!D26","v":"BSV-Blumental"},null,null,null,null,null,null,null,null,null,null,null,null,null,"1.",{"$f":"IF($W$24>$W$25,$U$24,IF($W$25>$W$24,$U$25,IF(RIGHT($W$24,1)=\"*\",$U$24,IF(RIGHT($W$25,1)=\"*\",$U$25,\"\"))))","v":""},null,{"$f":"IF($W$24>$W$25,$V$24,IF($W$25>$W$24,$V$25,IF(RIGHT($W$24,1)=\"*\",$V$24,IF(RIGHT($W$25,1)=\"*\",$V$25,\"\"))))","v":""}]
[16,{"$f":"E75","v":"2B"},{"$f":"R_Quali!H25","v":517},{"$f":"R_Quali!C25","v":"Lackner Uwe"},{"$f":"R_Quali!E25","v":"ST"},{"$f":"R_Quali!D25","v":"LH Graz"},null,null,null,null,null,"Schb","Name","Land","Erg."]
[null,null,null,null,null,null,null,null,null,null,null,{"$f":"N72","v":"1A"},{"$f":"IF($K5>$K6,$I5,IF($K6>$K5,$I6,IF(RIGHT($K5,1)=\"*\",$I5,IF(RIGHT($K6,1)=\"*\",$I6,\"\"))))","v":""},{"$f":"IF($K5>$K6,$J5,IF($K6>$K5,$J6,IF(RIGHT($K5,1)=\"*\",$J5,IF(RIGHT($K6,1)=\"*\",$J6,\"\"))))","v":""},null,null,null,null,null,"2.",{"$f":"IF($W$24<$W$25,$U$24,IF($W$25<$W$24,$U$25,IF(RIGHT($W$25,1)=\"*\",$U$24,IF(RIGHT($W$24,1)=\"*\",$U$25,\"\"))))","v":""},null,{"$f":"IF($W$24<$W$25,$V$24,IF($W$25<$W$24,$V$25,IF(RIGHT($W$25,1)=\"*\",$V$24,IF(RIGHT($W$24,1)=\"*\",$V$25,\"\"))))","v":""}]
[null,null,null,null,null,null,null,null,null,null,null,{"$f":"N73","v":"1B"},{"$f":"IF($K13>$K14,$I13,IF($K14>$K13,$I14,IF(RIGHT($K13,1)=\"*\",$I13,IF(RIGHT($K14,1)=\"*\",$I14,\"\"))))","v":""},{"$f":"IF($K13>$K14,$J13,IF($K14>$K13,$J14,IF(RIGHT($K13,1)=\"*\",$J13,IF(RIGHT($K14,1)=\"*\",$J14,\"\"))))","v":""}]
[9,{"$f":"E76","v":"3A"},{"$f":"R_Quali!H18","v":524},{"$f":"R_Quali!C18","v":"Traxler Helmuth"},{"$f":"R_Quali!E18","v":"NÖ"},{"$f":"R_Quali!D18","v":"UBC Diana NÖ"},null,null,null,null,null,null,null,null,null,null,null,null,null,"3.",{"$f":"IF($W$41>$W$42,$U$41,IF($W$42>$W$41,$U$42,IF(RIGHT($W$41,1)=\"*\",$U$41,IF(RIGHT($W$42,1)=\"*\",$U$42,\"\"))))","v":""},null,{"$f":"IF($W$41>$W$42,$V$41,IF($W$42>$W$41,$V$42,IF(RIGHT($W$41,1)=\"*\",$V$41,IF(RIGHT($W$42,1)=\"*\",$V$42,\"\"))))","v":""}]
[24,{"$f":"E77","v":"3B"},{"$f":"R_Quali!H33","v":509},{"$f":"R_Quali!C33","v":"Eidenberger Karl"},{"$f":"R_Quali!E33","v":"B"},{"$f":"R_Quali!D33","v":"PSV Burgenland - Sektion Bogen"}]
[null,null,null,null,null,null,null,{"$f":"J74","v":"2A"},{"$f":"IF($G11>$G12,$D11,IF($G12>$G11,$D12,IF(RIGHT($G11,1)=\"*\",$D11,IF(RIGHT($G12,1)=\"*\",$D12,\"\"))))","v":""},{"$f":"IF($G11>$G12,$E11,IF($G12>$G11,$E12,IF(RIGHT($G11,1)=\"*\",$E11,IF(RIGHT($G12,1)=\"*\",$E12,\"\"))))","v":""}]
[null,null,null,null,null,null,null,{"$f":"J75","v":"2B"},{"$f":"IF($G15>$G16,$D15,IF($G16>$G15,$D16,IF(RIGHT($G15,1)=\"*\",$D15,IF(RIGHT($G16,1)=\"*\",$D16,\"\"))))","v":""},{"$f":"IF($G15>$G16,$E15,IF($G16>$G15,$E16,IF(RIGHT($G15,1)=\"*\",$E15,IF(RIGHT($G16,1)=\"*\",$E16,\"\"))))","v":""}]
[25,{"$f":"E78","v":"4A"},{"$f":"R_Quali!H34","v":508},{"$f":"R_Quali!C34","v":"Wallner Ewald"},{"$f":"R_Quali!E34","v":"ST"},{"$f":"R_Quali!D34","v":"BSC Sölkpass"}]
[8,{"$f":"E79","v":"4B"},{"$f":"R_Quali!H17","v":525},{"$f":"R_Quali!C17","v":"Robl Ronald"},{"$f":"R_Quali!E17","v":"NÖ"},{"$f":"R_Quali!D17","v":"Austrian Free Archer"},null,null,null,null,null,null,null,null,null,"Schb","Name","Land","Erg."]
[null,null,null,null,null,null,null,null,null,null,null,null,null,null,null,{"$f":"R72","v":1},{"$f":"IF($O9>$O10,$M9,IF($O10>$O9,$M10,IF(RIGHT($O9,1)=\"*\",$M9,IF(RIGHT($O10,1)=\"*\",$M10,\"\"))))","v":""},{"$f":"IF($O9>$O10,$N9,IF($O10>$O9,$N10,IF(RIGHT($O9,1)=\"*\",$N9,IF(RIGHT($O10,1)=\"*\",$N10,\"\"))))","v":""}]
[null,null,null,null,null,null,null,null,null,null,null,null,null,null,null,{"$f":"R73","v":2},{"$f":"IF($O25>$O26,$M25,IF($O26>$O25,$M26,IF(RIGHT($O25,1)=\"*\",$M25,IF(RIGHT($O26,1)=\"*\",$M26,\"\"))))","v":""},{"$f":"IF($O25>$O26,$N25,IF($O26>$O25,$N26,IF(RIGHT($O25,1)=\"*\",$N25,IF(RIGHT($O26,1)=\"*\",$N26,\"\"))))","v":""}]
[5,{"$f":"E80","v":"5A"},{"$f":"R_Quali!H14","v":528},{"$f":"R_Quali!C14","v":"Höllwirth Andreas"},{"$f":"R_Quali!E14","v":"OÖ"},{"$f":"R_Quali!D14","v":"ASKÖ-Luftenberg"}]
[28,{"$f":"E81","v":"5B"},{"$f":"R_Quali!H37","v":505},{"$f":"R_Quali!C37","v":"Eberle Roland"},{"$f":"R_Quali!E37","v":"NÖ"},{"$f":"R_Quali!D37","v":"Austrian Free Archer"}]
[null,null,null,null,null,null,null,{"$f":"J76","v":"3A"},{"$f":"IF($G19>$G20,$D19,IF($G20>$G19,$D20,IF(RIGHT($G19,1)=\"*\",$D19,IF(RIGHT($G20,1)=\"*\",$D20,\"\"))))","v":""},{"$f":"IF($G19>$G20,$E19,IF($G20>$G19,$E20,IF(RIGHT($G19,1)=\"*\",$E19,IF(RIGHT($G20,1)=\"*\",$E20,\"\"))))","v":""}]
[null,null,null,null,null,null,null,{"$f":"J77","v":"3B"},{"$f":"IF($G23>$G24,$D23,IF($G24>$G23,$D24,IF(RIGHT($G23,1)=\"*\",$D23,IF(RIGHT($G24,1)=\"*\",$D24,\"\"))))","v":""},{"$f":"IF($G23>$G24,$E23,IF($G24>$G23,$E24,IF(RIGHT($G23,1)=\"*\",$E23,IF(RIGHT($G24,1)=\"*\",$E24,\"\"))))","v":""}]
[21,{"$f":"E82","v":"6A"},{"$f":"R_Quali!H30","v":512},{"$f":"R_Quali!C30","v":"Pupetschek Manfred"},{"$f":"R_Quali!E30","v":"T"},{"$f":"R_Quali!D30","v":"IHG Sektion Bogen"},null,null,null,null,null,null,null,null,null,null,"Finale",null,null,"Schb","Name","Land","Erg."]
[12,{"$f":"E83","v":"6B"},{"$f":"R_Quali!H21","v":521},{"$f":"R_Quali!C21","v":"Bauer Helfried"},{"$f":"R_Quali!E21","v":"NÖ"},{"$f":"R_Quali!D21","v":"Austrian Free Archer"},null,null,null,null,null,null,null,null,null,null,null,null,null,{"$f":"V72","v":13},{"$f":"IF($S17>$S18,$Q17,IF($S18>$S17,$Q18,IF(RIGHT($S17,1)=\"*\",$Q17,IF(RIGHT($S18,1)=\"*\",$Q18,\"\"))))","v":""},{"$f":"IF($S17>$S18,$R17,IF($S18>$S17,$R18,IF(RIGHT($S17,1)=\"*\",$R17,IF(RIGHT($S18,1)=\"*\",$R18,\"\"))))","v":""},null,null,null,null,{"$f":"IF($S17>$S18,$Q17,IF($S18>$S17,$Q18,IF(RIGHT($S17,1)=\"*\",$Q17,IF(RIGHT($S18,1)=\"*\",$Q18,\"\"))))","v":""},{"$f":"IF($S17>$S18,$R17,IF($S18>$S17,$R18,IF(RIGHT($S17,1)=\"*\",$R17,IF(RIGHT($S18,1)=\"*\",$R18,\"\"))))","v":""}]
[null,null,null,null,null,null,null,null,null,null,null,{"$f":"N74","v":"2A"},{"$f":"IF($K21>$K22,$I21,IF($K22>$K21,$I22,IF(RIGHT($K21,1)=\"*\",$I21,IF(RIGHT($K22,1)=\"*\",$I22,\"\"))))","v":""},{"$f":"IF($K21>$K22,$J21,IF($K22>$K21,$J22,IF(RIGHT($K21,1)=\"*\",$J21,IF(RIGHT($K22,1)=\"*\",$J22,\"\"))))","v":""},null,null,"1. und 2. Platz",null,null,{"$f":"V73","v":14},{"$f":"IF($S49>$S50,$Q49,IF($S50>$S49,$Q50,IF(RIGHT($S49,1)=\"*\",$Q49,IF(RIGHT($S50,1)=\"*\",$Q50,\"\"))))","v":""},{"$f":"IF($S49>$S50,$R49,IF($S50>$S49,$R50,IF(RIGHT($S49,1)=\"*\",$R49,IF(RIGHT($S50,1)=\"*\",$R50,\"\"))))","v":""},null,null,null,null,{"$f":"IF($S49>$S50,$Q49,IF($S50>$S49,$Q50,IF(RIGHT($S49,1)=\"*\",$Q49,IF(RIGHT($S50,1)=\"*\",$Q50,\"\"))))","v":""},{"$f":"IF($S49>$S50,$R49,IF($S50>$S49,$R50,IF(RIGHT($S49,1)=\"*\",$R49,IF(RIGHT($S50,1)=\"*\",$R50,\"\"))))","v":""}]
[null,null,null,null,null,null,null,null,null,null,null,{"$f":"N75","v":"2B"},{"$f":"IF($K29>$K30,$I29,IF($K30>$K29,$I30,IF(RIGHT($K29,1)=\"*\",$I29,IF(RIGHT($K30,1)=\"*\",$I30,\"\"))))","v":""},{"$f":"IF($K29>$K30,$J29,IF($K30>$K29,$J30,IF(RIGHT($K29,1)=\"*\",$J29,IF(RIGHT($K30,1)=\"*\",$J30,\"\"))))","v":""}]
[13,{"$f":"E84","v":"7A"},{"$f":"R_Quali!H22","v":520},{"$f":"R_Quali!C22","v":"Jandl Ernst"},{"$f":"R_Quali!E22","v":"B"},{"$f":"R_Quali!D22","v":"PSV Burgenland - Sektion Bogen"}]
[20,{"$f":"E85","v":"7B"},{"$f":"R_Quali!H29","v":513},{"$f":"R_Quali!C29","v":"Stiftner Alfred"},{"$f":"R_Quali!E29","v":"OÖ"},{"$f":"R_Quali!D29","v":"BC Kronstorf"}]
[null,null,null,null,null,null,null,{"$f":"J78","v":"4A"},{"$f":"IF($G27>$G28,$D27,IF($G28>$G27,$D28,IF(RIGHT($G27,1)=\"*\",$D27,IF(RIGHT($G28,1)=\"*\",$D28,\"\"))))","v":""},{"$f":"IF($G27>$G28,$E27,IF($G28>$G27,$E28,IF(RIGHT($G27,1)=\"*\",$E27,IF(RIGHT($G28,1)=\"*\",$E28,\"\"))))","v":""}]
[null,null,null,null,null,null,null,{"$f":"J79","v":"4B"},{"$f":"IF($G31>$G32,$D31,IF($G32>$G31,$D32,IF(RIGHT($G31,1)=\"*\",$D31,IF(RIGHT($G32,1)=\"*\",$D32,\"\"))))","v":""},{"$f":"IF($G31>$G32,$E31,IF($G32>$G31,$E32,IF(RIGHT($G31,1)=\"*\",$E31,IF(RIGHT($G32,1)=\"*\",$E32,\"\"))))","v":""}]
[29,{"$f":"E86","v":"8A"},{"$f":"R_Quali!H38","v":504},{"$f":"R_Quali!C38","v":"Simmer Gerhard"},{"$f":"R_Quali!E38","v":"NÖ"},{"$f":"R_Quali!D38","v":"Union Bogensport Haag"}]
[4,{"$f":"E87","v":"8B"},{"$f":"R_Quali!H13","v":529},{"$f":"R_Quali!C13","v":"Krempl Werner"},{"$f":"R_Quali!E13","v":"ST"},{"$f":"R_Quali!D13","v":"BSC Semriach"}]
[]
[]
[3,{"$f":"E88","v":"9A"},{"$f":"R_Quali!H12","v":530},{"$f":"R_Quali!C12","v":"Strohmaier Joachim"},{"$f":"R_Quali!E12","v":"ST"},{"$f":"R_Quali!D12","v":"BSC Kumberg"}]
[30,{"$f":"E89","v":"9B"},{"$f":"R_Quali!H39","v":503},{"$f":"R_Quali!C39","v":"Lein Karl"},{"$f":"R_Quali!E39","v":"B"},{"$f":"R_Quali!D39","v":"BSV Mattersburg"}]
[null,null,null,null,null,null,null,{"$f":"J80","v":"5A"},{"$f":"IF($G35>$G36,$D35,IF($G36>$G35,$D36,IF(RIGHT($G35,1)=\"*\",$D35,IF(RIGHT($G36,1)=\"*\",$D36,\"\"))))","v":""},{"$f":"IF($G35>$G36,$E35,IF($G36>$G35,$E36,IF(RIGHT($G35,1)=\"*\",$E35,IF(RIGHT($G36,1)=\"*\",$E36,\"\"))))","v":""}]
[null,null,null,null,null,null,null,{"$f":"J81","v":"5B"},{"$f":"IF($G39>$G40,$D39,IF($G40>$G39,$D40,IF(RIGHT($G39,1)=\"*\",$D39,IF(RIGHT($G40,1)=\"*\",$D40,\"\"))))","v":""},{"$f":"IF($G39>$G40,$E39,IF($G40>$G39,$E40,IF(RIGHT($G39,1)=\"*\",$E39,IF(RIGHT($G40,1)=\"*\",$E40,\"\"))))","v":""}]
[19,{"$f":"E90","v":"10A"},{"$f":"R_Quali!H28","v":514},{"$f":"R_Quali!C28","v":"Winkler Klaus"},{"$f":"R_Quali!E28","v":"NÖ"},{"$f":"R_Quali!D28","v":"BSC Enzenreith"}]
[14,{"$f":"E91","v":"10B"},{"$f":"R_Quali!H23","v":519},{"$f":"R_Quali!C23","v":"Schramm Wolfgang"},{"$f":"R_Quali!E23","v":"OÖ"},{"$f":"R_Quali!D23","v":"LINZ AG Sport - Sektion Bogen"},null,null,null,null,null,null,null,null,null,null,"Finale"]
[null,null,null,null,null,null,null,null,null,null,null,{"$f":"N76","v":"3A"},{"$f":"IF($K37>$K38,$I37,IF($K38>$K37,$I38,IF(RIGHT($K37,1)=\"*\",$I37,IF(RIGHT($K38,1)=\"*\",$I38,\"\"))))","v":""},{"$f":"IF($K37>$K38,$J37,IF($K38>$K37,$J38,IF(RIGHT($K37,1)=\"*\",$J37,IF(RIGHT($K38,1)=\"*\",$J38,\"\"))))","v":""},null,null,null,null,null,{"$f":"V74","v":15},{"$f":"IF($S17>$S18,$Q18,IF($S18>$S17,$Q17,IF(RIGHT($S17,1)=\"*\",$Q18,IF(RIGHT($S18,1)=\"*\",$Q17,\"\"))))","v":""},{"$f":"IF($S17>$S18,$R18,IF($S18>$S17,$R17,IF(RIGHT($S17,1)=\"*\",$R18,IF(RIGHT($S18,1)=\"*\",$R17,\"\"))))","v":""},null,null,null,null,{"$f":"IF($S17>$S18,$Q18,IF($S18>$S17,$Q17,IF(RIGHT($S17,1)=\"*\",$Q18,IF(RIGHT($S18,1)=\"*\",$Q17,\"\"))))","v":""},{"$f":"IF($S17>$S18,$R18,IF($S18>$S17,$R17,IF(RIGHT($S17,1)=\"*\",$R18,IF(RIGHT($S18,1)=\"*\",$R17,\"\"))))","v":""}]
[null,null,null,null,null,null,null,null,null,null,null,{"$f":"N77","v":"3B"},{"$f":"IF($K45>$K46,$I45,IF($K46>$K45,$I46,IF(RIGHT($K45,1)=\"*\",$I45,IF(RIGHT($K46,1)=\"*\",$I46,\"\"))))","v":""},{"$f":"IF($K45>$K46,$J45,IF($K46>$K45,$J46,IF(RIGHT($K45,1)=\"*\",$J45,IF(RIGHT($K46,1)=\"*\",$J46,\"\"))))","v":""},null,null,"3. und 4. Platz",null,null,{"$f":"V75","v":16},{"$f":"IF($S49>$S50,$Q50,IF($S50>$S49,$Q49,IF(RIGHT($S49,1)=\"*\",$Q50,IF(RIGHT($S50,1)=\"*\",$Q49,\"\"))))","v":""},{"$f":"IF($S49>$S50,$R50,IF($S50>$S49,$R49,IF(RIGHT($S49,1)=\"*\",$R50,IF(RIGHT($S50,1)=\"*\",$R49,\"\"))))","v":""},null,null,null,null,{"$f":"IF($S49>$S50,$Q50,IF($S50>$S49,$Q49,IF(RIGHT($S49,1)=\"*\",$Q50,IF(RIGHT($S50,1)=\"*\",$Q49,\"\"))))","v":""},{"$f":"IF($S49>$S50,$R50,IF($S50>$S49,$R49,IF(RIGHT($S49,1)=\"*\",$R50,IF(RIGHT($S50,1)=\"*\",$R49,\"\"))))","v":""}]
[11,{"$f":"E92","v":"11A"},{"$f":"R_Quali!H20","v":522},{"$f":"R_Quali!C20","v":"Reicher Ernst"},{"$f":"R_Quali!E20","v":"K"},{"$f":"R_Quali!D20","v":"BSC Wörthersee"}]
[22,{"$f":"E93","v":"11B"},{"$f":"R_Quali!H31","v":511},{"$f":"R_Quali!C31","v":"Schütz Raimund"},{"$f":"R_Quali!E31","v":"NÖ"},{"$f":"R_Quali!D31","v":"TBs Weinviertel"}]
[null,null,null,null,null,null,null,{"$f":"J82","v":"6A"},{"$f":"IF($G43>$G44,$D43,IF($G44>$G43,$D44,IF(RIGHT($G43,1)=\"*\",$D43,IF(RIGHT($G44,1)=\"*\",$D44,\"\"))))","v":""},{"$f":"IF($G43>$G44,$E43,IF($G44>$G43,$E44,IF(RIGHT($G43,1)=\"*\",$E43,IF(RIGHT($G44,1)=\"*\",$E44,\"\"))))","v":""}]
[null,null,null,null,null,null,null,{"$f":"J83","v":"6B"},{"$f":"IF($G47>$G48,$D47,IF($G48>$G47,$D48,IF(RIGHT($G47,1)=\"*\",$D47,IF(RIGHT($G48,1)=\"*\",$D48,\"\"))))","v":""},{"$f":"IF($G47>$G48,$E47,IF($G48>$G47,$E48,IF(RIGHT($G47,1)=\"*\",$E47,IF(RIGHT($G48,1)=\"*\",$E48,\"\"))))","v":""}]
[27,{"$f":"E94","v":"12A"},{"$f":"R_Quali!H36","v":506},{"$f":"R_Quali!C36","v":"Radauer Helmuth"},{"$f":"R_Quali!E36","v":"ST"},{"$f":"R_Quali!D36","v":"BSC Ennstal"}]
[6,{"$f":"E95","v":"12B"},{"$f":"R_Quali!H15","v":527},{"$f":"R_Quali!C15","v":"Parschisek Alexander"},{"$f":"R_Quali!E15","v":"B"},{"$f":"R_Quali!D15","v":"BC-Oberschützen"}]
[null,null,null,null,null,null,null,null,null,null,null,null,null,null,null,{"$f":"R74","v":3},{"$f":"IF($O41>$O42,$M41,IF($O42>$O41,$M42,IF(RIGHT($O41,1)=\"*\",$M41,IF(RIGHT($O42,1)=\"*\",$M42,\"\"))))","v":""},{"$f":"IF($O41>$O42,$N41,IF($O42>$O41,$N42,IF(RIGHT($O41,1)=\"*\",$N41,IF(RIGHT($O42,1)=\"*\",$N42,\"\"))))","v":""}]
[null,null,null,null,null,null,null,null,null,null,null,null,null,null,null,{"$f":"R75","v":4},{"$f":"IF($O57>$O58,$M57,IF($O58>$O57,$M58,IF(RIGHT($O57,1)=\"*\",$M57,IF(RIGHT($O58,1)=\"*\",$M58,\"\"))))","v":""},{"$f":"IF($O57>$O58,$N57,IF($O58>$O57,$N58,IF(RIGHT($O57,1)=\"*\",$N57,IF(RIGHT($O58,1)=\"*\",$N58,\"\"))))","v":""}]
[7,{"$f":"E96","v":"13A"},{"$f":"R_Quali!H16","v":526},{"$f":"R_Quali!C16","v":"Bucher Martin"},{"$f":"R_Quali!E16","v":"ST"},{"$f":"R_Quali!D16","v":"LH Graz"}]
[26,{"$f":"E97","v":"13B"},{"$f":"R_Quali!H35","v":507},{"$f":"R_Quali!C35","v":"Kossek Heinz"},{"$f":"R_Quali!E35","v":"ST"},{"$f":"R_Quali!D35","v":"BC Wildon Weitendorf"}]
[null,null,null,null,null,null,null,{"$f":"J84","v":"7A"},{"$f":"IF($G51>$G52,$D51,IF($G52>$G51,$D52,IF(RIGHT($G51,1)=\"*\",$D51,IF(RIGHT($G52,1)=\"*\",$D52,\"\"))))","v":""},{"$f":"IF($G51>$G52,$E51,IF($G52>$G51,$E52,IF(RIGHT($G51,1)=\"*\",$E51,IF(RIGHT($G52,1)=\"*\",$E52,\"\"))))","v":""},null,null,null,null,null,null,null,null,null,null,"Finale"]
[null,null,null,null,null,null,null,{"$f":"J85","v":"7B"},{"$f":"IF($G55>$G56,$D55,IF($G56>$G55,$D56,IF(RIGHT($G55,1)=\"*\",$D55,IF(RIGHT($G56,1)=\"*\",$D56,\"\"))))","v":""},{"$f":"IF($G55>$G56,$E55,IF($G56>$G55,$E56,IF(RIGHT($G55,1)=\"*\",$E55,IF(RIGHT($G56,1)=\"*\",$E56,\"\"))))","v":""},null,null,null,null,null,null,"1/2 Finale"]
[23,{"$f":"E98","v":"14A"},{"$f":"R_Quali!H32","v":510},{"$f":"R_Quali!C32","v":"Kutmon Wilhelm"},{"$f":"R_Quali!E32","v":"ST"},{"$f":"R_Quali!D32","v":"BS Ligist - Archery Freaks"}]
[10,{"$f":"E99","v":"14B"},{"$f":"R_Quali!H19","v":523},{"$f":"R_Quali!C19","v":"Navratil Christoph"},{"$f":"R_Quali!E19","v":"W"},{"$f":"R_Quali!D19","v":"BSV Schönbrunn"}]
[null,null,null,null,null,null,null,null,null,null,null,{"$f":"N78","v":"4A"},{"$f":"IF($K53>$K54,$I53,IF($K54>$K53,$I54,IF(RIGHT($K53,1)=\"*\",$I53,IF(RIGHT($K54,1)=\"*\",$I54,\"\"))))","v":""},{"$f":"IF($K53>$K54,$J53,IF($K54>$K53,$J54,IF(RIGHT($K53,1)=\"*\",$J53,IF(RIGHT($K54,1)=\"*\",$J54,\"\"))))","v":""}]
[null,null,null,null,null,null,null,null,null,null,null,{"$f":"N79","v":"4B"},{"$f":"IF($K61>$K62,$I61,IF($K62>$K61,$I62,IF(RIGHT($K61,1)=\"*\",$I61,IF(RIGHT($K62,1)=\"*\",$I62,\"\"))))","v":""},{"$f":"IF($K61>$K62,$J61,IF($K62>$K61,$J62,IF(RIGHT($K61,1)=\"*\",$J61,IF(RIGHT($K62,1)=\"*\",$J62,\"\"))))","v":""}]
[15,{"$f":"E100","v":"15A"},{"$f":"R_Quali!H24","v":518},{"$f":"R_Quali!C24","v":"Markl Mario"},{"$f":"R_Quali!E24","v":"NÖ"},{"$f":"R_Quali!D24","v":"BSV Dakota"}]
[18,{"$f":"E101","v":"15B"},{"$f":"R_Quali!H27","v":515},{"$f":"R_Quali!C27","v":"Hamedl Wolfgang"},{"$f":"R_Quali!E27","v":"B"},{"$f":"R_Quali!D27","v":"PSV Burgenland - Sektion Bogen"}]
[null,null,null,null,null,null,null,{"$f":"J86","v":"8A"},{"$f":"IF($G59>$G60,$D59,IF($G60>$G59,$D60,IF(RIGHT($G59,1)=\"*\",$D59,IF(RIGHT($G60,1)=\"*\",$D60,\"\"))))","v":""},{"$f":"IF($G59>$G60,$E59,IF($G60>$G59,$E60,IF(RIGHT($G59,1)=\"*\",$E59,IF(RIGHT($G60,1)=\"*\",$E60,\"\"))))","v":""},null,null,"1/4 Finale"]
[null,null,null,null,null,null,null,{"$f":"J87","v":"8B"},{"$f":"IF($G63>$G64,$D63,IF($G64>$G63,$D64,IF(RIGHT($G63,1)=\"*\",$D63,IF(RIGHT($G64,1)=\"*\",$D64,\"\"))))","v":""},{"$f":"IF($G63>$G64,$E63,IF($G64>$G63,$E64,IF(RIGHT($G63,1)=\"*\",$E63,IF(RIGHT($G64,1)=\"*\",$E64,\"\"))))","v":""}]
[31,{"$f":"E102","v":"16A"},{"$f":"R_Quali!H40","v":502},{"$f":"R_Quali!C40","v":"Klemke Harald"},{"$f":"R_Quali!E40","v":"B"},{"$f":"R_Quali!D40","v":"BSV Mattersburg"}]
[2,{"$f":"E103","v":"16B"},{"$f":"R_Quali!H11","v":531},{"$f":"R_Quali!C11","v":"Berger Hermann"},{"$f":"R_Quali!E11","v":"S"},{"$f":"R_Quali!D11","v":"BSV Glemmerhof"}]
[null,null,null,null,null,null,null,"1/8 Elimination"]
[null,null,"1/16 Elimination",null,null,null,null,null,null,null,{"$f":"Select!C18","v":"Recurve Herren"}]
[]
[]
[]
[]
[null,null,null,"Scheibe:"]
[null,null,1,{"$f":"CONCATENATE($D$71,\" \",E72)","v":"Scheibe: 1A"},"1A",null,null,1,{"$f":"CONCATENATE($D$71,\" \",J72)","v":"Scheibe: 1A"},"1A",null,1,{"$f":"CONCATENATE($D$71,\" \",N72)","v":"Scheibe: 1A"},"1A",null,1,{"$f":"CONCATENATE($D$71,\" \",R72)","v":"Scheibe: 1"},1,null,1,{"$f":"CONCATENATE($D$71,\" \",V72)","v":"Scheibe: 13"},13]
[null,null,null,"Scheibe: 1B",{"$f":"IF(RIGHT(E72,1)=\"A\",CONCATENATE(LEFT(E72,LEN(E72)-1),\"B\"),E72+1)","v":"1B"},null,null,null,"Scheibe: 1B",{"$f":"IF(RIGHT(J72,1)=\"A\",CONCATENATE(LEFT(J72,LEN(J72)-1),\"B\"),J72+1)","v":"1B"},null,null,"Scheibe: 1B",{"$f":"IF(RIGHT(N72,1)=\"A\",CONCATENATE(LEFT(N72,LEN(N72)-1),\"B\"),N72+1)","v":"1B"},null,null,{"$f":"CONCATENATE($D$71,\" \",R73)","v":"Scheibe: 2"},{"$f":"IF(RIGHT(R72,1)=\"A\",CONCATENATE(LEFT(R72,LEN(R72)-1),\"B\"),R72+1)","v":2},null,null,{"$f":"CONCATENATE($D$71,\" \",V73)","v":"Scheibe: 14"},{"$f":"IF(RIGHT(V72,1)=\"A\",CONCATENATE(LEFT(V72,LEN(V72)-1),\"B\"),V72+1)","v":14}]
[null,null,{"$f":"C72+1","v":2},"Scheibe: 2A",{"$f":"IF(RIGHT(E73,1)=\"B\",CONCATENATE(LEFT(E73,LEN(E73)-1)+1,\"A\"),E73+1)","v":"2A"},null,null,{"$f":"H72+1","v":2},"Scheibe: 2A",{"$f":"IF(RIGHT(J73,1)=\"B\",CONCATENATE(LEFT(J73,LEN(J73)-1)+1,\"A\"),J73+1)","v":"2A"},null,{"$f":"L72+1","v":2},"Scheibe: 2A",{"$f":"IF(RIGHT(N73,1)=\"B\",CONCATENATE(LEFT(N73,LEN(N73)-1)+1,\"A\"),N73+1)","v":"2A"},null,{"$f":"P72+1","v":2},{"$f":"CONCATENATE($D$71,\" \",R74)","v":"Scheibe: 3"},{"$f":"IF(RIGHT(R73,1)=\"B\",CONCATENATE(LEFT(R73,LEN(R73)-1)+1,\"A\"),R73+1)","v":3},null,{"$f":"T72+1","v":2},{"$f":"CONCATENATE($D$71,\" \",V74)","v":"Scheibe: 15"},15]
[null,null,null,"Scheibe: 2B",{"$f":"IF(RIGHT(E74,1)=\"A\",CONCATENATE(LEFT(E74,LEN(E74)-1),\"B\"),E74+1)","v":"2B"},null,null,null,"Scheibe: 2B",{"$f":"IF(RIGHT(J74,1)=\"A\",CONCATENATE(LEFT(J74,LEN(J74)-1),\"B\"),J74+1)","v":"2B"},null,null,"Scheibe: 2B",{"$f":"IF(RIGHT(N74,1)=\"A\",CONCATENATE(LEFT(N74,LEN(N74)-1),\"B\"),N74+1)","v":"2B"},null,null,{"$f":"CONCATENATE($D$71,\" \",R75)","v":"Scheibe: 4"},{"$f":"IF(RIGHT(R74,1)=\"A\",CONCATENATE(LEFT(R74,LEN(R74)-1),\"B\"),R74+1)","v":4},null,null,{"$f":"CONCATENATE($D$71,\" \",V75)","v":"Scheibe: 16"},{"$f":"IF(RIGHT(V74,1)=\"A\",CONCATENATE(LEFT(V74,LEN(V74)-1),\"B\"),V74+1)","v":16}]
[null,null,{"$f":"C74+1","v":3},"Scheibe: 3A",{"$f":"IF(RIGHT(E75,1)=\"B\",CONCATENATE(LEFT(E75,LEN(E75)-1)+1,\"A\"),E75+1)","v":"3A"},null,null,{"$f":"H74+1","v":3},"Scheibe: 3A",{"$f":"IF(RIGHT(J75,1)=\"B\",CONCATENATE(LEFT(J75,LEN(J75)-1)+1,\"A\"),J75+1)","v":"3A"},null,{"$f":"L74+1","v":3},"Scheibe: 3A",{"$f":"IF(RIGHT(N75,1)=\"B\",CONCATENATE(LEFT(N75,LEN(N75)-1)+1,\"A\"),N75+1)","v":"3A"}]
[null,null,null,"Scheibe: 3B",{"$f":"IF(RIGHT(E76,1)=\"A\",CONCATENATE(LEFT(E76,LEN(E76)-1),\"B\"),E76+1)","v":"3B"},null,null,null,"Scheibe: 3B",{"$f":"IF(RIGHT(J76,1)=\"A\",CONCATENATE(LEFT(J76,LEN(J76)-1),\"B\"),J76+1)","v":"3B"},null,null,"Scheibe: 3B",{"$f":"IF(RIGHT(N76,1)=\"A\",CONCATENATE(LEFT(N76,LEN(N76)-1),\"B\"),N76+1)","v":"3B"}]
[null,null,{"$f":"C76+1","v":4},"Scheibe: 4A",{"$f":"IF(RIGHT(E77,1)=\"B\",CONCATENATE(LEFT(E77,LEN(E77)-1)+1,\"A\"),E77+1)","v":"4A"},null,null,{"$f":"H76+1","v":4},"Scheibe: 4A",{"$f":"IF(RIGHT(J77,1)=\"B\",CONCATENATE(LEFT(J77,LEN(J77)-1)+1,\"A\"),J77+1)","v":"4A"},null,{"$f":"L76+1","v":4},"Scheibe: 4A",{"$f":"IF(RIGHT(N77,1)=\"B\",CONCATENATE(LEFT(N77,LEN(N77)-1)+1,\"A\"),N77+1)","v":"4A"}]
[null,null,null,"Scheibe: 4B",{"$f":"IF(RIGHT(E78,1)=\"A\",CONCATENATE(LEFT(E78,LEN(E78)-1),\"B\"),E78+1)","v":"4B"},null,null,null,"Scheibe: 4B",{"$f":"IF(RIGHT(J78,1)=\"A\",CONCATENATE(LEFT(J78,LEN(J78)-1),\"B\"),J78+1)","v":"4B"},null,null,"Scheibe: 4B",{"$f":"IF(RIGHT(N78,1)=\"A\",CONCATENATE(LEFT(N78,LEN(N78)-1),\"B\"),N78+1)","v":"4B"}]
[null,null,{"$f":"C78+1","v":5},"Scheibe: 5A",{"$f":"IF(RIGHT(E79,1)=\"B\",CONCATENATE(LEFT(E79,LEN(E79)-1)+1,\"A\"),E79+1)","v":"5A"},null,null,{"$f":"H78+1","v":5},"Scheibe: 5A",{"$f":"IF(RIGHT(J79,1)=\"B\",CONCATENATE(LEFT(J79,LEN(J79)-1)+1,\"A\"),J79+1)","v":"5A"}]
[null,null,null,"Scheibe: 5B",{"$f":"IF(RIGHT(E80,1)=\"A\",CONCATENATE(LEFT(E80,LEN(E80)-1),\"B\"),E80+1)","v":"5B"},null,null,null,"Scheibe: 5B",{"$f":"IF(RIGHT(J80,1)=\"A\",CONCATENATE(LEFT(J80,LEN(J80)-1),\"B\"),J80+1)","v":"5B"}]
[null,null,{"$f":"C80+1","v":6},"Scheibe: 6A",{"$f":"IF(RIGHT(E81,1)=\"B\",CONCATENATE(LEFT(E81,LEN(E81)-1)+1,\"A\"),E81+1)","v":"6A"},null,null,{"$f":"H80+1","v":6},"Scheibe: 6A",{"$f":"IF(RIGHT(J81,1)=\"B\",CONCATENATE(LEFT(J81,LEN(J81)-1)+1,\"A\"),J81+1)","v":"6A"}]
[null,null,null,"Scheibe: 6B",{"$f":"IF(RIGHT(E82,1)=\"A\",CONCATENATE(LEFT(E82,LEN(E82)-1),\"B\"),E82+1)","v":"6B"},null,null,null,"Scheibe: 6B",{"$f":"IF(RIGHT(J82,1)=\"A\",CONCATENATE(LEFT(J82,LEN(J82)-1),\"B\"),J82+1)","v":"6B"}]
[null,null,{"$f":"C82+1","v":7},"Scheibe: 7A",{"$f":"IF(RIGHT(E83,1)=\"B\",CONCATENATE(LEFT(E83,LEN(E83)-1)+1,\"A\"),E83+1)","v":"7A"},null,null,{"$f":"H82+1","v":7},"Scheibe: 7A",{"$f":"IF(RIGHT(J83,1)=\"B\",CONCATENATE(LEFT(J83,LEN(J83)-1)+1,\"A\"),J83+1)","v":"7A"}]
[null,null,null,"Scheibe: 7B",{"$f":"IF(RIGHT(E84,1)=\"A\",CONCATENATE(LEFT(E84,LEN(E84)-1),\"B\"),E84+1)","v":"7B"},null,null,null,"Scheibe: 7B",{"$f":"IF(RIGHT(J84,1)=\"A\",CONCATENATE(LEFT(J84,LEN(J84)-1),\"B\"),J84+1)","v":"7B"}]
[null,null,{"$f":"C84+1","v":8},"Scheibe: 8A",{"$f":"IF(RIGHT(E85,1)=\"B\",CONCATENATE(LEFT(E85,LEN(E85)-1)+1,\"A\"),E85+1)","v":"8A"},null,null,{"$f":"H84+1","v":8},"Scheibe: 8A",{"$f":"IF(RIGHT(J85,1)=\"B\",CONCATENATE(LEFT(J85,LEN(J85)-1)+1,\"A\"),J85+1)","v":"8A"}]
[null,null,null,"Scheibe: 8B",{"$f":"IF(RIGHT(E86,1)=\"A\",CONCATENATE(LEFT(E86,LEN(E86)-1),\"B\"),E86+1)","v":"8B"},null,null,null,"Scheibe: 8B",{"$f":"IF(RIGHT(J86,1)=\"A\",CONCATENATE(LEFT(J86,LEN(J86)-1),\"B\"),J86+1)","v":"8B"}]
[null,null,{"$f":"C86+1","v":9},"Scheibe: 9A",{"$f":"IF(RIGHT(E87,1)=\"B\",CONCATENATE(LEFT(E87,LEN(E87)-1)+1,\"A\"),E87+1)","v":"9A"}]
[null,null,null,"Scheibe: 9B",{"$f":"IF(RIGHT(E88,1)=\"A\",CONCATENATE(LEFT(E88,LEN(E88)-1),\"B\"),E88+1)","v":"9B"}]
[null,null,{"$f":"C88+1","v":10},"Scheibe: 10A",{"$f":"IF(RIGHT(E89,1)=\"B\",CONCATENATE(LEFT(E89,LEN(E89)-1)+1,\"A\"),E89+1)","v":"10A"}]
[null,null,null,"Scheibe: 10B",{"$f":"IF(RIGHT(E90,1)=\"A\",CONCATENATE(LEFT(E90,LEN(E90)-1),\"B\"),E90+1)","v":"10B"}]
[null,null,{"$f":"C90+1","v":11},"Scheibe: 11A",{"$f":"IF(RIGHT(E91,1)=\"B\",CONCATENATE(LEFT(E91,LEN(E91)-1)+1,\"A\"),E91+1)","v":"11A"}]
[null,null,null,"Scheibe: 11B",{"$f":"IF(RIGHT(E92,1)=\"A\",CONCATENATE(LEFT(E92,LEN(E92)-1),\"B\"),E92+1)","v":"11B"}]
[null,null,{"$f":"C92+1","v":12},"Scheibe: 12A",{"$f":"IF(RIGHT(E93,1)=\"B\",CONCATENATE(LEFT(E93,LEN(E93)-1)+1,\"A\"),E93+1)","v":"12A"}]
[null,null,null,"Scheibe: 12B",{"$f":"IF(RIGHT(E94,1)=\"A\",CONCATENATE(LEFT(E94,LEN(E94)-1),\"B\"),E94+1)","v":"12B"}]
[null,null,{"$f":"C94+1","v":13},"Scheibe: 13A",{"$f":"IF(RIGHT(E95,1)=\"B\",CONCATENATE(LEFT(E95,LEN(E95)-1)+1,\"A\"),E95+1)","v":"13A"}]
[null,null,null,"Scheibe: 13B",{"$f":"IF(RIGHT(E96,1)=\"A\",CONCATENATE(LEFT(E96,LEN(E96)-1),\"B\"),E96+1)","v":"13B"}]
[null,null,{"$f":"C96+1","v":14},"Scheibe: 14A",{"$f":"IF(RIGHT(E97,1)=\"B\",CONCATENATE(LEFT(E97,LEN(E97)-1)+1,\"A\"),E97+1)","v":"14A"}]
[null,null,null,"Scheibe: 14B",{"$f":"IF(RIGHT(E98,1)=\"A\",CONCATENATE(LEFT(E98,LEN(E98)-1),\"B\"),E98+1)","v":"14B"}]
[null,null,{"$f":"C98+1","v":15},"Scheibe: 15A",{"$f":"IF(RIGHT(E99,1)=\"B\",CONCATENATE(LEFT(E99,LEN(E99)-1)+1,\"A\"),E99+1)","v":"15A"}]
[null,null,null,"Scheibe: 15B",{"$f":"IF(RIGHT(E100,1)=\"A\",CONCATENATE(LEFT(E100,LEN(E100)-1),\"B\"),E100+1)","v":"15B"}]
[null,null,{"$f":"C100+1","v":16},"Scheibe: 16A",{"$f":"IF(RIGHT(E101,1)=\"B\",CONCATENATE(LEFT(E101,LEN(E101)-1)+1,\"A\"),E101+1)","v":"16A"}]
[null,null,null,"Scheibe: 16B",{"$f":"IF(RIGHT(E102,1)=\"A\",CONCATENATE(LEFT(E102,LEN(E102)-1),\"B\"),E102+1)","v":"16B"}]

{"sheet":"R32","index":4,"n_rows":1151,"n_cols":25,"rows_kept":1151,"cut":false,"hidden":true,"merged":[[2,24,2,25],[20,15,20,16],[20,24,20,25],[6,18,6,25],[8,9,8,16],[8,18,8,25],[13,23,13,24],[24,0,24,7],[19,18,19,21],[19,22,19,25],[20,6,20,7],[19,0,19,3],[19,4,19,7],[19,9,19,12],[19,13,19,16],[26,18,26,25],[1,9,1,12],[1,13,1,16],[6,9,6,16],[12,14,12,15],[13,14,13,15],[1,18,1,21],[1,22,1,25],[2,15,2,16],[12,23,12,24],[26,0,26,7],[30,23,30,24],[31,23,31,24],[24,9,24,16],[24,18,24,25],[30,5,30,6],[31,5,31,6],[30,14,30,15],[31,14,31,15],[26,9,26,16],[37,9,37,12],[37,13,37,16],[37,18,37,21],[37,22,37,25],[38,15,38,16],[38,24,38,25],[42,9,42,16],[42,18,42,25],[44,9,44,16],[44,18,44,25],[48,14,48,15],[48,23,48,24],[60,18,60,25],[49,14,49,15],[49,23,49,24],[55,0,55,3],[55,4,55,7],[55,9,55,12],[55,13,55,16],[55,18,55,21],[55,22,55,25],[62,9,62,16],[62,18,62,25],[66,5,66,6],[66,14,66,15],[66,23,66,24],[56,6,56,7],[56,15,56,16],[56,24,56,25],[60,0,60,7],[60,9,60,16],[80,18,80,25],[67,5,67,6],[67,14,67,15],[67,23,67,24],[73,9,73,12],[73,13,73,16],[73,18,73,21],[73,22,73,25],[91,4,91,7],[91,9,91,12],[91,13,91,16],[91,18,91,21],[91,22,91,25],[74,15,74,16],[74,24,74,25],[78,9,78,16],[78,18,78,25],[80,9,80,16],[96,9,96,16],[96,18,96,25],[84,14,84,15],[84,23,84,24],[85,14,85,15],[85,23,85,24],[98,9,98,16],[98,18,98,25],[102,5,102,6],[102,14,102,15],[102,23,102,24],[85,0,85,7],[86,0,86,1],[92,6,92,7],[92,15,92,16],[92,24,92,25],[103,14,103,15],[103,23,103,24],[103,5,103,6],[98,0,98,7],[96,0,96,7],[91,0,91,3],[109,9,109,12],[109,13,109,16],[109,18,109,21],[109,22,109,25],[110,15,110,16],[110,24,110,25],[114,9,114,16],[114,18,114,25],[116,9,116,16],[116,18,116,25],[120,14,120,15],[120,23,120,24],[121,14,121,15],[121,23,121,24],[127,0,127,3],[127,4,127,7],[127,9,127,12],[127,13,127,16],[127,18,127,21],[127,22,127,25],[121,0,121,7],[122,0,122,1],[128,15,128,16],[128,24,128,25],[132,0,132,7],[132,9,132,16],[132,18,132,25],[134,0,134,7],[134,9,134,16],[134,18,134,25],[138,5,138,6],[138,14,138,15],[138,23,138,24],[152,18,152,25],[139,5,139,6],[139,14,139,15],[139,23,139,24],[145,9,145,12],[145,13,145,16],[145,18,145,21],[145,22,145,25],[146,15,146,16],[146,24,146,25],[150,9,150,16],[150,18,150,25],[152,9,152,16],[156,14,156,15],[156,23,156,24],[157,14,157,15],[157,23,157,24],[170,9,170,16],[170,18,170,25],[147,0,147,7],[149,0,149,7],[153,0,153,7],[155,0,155,7],[174,14,174,15],[174,23,174,24],[157,0,157,7],[158,0,158,1],[164,6,164,7],[164,15,164,16],[164,24,164,25],[175,14,175,15],[175,23,175,24],[181,9,181,12],[181,13,181,16],[181,18,181,21],[181,22,181,25],[182,15,182,16],[182,24,182,25],[186,9,186,16],[186,18,186,25],[183,0,183,7],[185,0,185,7],[175,5,175,6],[170,0,170,7],[168,0,168,7],[163,0,163,3],[163,4,163,7],[163,9,163,12],[163,13,163,16],[163,18,163,21],[163,22,163,25],[168,9,168,16],[168,18,168,25],[188,9,188,16],[188,18,188,25],[192,14,192,15],[192,23,192,24],[193,14,193,15],[193,23,193,24],[199,0,199,3],[199,4,199,7],[199,9,199,12],[199,13,199,16],[199,18,199,21],[199,22,199,25],[193,0,193,7],[194,0,194,1],[200,6,200,7],[200,15,200,16],[200,24,200,25],[189,0,189,7],[191,0,191,7],[204,9,204,16],[204,18,204,25],[206,0,206,7],[206,9,206,16],[206,18,206,25],[210,5,210,6],[210,14,210,15],[210,23,210,24],[211,5,211,6],[211,14,211,15],[211,23,211,24],[217,9,217,12],[217,13,217,16],[217,18,217,21],[217,22,217,25],[218,15,218,16],[218,24,218,25],[222,9,222,16],[222,18,222,25],[224,9,224,16],[224,18,224,25],[228,14,228,15],[228,23,228,24],[229,14,229,15],[229,23,229,24],[235,0,235,3],[235,4,235,7],[235,9,235,12],[235,13,235,16],[235,18,235,21],[235,22,235,25],[229,0,229,7],[230,0,230,1],[236,6,236,7],[236,15,236,16],[236,24,236,25],[240,9,240,16],[240,18,240,25],[242,9,242,16],[242,18,242,25],[246,5,246,6],[246,14,246,15],[246,23,246,24],[247,14,247,15],[247,23,247,24],[247,5,247,6],[242,0,242,7],[253,9,253,12],[253,13,253,16],[253,18,253,21],[253,22,253,25],[254,15,254,16],[254,24,254,25],[258,9,258,16],[258,18,258,25],[260,9,260,16],[260,18,260,25],[264,14,264,15],[264,23,264,24],[265,14,265,15],[265,23,265,24],[271,0,271,3],[271,4,271,7],[271,9,271,12],[271,13,271,16],[271,18,271,21],[271,22,271,25],[272,6,272,7],[272,15,272,16],[272,24,272,25],[276,0,276,7],[276,9,276,16],[276,18,276,25],[278,0,278,7],[278,9,278,16],[278,18,278,25],[282,5,282,6],[282,14,282,15],[282,23,282,24],[283,5,283,6],[283,14,283,15],[283,23,283,24],[3,0,3,7],[5,0,5,7],[9,0,9,7],[11,0,11,7],[13,0,13,7],[39,0,39,7],[41,0,41,7],[45,0,45,7],[47,0,47,7],[49,0,49,7],[50,0,50,1],[75,0,75,7],[77,0,77,7],[62,0,62,7],[81,0,81,7],[83,0,83,7],[111,0,111,7],[113,0,113,7],[117,0,117,7],[119,0,119,7],[256,0,256,1],[257,0,257,7],[261,0,261,7],[219,0,219,7],[221,0,221,7],[225,0,225,7],[227,0,227,7],[220,0,220,1],[263,0,263,7],[265,0,265,7],[266,0,266,1],[4,0,4,1],[40,0,40,1],[76,0,76,1],[112,0,112,1],[148,0,148,1],[184,0,184,1],[255,0,255,7],[240,0,240,7],[204,0,204,7],[174,5,174,6],[128,6,128,7],[289,9,289,12],[289,13,289,16],[289,18,289,21],[289,22,289,25],[290,15,290,16],[290,24,290,25],[291,0,291,7],[292,0,292,1],[293,0,293,7],[294,9,294,16],[294,18,294,25],[296,9,296,16],[296,18,296,25],[297,0,297,7],[299,0,299,7],[300,14,300,15],[300,23,300,24],[301,0,301,7],[301,14,301,15],[301,23,301,24],[307,0,307,3],[307,4,307,7],[307,9,307,12],[307,13,307,16],[307,18,307,21],[307,22,307,25],[308,6,308,7],[308,15,308,16],[308,24,308,25],[312,0,312,7],[312,9,312,16],[312,18,312,25],[314,0,314,7],[314,9,314,16],[314,18,314,25],[318,5,318,6],[318,14,318,15],[318,23,318,24],[319,5,319,6],[319,14,319,15],[319,23,319,24],[325,9,325,12],[325,13,325,16],[325,18,325,21],[325,22,325,25],[326,15,326,16],[326,24,326,25],[327,0,327,7],[328,0,328,1],[329,0,329,7],[330,9,330,16],[330,18,330,25],[332,9,332,16],[332,18,332,25],[333,0,333,7],[335,0,335,7],[336,14,336,15],[336,23,336,24],[337,0,337,7],[337,14,337,15],[337,23,337,24],[338,0,338,1],[343,0,343,3],[343,4,343,7],[343,9,343,12],[343,13,343,16],[343,18,343,21],[343,22,343,25],[344,6,344,7],[344,15,344,16],[344,24,344,25],[348,0,348,7],[348,9,348,16],[348,18,348,25],[350,0,350,7],[350,9,350,16],[350,18,350,25],[354,5,354,6],[354,14,354,15],[354,23,354,24],[355,5,355,6],[355,14,355,15],[355,23,355,24],[361,9,361,12],[361,13,361,16],[361,18,361,21],[361,22,361,25],[362,15,362,16],[362,24,362,25],[363,0,363,7],[364,0,364,1],[365,0,365,7],[366,9,366,16],[366,18,366,25],[368,9,368,16],[368,18,368,25],[369,0,369,7],[371,0,371,7],[372,14,372,15],[372,23,372,24],[373,0,373,7],[373,14,373,15],[373,23,373,24],[374,0,374,1],[379,0,379,3],[379,4,379,7],[379,9,379,12],[379,13,379,16],[379,18,379,21],[379,22,379,25],[380,6,380,7],[380,15,380,16],[380,24,380,25],[384,0,384,7],[384,9,384,16],[384,18,384,25],[386,0,386,7],[386,9,386,16],[386,18,386,25],[390,5,390,6],[390,14,390,15],[390,23,390,24],[391,5,391,6],[391,14,391,15],[391,23,391,24],[397,9,397,12],[397,13,397,16],[397,18,397,21],[397,22,397,25],[398,15,398,16],[398,24,398,25],[399,0,399,7],[400,0,400,1],[401,0,401,7],[402,9,402,16],[402,18,402,25],[404,9,404,16],[404,18,404,25],[405,0,405,7],[407,0,407,7],[408,14,408,15],[408,23,408,24],[409,0,409,7],[409,14,409,15],[409,23,409,24],[410,0,410,1],[415,0,415,3],[415,4,415,7],[415,9,415,12],[415,13,415,16],[415,18,415,21],[415,22,415,25],[416,6,416,7],[416,15,416,16],[416,24,416,25],[420,0,420,7],[420,9,420,16],[420,18,420,25],[422,0,422,7],[422,9,422,16],[422,18,422,25],[426,5,426,6],[426,14,426,15],[426,23,426,24],[427,5,427,6],[427,14,427,15],[427,23,427,24],[433,9,433,12],[433,13,433,16],[433,18,433,21],[433,22,433,25],[434,15,434,16],[434,24,434,25],[435,0,435,7],[436,0,436,1],[437,0,437,7],[438,9,438,16],[438,18,438,25],[440,9,440,16],[440,18,440,25],[441,0,441,7],[443,0,443,7],[444,14,444,15],[444,23,444,24],[445,0,445,7],[445,14,445,15],[445,23,445,24],[446,0,446,1],[451,0,451,3],[451,4,451,7],[451,9,451,12],[451,13,451,16],[451,18,451,21],[451,22,451,25],[452,6,452,7],[452,15,452,16],[452,24,452,25],[456,0,456,7],[456,9,456,16],[456,18,456,25],[458,0,458,7],[458,9,458,16],[458,18,458,25],[462,5,462,6],[462,14,462,15],[462,23,462,24],[463,5,463,6],[463,14,463,15],[463,23,463,24],[469,9,469,12],[469,13,469,16],[469,18,469,21],[469,22,469,25],[470,15,470,16],[470,24,470,25],[471,0,471,7],[472,0,472,1],[473,0,473,7],[474,9,474,16],[474,18,474,25],[476,9,476,16],[476,18,476,25],[477,0,477,7],[479,0,479,7],[480,14,480,15],[480,23,480,24],[481,0,481,7],[481,14,481,15],[481,23,481,24],[482,0,482,1],[487,0,487,3],[487,4,487,7],[487,9,487,12],[487,13,487,16],[487,18,487,21],[487,22,487,25],[488,6,488,7],[488,15,488,16],[488,24,488,25],[492,0,492,7],[492,9,492,16],[492,18,492,25],[494,0,494,7],[494,9,494,16],[494,18,494,25],[498,5,498,6],[498,14,498,15],[498,23,498,24],[499,5,499,6],[499,14,499,15],[499,23,499,24],[505,9,505,12],[505,13,505,16],[505,18,505,21],[505,22,505,25],[506,15,506,16],[506,24,506,25],[507,0,507,7],[508,0,508,1],[509,0,509,7],[510,9,510,16],[510,18,510,25],[512,9,512,16],[512,18,512,25],[513,0,513,7],[515,0,515,7],[516,14,516,15],[516,23,516,24],[517,0,517,7],[517,14,517,15],[517,23,517,24],[518,0,518,1],[523,0,523,3],[523,4,523,7],[523,9,523,12],[523,13,523,16],[523,18,523,21],[523,22,523,25],[524,6,524,7],[524,15,524,16],[524,24,524,25],[528,0,528,7],[528,9,528,16],[528,18,528,25],[530,0,530,7],[530,9,530,16],[530,18,530,25],[534,5,534,6],[534,14,534,15],[534,23,534,24],[535,5,535,6],[535,14,535,15],[535,23,535,24],[541,9,541,12],[541,13,541,16],[541,18,541,21],[541,22,541,25],[542,15,542,16],[542,24,542,25],[543,0,543,7],[544,0,544,1],[545,0,545,7],[546,9,546,16],[546,18,546,25],[548,9,548,16],[548,18,548,25],[549,0,549,7],[551,0,551,7],[552,14,552,15],[552,23,552,24],[553,0,553,7],[553,14,553,15],[553,23,553,24],[554,0,554,1],[559,0,559,3],[559,4,559,7],[559,9,559,12],[559,13,559,16],[559,18,559,21],[559,22,559,25],[560,6,560,7],[560,15,560,16],[560,24,560,25],[564,0,564,7],[564,9,564,16],[564,18,564,25],[566,0,566,7],[566,9,566,16],[566,18,566,25],[570,5,570,6],[570,14,570,15],[570,23,570,24],[571,5,571,6],[571,14,571,15],[571,23,571,24],[577,9,577,12],[577,13,577,16],[577,18,577,21],[577,22,577,25],[578,15,578,16],[578,24,578,25],[579,0,579,7],[580,0,580,1],[581,0,581,7],[582,9,582,16],[582,18,582,25],[584,9,584,16],[584,18,584,25],[585,0,585,7],[587,0,587,7],[588,14,588,15],[588,23,588,24],[589,0,589,7],[589,14,589,15],[589,23,589,24],[595,0,595,3],[595,4,595,7],[595,9,595,12],[595,13,595,16],[595,18,595,21],[595,22,595,25],[596,6,596,7],[596,15,596,16],[596,24,596,25],[600,0,600,7],[600,9,600,16],[600,18,600,25],[602,0,602,7],[602,9,602,16],[602,18,602,25],[606,5,606,6],[606,14,606,15],[606,23,606,24],[607,5,607,6],[607,14,607,15],[607,23,607,24],[613,9,613,12],[613,13,613,16],[613,18,613,21],[613,22,613,25],[614,15,614,16],[614,24,614,25],[615,0,615,7],[616,0,616,1],[617,0,617,7],[618,9,618,16],[618,18,618,25],[620,9,620,16],[620,18,620,25],[621,0,621,7],[623,0,623,7],[624,14,624,15],[624,23,624,24],[625,0,625,7],[625,14,625,15],[625,23,625,24],[626,0,626,1],[631,0,631,3],[631,4,631,7],[631,9,631,12],[631,13,631,16],[631,18,631,21],[631,22,631,25],[632,6,632,7],[632,15,632,16],[632,24,632,25],[636,0,636,7],[636,9,636,16],[636,18,636,25],[638,0,638,7],[638,9,638,16],[638,18,638,25],[642,5,642,6],[642,14,642,15],[642,23,642,24],[643,5,643,6],[643,14,643,15],[643,23,643,24],[649,9,649,12],[649,13,649,16],[649,18,649,21],[649,22,649,25],[650,15,650,16],[650,24,650,25],[651,0,651,7],[652,0,652,1],[653,0,653,7],[654,9,654,16],[654,18,654,25],[656,9,656,16],[656,18,656,25],[657,0,657,7],[659,0,659,7],[660,14,660,15],[660,23,660,24],[661,0,661,7],[661,14,661,15],[661,23,661,24],[662,0,662,1],[667,0,667,3],[667,4,667,7],[667,9,667,12],[667,13,667,16],[667,18,667,21],[667,22,667,25],[668,6,668,7],[668,15,668,16],[668,24,668,25],[672,0,672,7],[672,9,672,16],[672,18,672,25],[674,0,674,7],[674,9,674,16],[674,18,674,25],[678,5,678,6],[678,14,678,15],[678,23,678,24],[679,5,679,6],[679,14,679,15],[679,23,679,24],[685,9,685,12],[685,13,685,16],[685,18,685,21],[685,22,685,25],[686,15,686,16],[686,24,686,25],[687,0,687,7],[688,0,688,1],[689,0,689,7],[690,9,690,16],[690,18,690,25],[692,9,692,16],[692,18,692,25],[693,0,693,7],[695,0,695,7],[696,14,696,15],[696,23,696,24],[697,0,697,7],[697,14,697,15],[697,23,697,24],[698,0,698,1],[703,0,703,3],[703,4,703,7],[703,9,703,12],[703,13,703,16],[703,18,703,21],[703,22,703,25],[704,6,704,7],[704,15,704,16],[704,24,704,25],[708,0,708,7],[708,9,708,16],[708,18,708,25],[710,0,710,7],[710,9,710,16],[710,18,710,25],[714,5,714,6],[714,14,714,15],[714,23,714,24],[715,5,715,6],[715,14,715,15],[715,23,715,24],[721,9,721,12],[721,13,721,16],[721,18,721,21],[721,22,721,25],[722,15,722,16],[722,24,722,25],[723,0,723,7],[724,0,724,1],[725,0,725,7],[726,9,726,16],[726,18,726,25],[728,9,728,16],[728,18,728,25],[729,0,729,7],[731,0,731,7],[732,14,732,15],[732,23,732,24],[733,0,733,7],[733,14,733,15],[733,23,733,24],[734,0,734,1],[739,0,739,3],[739,4,739,7],[739,9,739,12],[739,13,739,16],[739,18,739,21],[739,22,739,25],[740,6,740,7],[740,15,740,16],[740,24,740,25],[744,0,744,7],[744,9,744,16],[744,18,744,25],[746,0,746,7],[746,9,746,16],[746,18,746,25],[750,5,750,6],[750,14,750,15],[750,23,750,24],[751,5,751,6],[751,14,751,15],[751,23,751,24],[757,9,757,12],[757,13,757,16],[757,18,757,21],[757,22,757,25],[758,15,758,16],[758,24,758,25],[759,0,759,7],[760,0,760,1],[761,0,761,7],[762,9,762,16],[762,18,762,25],[764,9,764,16],[764,18,764,25],[765,0,765,7],[767,0,767,7],[768,14,768,15],[768,23,768,24],[769,0,769,7],[769,14,769,15],[769,23,769,24],[770,0,770,1],[775,0,775,3],[775,4,775,7],[775,9,775,12],[775,13,775,16],[775,18,775,21],[775,22,775,25],[776,6,776,7],[776,15,776,16],[776,24,776,25],[780,0,780,7],[780,9,780,16],[780,18,780,25],[782,0,782,7],[782,9,782,16],[782,18,782,25],[786,5,786,6],[786,14,786,15],[786,23,786,24],[787,5,787,6],[787,14,787,15],[787,23,787,24],[793,9,793,12],[793,13,793,16],[793,18,793,21],[793,22,793,25],[794,15,794,16],[794,24,794,25],[795,0,795,7],[796,0,796,1],[797,0,797,7],[798,9,798,16],[798,18,798,25],[800,9,800,16],[800,18,800,25],[801,0,801,7],[803,0,803,7],[804,14,804,15],[804,23,804,24],[805,0,805,7],[805,14,805,15],[805,23,805,24],[806,0,806,1],[811,0,811,3],[811,4,811,7],[811,9,811,12],[811,13,811,16],[811,18,811,21],[811,22,811,25],[812,6,812,7],[812,15,812,16],[812,24,812,25],[816,0,816,7],[816,9,816,16],[816,18,816,25],[818,0,818,7],[818,9,818,16],[818,18,818,25],[822,5,822,6],[822,14,822,15],[822,23,822,24],[823,5,823,6],[823,14,823,15],[823,23,823,24],[829,9,829,12],[829,13,829,16],[829,18,829,21],[829,22,829,25],[830,15,830,16],[830,24,830,25],[831,0,831,7],[832,0,832,1],[833,0,833,7],[834,9,834,16],[834,18,834,25],[836,9,836,16],[836,18,836,25],[837,0,837,7],[839,0,839,7],[840,14,840,15],[840,23,840,24],[841,0,841,7],[841,14,841,15],[841,23,841,24],[842,0,842,1],[847,0,847,3],[847,4,847,7],[847,9,847,12],[847,13,847,16],[847,18,847,21],[847,22,847,25],[848,6,848,7],[848,15,848,16],[848,24,848,25],[852,0,852,7],[852,9,852,16],[852,18,852,25],[854,0,854,7],[854,9,854,16],[854,18,854,25],[858,5,858,6]],"merged_total":1340,"flags":["merged_cut"]}
[]
[null,null,null,null,null,null,null,null,null,"1/16 Elimination",null,null,null,{"$f":"'R32_Baum'!$D$72","v":"Scheibe: 1A"},null,null,null,null,"1/8 Elimination",null,null,null,{"$f":"'R32_Baum'!$I$72","v":"Scheibe: 1A"}]
[null,null,null,null,null,null,null,null,null,null,1,2,3,"Summe","Punkte","Ges.",null,null,null,1,2,3,"Summe","Punkte","Ges."]
[{"$f":"Select!$C$12","v":"Demoturnier"},null,null,null,null,null,null,null,null,"Satz 1",null,null,null,null,null,null,null,null,"Satz 1"]
["Veranstaltung",null,null,null,null,null,null,null,null,"Satz 2",null,null,null,null,null,null,null,null,"Satz 2"]
[{"$f":"Select!$C$13","v":"1. April 2019"},null,null,null,null,null,null,null,null,"Satz 3",null,null,null,null,null,null,null,null,"Satz 3"]
["Datum",null,null,null,null,null,null,null,null,"wenn erforderlich",null,null,null,null,null,null,null,null,"wenn erforderlich"]
[null,null,null,null,null,null,null,null,null,"Satz 4",null,null,null,null,null,null,null,null,"Satz 4"]
[null,null,null,null,null,null,null,null,null,"wenn erforderlich",null,null,null,null,null,null,null,null,"wenn erforderlich"]
[{"$f":"'R32_Baum'!$D$3","v":"Url Günter"},null,null,null,null,null,null,null,null,"Satz 5",null,null,null,null,null,null,null,null,"Satz 5"]
["Name",null,null,null,null,null,null,null,null,"wenn erforderlich",null,null,null,null,null,null,null,null,"wenn erforderlich"]
[{"$f":"'R32_Baum'!$F$3","v":"BSC-Wolfspfeil Raab-Holzer"},null,null,null,null,null,null,null,null,"Stechen",null,null,null,null,null,null,null,null,"Stechen"]
["Verein",null,null,null,null,null,null,null,null,null,null,null,null,null,"gewonnen",null,null,null,null,null,null,null,null,"gewonnen"]
[{"$f":"Select!$C$18","v":"Recurve Herren"},null,null,null,null,null,null,null,null,"Schütze:",null,null,null,null,"verloren",null,null,null,"Schütze:",null,null,null,null,"verloren"]
["Bogenklasse"]
[null,null,null,null,null,null,null,null,null,"Gegner:",null,"Name:",{"$f":"'R32_Baum'!D4","v":"Klampfer Markus"},null,null,null,null,null,"Gegner:",null,"Name:"]
[null,null,null,null,null,null,null,null,null,null,null,"Unterschrift:",null,null,null,null,null,null,null,null,"Unterschrift:"]
[]
[]
["1/4 Finale",null,null,null,{"$f":"'R32_Baum'!$M$72","v":"Scheibe: 1A"},null,null,null,null,"1/2 Finale",null,null,null,{"$f":"'R32_Baum'!$Q$72","v":"Scheibe: 1"},null,null,null,null,"1./2. od. 3./4. Platz",null,null,null,"Scheibe:"]
[null,1,2,3,"Summe","Punkte","Ges.",null,null,null,1,2,3,"Summe","Punkte","Ges.",null,null,null,1,2,3,"Summe","Punkte","Ges."]
["Satz 1",null,null,null,null,null,null,null,null,"Satz 1",null,null,null,null,null,null,null,null,"Satz 1"]
["Satz 2",null,null,null,null,null,null,null,null,"Satz 2",null,null,null,null,null,null,null,null,"Satz 2"]
["Satz 3",null,null,null,null,null,null,null,null,"Satz 3",null,null,null,null,null,null,null,null,"Satz 3"]
["wenn erforderlich",null,null,null,null,null,null,null,null,"wenn erforderlich",null,null,null,null,null,null,null,null,"wenn erforderlich"]
["Satz 4",null,null,null,null,null,null,null,null,"Satz 4",null,null,null,null,null,null,null,null,"Satz 4"]
["wenn erforderlich",null,null,null,null,null,null,null,null,"wenn erforderlich",null,null,null,null,null,null,null,null,"wenn erforderlich"]
["Satz 5",null,null,null,null,null,null,null,null,"Satz 5",null,null,null,null,null,null,null,null,"Satz 5"]
["wenn erforderlich",null,null,null,null,null,null,null,null,"wenn erforderlich",null,null,null,null,null,null,null,null,"wenn erforderlich"]
["Stechen",null,null,null,null,null,null,null,null,"Stechen",null,null,null,null,null,null,null,null,"Stechen"]
[null,null,null,null,null,"gewonnen",null,null,null,null,null,null,null,null,"gewonnen",null,null,null,null,null,null,null,null,"gewonnen"]
["Schütze:",null,null,null,null,"verloren",null,null,null,"Schütze:",null,null,null,null,"verloren",null,null,null,"Schütze:",null,null,null,null,"verloren"]
[]
["Gegner:",null,"Name:",null,null,null,null,null,null,"Gegner:",null,"Name:",null,null,null,null,null,null,"Gegner:",null,"Name:"]
[null,null,"Unterschrift:",null,null,null,null,null,null,null,null,"Unterschrift:",null,null,null,null,null,null,null,null,"Unterschrift:"]
[]
[]
[null,null,null,null,null,null,null,null,null,"1/16 Elimination",null,null,null,{"$f":"'R32_Baum'!$D$73","v":"Scheibe: 1B"},null,null,null,null,"1/8 Elimination",null,null,null,{"$f":"'R32_Baum'!$I$72","v":"Scheibe: 1A"}]
[null,null,null,null,null,null,null,null,null,null,1,2,3,"Summe","Punkte","Ges.",null,null,null,1,2,3,"Summe","Punkte","Ges."]
[{"$f":"Select!$C$12","v":"Demoturnier"},null,null,null,null,null,null,null,null,"Satz 1",null,null,null,null,null,null,null,null,"Satz 1"]
["Veranstaltung",null,null,null,null,null,null,null,null,"Satz 2",null,null,null,null,null,null,null,null,"Satz 2"]
[{"$f":"Select!$C$13","v":"1. April 2019"},null,null,null,null,null,null,null,null,"Satz 3",null,null,null,null,null,null,null,null,"Satz 3"]
["Datum",null,null,null,null,null,null,null,null,"wenn erforderlich",null,null,null,null,null,null,null,null,"wenn erforderlich"]
[null,null,null,null,null,null,null,null,null,"Satz 4",null,null,null,null,null,null,null,null,"Satz 4"]
[null,null,null,null,null,null,null,null,null,"wenn erforderlich",null,null,null,null,null,null,null,null,"wenn erforderlich"]
[{"$f":"'R32_Baum'!$D$4","v":"Klampfer Markus"},null,null,null,null,null,null,null,null,"Satz 5",null,null,null,null,null,null,null,null,"Satz 5"]
["Name",null,null,null,null,null,null,null,null,"wenn erforderlich",null,null,null,null,null,null,null,null,"wenn erforderlich"]
[{"$f":"'R32_Baum'!$F$4","v":"Club 3-D Austria Bogensport"},null,null,null,null,null,null,null,null,"Stechen",null,null,null,null,null,null,null,null,"Stechen"]
["Verein",null,null,null,null,null,null,null,null,null,null,null,null,null,"gewonnen",null,null,null,null,null,null,null,null,"gewonnen"]
[{"$f":"Select!$C$18","v":"Recurve Herren"},null,null,null,null,null,null,null,null,"Schütze:",null,null,null,null,"verloren",null,null,null,"Schütze:",null,null,null,null,"verloren"]
["Bogenklasse"]
[null,null,null,null,null,null,null,null,null,"Gegner:",null,"Name:",{"$f":"'R32_Baum'!D3","v":"Url Günter"},null,null,null,null,null,"Gegner:",null,"Name:"]
[null,null,null,null,null,null,null,null,null,null,null,"Unterschrift:",null,null,null,null,null,null,null,null,"Unterschrift:"]
[]
[]
["1/4 Finale",null,null,null,{"$f":"'R32_Baum'!$M$72","v":"Scheibe: 1A"},null,null,null,null,"1/2 Finale",null,null,null,{"$f":"'R32_Baum'!$Q$72","v":"Scheibe: 1"},null,null,null,null,"1./2. od. 3./4. Platz",null,null,null,"Scheibe:"]
[null,1,2,3,"Summe","Punkte","Ges.",null,null,null,1,2,3,"Summe","Punkte","Ges.",null,null,null,1,2,3,"Summe","Punkte","Ges."]
["Satz 1",null,null,null,null,null,null,null,null,"Satz 1",null,null,null,null,null,null,null,null,"Satz 1"]
["Satz 2",null,null,null,null,null,null,null,null,"Satz 2",null,null,null,null,null,null,null,null,"Satz 2"]
["Satz 3",null,null,null,null,null,null,null,null,"Satz 3",null,null,null,null,null,null,null,null,"Satz 3"]
["wenn erforderlich",null,null,null,null,null,null,null,null,"wenn erforderlich",null,null,null,null,null,null,null,null,"wenn erforderlich"]
["Satz 4",null,null,null,null,null,null,null,null,"Satz 4",null,null,null,null,null,null,null,null,"Satz 4"]
["wenn erforderlich",null,null,null,null,null,null,null,null,"wenn erforderlich",null,null,null,null,null,null,null,null,"wenn erforderlich"]
["Satz 5",null,null,null,null,null,null,null,null,"Satz 5",null,null,null,null,null,null,null,null,"Satz 5"]
["wenn erforderlich",null,null,null,null,null,null,null,null,"wenn erforderlich",null,null,null,null,null,null,null,null,"wenn erforderlich"]
["Stechen",null,null,null,null,null,null,null,null,"Stechen",null,null,null,null,null,null,null,null,"Stechen"]
[null,null,null,null,null,"gewonnen",null,null,null,null,null,null,null,null,"gewonnen",null,null,null,null,null,null,null,null,"gewonnen"]
["Schütze:",null,null,null,null,"verloren",null,null,null,"Schütze:",null,null,null,null,"verloren",null,null,null,"Schütze:",null,null,null,null,"verloren"]
[]
["Gegner:",null,"Name:",null,null,null,null,null,null,"Gegner:",null,"Name:",null,null,null,null,null,null,"Gegner:",null,"Name:"]
[null,null,"Unterschrift:",null,null,null,null,null,null,null,null,"Unterschrift:",null,null,null,null,null,null,null,null,"Unterschrift:"]
[]
[]
[null,null,null,null,null,null,null,null,null,"1/16 Elimination",null,null,null,{"$f":"'R32_Baum'!$D$74","v":"Scheibe: 2A"},null,null,null,null,"1/8 Elimination",null,null,null,{"$f":"'R32_Baum'!$I$73","v":"Scheibe: 1B"}]
[null,null,null,null,null,null,null,null,null,null,1,2,3,"Summe","Punkte","Ges.",null,null,null,1,2,3,"Summe","Punkte","Ges."]
[{"$f":"Select!$C$12","v":"Demoturnier"},null,null,null,null,null,null,null,null,"Satz 1",null,null,null,null,null,null,null,null,"Satz 1"]
["Veranstaltung",null,null,null,null,null,null,null,null,"Satz 2",null,null,null,null,null,null,null,null,"Satz 2"]
[{"$f":"Select!$C$13","v":"1. April 2019"},null,null,null,null,null,null,null,null,"Satz 3",null,null,null,null,null,null,null,null,"Satz 3"]
["Datum",null,null,null,null,null,null,null,null,"wenn erforderlich",null,null,null,null,null,null,null,null,"wenn erforderlich"]
[null,null,null,null,null,null,null,null,null,"Satz 4",null,null,null,null,null,null,null,null,"Satz 4"]
[null,null,null,null,null,null,null,null,null,"wenn erforderlich",null,null,null,null,null,null,null,null,"wenn erforderlich"]
[{"$f":"'R32_Baum'!$D$7","v":"Schweiger Peter"},null,null,null,null,null,null,null,null,"Satz 5",null,null,null,null,null,null,null,null,"Satz 5"]
["Name",null,null,null,null,null,null,null,null,"wenn erforderlich",null,null,null,null,null,null,null,null,"wenn erforderlich"]
[{"$f":"'R32_Baum'!$F$7","v":"BSV-Blumental"},null,null,null,null,null,null,null,null,"Stechen",null,null,null,null,null,null,null,null,"Stechen"]
["Verein",null,null,null,null,null,null,null,null,null,null,null,null,null,"gewonnen",null,null,null,null,null,null,null,null,"gewonnen"]
[{"$f":"Select!$C$18","v":"Recurve Herren"},null,null,null,null,null,null,null,null,"Schütze:",null,null,null,null,"verloren",null,null,null,"Schütze:",null,null,null,null,"verloren"]
["Bogenklasse"]
[null,null,null,null,null,null,null,null,null,"Gegner:",null,"Name:",{"$f":"'R32_Baum'!D8","v":"Lackner Uwe"},null,null,null,null,null,"Gegner:",null,"Name:"]
[null,null,null,null,null,null,null,null,null,null,null,"Unterschrift:",null,null,null,null,null,null,null,null,"Unterschrift:"]
[]
[]
["1/4 Finale",null,null,null,{"$f":"'R32_Baum'!$M$72","v":"Scheibe: 1A"},null,null,null,null,"1/2 Finale",null,null,null,{"$f":"'R32_Baum'!$Q$72","v":"Scheibe: 1"},null,null,null,null,"1./2. od. 3./4. Platz",null,null,null,"Scheibe:"]
[null,1,2,3,"Summe","Punkte","Ges.",null,null,null,1,2,3,"Summe","Punkte","Ges.",null,null,null,1,2,3,"Summe","Punkte","Ges."]
["Satz 1",null,null,null,null,null,null,null,null,"Satz 1",null,null,null,null,null,null,null,null,"Satz 1"]
["Satz 2",null,null,null,null,null,null,null,null,"Satz 2",null,null,null,null,null,null,null,null,"Satz 2"]
["Satz 3",null,null,null,null,null,null,null,null,"Satz 3",null,null,null,null,null,null,null,null,"Satz 3"]
["wenn erforderlich",null,null,null,null,null,null,null,null,"wenn erforderlich",null,null,null,null,null,null,null,null,"wenn erforderlich"]
["Satz 4",null,null,null,null,null,null,null,null,"Satz 4",null,null,null,null,null,null,null,null,"Satz 4"]
["wenn erforderlich",null,null,null,null,null,null,null,null,"wenn erforderlich",null,null,null,null,null,null,null,null,"wenn erforderlich"]
["Satz 5",null,null,null,null,null,null,null,null,"Satz 5",null,null,null,null,null,null,null,null,"Satz 5"]
["wenn erforderlich",null,null,null,null,null,null,null,null,"wenn erforderlich",null,null,null,null,null,null,null,null,"wenn erforderlich"]
["Stechen",null,null,null,null,null,null,null,null,"Stechen",null,null,null,null,null,null,null,null,"Stechen"]
[null,null,null,null,null,"gewonnen",null,null,null,null,null,null,null,null,"gewonnen",null,null,null,null,null,null,null,null,"gewonnen"]
["Schütze:",null,null,null,null,"verloren",null,null,null,"Schütze:",null,null,null,null,"verloren",null,null,null,"Schütze:",null,null,null,null,"verloren"]
[]
["Gegner:",null,"Name:",null,null,null,null,null,null,"Gegner:",null,"Name:",null,null,null,null,null,null,"Gegner:",null,"Name:"]
[null,null,"Unterschrift:",null,null,null,null,null,null,null,null,"Unterschrift:",null,null,null,null,null,null,null,null,"Unterschrift:"]
[]
[]
[null,null,null,null,null,null,null,null,null,"1/16 Elimination",null,null,null,{"$f":"'R32_Baum'!$D$75","v":"Scheibe: 2B"},null,null,null,null,"1/8 Elimination",null,null,null,{"$f":"'R32_Baum'!$I$73","v":"Scheibe: 1B"}]
[null,null,null,null,null,null,null,null,null,null,1,2,3,"Summe","Punkte","Ges.",null,null,null,1,2,3,"Summe","Punkte","Ges."]
[{"$f":"Select!$C$12","v":"Demoturnier"},null,null,null,null,null,null,null,null,"Satz 1",null,null,null,null,null,null,null,null,"Satz 1"]
["Veranstaltung",null,null,null,null,null,null,null,null,"Satz 2",null,null,null,null,null,null,null,null,"Satz 2"]
[{"$f":"Select!$C$13","v":"1. April 2019"},null,null,null,null,null,null,null,null,"Satz 3",null,null,null,null,null,null,null,null,"Satz 3"]
["Datum",null,null,null,null,null,null,null,null,"wenn erforderlich",null,null,null,null,null,null,null,null,"wenn erforderlich"]
[null,null,null,null,null,null,null,null,null,"Satz 4",null,null,null,null,null,null,null,null,"Satz 4"]
[null,null,null,null,null,null,null,null,null,"wenn erforderlich",null,null,null,null,null,null,null,null,"wenn erforderlich"]
[{"$f":"'R32_Baum'!$D$8","v":"Lackner Uwe"},null,null,null,null,null,null,null,null,"Satz 5",null,null,null,null,null,null,null,null,"Satz 5"]
["Name",null,null,null,null,null,null,null,null,"wenn erforderlich",null,null,null,null,null,null,null,null,"wenn erforderlich"]
[{"$f":"'R32_Baum'!$F$8","v":"LH Graz"},null,null,null,null,null,null,null,null,"Stechen",null,null,null,null,null,null,null,null,"Stechen"]
["Verein",null,null,null,null,null,null,null,null,null,null,null,null,null,"gewonnen",null,null,null,null,null,null,null,null,"gewonnen"]
[{"$f":"Select!$C$18","v":"Recurve Herren"},null,null,null,null,null,null,null,null,"Schütze:",null,null,null,null,"verloren",null,null,null,"Schütze:",null,null,null,null,"verloren"]
["Bogenklasse"]
[null,null,null,null,null,null,null,null,null,"Gegner:",null,"Name:",{"$f":"'R32_Baum'!D7","v":"Schweiger Peter"},null,null,null,null,null,"Gegner:",null,"Name:"]
[null,null,null,null,null,null,null,null,null,null,null,"Unterschrift:",null,null,null,null,null,null,null,null,"Unterschrift:"]
[]
[]
["1/4 Finale",null,null,null,{"$f":"'R32_Baum'!$M$72","v":"Scheibe: 1A"},null,null,null,null,"1/2 Finale",null,null,null,{"$f":"'R32_Baum'!$Q$72","v":"Scheibe: 1"},null,null,null,null,"1./2. od. 3./4. Platz",null,null,null,"Scheibe:"]
[null,1,2,3,"Summe","Punkte","Ges.",null,null,null,1,2,3,"Summe","Punkte","Ges.",null,null,null,1,2,3,"Summe","Punkte","Ges."]
["Satz 1",null,null,null,null,null,null,null,null,"Satz 1",null,null,null,null,null,null,null,null,"Satz 1"]
["Satz 2",null,null,null,null,null,null,null,null,"Satz 2",null,null,null,null,null,null,null,null,"Satz 2"]
["Satz 3",null,null,null,null,null,null,null,null,"Satz 3",null,null,null,null,null,null,null,null,"Satz 3"]
["wenn erforderlich",null,null,null,null,null,null,null,null,"wenn erforderlich",null,null,null,null,null,null,null,null,"wenn erforderlich"]
["Satz 4",null,null,null,null,null,null,null,null,"Satz 4",null,null,null,null,null,null,null,null,"Satz 4"]
["wenn erforderlich",null,null,null,null,null,null,null,null,"wenn erforderlich",null,null,null,null,null,null,null,null,"wenn erforderlich"]
["Satz 5",null,null,null,null,null,null,null,null,"Satz 5",null,null,null,null,null,null,null,null,"Satz 5"]
["wenn erforderlich",null,null,null,null,null,null,null,null,"wenn erforderlich",null,null,null,null,null,null,null,null,"wenn erforderlich"]
["Stechen",null,null,null,null,null,null,null,null,"Stechen",null,null,null,null,null,null,null,null,"Stechen"]
[null,null,null,null,null,"gewonnen",null,null,null,null,null,null,null,null,"gewonnen",null,null,null,null,null,null,null,null,"gewonnen"]
["Schütze:",null,null,null,null,"verloren",null,null,null,"Schütze:",null,null,null,null,"verloren",null,null,null,"Schütze:",null,null,null,null,"verloren"]
[]
["Gegner:",null,"Name:",null,null,null,null,null,null,"Gegner:",null,"Name:",null,null,null,null,null,null,"Gegner:",null,"Name:"]
[null,null,"Unterschrift:",null,null,null,null,null,null,null,null,"Unterschrift:",null,null,null,null,null,null,null,null,"Unterschrift:"]
[]
[]
[null,null,null,null,null,null,null,null,null,"1/16 Elimination",null,null,null,{"$f":"'R32_Baum'!$D$76","v":"Scheibe: 3A"},null,null,null,null,"1/8 Elimination",null,null,null,{"$f":"'R32_Baum'!$I$74","v":"Scheibe: 2A"}]
[null,null,null,null,null,null,null,null,null,null,1,2,3,"Summe","Punkte","Ges.",null,null,null,1,2,3,"Summe","Punkte","Ges."]
[{"$f":"Select!$C$12","v":"Demoturnier"},null,null,null,null,null,null,null,null,"Satz 1",null,null,null,null,null,null,null,null,"Satz 1"]
["Veranstaltung",null,null,null,null,null,null,null,null,"Satz 2",null,null,null,null,null,null,null,null,"Satz 2"]
[{"$f":"Select!$C$13","v":"1. April 2019"},null,null,null,null,null,null,null,null,"Satz 3",null,null,null,null,null,null,null,null,"Satz 3"]
["Datum",null,null,null,null,null,null,null,null,"wenn erforderlich",null,null,null,null,null,null,null,null,"wenn erforderlich"]
[null,null,null,null,null,null,null,null,null,"Satz 4",null,null,null,null,null,null,null,null,"Satz 4"]
[null,null,null,null,null,null,null,null,null,"wenn erforderlich",null,null,null,null,null,null,null,null,"wenn erforderlich"]
[{"$f":"'R32_Baum'!$D$11","v":"Traxler Helmuth"},null,null,null,null,null,null,null,null,"Satz 5",null,null,null,null,null,null,null,null,"Satz 5"]
["Name",null,null,null,null,null,null,null,null,"wenn erforderlich",null,null,null,null,null,null,null,null,"wenn erforderlich"]
[{"$f":"'R32_Baum'!$F$11","v":"UBC Diana NÖ"},null,null,null,null,null,null,null,null,"Stechen",null,null,null,null,null,null,null,null,"Stechen"]
["Verein",null,null,null,null,null,null,null,null,null,null,null,null,null,"gewonnen",null,null,null,null,null,null,null,null,"gewonnen"]
[{"$f":"Select!$C$18","v":"Recurve Herren"},null,null,null,null,null,null,null,null,"Schütze:",null,null,null,null,"verloren",null,null,null,"Schütze:",null,null,null,null,"verloren"]
["Bogenklasse"]
[null,null,null,null,null,null,null,null,null,"Gegner:",null,"Name:",{"$f":"'R32_Baum'!D12","v":"Eidenberger Karl"},null,null,null,null,null,"Gegner:",null,"Name:"]
[null,null,null,null,null,null,null,null,null,null,null,"Unterschrift:",null,null,null,null,null,null,null,null,"Unterschrift:"]
[]
[]
["1/4 Finale",null,null,null,{"$f":"'R32_Baum'!$M$73","v":"Scheibe: 1B"},null,null,null,null,"1/2 Finale",null,null,null,{"$f":"'R32_Baum'!$Q$72","v":"Scheibe: 1"},null,null,null,null,"1./2. od. 3./4. Platz",null,null,null,"Scheibe:"]
[null,1,2,3,"Summe","Punkte","Ges.",null,null,null,1,2,3,"Summe","Punkte","Ges.",null,null,null,1,2,3,"Summe","Punkte","Ges."]
["Satz 1",null,null,null,null,null,null,null,null,"Satz 1",null,null,null,null,null,null,null,null,"Satz 1"]
["Satz 2",null,null,null,null,null,null,null,null,"Satz 2",null,null,null,null,null,null,null,null,"Satz 2"]
["Satz 3",null,null,null,null,null,null,null,null,"Satz 3",null,null,null,null,null,null,null,null,"Satz 3"]
["wenn erforderlich",null,null,null,null,null,null,null,null,"wenn erforderlich",null,null,null,null,null,null,null,null,"wenn erforderlich"]
["Satz 4",null,null,null,null,null,null,null,null,"Satz 4",null,null,null,null,null,null,null,null,"Satz 4"]
["wenn erforderlich",null,null,null,null,null,null,null,null,"wenn erforderlich",null,null,null,null,null,null,null,null,"wenn erforderlich"]
["Satz 5",null,null,null,null,null,null,null,null,"Satz 5",null,null,null,null,null,null,null,null,"Satz 5"]
["wenn erforderlich",null,null,null,null,null,null,null,null,"wenn erforderlich",null,null,null,null,null,null,null,null,"wenn erforderlich"]
["Stechen",null,null,null,null,null,null,null,null,"Stechen",null,null,null,null,null,null,null,null,"Stechen"]
[null,null,null,null,null,"gewonnen",null,null,null,null,null,null,null,null,"gewonnen",null,null,null,null,null,null,null,null,"gewonnen"]
["Schütze:",null,null,null,null,"verloren",null,null,null,"Schütze:",null,null,null,null,"verloren",null,null,null,"Schütze:",null,null,null,null,"verloren"]
[]
["Gegner:",null,"Name:",null,null,null,null,null,null,"Gegner:",null,"Name:",null,null,null,null,null,null,"Gegner:",null,"Name:"]
[null,null,"Unterschrift:",null,null,null,null,null,null,null,null,"Unterschrift:",null,null,null,null,null,null,null,null,"Unterschrift:"]
[]
[]
[null,null,null,null,null,null,null,null,null,"1/16 Elimination",null,null,null,{"$f":"'R32_Baum'!$D$77","v":"Scheibe: 3B"},null,null,null,null,"1/8 Elimination",null,null,null,{"$f":"'R32_Baum'!$I$74","v":"Scheibe: 2A"}]
[null,null,null,null,null,null,null,null,null,null,1,2,3,"Summe","Punkte","Ges.",null,null,null,1,2,3,"Summe","Punkte","Ges."]
[{"$f":"Select!$C$12","v":"Demoturnier"},null,null,null,null,null,null,null,null,"Satz 1",null,null,null,null,null,null,null,null,"Satz 1"]
["Veranstaltung",null,null,null,null,null,null,null,null,"Satz 2",null,null,null,null,null,null,null,null,"Satz 2"]
[{"$f":"Select!$C$13","v":"1. April 2019"},null,null,null,null,null,null,null,null,"Satz 3",null,null,null,null,null,null,null,null,"Satz 3"]
["Datum",null,null,null,null,null,null,null,null,"wenn erforderlich",null,null,null,null,null,null,null,null,"wenn erforderlich"]
[null,null,null,null,null,null,null,null,null,"Satz 4",null,null,null,null,null,null,null,null,"Satz 4"]
[null,null,null,null,null,null,null,null,null,"wenn erforderlich",null,null,null,null,null,null,null,null,"wenn erforderlich"]
[{"$f":"'R32_Baum'!$D$12","v":"Eidenberger Karl"},null,null,null,null,null,null,null,null,"Satz 5",null,null,null,null,null,null,null,null,"Satz 5"]
["Name",null,null,null,null,null,null,null,null,"wenn erforderlich",null,null,null,null,null,null,null,null,"wenn erforderlich"]
[{"$f":"'R32_Baum'!$F$12","v":"PSV Burgenland - Sektion Bogen"},null,null,null,null,null,null,null,null,"Stechen",null,null,null,null,null,null,null,null,"Stechen"]
["Verein",null,null,null,null,null,null,null,null,null,null,null,null,null,"gewonnen",null,null,null,null,null,null,null,null,"gewonnen"]
[{"$f":"Select!$C$18","v":"Recurve Herren"},null,null,null,null,null,null,null,null,"Schütze:",null,null,null,null,"verloren",null,null,null,"Schütze:",null,null,null,null,"verloren"]
["Bogenklasse"]
[null,null,null,null,null,null,null,null,null,"Gegner:",null,"Name:",{"$f":"'R32_Baum'!D11","v":"Traxler Helmuth"},null,null,null,null,null,"Gegner:",null,"Name:"]
[null,null,null,null,null,null,null,null,null,null,null,"Unterschrift:",null,null,null,null,null,null,null,null,"Unterschrift:"]
[]
[]
["1/4 Finale",null,null,null,{"$f":"'R32_Baum'!$M$73","v":"Scheibe: 1B"},null,null,null,null,"1/2 Finale",null,null,null,{"$f":"'R32_Baum'!$Q$72","v":"Scheibe: 1"},null,null,null,null,"1./2. od. 3./4. Platz",null,null,null,"Scheibe:"]
[null,1,2,3,"Summe","Punkte","Ges.",null,null,null,1,2,3,"Summe","Punkte","Ges.",null,null,null,1,2,3,"Summe","Punkte","Ges."]
["Satz 1",null,null,null,null,null,null,null,null,"Satz 1",null,null,null,null,null,null,null,null,"Satz 1"]
["Satz 2",null,null,null,null,null,null,null,null,"Satz 2",null,null,null,null,null,null,null,null,"Satz 2"]
["Satz 3",null,null,null,null,null,null,null,null,"Satz 3",null,null,null,null,null,null,null,null,"Satz 3"]
["wenn erforderlich",null,null,null,null,null,null,null,null,"wenn erforderlich",null,null,null,null,null,null,null,null,"wenn erforderlich"]
["Satz 4",null,null,null,null,null,null,null,null,"Satz 4",null,null,null,null,null,null,null,null,"Satz 4"]
["wenn erforderlich",null,null,null,null,null,null,null,null,"wenn erforderlich",null,null,null,null,null,null,null,null,"wenn erforderlich"]
["Satz 5",null,null,null,null,null,null,null,null,"Satz 5",null,null,null,null,null,null,null,null,"Satz 5"]
["wenn erforderlich",null,null,null,null,null,null,null,null,"wenn erforderlich",null,null,null,null,null,null,null,null,"wenn erforderlich"]
["Stechen",null,null,null,null,null,null,null,null,"Stechen",null,null,null,null,null,null,null,null,"Stechen"]
[null,null,null,null,null,"gewonnen",null,null,null,null,null,null,null,null,"gewonnen",null,null,null,null,null,null,null,null,"gewonnen"]
["Schütze:",null,null,null,null,"verloren",null,null,null,"Schütze:",null,null,null,null,"verloren",null,null,null,"Schütze:",null,null,null,null,"verloren"]
[]
["Gegner:",null,"Name:",null,null,null,null,null,null,"Gegner:",null,"Name:",null,null,null,null,null,null,"Gegner:",null,"Name:"]
[null,null,"Unterschrift:",null,null,null,null,null,null,null,null,"Unterschrift:",null,null,null,null,null,null,null,null,"Unterschrift:"]
[]
[]
[null,null,null,null,null,null,null,null,null,"1/16 Elimination",null,null,null,{"$f":"'R32_Baum'!$D$78","v":"Scheibe: 4A"},null,null,null,null,"1/8 Elimination",null,null,null,{"$f":"'R32_Baum'!$I$75","v":"Scheibe: 2B"}]
[null,null,null,null,null,null,null,null,null,null,1,2,3,"Summe","Punkte","Ges.",null,null,null,1,2,3,"Summe","Punkte","Ges."]
[{"$f":"Select!$C$12","v":"Demoturnier"},null,null,null,null,null,null,null,null,"Satz 1",null,null,null,null,null,null,null,null,"Satz 1"]
["Veranstaltung",null,null,null,null,null,null,null,null,"Satz 2",null,null,null,null,null,null,null,null,"Satz 2"]
[{"$f":"Select!$C$13","v":"1. April 2019"},null,null,null,null,null,null,null,null,"Satz 3",null,null,null,null,null,null,null,null,"Satz 3"]
["Datum",null,null,null,null,null,null,null,null,"wenn erforderlich",null,null,null,null,null,null,null,null,"wenn erforderlich"]
[null,null,null,null,null,null,null,null,null,"Satz 4",null,null,null,null,null,null,null,null,"Satz 4"]
[null,null,null,null,null,null,null,null,null,"wenn erforderlich",null,null,null,null,null,null,null,null,"wenn erforderlich"]
[{"$f":"'R32_Baum'!$D$15","v":"Wallner Ewald"},null,null,null,null,null,null,null,null,"Satz 5",null,null,null,null,null,null,null,null,"Satz 5"]
["Name",null,null,null,null,null,null,null,null,"wenn erforderlich",null,null,null,null,null,null,null,null,"wenn erforderlich"]
[{"$f":"'R32_Baum'!$F$15","v":"BSC Sölkpass"},null,null,null,null,null,null,null,null,"Stechen",null,null,null,null,null,null,null,null,"Stechen"]
["Verein",null,null,null,null,null,null,null,null,null,null,null,null,null,"gewonnen",null,null,null,null,null,null,null,null,"gewonnen"]
[{"$f":"Select!$C$18","v":"Recurve Herren"},null,null,null,null,null,null,null,null,"Schütze:",null,null,null,null,"verloren",null,null,null,"Schütze:",null,null,null,null,"verloren"]
["Bogenklasse"]
[null,null,null,null,null,null,null,null,null,"Gegner:",null,"Name:",{"$f":"'R32_Baum'!D16","v":"Robl Ronald"},null,null,null,null,null,"Gegner:",null,"Name:"]
[null,null,null,null,null,null,null,null,null,null,null,"Unterschrift:",null,null,null,null,null,null,null,null,"Unterschrift:"]
[]
[]
["1/4 Finale",null,null,null,{"$f":"'R32_Baum'!$M$73","v":"Scheibe: 1B"},null,null,null,null,"1/2 Finale",null,null,null,{"$f":"'R32_Baum'!$Q$72","v":"Scheibe: 1"},null,null,null,null,"1./2. od. 3./4. Platz",null,null,null,"Scheibe:"]
[null,1,2,3,"Summe","Punkte","Ges.",null,null,null,1,2,3,"Summe","Punkte","Ges.",null,null,null,1,2,3,"Summe","Punkte","Ges."]
["Satz 1",null,null,null,null,null,null,null,null,"Satz 1",null,null,null,null,null,null,null,null,"Satz 1"]
["Satz 2",null,null,null,null,null,null,null,null,"Satz 2",null,null,null,null,null,null,null,null,"Satz 2"]
["Satz 3",null,null,null,null,null,null,null,null,"Satz 3",null,null,null,null,null,null,null,null,"Satz 3"]
["wenn erforderlich",null,null,null,null,null,null,null,null,"wenn erforderlich",null,null,null,null,null,null,null,null,"wenn erforderlich"]
["Satz 4",null,null,null,null,null,null,null,null,"Satz 4",null,null,null,null,null,null,null,null,"Satz 4"]
["wenn erforderlich",null,null,null,null,null,null,null,null,"wenn erforderlich",null,null,null,null,null,null,null,null,"wenn erforderlich"]
["Satz 5",null,null,null,null,null,null,null,null,"Satz 5",null,null,null,null,null,null,null,null,"Satz 5"]
["wenn erforderlich",null,null,null,null,null,null,null,null,"wenn erforderlich",null,null,null,null,null,null,null,null,"wenn erforderlich"]
["Stechen",null,null,null,null,null,null,null,null,"Stechen",null,null,null,null,null,null,null,null,"Stechen"]
[null,null,null,null,null,"gewonnen",null,null,null,null,null,null,null,null,"gewonnen",null,null,null,null,null,null,null,null,"gewonnen"]
["Schütze:",null,null,null,null,"verloren",null,null,null,"Schütze:",null,null,null,null,"verloren",null,null,null,"Schütze:",null,null,null,null,"verloren"]
[]
["Gegner:",null,"Name:",null,null,null,null,null,null,"Gegner:",null,"Name:",null,null,null,null,null,null,"Gegner:",null,"Name:"]
[null,null,"Unterschrift:",null,null,null,null,null,null,null,null,"Unterschrift:",null,null,null,null,null,null,null,null,"Unterschrift:"]
[]
[]
[null,null,null,null,null,null,null,null,null,"1/16 Elimination",null,null,null,{"$f":"'R32_Baum'!$D$79","v":"Scheibe: 4B"},null,null,null,null,"1/8 Elimination",null,null,null,{"$f":"'R32_Baum'!$I$75","v":"Scheibe: 2B"}]
[null,null,null,null,null,null,null,null,null,null,1,2,3,"Summe","Punkte","Ges.",null,null,null,1,2,3,"Summe","Punkte","Ges."]
[{"$f":"Select!$C$12","v":"Demoturnier"},null,null,null,null,null,null,null,null,"Satz 1",null,null,null,null,null,null,null,null,"Satz 1"]
["Veranstaltung",null,null,null,null,null,null,null,null,"Satz 2",null,null,null,null,null,null,null,null,"Satz 2"]
[{"$f":"Select!$C$13","v":"1. April 2019"},null,null,null,null,null,null,null,null,"Satz 3",null,null,null,null,null,null,null,null,"Satz 3"]
["Datum",null,null,null,null,null,null,null,null,"wenn erforderlich",null,null,null,null,null,null,null,null,"wenn erforderlich"]
[null,null,null,null,null,null,null,null,null,"Satz 4",null,null,null,null,null,null,null,null,"Satz 4"]
[null,null,null,null,null,null,null,null,null,"wenn erforderlich",null,null,null,null,null,null,null,null,"wenn erforderlich"]
[{"$f":"'R32_Baum'!$D$16","v":"Robl Ronald"},null,null,null,null,null,null,null,null,"Satz 5",null,null,null,null,null,null,null,null,"Satz 5"]
["Name",null,null,null,null,null,null,null,null,"wenn erforderlich",null,null,null,null,null,null,null,null,"wenn erforderlich"]
[{"$f":"'R32_Baum'!$F$16","v":"Austrian Free Archer"},null,null,null,null,null,null,null,null,"Stechen",null,null,null,null,null,null,null,null,"Stechen"]
["Verein",null,null,null,null,null,null,null,null,null,null,null,null,null,"gewonnen",null,null,null,null,null,null,null,null,"gewonnen"]
[{"$f":"Select!$C$18","v":"Recurve Herren"},null,null,null,null,null,null,null,null,"Schütze:",null,null,null,null,"verloren",null,null,null,"Schütze:",null,null,null,null,"verloren"]
["Bogenklasse"]
[null,null,null,null,null,null,null,null,null,"Gegner:",null,"Name:",{"$f":"'R32_Baum'!D15","v":"Wallner Ewald"},null,null,null,null,null,"Gegner:",null,"Name:"]
[null,null,null,null,null,null,null,null,null,null,null,"Unterschrift:",null,null,null,null,null,null,null,null,"Unterschrift:"]
[]
[]
["1/4 Finale",null,null,null,{"$f":"'R32_Baum'!$M$73","v":"Scheibe: 1B"},null,null,null,null,"1/2 Finale",null,null,null,{"$f":"'R32_Baum'!$Q$72","v":"Scheibe: 1"},null,null,null,null,"1./2. od. 3./4. Platz",null,null,null,"Scheibe:"]
[null,1,2,3,"Summe","Punkte","Ges.",null,null,null,1,2,3,"Summe","Punkte","Ges.",null,null,null,1,2,3,"Summe","Punkte","Ges."]
["Satz 1",null,null,null,null,null,null,null,null,"Satz 1",null,null,null,null,null,null,null,null,"Satz 1"]
["Satz 2",null,null,null,null,null,null,null,null,"Satz 2",null,null,null,null,null,null,null,null,"Satz 2"]
["Satz 3",null,null,null,null,null,null,null,null,"Satz 3",null,null,null,null,null,null,null,null,"Satz 3"]
["wenn erforderlich",null,null,null,null,null,null,null,null,"wenn erforderlich",null,null,null,null,null,null,null,null,"wenn erforderlich"]
["Satz 4",null,null,null,null,null,null,null,null,"Satz 4",null,null,null,null,null,null,null,null,"Satz 4"]
["wenn erforderlich",null,null,null,null,null,null,null,null,"wenn erforderlich",null,null,null,null,null,null,null,null,"wenn erforderlich"]
["Satz 5",null,null,null,null,null,null,null,null,"Satz 5",null,null,null,null,null,null,null,null,"Satz 5"]
["wenn erforderlich",null,null,null,null,null,null,null,null,"wenn erforderlich",null,null,null,null,null,null,null,null,"wenn erforderlich"]
["Stechen",null,null,null,null,null,null,null,null,"Stechen",null,null,null,null,null,null,null,null,"Stechen"]
[null,null,null,null,null,"gewonnen",null,null,null,null,null,null,null,null,"gewonnen",null,null,null,null,null,null,null,null,"gewonnen"]
["Schütze:",null,null,null,null,"verloren",null,null,null,"Schütze:",null,null,null,null,"verloren",null,null,null,"Schütze:",null,null,null,null,"verloren"]
[]
["Gegner:",null,"Name:",null,null,null,null,null,null,"Gegner:",null,"Name:",null,null,null,null,null,null,"Gegner:",null,"Name:"]
[null,null,"Unterschrift:",null,null,null,null,null,null,null,null,"Unterschrift:",null,null,null,null,null,null,null,null,"Unterschrift:"]
[]
[]
[null,null,null,null,null,null,null,null,null,"1/16 Elimination",null,null,null,{"$f":"'R32_Baum'!$D$80","v":"Scheibe: 5A"},null,null,null,null,"1/8 Elimination",null,null,null,{"$f":"'R32_Baum'!$I$76","v":"Scheibe: 3A"}]
[null,null,null,null,null,null,null,null,null,null,1,2,3,"Summe","Punkte","Ges.",null,null,null,1,2,3,"Summe","Punkte","Ges."]
[{"$f":"Select!$C$12","v":"Demoturnier"},null,null,null,null,null,null,null,null,"Satz 1",null,null,null,null,null,null,null,null,"Satz 1"]
["Veranstaltung",null,null,null,null,null,null,null,null,"Satz 2",null,null,null,null,null,null,null,null,"Satz 2"]
[{"$f":"Select!$C$13","v":"1. April 2019"},null,null,null,null,null,null,null,null,"Satz 3",null,null,null,null,null,null,null,null,"Satz 3"]
["Datum",null,null,null,null,null,null,null,null,"wenn erforderlich",null,null,null,null,null,null,null,null,"wenn erforderlich"]
[null,null,null,null,null,null,null,null,null,"Satz 4",null,null,null,null,null,null,null,null,"Satz 4"]
[null,null,null,null,null,null,null,null,null,"wenn erforderlich",null,null,null,null,null,null,null,null,"wenn erforderlich"]
[{"$f":"'R32_Baum'!$D$19","v":"Höllwirth Andreas"},null,null,null,null,null,null,null,null,"Satz 5",null,null,null,null,null,null,null,null,"Satz 5"]
["Name",null,null,null,null,null,null,null,null,"wenn erforderlich",null,null,null,null,null,null,null,null,"wenn erforderlich"]
[{"$f":"'R32_Baum'!$F$19","v":"ASKÖ-Luftenberg"},null,null,null,null,null,null,null,null,"Stechen",null,null,null,null,null,null,null,null,"Stechen"]
["Verein",null,null,null,null,null,null,null,null,null,null,null,null,null,"gewonnen",null,null,null,null,null,null,null,null,"gewonnen"]
[{"$f":"Select!$C$18","v":"Recurve Herren"},null,null,null,null,null,null,null,null,"Schütze:",null,null,null,null,"verloren",null,null,null,"Schütze:",null,null,null,null,"verloren"]
["Bogenklasse"]
[null,null,null,null,null,null,null,null,null,"Gegner:",null,"Name:",{"$f":"'R32_Baum'!D20","v":"Eberle Roland"},null,null,null,null,null,"Gegner:",null,"Name:"]
[null,null,null,null,null,null,null,null,null,null,null,"Unterschrift:",null,null,null,null,null,null,null,null,"Unterschrift:"]
[]
[]
["1/4 Finale",null,null,null,{"$f":"'R32_Baum'!$M$74","v":"Scheibe: 2A"},null,null,null,null,"1/2 Finale",null,null,null,{"$f":"'R32_Baum'!$Q$73","v":"Scheibe: 2"},null,null,null,null,"1./2. od. 3./4. Platz",null,null,null,"Scheibe:"]
[null,1,2,3,"Summe","Punkte","Ges.",null,null,null,1,2,3,"Summe","Punkte","Ges.",null,null,null,1,2,3,"Summe","Punkte","Ges."]
["Satz 1",null,null,null,null,null,null,null,null,"Satz 1",null,null,null,null,null,null,null,null,"Satz 1"]
["Satz 2",null,null,null,null,null,null,null,null,"Satz 2",null,null,null,null,null,null,null,null,"Satz 2"]
["Satz 3",null,null,null,null,null,null,null,null,"Satz 3",null,null,null,null,null,null,null,null,"Satz 3"]
["wenn erforderlich",null,null,null,null,null,null,null,null,"wenn erforderlich",null,null,null,null,null,null,null,null,"wenn erforderlich"]
["Satz 4",null,null,null,null,null,null,null,null,"Satz 4",null,null,null,null,null,null,null,null,"Satz 4"]
["wenn erforderlich",null,null,null,null,null,null,null,null,"wenn erforderlich",null,null,null,null,null,null,null,null,"wenn erforderlich"]
["Satz 5",null,null,null,null,null,null,null,null,"Satz 5",null,null,null,null,null,null,null,null,"Satz 5"]
["wenn erforderlich",null,null,null,null,null,null,null,null,"wenn erforderlich",null,null,null,null,null,null,null,null,"wenn erforderlich"]
["Stechen",null,null,null,null,null,null,null,null,"Stechen",null,null,null,null,null,null,null,null,"Stechen"]
[null,null,null,null,null,"gewonnen",null,null,null,null,null,null,null,null,"gewonnen",null,null,null,null,null,null,null,null,"gewonnen"]
["Schütze:",null,null,null,null,"verloren",null,null,null,"Schütze:",null,null,null,null,"verloren",null,null,null,"Schütze:",null,null,null,null,"verloren"]
[]
["Gegner:",null,"Name:",null,null,null,null,null,null,"Gegner:",null,"Name:",null,null,null,null,null,null,"Gegner:",null,"Name:"]
[null,null,"Unterschrift:",null,null,null,null,null,null,null,null,"Unterschrift:",null,null,null,null,null,null,null,null,"Unterschrift:"]
[]
[]
[null,null,null,null,null,null,null,null,null,"1/16 Elimination",null,null,null,{"$f":"'R32_Baum'!$D$81","v":"Scheibe: 5B"},null,null,null,null,"1/8 Elimination",null,null,null,{"$f":"'R32_Baum'!$I$76","v":"Scheibe: 3A"}]
[null,null,null,null,null,null,null,null,null,null,1,2,3,"Summe","Punkte","Ges.",null,null,null,1,2,3,"Summe","Punkte","Ges."]
[{"$f":"Select!$C$12","v":"Demoturnier"},null,null,null,null,null,null,null,null,"Satz 1",null,null,null,null,null,null,null,null,"Satz 1"]
["Veranstaltung",null,null,null,null,null,null,null,null,"Satz 2",null,null,null,null,null,null,null,null,"Satz 2"]
[{"$f":"Select!$C$13","v":"1. April 2019"},null,null,null,null,null,null,null,null,"Satz 3",null,null,null,null,null,null,null,null,"Satz 3"]
["Datum",null,null,null,null,null,null,null,null,"wenn erforderlich",null,null,null,null,null,null,null,null,"wenn erforderlich"]
[null,null,null,null,null,null,null,null,null,"Satz 4",null,null,null,null,null,null,null,null,"Satz 4"]
[null,null,null,null,null,null,null,null,null,"wenn erforderlich",null,null,null,null,null,null,null,null,"wenn erforderlich"]
[{"$f":"'R32_Baum'!$D$20","v":"Eberle Roland"},null,null,null,null,null,null,null,null,"Satz 5",null,null,null,null,null,null,null,null,"Satz 5"]
["Name",null,null,null,null,null,null,null,null,"wenn erforderlich",null,null,null,null,null,null,null,null,"wenn erforderlich"]
[{"$f":"'R32_Baum'!$F$20","v":"Austrian Free Archer"},null,null,null,null,null,null,null,null,"Stechen",null,null,null,null,null,null,null,null,"Stechen"]
["Verein",null,null,null,null,null,null,null,null,null,null,null,null,null,"gewonnen",null,null,null,null,null,null,null,null,"gewonnen"]
[{"$f":"Select!$C$18","v":"Recurve Herren"},null,null,null,null,null,null,null,null,"Schütze:",null,null,null,null,"verloren",null,null,null,"Schütze:",null,null,null,null,"verloren"]
["Bogenklasse"]
[null,null,null,null,null,null,null,null,null,"Gegner:",null,"Name:",{"$f":"'R32_Baum'!D19","v":"Höllwirth Andreas"},null,null,null,null,null,"Gegner:",null,"Name:"]
[null,null,null,null,null,null,null,null,null,null,null,"Unterschrift:",null,null,null,null,null,null,null,null,"Unterschrift:"]
[]
[]
["1/4 Finale",null,null,null,{"$f":"'R32_Baum'!$M$74","v":"Scheibe: 2A"},null,null,null,null,"1/2 Finale",null,null,null,{"$f":"'R32_Baum'!$Q$73","v":"Scheibe: 2"},null,null,null,null,"1./2. od. 3./4. Platz",null,null,null,"Scheibe:"]
[null,1,2,3,"Summe","Punkte","Ges.",null,null,null,1,2,3,"Summe","Punkte","Ges.",null,null,null,1,2,3,"Summe","Punkte","Ges."]
["Satz 1",null,null,null,null,null,null,null,null,"Satz 1",null,null,null,null,null,null,null,null,"Satz 1"]
["Satz 2",null,null,null,null,null,null,null,null,"Satz 2",null,null,null,null,null,null,null,null,"Satz 2"]
["Satz 3",null,null,null,null,null,null,null,null,"Satz 3",null,null,null,null,null,null,null,null,"Satz 3"]
["wenn erforderlich",null,null,null,null,null,null,null,null,"wenn erforderlich",null,null,null,null,null,null,null,null,"wenn erforderlich"]
["Satz 4",null,null,null,null,null,null,null,null,"Satz 4",null,null,null,null,null,null,null,null,"Satz 4"]
["wenn erforderlich",null,null,null,null,null,null,null,null,"wenn erforderlich",null,null,null,null,null,null,null,null,"wenn erforderlich"]
["Satz 5",null,null,null,null,null,null,null,null,"Satz 5",null,null,null,null,null,null,null,null,"Satz 5"]
["wenn erforderlich",null,null,null,null,null,null,null,null,"wenn erforderlich",null,null,null,null,null,null,null,null,"wenn erforderlich"]
["Stechen",null,null,null,null,null,null,null,null,"Stechen",null,null,null,null,null,null,null,null,"Stechen"]
[null,null,null,null,null,"gewonnen",null,null,null,null,null,null,null,null,"gewonnen",null,null,null,null,null,null,null,null,"gewonnen"]
["Schütze:",null,null,null,null,"verloren",null,null,null,"Schütze:",null,null,null,null,"verloren",null,null,null,"Schütze:",null,null,null,null,"verloren"]
[]
["Gegner:",null,"Name:",null,null,null,null,null,null,"Gegner:",null,"Name:",null,null,null,null,null,null,"Gegner:",null,"Name:"]
[null,null,"Unterschrift:",null,null,null,null,null,null,null,null,"Unterschrift:",null,null,null,null,null,null,null,null,"Unterschrift:"]
[]
[]
[null,null,null,null,null,null,null,null,null,"1/16 Elimination",null,null,null,{"$f":"'R32_Baum'!$D$82","v":"Scheibe: 6A"},null,null,null,null,"1/8 Elimination",null,null,null,{"$f":"'R32_Baum'!$I$77","v":"Scheibe: 3B"}]
[null,null,null,null,null,null,null,null,null,null,1,2,3,"Summe","Punkte","Ges.",null,null,null,1,2,3,"Summe","Punkte","Ges."]
[{"$f":"Select!$C$12","v":"Demoturnier"},null,null,null,null,null,null,null,null,"Satz 1",null,null,null,null,null,null,null,null,"Satz 1"]
["Veranstaltung",null,null,null,null,null,null,null,null,"Satz 2",null,null,null,null,null,null,null,null,"Satz 2"]
[{"$f":"Select!$C$13","v":"1. April 2019"},null,null,null,null,null,null,null,null,"Satz 3",null,null,null,null,null,null,null,null,"Satz 3"]
["Datum",null,null,null,null,null,null,null,null,"wenn erforderlich",null,null,null,null,null,null,null,null,"wenn erforderlich"]
[null,null,null,null,null,null,null,null,null,"Satz 4",null,null,null,null,null,null,null,null,"Satz 4"]
[null,null,null,null,null,null,null,null,null,"wenn erforderlich",null,null,null,null,null,null,null,null,"wenn erforderlich"]
[{"$f":"'R32_Baum'!$D$23","v":"Pupetschek Manfred"},null,null,null,null,null,null,null,null,"Satz 5",null,null,null,null,null,null,null,null,"Satz 5"]
["Name",null,null,null,null,null,null,null,null,"wenn erforderlich",null,null,null,null,null,null,null,null,"wenn erforderlich"]
[{"$f":"'R32_Baum'!$F$23","v":"IHG Sektion Bogen"},null,null,null,null,null,null,null,null,"Stechen",null,null,null,null,null,null,null,null,"Stechen"]
["Verein",null,null,null,null,null,null,null,null,null,null,null,null,null,"gewonnen",null,null,null,null,null,null,null,null,"gewonnen"]
[{"$f":"Select!$C$18","v":"Recurve Herren"},null,null,null,null,null,null,null,null,"Schütze:",null,null,null,null,"verloren",null,null,null,"Schütze:",null,null,null,null,"verloren"]
["Bogenklasse"]
[null,null,null,null,null,null,null,null,null,"Gegner:",null,"Name:",{"$f":"'R32_Baum'!D24","v":"Bauer Helfried"},null,null,null,null,null,"Gegner:",null,"Name:"]
[null,null,null,null,null,null,null,null,null,null,null,"Unterschrift:",null,null,null,null,null,null,null,null,"Unterschrift:"]
[]
[]
["1/4 Finale",null,null,null,{"$f":"'R32_Baum'!$M$74","v":"Scheibe: 2A"},null,null,null,null,"1/2 Finale",null,null,null,{"$f":"'R32_Baum'!$Q$73","v":"Scheibe: 2"},null,null,null,null,"1./2. od. 3./4. Platz",null,null,null,"Scheibe:"]
[null,1,2,3,"Summe","Punkte","Ges.",null,null,null,1,2,3,"Summe","Punkte","Ges.",null,null,null,1,2,3,"Summe","Punkte","Ges."]
["Satz 1",null,null,null,null,null,null,null,null,"Satz 1",null,null,null,null,null,null,null,null,"Satz 1"]
["Satz 2",null,null,null,null,null,null,null,null,"Satz 2",null,null,null,null,null,null,null,null,"Satz 2"]
["Satz 3",null,null,null,null,null,null,null,null,"Satz 3",null,null,null,null,null,null,null,null,"Satz 3"]
["wenn erforderlich",null,null,null,null,null,null,null,null,"wenn erforderlich",null,null,null,null,null,null,null,null,"wenn erforderlich"]
["Satz 4",null,null,null,null,null,null,null,null,"Satz 4",null,null,null,null,null,null,null,null,"Satz 4"]
["wenn erforderlich",null,null,null,null,null,null,null,null,"wenn erforderlich",null,null,null,null,null,null,null,null,"wenn erforderlich"]
["Satz 5",null,null,null,null,null,null,null,null,"Satz 5",null,null,null,null,null,null,null,null,"Satz 5"]
["wenn erforderlich",null,null,null,null,null,null,null,null,"wenn erforderlich",null,null,null,null,null,null,null,null,"wenn erforderlich"]
["Stechen",null,null,null,null,null,null,null,null,"Stechen",null,null,null,null,null,null,null,null,"Stechen"]
[null,null,null,null,null,"gewonnen",null,null,null,null,null,null,null,null,"gewonnen",null,null,null,null,null,null,null,null,"gewonnen"]
["Schütze:",null,null,null,null,"verloren",null,null,null,"Schütze:",null,null,null,null,"verloren",null,null,null,"Schütze:",null,null,null,null,"verloren"]
[]
["Gegner:",null,"Name:",null,null,null,null,null,null,"Gegner:",null,"Name:",null,null,null,null,null,null,"Gegner:",null,"Name:"]
[null,null,"Unterschrift:",null,null,null,null,null,null,null,null,"Unterschrift:",null,null,null,null,null,null,null,null,"Unterschrift:"]
[]
[]
[null,null,null,null,null,null,null,null,null,"1/16 Elimination",null,null,null,{"$f":"'R32_Baum'!$D$83","v":"Scheibe: 6B"},null,null,null,null,"1/8 Elimination",null,null,null,{"$f":"'R32_Baum'!$I$77","v":"Scheibe: 3B"}]
[null,null,null,null,null,null,null,null,null,null,1,2,3,"Summe","Punkte","Ges.",null,null,null,1,2,3,"Summe","Punkte","Ges."]
[{"$f":"Select!$C$12","v":"Demoturnier"},null,null,null,null,null,null,null,null,"Satz 1",null,null,null,null,null,null,null,null,"Satz 1"]
["Veranstaltung",null,null,null,null,null,null,null,null,"Satz 2",null,null,null,null,null,null,null,null,"Satz 2"]
[{"$f":"Select!$C$13","v":"1. April 2019"},null,null,null,null,null,null,null,null,"Satz 3",null,null,null,null,null,null,null,null,"Satz 3"]
["Datum",null,null,null,null,null,null,null,null,"wenn erforderlich",null,null,null,null,null,null,null,null,"wenn erforderlich"]
[null,null,null,null,null,null,null,null,null,"Satz 4",null,null,null,null,null,null,null,null,"Satz 4"]
[null,null,null,null,null,null,null,null,null,"wenn erforderlich",null,null,null,null,null,null,null,null,"wenn erforderlich"]
[{"$f":"'R32_Baum'!$D$24","v":"Bauer Helfried"},null,null,null,null,null,null,null,null,"Satz 5",null,null,null,null,null,null,null,null,"Satz 5"]
["Name",null,null,null,null,null,null,null,null,"wenn erforderlich",null,null,null,null,null,null,null,null,"wenn erforderlich"]
[{"$f":"'R32_Baum'!$F$24","v":"Austrian Free Archer"},null,null,null,null,null,null,null,null,"Stechen",null,null,null,null,null,null,null,null,"Stechen"]
["Verein",null,null,null,null,null,null,null,null,null,null,null,null,null,"gewonnen",null,null,null,null,null,null,null,null,"gewonnen"]
[{"$f":"Select!$C$18","v":"Recurve Herren"},null,null,null,null,null,null,null,null,"Schütze:",null,null,null,null,"verloren",null,null,null,"Schütze:",null,null,null,null,"verloren"]
["Bogenklasse"]
[null,null,null,null,null,null,null,null,null,"Gegner:",null,"Name:",{"$f":"'R32_Baum'!D23","v":"Pupetschek Manfred"},null,null,null,null,null,"Gegner:",null,"Name:"]
[null,null,null,null,null,null,null,null,null,null,null,"Unterschrift:",null,null,null,null,null,null,null,null,"Unterschrift:"]
[]
[]
["1/4 Finale",null,null,null,{"$f":"'R32_Baum'!$M$74","v":"Scheibe: 2A"},null,null,null,null,"1/2 Finale",null,null,null,{"$f":"'R32_Baum'!$Q$73","v":"Scheibe: 2"},null,null,null,null,"1./2. od. 3./4. Platz",null,null,null,"Scheibe:"]
[null,1,2,3,"Summe","Punkte","Ges.",null,null,null,1,2,3,"Summe","Punkte","Ges.",null,null,null,1,2,3,"Summe","Punkte","Ges."]
["Satz 1",null,null,null,null,null,null,null,null,"Satz 1",null,null,null,null,null,null,null,null,"Satz 1"]
["Satz 2",null,null,null,null,null,null,null,null,"Satz 2",null,null,null,null,null,null,null,null,"Satz 2"]
["Satz 3",null,null,null,null,null,null,null,null,"Satz 3",null,null,null,null,null,null,null,null,"Satz 3"]
["wenn erforderlich",null,null,null,null,null,null,null,null,"wenn erforderlich",null,null,null,null,null,null,null,null,"wenn erforderlich"]
["Satz 4",null,null,null,null,null,null,null,null,"Satz 4",null,null,null,null,null,null,null,null,"Satz 4"]
["wenn erforderlich",null,null,null,null,null,null,null,null,"wenn erforderlich",null,null,null,null,null,null,null,null,"wenn erforderlich"]
["Satz 5",null,null,null,null,null,null,null,null,"Satz 5",null,null,null,null,null,null,null,null,"Satz 5"]
["wenn erforderlich",null,null,null,null,null,null,null,null,"wenn erforderlich",null,null,null,null,null,null,null,null,"wenn erforderlich"]
["Stechen",null,null,null,null,null,null,null,null,"Stechen",null,null,null,null,null,null,null,null,"Stechen"]
[null,null,null,null,null,"gewonnen",null,null,null,null,null,null,null,null,"gewonnen",null,null,null,null,null,null,null,null,"gewonnen"]
["Schütze:",null,null,null,null,"verloren",null,null,null,"Schütze:",null,null,null,null,"verloren",null,null,null,"Schütze:",null,null,null,null,"verloren"]
[]
["Gegner:",null,"Name:",null,null,null,null,null,null,"Gegner:",null,"Name:",null,null,null,null,null,null,"Gegner:",null,"Name:"]
[null,null,"Unterschrift:",null,null,null,null,null,null,null,null,"Unterschrift:",null,null,null,null,null,null,null,null,"Unterschrift:"]
[]
[]
[null,null,null,null,null,null,null,null,null,"1/16 Elimination",null,null,null,{"$f":"'R32_Baum'!$D$84","v":"Scheibe: 7A"},null,null,null,null,"1/8 Elimination",null,null,null,{"$f":"'R32_Baum'!$I$78","v":"Scheibe: 4A"}]
[null,null,null,null,null,null,null,null,null,null,1,2,3,"Summe","Punkte","Ges.",null,null,null,1,2,3,"Summe","Punkte","Ges."]
[{"$f":"Select!$C$12","v":"Demoturnier"},null,null,null,null,null,null,null,null,"Satz 1",null,null,null,null,null,null,null,null,"Satz 1"]
["Veranstaltung",null,null,null,null,null,null,null,null,"Satz 2",null,null,null,null,null,null,null,null,"Satz 2"]
[{"$f":"Select!$C$13","v":"1. April 2019"},null,null,null,null,null,null,null,null,"Satz 3",null,null,null,null,null,null,null,null,"Satz 3"]
["Datum",null,null,null,null,null,null,null,null,"wenn erforderlich",null,null,null,null,null,null,null,null,"wenn erforderlich"]
[null,null,null,null,null,null,null,null,null,"Satz 4",null,null,null,null,null,null,null,null,"Satz 4"]
[null,null,null,null,null,null,null,null,null,"wenn erforderlich",null,null,null,null,null,null,null,null,"wenn erforderlich"]
[{"$f":"'R32_Baum'!$D$27","v":"Jandl Ernst"},null,null,null,null,null,null,null,null,"Satz 5",null,null,null,null,null,null,null,null,"Satz 5"]
["Name",null,null,null,null,null,null,null,null,"wenn erforderlich",null,null,null,null,null,null,null,null,"wenn erforderlich"]
[{"$f":"'R32_Baum'!$F$27","v":"PSV Burgenland - Sektion Bogen"},null,null,null,null,null,null,null,null,"Stechen",null,null,null,null,null,null,null,null,"Stechen"]
["Verein",null,null,null,null,null,null,null,null,null,null,null,null,null,"gewonnen",null,null,null,null,null,null,null,null,"gewonnen"]
[{"$f":"Select!$C$18","v":"Recurve Herren"},null,null,null,null,null,null,null,null,"Schütze:",null,null,null,null,"verloren",null,null,null,"Schütze:",null,null,null,null,"verloren"]
["Bogenklasse"]
[null,null,null,null,null,null,null,null,null,"Gegner:",null,"Name:",{"$f":"'R32_Baum'!D28","v":"Stiftner Alfred"},null,null,null,null,null,"Gegner:",null,"Name:"]
[null,null,null,null,null,null,null,null,null,null,null,"Unterschrift:",null,null,null,null,null,null,null,null,"Unterschrift:"]
[]
[]
["1/4 Finale",null,null,null,{"$f":"'R32_Baum'!$M$75","v":"Scheibe: 2B"},null,null,null,null,"1/2 Finale",null,null,null,{"$f":"'R32_Baum'!$Q$73","v":"Scheibe: 2"},null,null,null,null,"1./2. od. 3./4. Platz",null,null,null,"Scheibe:"]
[null,1,2,3,"Summe","Punkte","Ges.",null,null,null,1,2,3,"Summe","Punkte","Ges.",null,null,null,1,2,3,"Summe","Punkte","Ges."]
["Satz 1",null,null,null,null,null,null,null,null,"Satz 1",null,null,null,null,null,null,null,null,"Satz 1"]
["Satz 2",null,null,null,null,null,null,null,null,"Satz 2",null,null,null,null,null,null,null,null,"Satz 2"]
["Satz 3",null,null,null,null,null,null,null,null,"Satz 3",null,null,null,null,null,null,null,null,"Satz 3"]
["wenn erforderlich",null,null,null,null,null,null,null,null,"wenn erforderlich",null,null,null,null,null,null,null,null,"wenn erforderlich"]
["Satz 4",null,null,null,null,null,null,null,null,"Satz 4",null,null,null,null,null,null,null,null,"Satz 4"]
["wenn erforderlich",null,null,null,null,null,null,null,null,"wenn erforderlich",null,null,null,null,null,null,null,null,"wenn erforderlich"]
["Satz 5",null,null,null,null,null,null,null,null,"Satz 5",null,null,null,null,null,null,null,null,"Satz 5"]
["wenn erforderlich",null,null,null,null,null,null,null,null,"wenn erforderlich",null,null,null,null,null,null,null,null,"wenn erforderlich"]
["Stechen",null,null,null,null,null,null,null,null,"Stechen",null,null,null,null,null,null,null,null,"Stechen"]
[null,null,null,null,null,"gewonnen",null,null,null,null,null,null,null,null,"gewonnen",null,null,null,null,null,null,null,null,"gewonnen"]
["Schütze:",null,null,null,null,"verloren",null,null,null,"Schütze:",null,null,null,null,"verloren",null,null,null,"Schütze:",null,null,null,null,"verloren"]
[]
["Gegner:",null,"Name:",null,null,null,null,null,null,"Gegner:",null,"Name:",null,null,null,null,null,null,"Gegner:",null,"Name:"]
[null,null,"Unterschrift:",null,null,null,null,null,null,null,null,"Unterschrift:",null,null,null,null,null,null,null,null,"Unterschrift:"]
[]
[]
[null,null,null,null,null,null,null,null,null,"1/16 Elimination",null,null,null,{"$f":"'R32_Baum'!$D$85","v":"Scheibe: 7B"},null,null,null,null,"1/8 Elimination",null,null,null,{"$f":"'R32_Baum'!$I$78","v":"Scheibe: 4A"}]
[null,null,null,null,null,null,null,null,null,null,1,2,3,"Summe","Punkte","Ges.",null,null,null,1,2,3,"Summe","Punkte","Ges."]
[{"$f":"Select!$C$12","v":"Demoturnier"},null,null,null,null,null,null,null,null,"Satz 1",null,null,null,null,null,null,null,null,"Satz 1"]
["Veranstaltung",null,null,null,null,null,null,null,null,"Satz 2",null,null,null,null,null,null,null,null,"Satz 2"]
[{"$f":"Select!$C$13","v":"1. April 2019"},null,null,null,null,null,null,null,null,"Satz 3",null,null,null,null,null,null,null,null,"Satz 3"]
["Datum",null,null,null,null,null,null,null,null,"wenn erforderlich",null,null,null,null,null,null,null,null,"wenn erforderlich"]
[null,null,null,null,null,null,null,null,null,"Satz 4",null,null,null,null,null,null,null,null,"Satz 4"]
[null,null,null,null,null,null,null,null,null,"wenn erforderlich",null,null,null,null,null,null,null,null,"wenn erforderlich"]
[{"$f":"'R32_Baum'!$D$28","v":"Stiftner Alfred"},null,null,null,null,null,null,null,null,"Satz 5",null,null,null,null,null,null,null,null,"Satz 5"]
["Name",null,null,null,null,null,null,null,null,"wenn erforderlich",null,null,null,null,null,null,null,null,"wenn erforderlich"]
[{"$f":"'R32_Baum'!$F$28","v":"BC Kronstorf"},null,null,null,null,null,null,null,null,"Stechen",null,null,null,null,null,null,null,null,"Stechen"]
["Verein",null,null,null,null,null,null,null,null,null,null,null,null,null,"gewonnen",null,null,null,null,null,null,null,null,"gewonnen"]
[{"$f":"Select!$C$18","v":"Recurve Herren"},null,null,null,null,null,null,null,null,"Schütze:",null,null,null,null,"verloren",null,null,null,"Schütze:",null,null,null,null,"verloren"]
["Bogenklasse"]
[null,null,null,null,null,null,null,null,null,"Gegner:",null,"Name:",{"$f":"'R32_Baum'!D27","v":"Jandl Ernst"},null,null,null,null,null,"Gegner:",null,"Name:"]
[null,null,null,null,null,null,null,null,null,null,null,"Unterschrift:",null,null,null,null,null,null,null,null,"Unterschrift:"]
[]
[]
["1/4 Finale",null,null,null,{"$f":"'R32_Baum'!$M$75","v":"Scheibe: 2B"},null,null,null,null,"1/2 Finale",null,null,null,{"$f":"'R32_Baum'!$Q$73","v":"Scheibe: 2"},null,null,null,null,"1./2. od. 3./4. Platz",null,null,null,"Scheibe:"]
[null,1,2,3,"Summe","Punkte","Ges.",null,null,null,1,2,3,"Summe","Punkte","Ges.",null,null,null,1,2,3,"Summe","Punkte","Ges."]
["Satz 1",null,null,null,null,null,null,null,null,"Satz 1",null,null,null,null,null,null,null,null,"Satz 1"]
["Satz 2",null,null,null,null,null,null,null,null,"Satz 2",null,null,null,null,null,null,null,null,"Satz 2"]
["Satz 3",null,null,null,null,null,null,null,null,"Satz 3",null,null,null,null,null,null,null,null,"Satz 3"]
["wenn erforderlich",null,null,null,null,null,null,null,null,"wenn erforderlich",null,null,null,null,null,null,null,null,"wenn erforderlich"]
["Satz 4",null,null,null,null,null,null,null,null,"Satz 4",null,null,null,null,null,null,null,null,"Satz 4"]
["wenn erforderlich",null,null,null,null,null,null,null,null,"wenn erforderlich",null,null,null,null,null,null,null,null,"wenn erforderlich"]
["Satz 5",null,null,null,null,null,null,null,null,"Satz 5",null,null,null,null,null,null,null,null,"Satz 5"]
["wenn erforderlich",null,null,null,null,null,null,null,null,"wenn erforderlich",null,null,null,null,null,null,null,null,"wenn erforderlich"]
["Stechen",null,null,null,null,null,null,null,null,"Stechen",null,null,null,null,null,null,null,null,"Stechen"]
[null,null,null,null,null,"gewonnen",null,null,null,null,null,null,null,null,"gewonnen",null,null,null,null,null,null,null,null,"gewonnen"]
["Schütze:",null,null,null,null,"verloren",null,null,null,"Schütze:",null,null,null,null,"verloren",null,null,null,"Schütze:",null,null,null,null,"verloren"]
[]
["Gegner:",null,"Name:",null,null,null,null,null,null,"Gegner:",null,"Name:",null,null,null,null,null,null,"Gegner:",null,"Name:"]
[null,null,"Unterschrift:",null,null,null,null,null,null,null,null,"Unterschrift:",null,null,null,null,null,null,null,null,"Unterschrift:"]
[]
[]
[null,null,null,null,null,null,null,null,null,"1/16 Elimination",null,null,null,{"$f":"'R32_Baum'!$D$86","v":"Scheibe: 8A"},null,null,null,null,"1/8 Elimination",null,null,null,{"$f":"'R32_Baum'!$I$79","v":"Scheibe: 4B"}]
[null,null,null,null,null,null,null,null,null,null,1,2,3,"Summe","Punkte","Ges.",null,null,null,1,2,3,"Summe","Punkte","Ges."]
[{"$f":"Select!$C$12","v":"Demoturnier"},null,null,null,null,null,null,null,null,"Satz 1",null,null,null,null,null,null,null,null,"Satz 1"]
["Veranstaltung",null,null,null,null,null,null,null,null,"Satz 2",null,null,null,null,null,null,null,null,"Satz 2"]
[{"$f":"Select!$C$13","v":"1. April 2019"},null,null,null,null,null,null,null,null,"Satz 3",null,null,null,null,null,null,null,null,"Satz 3"]
["Datum",null,null,null,null,null,null,null,null,"wenn erforderlich",null,null,null,null,null,null,null,null,"wenn erforderlich"]
[null,null,null,null,null,null,null,null,null,"Satz 4",null,null,null,null,null,null,null,null,"Satz 4"]
[null,null,null,null,null,null,null,null,null,"wenn erforderlich",null,null,null,null,null,null,null,null,"wenn erforderlich"]
[{"$f":"'R32_Baum'!$D$31","v":"Simmer Gerhard"},null,null,null,null,null,null,null,null,"Satz 5",null,null,null,null,null,null,null,null,"Satz 5"]
["Name",null,null,null,null,null,null,null,null,"wenn erforderlich",null,null,null,null,null,null,null,null,"wenn erforderlich"]
[{"$f":"'R32_Baum'!$F$31","v":"Union Bogensport Haag"},null,null,null,null,null,null,null,null,"Stechen",null,null,null,null,null,null,null,null,"Stechen"]
["Verein",null,null,null,null,null,null,null,null,null,null,null,null,null,"gewonnen",null,null,null,null,null,null,null,null,"gewonnen"]
[{"$f":"Select!$C$18","v":"Recurve Herren"},null,null,null,null,null,null,null,null,"Schütze:",null,null,null,null,"verloren",null,null,null,"Schütze:",null,null,null,null,"verloren"]
["Bogenklasse"]
[null,null,null,null,null,null,null,null,null,"Gegner:",null,"Name:",{"$f":"'R32_Baum'!D32","v":"Krempl Werner"},null,null,null,null,null,"Gegner:",null,"Name:"]
[null,null,null,null,null,null,null,null,null,null,null,"Unterschrift:",null,null,null,null,null,null,null,null,"Unterschrift:"]
[]
[]
["1/4 Finale",null,null,null,{"$f":"'R32_Baum'!$M$75","v":"Scheibe: 2B"},null,null,null,null,"1/2 Finale",null,null,null,{"$f":"'R32_Baum'!$Q$73","v":"Scheibe: 2"},null,null,null,null,"1./2. od. 3./4. Platz",null,null,null,"Scheibe:"]
[null,1,2,3,"Summe","Punkte","Ges.",null,null,null,1,2,3,"Summe","Punkte","Ges.",null,null,null,1,2,3,"Summe","Punkte","Ges."]
["Satz 1",null,null,null,null,null,null,null,null,"Satz 1",null,null,null,null,null,null,null,null,"Satz 1"]
["Satz 2",null,null,null,null,null,null,null,null,"Satz 2",null,null,null,null,null,null,null,null,"Satz 2"]
["Satz 3",null,null,null,null,null,null,null,null,"Satz 3",null,null,null,null,null,null,null,null,"Satz 3"]
["wenn erforderlich",null,null,null,null,null,null,null,null,"wenn erforderlich",null,null,null,null,null,null,null,null,"wenn erforderlich"]
["Satz 4",null,null,null,null,null,null,null,null,"Satz 4",null,null,null,null,null,null,null,null,"Satz 4"]
["wenn erforderlich",null,null,null,null,null,null,null,null,"wenn erforderlich",null,null,null,null,null,null,null,null,"wenn erforderlich"]
["Satz 5",null,null,null,null,null,null,null,null,"Satz 5",null,null,null,null,null,null,null,null,"Satz 5"]
["wenn erforderlich",null,null,null,null,null,null,null,null,"wenn erforderlich",null,null,null,null,null,null,null,null,"wenn erforderlich"]
["Stechen",null,null,null,null,null,null,null,null,"Stechen",null,null,null,null,null,null,null,null,"Stechen"]
[null,null,null,null,null,"gewonnen",null,null,null,null,null,null,null,null,"gewonnen",null,null,null,null,null,null,null,null,"gewonnen"]
["Schütze:",null,null,null,null,"verloren",null,null,null,"Schütze:",null,null,null,null,"verloren",null,null,null,"Schütze:",null,null,null,null,"verloren"]
[]
["Gegner:",null,"Name:",null,null,null,null,null,null,"Gegner:",null,"Name:",null,null,null,null,null,null,"Gegner:",null,"Name:"]
[null,null,"Unterschrift:",null,null,null,null,null,null,null,null,"Unterschrift:",null,null,null,null,null,null,null,null,"Unterschrift:"]
[]
[]
[null,null,null,null,null,null,null,null,null,"1/16 Elimination",null,null,null,{"$f":"'R32_Baum'!$D$87","v":"Scheibe: 8B"},null,null,null,null,"1/8 Elimination",null,null,null,{"$f":"'R32_Baum'!$I$79","v":"Scheibe: 4B"}]
[null,null,null,null,null,null,null,null,null,null,1,2,3,"Summe","Punkte","Ges.",null,null,null,1,2,3,"Summe","Punkte","Ges."]
[{"$f":"Select!$C$12","v":"Demoturnier"},null,null,null,null,null,null,null,null,"Satz 1",null,null,null,null,null,null,null,null,"Satz 1"]
["Veranstaltung",null,null,null,null,null,null,null,null,"Satz 2",null,null,null,null,null,null,null,null,"Satz 2"]
[{"$f":"Select!$C$13","v":"1. April 2019"},null,null,null,null,null,null,null,null,"Satz 3",null,null,null,null,null,null,null,null,"Satz 3"]
["Datum",null,null,null,null,null,null,null,null,"wenn erforderlich",null,null,null,null,null,null,null,null,"wenn erforderlich"]
[null,null,null,null,null,null,null,null,null,"Satz 4",null,null,null,null,null,null,null,null,"Satz 4"]
[null,null,null,null,null,null,null,null,null,"wenn erforderlich",null,null,null,null,null,null,null,null,"wenn erforderlich"]
[{"$f":"'R32_Baum'!$D$32","v":"Krempl Werner"},null,null,null,null,null,null,null,null,"Satz 5",null,null,null,null,null,null,null,null,"Satz 5"]
["Name",null,null,null,null,null,null,null,null,"wenn erforderlich",null,null,null,null,null,null,null,null,"wenn erforderlich"]
[{"$f":"'R32_Baum'!$F$32","v":"BSC Semriach"},null,null,null,null,null,null,null,null,"Stechen",null,null,null,null,null,null,null,null,"Stechen"]
["Verein",null,null,null,null,null,null,null,null,null,null,null,null,null,"gewonnen",null,null,null,null,null,null,null,null,"gewonnen"]
[{"$f":"Select!$C$18","v":"Recurve Herren"},null,null,null,null,null,null,null,null,"Schütze:",null,null,null,null,"verloren",null,null,null,"Schütze:",null,null,null,null,"verloren"]
["Bogenklasse"]
[null,null,null,null,null,null,null,null,null,"Gegner:",null,"Name:",{"$f":"'R32_Baum'!D31","v":"Simmer Gerhard"},null,null,null,null,null,"Gegner:",null,"Name:"]
[null,null,null,null,null,null,null,null,null,null,null,"Unterschrift:",null,null,null,null,null,null,null,null,"Unterschrift:"]
[]
[]
["1/4 Finale",null,null,null,{"$f":"'R32_Baum'!$M$75","v":"Scheibe: 2B"},null,null,null,null,"1/2 Finale",null,null,null,{"$f":"'R32_Baum'!$Q$73","v":"Scheibe: 2"},null,null,null,null,"1./2. od. 3./4. Platz",null,null,null,"Scheibe:"]
[null,1,2,3,"Summe","Punkte","Ges.",null,null,null,1,2,3,"Summe","Punkte","Ges.",null,null,null,1,2,3,"Summe","Punkte","Ges."]
["Satz 1",null,null,null,null,null,null,null,null,"Satz 1",null,null,null,null,null,null,null,null,"Satz 1"]
["Satz 2",null,null,null,null,null,null,null,null,"Satz 2",null,null,null,null,null,null,null,null,"Satz 2"]
["Satz 3",null,null,null,null,null,null,null,null,"Satz 3",null,null,null,null,null,null,null,null,"Satz 3"]
["wenn erforderlich",null,null,null,null,null,null,null,null,"wenn erforderlich",null,null,null,null,null,null,null,null,"wenn erforderlich"]
["Satz 4",null,null,null,null,null,null,null,null,"Satz 4",null,null,null,null,null,null,null,null,"Satz 4"]
["wenn erforderlich",null,null,null,null,null,null,null,null,"wenn erforderlich",null,null,null,null,null,null,null,null,"wenn erforderlich"]
["Satz 5",null,null,null,null,null,null,null,null,"Satz 5",null,null,null,null,null,null,null,null,"Satz 5"]
["wenn erforderlich",null,null,null,null,null,null,null,null,"wenn erforderlich",null,null,null,null,null,null,null,null,"wenn erforderlich"]
["Stechen",null,null,null,null,null,null,null,null,"Stechen",null,null,null,null,null,null,null,null,"Stechen"]
[null,null,null,null,null,"gewonnen",null,null,null,null,null,null,null,null,"gewonnen",null,null,null,null,null,null,null,null,"gewonnen"]
["Schütze:",null,null,null,null,"verloren",null,null,null,"Schütze:",null,null,null,null,"verloren",null,null,null,"Schütze:",null,null,null,null,"verloren"]
[]
["Gegner:",null,"Name:",null,null,null,null,null,null,"Gegner:",null,"Name:",null,null,null,null,null,null,"Gegner:",null,"Name:"]
[null,null,"Unterschrift:",null,null,null,null,null,null,null,null,"Unterschrift:",null,null,null,null,null,null,null,null,"Unterschrift:"]
[]
[]
[null,null,null,null,null,null,null,null,null,"1/16 Elimination",null,null,null,{"$f":"'R32_Baum'!$D$88","v":"Scheibe: 9A"},null,null,null,null,"1/8 Elimination",null,null,null,{"$f":"'R32_Baum'!$I$80","v":"Scheibe: 5A"}]
[null,null,null,null,null,null,null,null,null,null,1,2,3,"Summe","Punkte","Ges.",null,null,null,1,2,3,"Summe","Punkte","Ges."]
[{"$f":"Select!$C$12","v":"Demoturnier"},null,null,null,null,null,null,null,null,"Satz 1",null,null,null,null,null,null,null,null,"Satz 1"]
["Veranstaltung",null,null,null,null,null,null,null,null,"Satz 2",null,null,null,null,null,null,null,null,"Satz 2"]
[{"$f":"Select!$C$13","v":"1. April 2019"},null,null,null,null,null,null,null,null,"Satz 3",null,null,null,null,null,null,null,null,"Satz 3"]
["Datum",null,null,null,null,null,null,null,null,"wenn erforderlich",null,null,null,null,null,null,null,null,"wenn erforderlich"]
[null,null,null,null,null,null,null,null,null,"Satz 4",null,null,null,null,null,null,null,null,"Satz 4"]
[null,null,null,null,null,null,null,null,null,"wenn erforderlich",null,null,null,null,null,null,null,null,"wenn erforderlich"]
[{"$f":"'R32_Baum'!$D$35","v":"Strohmaier Joachim"},null,null,null,null,null,null,null,null,"Satz 5",null,null,null,null,null,null,null,null,"Satz 5"]
["Name",null,null,null,null,null,null,null,null,"wenn erforderlich",null,null,null,null,null,null,null,null,"wenn erforderlich"]
[{"$f":"'R32_Baum'!$F$35","v":"BSC Kumberg"},null,null,null,null,null,null,null,null,"Stechen",null,null,null,null,null,null,null,null,"Stechen"]
["Verein",null,null,null,null,null,null,null,null,null,null,null,null,null,"gewonnen",null,null,null,null,null,null,null,null,"gewonnen"]
[{"$f":"Select!$C$18","v":"Recurve Herren"},null,null,null,null,null,null,null,null,"Schütze:",null,null,null,null,"verloren",null,null,null,"Schütze:",null,null,null,null,"verloren"]
["Bogenklasse"]
[null,null,null,null,null,null,null,null,null,"Gegner:",null,"Name:",{"$f":"'R32_Baum'!D36","v":"Lein Karl"},null,null,null,null,null,"Gegner:",null,"Name:"]
[null,null,null,null,null,null,null,null,null,null,null,"Unterschrift:",null,null,null,null,null,null,null,null,"Unterschrift:"]
[]
[]
["1/4 Finale",null,null,null,{"$f":"'R32_Baum'!$M$76","v":"Scheibe: 3A"},null,null,null,null,"1/2 Finale",null,null,null,{"$f":"'R32_Baum'!$Q$74","v":"Scheibe: 3"},null,null,null,null,"1./2. od. 3./4. Platz",null,null,null,"Scheibe:"]
[null,1,2,3,"Summe","Punkte","Ges.",null,null,null,1,2,3,"Summe","Punkte","Ges.",null,null,null,1,2,3,"Summe","Punkte","Ges."]
["Satz 1",null,null,null,null,null,null,null,null,"Satz 1",null,null,null,null,null,null,null,null,"Satz 1"]
["Satz 2",null,null,null,null,null,null,null,null,"Satz 2",null,null,null,null,null,null,null,null,"Satz 2"]
["Satz 3",null,null,null,null,null,null,null,null,"Satz 3",null,null,null,null,null,null,null,null,"Satz 3"]
["wenn erforderlich",null,null,null,null,null,null,null,null,"wenn erforderlich",null,null,null,null,null,null,null,null,"wenn erforderlich"]
["Satz 4",null,null,null,null,null,null,null,null,"Satz 4",null,null,null,null,null,null,null,null,"Satz 4"]
["wenn erforderlich",null,null,null,null,null,null,null,null,"wenn erforderlich",null,null,null,null,null,null,null,null,"wenn erforderlich"]
["Satz 5",null,null,null,null,null,null,null,null,"Satz 5",null,null,null,null,null,null,null,null,"Satz 5"]
["wenn erforderlich",null,null,null,null,null,null,null,null,"wenn erforderlich",null,null,null,null,null,null,null,null,"wenn erforderlich"]
["Stechen",null,null,null,null,null,null,null,null,"Stechen",null,null,null,null,null,null,null,null,"Stechen"]
[null,null,null,null,null,"gewonnen",null,null,null,null,null,null,null,null,"gewonnen",null,null,null,null,null,null,null,null,"gewonnen"]
["Schütze:",null,null,null,null,"verloren",null,null,null,"Schütze:",null,null,null,null,"verloren",null,null,null,"Schütze:",null,null,null,null,"verloren"]
[]
["Gegner:",null,"Name:",null,null,null,null,null,null,"Gegner:",null,"Name:",null,null,null,null,null,null,"Gegner:",null,"Name:"]
[null,null,"Unterschrift:",null,null,null,null,null,null,null,null,"Unterschrift:",null,null,null,null,null,null,null,null,"Unterschrift:"]
[]
[]
[null,null,null,null,null,null,null,null,null,"1/16 Elimination",null,null,null,{"$f":"'R32_Baum'!$D$89","v":"Scheibe: 9B"},null,null,null,null,"1/8 Elimination",null,null,null,{"$f":"'R32_Baum'!$I$80","v":"Scheibe: 5A"}]
[null,null,null,null,null,null,null,null,null,null,1,2,3,"Summe","Punkte","Ges.",null,null,null,1,2,3,"Summe","Punkte","Ges."]
[{"$f":"Select!$C$12","v":"Demoturnier"},null,null,null,null,null,null,null,null,"Satz 1",null,null,null,null,null,null,null,null,"Satz 1"]
["Veranstaltung",null,null,null,null,null,null,null,null,"Satz 2",null,null,null,null,null,null,null,null,"Satz 2"]
[{"$f":"Select!$C$13","v":"1. April 2019"},null,null,null,null,null,null,null,null,"Satz 3",null,null,null,null,null,null,null,null,"Satz 3"]
["Datum",null,null,null,null,null,null,null,null,"wenn erforderlich",null,null,null,null,null,null,null,null,"wenn erforderlich"]
[null,null,null,null,null,null,null,null,null,"Satz 4",null,null,null,null,null,null,null,null,"Satz 4"]
[null,null,null,null,null,null,null,null,null,"wenn erforderlich",null,null,null,null,null,null,null,null,"wenn erforderlich"]
[{"$f":"'R32_Baum'!$D$36","v":"Lein Karl"},null,null,null,null,null,null,null,null,"Satz 5",null,null,null,null,null,null,null,null,"Satz 5"]
["Name",null,null,null,null,null,null,null,null,"wenn erforderlich",null,null,null,null,null,null,null,null,"wenn erforderlich"]
[{"$f":"'R32_Baum'!$F$36","v":"BSV Mattersburg"},null,null,null,null,null,null,null,null,"Stechen",null,null,null,null,null,null,null,null,"Stechen"]
["Verein",null,null,null,null,null,null,null,null,null,null,null,null,null,"gewonnen",null,null,null,null,null,null,null,null,"gewonnen"]
[{"$f":"Select!$C$18","v":"Recurve Herren"},null,null,null,null,null,null,null,null,"Schütze:",null,null,null,null,"verloren",null,null,null,"Schütze:",null,null,null,null,"verloren"]
["Bogenklasse"]
[null,null,null,null,null,null,null,null,null,"Gegner:",null,"Name:",{"$f":"'R32_Baum'!D35","v":"Strohmaier Joachim"},null,null,null,null,null,"Gegner:",null,"Name:"]
[null,null,null,null,null,null,null,null,null,null,null,"Unterschrift:",null,null,null,null,null,null,null,null,"Unterschrift:"]
[]
[]
["1/4 Finale",null,null,null,{"$f":"'R32_Baum'!$M$76","v":"Scheibe: 3A"},null,null,null,null,"1/2 Finale",null,null,null,{"$f":"'R32_Baum'!$Q$74","v":"Scheibe: 3"},null,null,null,null,"1./2. od. 3./4. Platz",null,null,null,"Scheibe:"]
[null,1,2,3,"Summe","Punkte","Ges.",null,null,null,1,2,3,"Summe","Punkte","Ges.",null,null,null,1,2,3,"Summe","Punkte","Ges."]
["Satz 1",null,null,null,null,null,null,null,null,"Satz 1",null,null,null,null,null,null,null,null,"Satz 1"]
["Satz 2",null,null,null,null,null,null,null,null,"Satz 2",null,null,null,null,null,null,null,null,"Satz 2"]
["Satz 3",null,null,null,null,null,null,null,null,"Satz 3",null,null,null,null,null,null,null,null,"Satz 3"]
["wenn erforderlich",null,null,null,null,null,null,null,null,"wenn erforderlich",null,null,null,null,null,null,null,null,"wenn erforderlich"]
["Satz 4",null,null,null,null,null,null,null,null,"Satz 4",null,null,null,null,null,null,null,null,"Satz 4"]
["wenn erforderlich",null,null,null,null,null,null,null,null,"wenn erforderlich",null,null,null,null,null,null,null,null,"wenn erforderlich"]
["Satz 5",null,null,null,null,null,null,null,null,"Satz 5",null,null,null,null,null,null,null,null,"Satz 5"]
["wenn erforderlich",null,null,null,null,null,null,null,null,"wenn erforderlich",null,null,null,null,null,null,null,null,"wenn erforderlich"]
["Stechen",null,null,null,null,null,null,null,null,"Stechen",null,null,null,null,null,null,null,null,"Stechen"]
[null,null,null,null,null,"gewonnen",null,null,null,null,null,null,null,null,"gewonnen",null,null,null,null,null,null,null,null,"gewonnen"]
["Schütze:",null,null,null,null,"verloren",null,null,null,"Schütze:",null,null,null,null,"verloren",null,null,null,"Schütze:",null,null,null,null,"verloren"]
[]
["Gegner:",null,"Name:",null,null,null,null,null,null,"Gegner:",null,"Name:",null,null,null,null,null,null,"Gegner:",null,"Name:"]
[null,null,"Unterschrift:",null,null,null,null,null,null,null,null,"Unterschrift:",null,null,null,null,null,null,null,null,"Unterschrift:"]
[]
[]
[null,null,null,null,null,null,null,null,null,"1/16 Elimination",null,null,null,{"$f":"'R32_Baum'!$D$90","v":"Scheibe: 10A"},null,null,null,null,"1/8 Elimination",null,null,null,{"$f":"'R32_Baum'!$I$81","v":"Scheibe: 5B"}]
[null,null,null,null,null,null,null,null,null,null,1,2,3,"Summe","Punkte","Ges.",null,null,null,1,2,3,"Summe","Punkte","Ges."]
[{"$f":"Select!$C$12","v":"Demoturnier"},null,null,null,null,null,null,null,null,"Satz 1",null,null,null,null,null,null,null,null,"Satz 1"]
["Veranstaltung",null,null,null,null,null,null,null,null,"Satz 2",null,null,null,null,null,null,null,null,"Satz 2"]
[{"$f":"Select!$C$13","v":"1. April 2019"},null,null,null,null,null,null,null,null,"Satz 3",null,null,null,null,null,null,null,null,"Satz 3"]
["Datum",null,null,null,null,null,null,null,null,"wenn erforderlich",null,null,null,null,null,null,null,null,"wenn erforderlich"]
[null,null,null,null,null,null,null,null,null,"Satz 4",null,null,null,null,null,null,null,null,"Satz 4"]
[null,null,null,null,null,null,null,null,null,"wenn erforderlich",null,null,null,null,null,null,null,null,"wenn erforderlich"]
[{"$f":"'R32_Baum'!$D$39","v":"Winkler Klaus"},null,null,null,null,null,null,null,null,"Satz 5",null,null,null,null,null,null,null,null,"Satz 5"]
["Name",null,null,null,null,null,null,null,null,"wenn erforderlich",null,null,null,null,null,null,null,null,"wenn erforderlich"]
[{"$f":"'R32_Baum'!$F$39","v":"BSC Enzenreith"},null,null,null,null,null,null,null,null,"Stechen",null,null,null,null,null,null,null,null,"Stechen"]
["Verein",null,null,null,null,null,null,null,null,null,null,null,null,null,"gewonnen",null,null,null,null,null,null,null,null,"gewonnen"]
[{"$f":"Select!$C$18","v":"Recurve Herren"},null,null,null,null,null,null,null,null,"Schütze:",null,null,null,null,"verloren",null,null,null,"Schütze:",null,null,null,null,"verloren"]
["Bogenklasse"]
[null,null,null,null,null,null,null,null,null,"Gegner:",null,"Name:",{"$f":"'R32_Baum'!D40","v":"Schramm Wolfgang"},null,null,null,null,null,"Gegner:",null,"Name:"]
[null,null,null,null,null,null,null,null,null,null,null,"Unterschrift:",null,null,null,null,null,null,null,null,"Unterschrift:"]
[]
[]
["1/4 Finale",null,null,null,{"$f":"'R32_Baum'!$M$76","v":"Scheibe: 3A"},null,null,null,null,"1/2 Finale",null,null,null,{"$f":"'R32_Baum'!$Q$74","v":"Scheibe: 3"},null,null,null,null,"1./2. od. 3./4. Platz",null,null,null,"Scheibe:"]
[null,1,2,3,"Summe","Punkte","Ges.",null,null,null,1,2,3,"Summe","Punkte","Ges.",null,null,null,1,2,3,"Summe","Punkte","Ges."]
["Satz 1",null,null,null,null,null,null,null,null,"Satz 1",null,null,null,null,null,null,null,null,"Satz 1"]
["Satz 2",null,null,null,null,null,null,null,null,"Satz 2",null,null,null,null,null,null,null,null,"Satz 2"]
["Satz 3",null,null,null,null,null,null,null,null,"Satz 3",null,null,null,null,null,null,null,null,"Satz 3"]
["wenn erforderlich",null,null,null,null,null,null,null,null,"wenn erforderlich",null,null,null,null,null,null,null,null,"wenn erforderlich"]
["Satz 4",null,null,null,null,null,null,null,null,"Satz 4",null,null,null,null,null,null,null,null,"Satz 4"]
["wenn erforderlich",null,null,null,null,null,null,null,null,"wenn erforderlich",null,null,null,null,null,null,null,null,"wenn erforderlich"]
["Satz 5",null,null,null,null,null,null,null,null,"Satz 5",null,null,null,null,null,null,null,null,"Satz 5"]
["wenn erforderlich",null,null,null,null,null,null,null,null,"wenn erforderlich",null,null,null,null,null,null,null,null,"wenn erforderlich"]
["Stechen",null,null,null,null,null,null,null,null,"Stechen",null,null,null,null,null,null,null,null,"Stechen"]
[null,null,null,null,null,"gewonnen",null,null,null,null,null,null,null,null,"gewonnen",null,null,null,null,null,null,null,null,"gewonnen"]
["Schütze:",null,null,null,null,"verloren",null,null,null,"Schütze:",null,null,null,null,"verloren",null,null,null,"Schütze:",null,null,null,null,"verloren"]
[]
["Gegner:",null,"Name:",null,null,null,null,null,null,"Gegner:",null,"Name:",null,null,null,null,null,null,"Gegner:",null,"Name:"]
[null,null,"Unterschrift:",null,null,null,null,null,null,null,null,"Unterschrift:",null,null,null,null,null,null,null,null,"Unterschrift:"]
[]
[]
[null,null,null,null,null,null,null,null,null,"1/16 Elimination",null,null,null,{"$f":"'R32_Baum'!$D$91","v":"Scheibe: 10B"},null,null,null,null,"1/8 Elimination",null,null,null,{"$f":"'R32_Baum'!$I$81","v":"Scheibe: 5B"}]
[null,null,null,null,null,null,null,null,null,null,1,2,3,"Summe","Punkte","Ges.",null,null,null,1,2,3,"Summe","Punkte","Ges."]
[{"$f":"Select!$C$12","v":"Demoturnier"},null,null,null,null,null,null,null,null,"Satz 1",null,null,null,null,null,null,null,null,"Satz 1"]
["Veranstaltung",null,null,null,null,null,null,null,null,"Satz 2",null,null,null,null,null,null,null,null,"Satz 2"]
[{"$f":"Select!$C$13","v":"1. April 2019"},null,null,null,null,null,null,null,null,"Satz 3",null,null,null,null,null,null,null,null,"Satz 3"]
["Datum",null,null,null,null,null,null,null,null,"wenn erforderlich",null,null,null,null,null,null,null,null,"wenn erforderlich"]
[null,null,null,null,null,null,null,null,null,"Satz 4",null,null,null,null,null,null,null,null,"Satz 4"]
[null,null,null,null,null,null,null,null,null,"wenn erforderlich",null,null,null,null,null,null,null,null,"wenn erforderlich"]
[{"$f":"'R32_Baum'!$D$40","v":"Schramm Wolfgang"},null,null,null,null,null,null,null,null,"Satz 5",null,null,null,null,null,null,null,null,"Satz 5"]
["Name",null,null,null,null,null,null,null,null,"wenn erforderlich",null,null,null,null,null,null,null,null,"wenn erforderlich"]
[{"$f":"'R32_Baum'!$F$40","v":"LINZ AG Sport - Sektion Bogen"},null,null,null,null,null,null,null,null,"Stechen",null,null,null,null,null,null,null,null,"Stechen"]
["Verein",null,null,null,null,null,null,null,null,null,null,null,null,null,"gewonnen",null,null,null,null,null,null,null,null,"gewonnen"]
[{"$f":"Select!$C$18","v":"Recurve Herren"},null,null,null,null,null,null,null,null,"Schütze:",null,null,null,null,"verloren",null,null,null,"Schütze:",null,null,null,null,"verloren"]
["Bogenklasse"]
[null,null,null,null,null,null,null,null,null,"Gegner:",null,"Name:",{"$f":"'R32_Baum'!D39","v":"Winkler Klaus"},null,null,null,null,null,"Gegner:",null,"Name:"]
[null,null,null,null,null,null,null,null,null,null,null,"Unterschrift:",null,null,null,null,null,null,null,null,"Unterschrift:"]
[]
[]
["1/4 Finale",null,null,null,{"$f":"'R32_Baum'!$M$76","v":"Scheibe: 3A"},null,null,null,null,"1/2 Finale",null,null,null,{"$f":"'R32_Baum'!$Q$74","v":"Scheibe: 3"},null,null,null,null,"1./2. od. 3./4. Platz",null,null,null,"Scheibe:"]
[null,1,2,3,"Summe","Punkte","Ges.",null,null,null,1,2,3,"Summe","Punkte","Ges.",null,null,null,1,2,3,"Summe","Punkte","Ges."]
["Satz 1",null,null,null,null,null,null,null,null,"Satz 1",null,null,null,null,null,null,null,null,"Satz 1"]
["Satz 2",null,null,null,null,null,null,null,null,"Satz 2",null,null,null,null,null,null,null,null,"Satz 2"]
["Satz 3",null,null,null,null,null,null,null,null,"Satz 3",null,null,null,null,null,null,null,null,"Satz 3"]
["wenn erforderlich",null,null,null,null,null,null,null,null,"wenn erforderlich",null,null,null,null,null,null,null,null,"wenn erforderlich"]
["Satz 4",null,null,null,null,null,null,null,null,"Satz 4",null,null,null,null,null,null,null,null,"Satz 4"]
["wenn erforderlich",null,null,null,null,null,null,null,null,"wenn erforderlich",null,null,null,null,null,null,null,null,"wenn erforderlich"]
["Satz 5",null,null,null,null,null,null,null,null,"Satz 5",null,null,null,null,null,null,null,null,"Satz 5"]
["wenn erforderlich",null,null,null,null,null,null,null,null,"wenn erforderlich",null,null,null,null,null,null,null,null,"wenn erforderlich"]
["Stechen",null,null,null,null,null,null,null,null,"Stechen",null,null,null,null,null,null,null,null,"Stechen"]
[null,null,null,null,null,"gewonnen",null,null,null,null,null,null,null,null,"gewonnen",null,null,null,null,null,null,null,null,"gewonnen"]
["Schütze:",null,null,null,null,"verloren",null,null,null,"Schütze:",null,null,null,null,"verloren",null,null,null,"Schütze:",null,null,null,null,"verloren"]
[]
["Gegner:",null,"Name:",null,null,null,null,null,null,"Gegner:",null,"Name:",null,null,null,null,null,null,"Gegner:",null,"Name:"]
[null,null,"Unterschrift:",null,null,null,null,null,null,null,null,"Unterschrift:",null,null,null,null,null,null,null,null,"Unterschrift:"]
[]
[]
[null,null,null,null,null,null,null,null,null,"1/16 Elimination",null,null,null,{"$f":"'R32_Baum'!$D$92","v":"Scheibe: 11A"},null,null,null,null,"1/8 Elimination",null,null,null,{"$f":"'R32_Baum'!$I$82","v":"Scheibe: 6A"}]
[null,null,null,null,null,null,null,null,null,null,1,2,3,"Summe","Punkte","Ges.",null,null,null,1,2,3,"Summe","Punkte","Ges."]
[{"$f":"Select!$C$12","v":"Demoturnier"},null,null,null,null,null,null,null,null,"Satz 1",null,null,null,null,null,null,null,null,"Satz 1"]
["Veranstaltung",null,null,null,null,null,null,null,null,"Satz 2",null,null,null,null,null,null,null,null,"Satz 2"]
[{"$f":"Select!$C$13","v":"1. April 2019"},null,null,null,null,null,null,null,null,"Satz 3",null,null,null,null,null,null,null,null,"Satz 3"]
["Datum",null,null,null,null,null,null,null,null,"wenn erforderlich",null,null,null,null,null,null,null,null,"wenn erforderlich"]
[null,null,null,null,null,null,null,null,null,"Satz 4",null,null,null,null,null,null,null,null,"Satz 4"]
[null,null,null,null,null,null,null,null,null,"wenn erforderlich",null,null,null,null,null,null,null,null,"wenn erforderlich"]
[{"$f":"'R32_Baum'!$D$43","v":"Reicher Ernst"},null,null,null,null,null,null,null,null,"Satz 5",null,null,null,null,null,null,null,null,"Satz 5"]
["Name",null,null,null,null,null,null,null,null,"wenn erforderlich",null,null,null,null,null,null,null,null,"wenn erforderlich"]
[{"$f":"'R32_Baum'!$F$43","v":"BSC Wörthersee"},null,null,null,null,null,null,null,null,"Stechen",null,null,null,null,null,null,null,null,"Stechen"]
["Verein",null,null,null,null,null,null,null,null,null,null,null,null,null,"gewonnen",null,null,null,null,null,null,null,null,"gewonnen"]
[{"$f":"Select!$C$18","v":"Recurve Herren"},null,null,null,null,null,null,null,null,"Schütze:",null,null,null,null,"verloren",null,null,null,"Schütze:",null,null,null,null,"verloren"]
["Bogenklasse"]
[null,null,null,null,null,null,null,null,null,"Gegner:",null,"Name:",{"$f":"'R32_Baum'!D44","v":"Schütz Raimund"},null,null,null,null,null,"Gegner:",null,"Name:"]
[null,null,null,null,null,null,null,null,null,null,null,"Unterschrift:",null,null,null,null,null,null,null,null,"Unterschrift:"]
[]
[]
["1/4 Finale",null,null,null,{"$f":"'R32_Baum'!$M$77","v":"Scheibe: 3B"},null,null,null,null,"1/2 Finale",null,null,null,{"$f":"'R32_Baum'!$Q$74","v":"Scheibe: 3"},null,null,null,null,"1./2. od. 3./4. Platz",null,null,null,"Scheibe:"]
[null,1,2,3,"Summe","Punkte","Ges.",null,null,null,1,2,3,"Summe","Punkte","Ges.",null,null,null,1,2,3,"Summe","Punkte","Ges."]
["Satz 1",null,null,null,null,null,null,null,null,"Satz 1",null,null,null,null,null,null,null,null,"Satz 1"]
["Satz 2",null,null,null,null,null,null,null,null,"Satz 2",null,null,null,null,null,null,null,null,"Satz 2"]
["Satz 3",null,null,null,null,null,null,null,null,"Satz 3",null,null,null,null,null,null,null,null,"Satz 3"]
["wenn erforderlich",null,null,null,null,null,null,null,null,"wenn erforderlich",null,null,null,null,null,null,null,null,"wenn erforderlich"]
["Satz 4",null,null,null,null,null,null,null,null,"Satz 4",null,null,null,null,null,null,null,null,"Satz 4"]
["wenn erforderlich",null,null,null,null,null,null,null,null,"wenn erforderlich",null,null,null,null,null,null,null,null,"wenn erforderlich"]
["Satz 5",null,null,null,null,null,null,null,null,"Satz 5",null,null,null,null,null,null,null,null,"Satz 5"]
["wenn erforderlich",null,null,null,null,null,null,null,null,"wenn erforderlich",null,null,null,null,null,null,null,null,"wenn erforderlich"]
["Stechen",null,null,null,null,null,null,null,null,"Stechen",null,null,null,null,null,null,null,null,"Stechen"]
[null,null,null,null,null,"gewonnen",null,null,null,null,null,null,null,null,"gewonnen",null,null,null,null,null,null,null,null,"gewonnen"]
["Schütze:",null,null,null,null,"verloren",null,null,null,"Schütze:",null,null,null,null,"verloren",null,null,null,"Schütze:",null,null,null,null,"verloren"]
[]
["Gegner:",null,"Name:",null,null,null,null,null,null,"Gegner:",null,"Name:",null,null,null,null,null,null,"Gegner:",null,"Name:"]
[null,null,"Unterschrift:",null,null,null,null,null,null,null,null,"Unterschrift:",null,null,null,null,null,null,null,null,"Unterschrift:"]
[]
[]
[null,null,null,null,null,null,null,null,null,"1/16 Elimination",null,null,null,{"$f":"'R32_Baum'!$D$93","v":"Scheibe: 11B"},null,null,null,null,"1/8 Elimination",null,null,null,{"$f":"'R32_Baum'!$I$82","v":"Scheibe: 6A"}]
[null,null,null,null,null,null,null,null,null,null,1,2,3,"Summe","Punkte","Ges.",null,null,null,1,2,3,"Summe","Punkte","Ges."]
[{"$f":"Select!$C$12","v":"Demoturnier"},null,null,null,null,null,null,null,null,"Satz 1",null,null,null,null,null,null,null,null,"Satz 1"]
["Veranstaltung",null,null,null,null,null,null,null,null,"Satz 2",null,null,null,null,null,null,null,null,"Satz 2"]
[{"$f":"Select!$C$13","v":"1. April 2019"},null,null,null,null,null,null,null,null,"Satz 3",null,null,null,null,null,null,null,null,"Satz 3"]
["Datum",null,null,null,null,null,null,null,null,"wenn erforderlich",null,null,null,null,null,null,null,null,"wenn erforderlich"]
[null,null,null,null,null,null,null,null,null,"Satz 4",null,null,null,null,null,null,null,null,"Satz 4"]
[null,null,null,null,null,null,null,null,null,"wenn erforderlich",null,null,null,null,null,null,null,null,"wenn erforderlich"]
[{"$f":"'R32_Baum'!$D$44","v":"Schütz Raimund"},null,null,null,null,null,null,null,null,"Satz 5",null,null,null,null,null,null,null,null,"Satz 5"]
["Name",null,null,null,null,null,null,null,null,"wenn erforderlich",null,null,null,null,null,null,null,null,"wenn erforderlich"]
[{"$f":"'R32_Baum'!$F$44","v":"TBs Weinviertel"},null,null,null,null,null,null,null,null,"Stechen",null,null,null,null,null,null,null,null,"Stechen"]
["Verein",null,null,null,null,null,null,null,null,null,null,null,null,null,"gewonnen",null,null,null,null,null,null,null,null,"gewonnen"]
[{"$f":"Select!$C$18","v":"Recurve Herren"},null,null,null,null,null,null,null,null,"Schütze:",null,null,null,null,"verloren",null,null,null,"Schütze:",null,null,null,null,"verloren"]
["Bogenklasse"]
[null,null,null,null,null,null,null,null,null,"Gegner:",null,"Name:",{"$f":"'R32_Baum'!D43","v":"Reicher Ernst"},null,null,null,null,null,"Gegner:",null,"Name:"]
[null,null,null,null,null,null,null,null,null,null,null,"Unterschrift:",null,null,null,null,null,null,null,null,"Unterschrift:"]
[]
[]
["1/4 Finale",null,null,null,{"$f":"'R32_Baum'!$M$77","v":"Scheibe: 3B"},null,null,null,null,"1/2 Finale",null,null,null,{"$f":"'R32_Baum'!$Q$74","v":"Scheibe: 3"},null,null,null,null,"1./2. od. 3./4. Platz",null,null,null,"Scheibe:"]
[null,1,2,3,"Summe","Punkte","Ges.",null,null,null,1,2,3,"Summe","Punkte","Ges.",null,null,null,1,2,3,"Summe","Punkte","Ges."]
["Satz 1",null,null,null,null,null,null,null,null,"Satz 1",null,null,null,null,null,null,null,null,"Satz 1"]
["Satz 2",null,null,null,null,null,null,null,null,"Satz 2",null,null,null,null,null,null,null,null,"Satz 2"]
["Satz 3",null,null,null,null,null,null,null,null,"Satz 3",null,null,null,null,null,null,null,null,"Satz 3"]
["wenn erforderlich",null,null,null,null,null,null,null,null,"wenn erforderlich",null,null,null,null,null,null,null,null,"wenn erforderlich"]
["Satz 4",null,null,null,null,null,null,null,null,"Satz 4",null,null,null,null,null,null,null,null,"Satz 4"]
["wenn erforderlich",null,null,null,null,null,null,null,null,"wenn erforderlich",null,null,null,null,null,null,null,null,"wenn erforderlich"]
["Satz 5",null,null,null,null,null,null,null,null,"Satz 5",null,null,null,null,null,null,null,null,"Satz 5"]
["wenn erforderlich",null,null,null,null,null,null,null,null,"wenn erforderlich",null,null,null,null,null,null,null,null,"wenn erforderlich"]
["Stechen",null,null,null,null,null,null,null,null,"Stechen",null,null,null,null,null,null,null,null,"Stechen"]
[null,null,null,null,null,"gewonnen",null,null,null,null,null,null,null,null,"gewonnen",null,null,null,null,null,null,null,null,"gewonnen"]
["Schütze:",null,null,null,null,"verloren",null,null,null,"Schütze:",null,null,null,null,"verloren",null,null,null,"Schütze:",null,null,null,null,"verloren"]
[]
["Gegner:",null,"Name:",null,null,null,null,null,null,"Gegner:",null,"Name:",null,null,null,null,null,null,"Gegner:",null,"Name:"]
[null,null,"Unterschrift:",null,null,null,null,null,null,null,null,"Unterschrift:",null,null,null,null,null,null,null,null,"Unterschrift:"]
[]
[]
[null,null,null,null,null,null,null,null,null,"1/16 Elimination",null,null,null,{"$f":"'R32_Baum'!$D$94","v":"Scheibe: 12A"},null,null,null,null,"1/8 Elimination",null,null,null,{"$f":"'R32_Baum'!$I$83","v":"Scheibe: 6B"}]
[null,null,null,null,null,null,null,null,null,null,1,2,3,"Summe","Punkte","Ges.",null,null,null,1,2,3,"Summe","Punkte","Ges."]
[{"$f":"Select!$C$12","v":"Demoturnier"},null,null,null,null,null,null,null,null,"Satz 1",null,null,null,null,null,null,null,null,"Satz 1"]
["Veranstaltung",null,null,null,null,null,null,null,null,"Satz 2",null,null,null,null,null,null,null,null,"Satz 2"]
[{"$f":"Select!$C$13","v":"1. April 2019"},null,null,null,null,null,null,null,null,"Satz 3",null,null,null,null,null,null,null,null,"Satz 3"]
["Datum",null,null,null,null,null,null,null,null,"wenn erforderlich",null,null,null,null,null,null,null,null,"wenn erforderlich"]
[null,null,null,null,null,null,null,null,null,"Satz 4",null,null,null,null,null,null,null,null,"Satz 4"]
[null,null,null,null,null,null,null,null,null,"wenn erforderlich",null,null,null,null,null,null,null,null,"wenn erforderlich"]
[{"$f":"'R32_Baum'!$D$47","v":"Radauer Helmuth"},null,null,null,null,null,null,null,null,"Satz 5",null,null,null,null,null,null,null,null,"Satz 5"]
["Name",null,null,null,null,null,null,null,null,"wenn erforderlich",null,null,null,null,null,null,null,null,"wenn erforderlich"]
[{"$f":"'R32_Baum'!$F$47","v":"BSC Ennstal"},null,null,null,null,null,null,null,null,"Stechen",null,null,null,null,null,null,null,null,"Stechen"]
["Verein",null,null,null,null,null,null,null,null,null,null,null,null,null,"gewonnen",null,null,null,null,null,null,null,null,"gewonnen"]
[{"$f":"Select!$C$18","v":"Recurve Herren"},null,null,null,null,null,null,null,null,"Schütze:",null,null,null,null,"verloren",null,null,null,"Schütze:",null,null,null,null,"verloren"]
["Bogenklasse"]
[null,null,null,null,null,null,null,null,null,"Gegner:",null,"Name:",{"$f":"'R32_Baum'!D48","v":"Parschisek Alexander"},null,null,null,null,null,"Gegner:",null,"Name:"]
[null,null,null,null,null,null,null,null,null,null,null,"Unterschrift:",null,null,null,null,null,null,null,null,"Unterschrift:"]
[]
[]
["1/4 Finale",null,null,null,{"$f":"'R32_Baum'!$M$77","v":"Scheibe: 3B"},null,null,null,null,"1/2 Finale",null,null,null,{"$f":"'R32_Baum'!$Q$74","v":"Scheibe: 3"},null,null,null,null,"1./2. od. 3./4. Platz",null,null,null,"Scheibe:"]
[null,1,2,3,"Summe","Punkte","Ges.",null,null,null,1,2,3,"Summe","Punkte","Ges.",null,null,null,1,2,3,"Summe","Punkte","Ges."]
["Satz 1",null,null,null,null,null,null,null,null,"Satz 1",null,null,null,null,null,null,null,null,"Satz 1"]
["Satz 2",null,null,null,null,null,null,null,null,"Satz 2",null,null,null,null,null,null,null,null,"Satz 2"]
["Satz 3",null,null,null,null,null,null,null,null,"Satz 3",null,null,null,null,null,null,null,null,"Satz 3"]
["wenn erforderlich",null,null,null,null,null,null,null,null,"wenn erforderlich",null,null,null,null,null,null,null,null,"wenn erforderlich"]
["Satz 4",null,null,null,null,null,null,null,null,"Satz 4",null,null,null,null,null,null,null,null,"Satz 4"]
["wenn erforderlich",null,null,null,null,null,null,null,null,"wenn erforderlich",null,null,null,null,null,null,null,null,"wenn erforderlich"]
["Satz 5",null,null,null,null,null,null,null,null,"Satz 5",null,null,null,null,null,null,null,null,"Satz 5"]
["wenn erforderlich",null,null,null,null,null,null,null,null,"wenn erforderlich",null,null,null,null,null,null,null,null,"wenn erforderlich"]
["Stechen",null,null,null,null,null,null,null,null,"Stechen",null,null,null,null,null,null,null,null,"Stechen"]
[null,null,null,null,null,"gewonnen",null,null,null,null,null,null,null,null,"gewonnen",null,null,null,null,null,null,null,null,"gewonnen"]
["Schütze:",null,null,null,null,"verloren",null,null,null,"Schütze:",null,null,null,null,"verloren",null,null,null,"Schütze:",null,null,null,null,"verloren"]
[]
["Gegner:",null,"Name:",null,null,null,null,null,null,"Gegner:",null,"Name:",null,null,null,null,null,null,"Gegner:",null,"Name:"]
[null,null,"Unterschrift:",null,null,null,null,null,null,null,null,"Unterschrift:",null,null,null,null,null,null,null,null,"Unterschrift:"]
[]
[]
[null,null,null,null,null,null,null,null,null,"1/16 Elimination",null,null,null,{"$f":"'R32_Baum'!$D$95","v":"Scheibe: 12B"},null,null,null,null,"1/8 Elimination",null,null,null,{"$f":"'R32_Baum'!$I$83","v":"Scheibe: 6B"}]
[null,null,null,null,null,null,null,null,null,null,1,2,3,"Summe","Punkte","Ges.",null,null,null,1,2,3,"Summe","Punkte","Ges."]
[{"$f":"Select!$C$12","v":"Demoturnier"},null,null,null,null,null,null,null,null,"Satz 1",null,null,null,null,null,null,null,null,"Satz 1"]
["Veranstaltung",null,null,null,null,null,null,null,null,"Satz 2",null,null,null,null,null,null,null,null,"Satz 2"]
[{"$f":"Select!$C$13","v":"1. April 2019"},null,null,null,null,null,null,null,null,"Satz 3",null,null,null,null,null,null,null,null,"Satz 3"]
["Datum",null,null,null,null,null,null,null,null,"wenn erforderlich",null,null,null,null,null,null,null,null,"wenn erforderlich"]
[null,null,null,null,null,null,null,null,null,"Satz 4",null,null,null,null,null,null,null,null,"Satz 4"]
[null,null,null,null,null,null,null,null,null,"wenn erforderlich",null,null,null,null,null,null,null,null,"wenn erforderlich"]
[{"$f":"'R32_Baum'!$D$48","v":"Parschisek Alexander"},null,null,null,null,null,null,null,null,"Satz 5",null,null,null,null,null,null,null,null,"Satz 5"]
["Name",null,null,null,null,null,null,null,null,"wenn erforderlich",null,null,null,null,null,null,null,null,"wenn erforderlich"]
[{"$f":"'R32_Baum'!$F$48","v":"BC-Oberschützen"},null,null,null,null,null,null,null,null,"Stechen",null,null,null,null,null,null,null,null,"Stechen"]
["Verein",null,null,null,null,null,null,null,null,null,null,null,null,null,"gewonnen",null,null,null,null,null,null,null,null,"gewonnen"]
[{"$f":"Select!$C$18","v":"Recurve Herren"},null,null,null,null,null,null,null,null,"Schütze:",null,null,null,null,"verloren",null,null,null,"Schütze:",null,null,null,null,"verloren"]
["Bogenklasse"]
[null,null,null,null,null,null,null,null,null,"Gegner:",null,"Name:",{"$f":"'R32_Baum'!D47","v":"Radauer Helmuth"},null,null,null,null,null,"Gegner:",null,"Name:"]
[null,null,null,null,null,null,null,null,null,null,null,"Unterschrift:",null,null,null,null,null,null,null,null,"Unterschrift:"]
[]
[]
["1/4 Finale",null,null,null,{"$f":"'R32_Baum'!$M$77","v":"Scheibe: 3B"},null,null,null,null,"1/2 Finale",null,null,null,{"$f":"'R32_Baum'!$Q$74","v":"Scheibe: 3"},null,null,null,null,"1./2. od. 3./4. Platz",null,null,null,"Scheibe:"]
[null,1,2,3,"Summe","Punkte","Ges.",null,null,null,1,2,3,"Summe","Punkte","Ges.",null,null,null,1,2,3,"Summe","Punkte","Ges."]
["Satz 1",null,null,null,null,null,null,null,null,"Satz 1",null,null,null,null,null,null,null,null,"Satz 1"]
["Satz 2",null,null,null,null,null,null,null,null,"Satz 2",null,null,null,null,null,null,null,null,"Satz 2"]
["Satz 3",null,null,null,null,null,null,null,null,"Satz 3",null,null,null,null,null,null,null,null,"Satz 3"]
["wenn erforderlich",null,null,null,null,null,null,null,null,"wenn erforderlich",null,null,null,null,null,null,null,null,"wenn erforderlich"]
["Satz 4",null,null,null,null,null,null,null,null,"Satz 4",null,null,null,null,null,null,null,null,"Satz 4"]
["wenn erforderlich",null,null,null,null,null,null,null,null,"wenn erforderlich",null,null,null,null,null,null,null,null,"wenn erforderlich"]
["Satz 5",null,null,null,null,null,null,null,null,"Satz 5",null,null,null,null,null,null,null,null,"Satz 5"]
["wenn erforderlich",null,null,null,null,null,null,null,null,"wenn erforderlich",null,null,null,null,null,null,null,null,"wenn erforderlich"]
["Stechen",null,null,null,null,null,null,null,null,"Stechen",null,null,null,null,null,null,null,null,"Stechen"]
[null,null,null,null,null,"gewonnen",null,null,null,null,null,null,null,null,"gewonnen",null,null,null,null,null,null,null,null,"gewonnen"]
["Schütze:",null,null,null,null,"verloren",null,null,null,"Schütze:",null,null,null,null,"verloren",null,null,null,"Schütze:",null,null,null,null,"verloren"]
[]
["Gegner:",null,"Name:",null,null,null,null,null,null,"Gegner:",null,"Name:",null,null,null,null,null,null,"Gegner:",null,"Name:"]
[null,null,"Unterschrift:",null,null,null,null,null,null,null,null,"Unterschrift:",null,null,null,null,null,null,null,null,"Unterschrift:"]
[]
[]
[null,null,null,null,null,null,null,null,null,"1/16 Elimination",null,null,null,{"$f":"'R32_Baum'!$D$96","v":"Scheibe: 13A"},null,null,null,null,"1/8 Elimination",null,null,null,{"$f":"'R32_Baum'!$I$84","v":"Scheibe: 7A"}]
[null,null,null,null,null,null,null,null,null,null,1,2,3,"Summe","Punkte","Ges.",null,null,null,1,2,3,"Summe","Punkte","Ges."]
[{"$f":"Select!$C$12","v":"Demoturnier"},null,null,null,null,null,null,null,null,"Satz 1",null,null,null,null,null,null,null,null,"Satz 1"]
["Veranstaltung",null,null,null,null,null,null,null,null,"Satz 2",null,null,null,null,null,null,null,null,"Satz 2"]
[{"$f":"Select!$C$13","v":"1. April 2019"},null,null,null,null,null,null,null,null,"Satz 3",null,null,null,null,null,null,null,null,"Satz 3"]
["Datum",null,null,null,null,null,null,null,null,"wenn erforderlich",null,null,null,null,null,null,null,null,"wenn erforderlich"]
[null,null,null,null,null,null,null,null,null,"Satz 4",null,null,null,null,null,null,null,null,"Satz 4"]
[null,null,null,null,null,null,null,null,null,"wenn erforderlich",null,null,null,null,null,null,null,null,"wenn erforderlich"]
[{"$f":"'R32_Baum'!$D$51","v":"Bucher Martin"},null,null,null,null,null,null,null,null,"Satz 5",null,null,null,null,null,null,null,null,"Satz 5"]
["Name",null,null,null,null,null,null,null,null,"wenn erforderlich",null,null,null,null,null,null,null,null,"wenn erforderlich"]
[{"$f":"'R32_Baum'!$F$51","v":"LH Graz"},null,null,null,null,null,null,null,null,"Stechen",null,null,null,null,null,null,null,null,"Stechen"]
["Verein",null,null,null,null,null,null,null,null,null,null,null,null,null,"gewonnen",null,null,null,null,null,null,null,null,"gewonnen"]
[{"$f":"Select!$C$18","v":"Recurve Herren"},null,null,null,null,null,null,null,null,"Schütze:",null,null,null,null,"verloren",null,null,null,"Schütze:",null,null,null,null,"verloren"]
["Bogenklasse"]
[null,null,null,null,null,null,null,null,null,"Gegner:",null,"Name:",{"$f":"'R32_Baum'!D52","v":"Kossek Heinz"},null,null,null,null,null,"Gegner:",null,"Name:"]
[null,null,null,null,null,null,null,null,null,null,null,"Unterschrift:",null,null,null,null,null,null,null,null,"Unterschrift:"]
[]
[]
["1/4 Finale",null,null,null,{"$f":"'R32_Baum'!$M$78","v":"Scheibe: 4A"},null,null,null,null,"1/2 Finale",null,null,null,{"$f":"'R32_Baum'!$Q$75","v":"Scheibe: 4"},null,null,null,null,"1./2. od. 3./4. Platz",null,null,null,"Scheibe:"]
[null,1,2,3,"Summe","Punkte","Ges.",null,null,null,1,2,3,"Summe","Punkte","Ges.",null,null,null,1,2,3,"Summe","Punkte","Ges."]
["Satz 1",null,null,null,null,null,null,null,null,"Satz 1",null,null,null,null,null,null,null,null,"Satz 1"]
["Satz 2",null,null,null,null,null,null,null,null,"Satz 2",null,null,null,null,null,null,null,null,"Satz 2"]
["Satz 3",null,null,null,null,null,null,null,null,"Satz 3",null,null,null,null,null,null,null,null,"Satz 3"]
["wenn erforderlich",null,null,null,null,null,null,null,null,"wenn erforderlich",null,null,null,null,null,null,null,null,"wenn erforderlich"]
["Satz 4",null,null,null,null,null,null,null,null,"Satz 4",null,null,null,null,null,null,null,null,"Satz 4"]
["wenn erforderlich",null,null,null,null,null,null,null,null,"wenn erforderlich",null,null,null,null,null,null,null,null,"wenn erforderlich"]
["Satz 5",null,null,null,null,null,null,null,null,"Satz 5",null,null,null,null,null,null,null,null,"Satz 5"]
["wenn erforderlich",null,null,null,null,null,null,null,null,"wenn erforderlich",null,null,null,null,null,null,null,null,"wenn erforderlich"]
["Stechen",null,null,null,null,null,null,null,null,"Stechen",null,null,null,null,null,null,null,null,"Stechen"]
[null,null,null,null,null,"gewonnen",null,null,null,null,null,null,null,null,"gewonnen",null,null,null,null,null,null,null,null,"gewonnen"]
["Schütze:",null,null,null,null,"verloren",null,null,null,"Schütze:",null,null,null,null,"verloren",null,null,null,"Schütze:",null,null,null,null,"verloren"]
[]
["Gegner:",null,"Name:",null,null,null,null,null,null,"Gegner:",null,"Name:",null,null,null,null,null,null,"Gegner:",null,"Name:"]
[null,null,"Unterschrift:",null,null,null,null,null,null,null,null,"Unterschrift:",null,null,null,null,null,null,null,null,"Unterschrift:"]
[]
[]
[null,null,null,null,null,null,null,null,null,"1/16 Elimination",null,null,null,{"$f":"'R32_Baum'!$D$97","v":"Scheibe: 13B"},null,null,null,null,"1/8 Elimination",null,null,null,{"$f":"'R32_Baum'!$I$84","v":"Scheibe: 7A"}]
[null,null,null,null,null,null,null,null,null,null,1,2,3,"Summe","Punkte","Ges.",null,null,null,1,2,3,"Summe","Punkte","Ges."]
[{"$f":"Select!$C$12","v":"Demoturnier"},null,null,null,null,null,null,null,null,"Satz 1",null,null,null,null,null,null,null,null,"Satz 1"]
["Veranstaltung",null,null,null,null,null,null,null,null,"Satz 2",null,null,null,null,null,null,null,null,"Satz 2"]
[{"$f":"Select!$C$13","v":"1. April 2019"},null,null,null,null,null,null,null,null,"Satz 3",null,null,null,null,null,null,null,null,"Satz 3"]
["Datum",null,null,null,null,null,null,null,null,"wenn erforderlich",null,null,null,null,null,null,null,null,"wenn erforderlich"]
[null,null,null,null,null,null,null,null,null,"Satz 4",null,null,null,null,null,null,null,null,"Satz 4"]
[null,null,null,null,null,null,null,null,null,"wenn erforderlich",null,null,null,null,null,null,null,null,"wenn erforderlich"]
[{"$f":"'R32_Baum'!$D$52","v":"Kossek Heinz"},null,null,null,null,null,null,null,null,"Satz 5",null,null,null,null,null,null,null,null,"Satz 5"]
["Name",null,null,null,null,null,null,null,null,"wenn erforderlich",null,null,null,null,null,null,null,null,"wenn erforderlich"]
[{"$f":"'R32_Baum'!$F$52","v":"BC Wildon Weitendorf"},null,null,null,null,null,null,null,null,"Stechen",null,null,null,null,null,null,null,null,"Stechen"]
["Verein",null,null,null,null,null,null,null,null,null,null,null,null,null,"gewonnen",null,null,null,null,null,null,null,null,"gewonnen"]
[{"$f":"Select!$C$18","v":"Recurve Herren"},null,null,null,null,null,null,null,null,"Schütze:",null,null,null,null,"verloren",null,null,null,"Schütze:",null,null,null,null,"verloren"]
["Bogenklasse"]
[null,null,null,null,null,null,null,null,null,"Gegner:",null,"Name:",{"$f":"'R32_Baum'!D51","v":"Bucher Martin"},null,null,null,null,null,"Gegner:",null,"Name:"]
[null,null,null,null,null,null,null,null,null,null,null,"Unterschrift:",null,null,null,null,null,null,null,null,"Unterschrift:"]
[]
[]
["1/4 Finale",null,null,null,{"$f":"'R32_Baum'!$M$78","v":"Scheibe: 4A"},null,null,null,null,"1/2 Finale",null,null,null,{"$f":"'R32_Baum'!$Q$75","v":"Scheibe: 4"},null,null,null,null,"1./2. od. 3./4. Platz",null,null,null,"Scheibe:"]
[null,1,2,3,"Summe","Punkte","Ges.",null,null,null,1,2,3,"Summe","Punkte","Ges.",null,null,null,1,2,3,"Summe","Punkte","Ges."]
["Satz 1",null,null,null,null,null,null,null,null,"Satz 1",null,null,null,null,null,null,null,null,"Satz 1"]
["Satz 2",null,null,null,null,null,null,null,null,"Satz 2",null,null,null,null,null,null,null,null,"Satz 2"]
["Satz 3",null,null,null,null,null,null,null,null,"Satz 3",null,null,null,null,null,null,null,null,"Satz 3"]
["wenn erforderlich",null,null,null,null,null,null,null,null,"wenn erforderlich",null,null,null,null,null,null,null,null,"wenn erforderlich"]
["Satz 4",null,null,null,null,null,null,null,null,"Satz 4",null,null,null,null,null,null,null,null,"Satz 4"]
["wenn erforderlich",null,null,null,null,null,null,null,null,"wenn erforderlich",null,null,null,null,null,null,null,null,"wenn erforderlich"]
["Satz 5",null,null,null,null,null,null,null,null,"Satz 5",null,null,null,null,null,null,null,null,"Satz 5"]
["wenn erforderlich",null,null,null,null,null,null,null,null,"wenn erforderlich",null,null,null,null,null,null,null,null,"wenn erforderlich"]
["Stechen",null,null,null,null,null,null,null,null,"Stechen",null,null,null,null,null,null,null,null,"Stechen"]
[null,null,null,null,null,"gewonnen",null,null,null,null,null,null,null,null,"gewonnen",null,null,null,null,null,null,null,null,"gewonnen"]
["Schütze:",null,null,null,null,"verloren",null,null,null,"Schütze:",null,null,null,null,"verloren",null,null,null,"Schütze:",null,null,null,null,"verloren"]
[]
["Gegner:",null,"Name:",null,null,null,null,null,null,"Gegner:",null,"Name:",null,null,null,null,null,null,"Gegner:",null,"Name:"]
[null,null,"Unterschrift:",null,null,null,null,null,null,null,null,"Unterschrift:",null,null,null,null,null,null,null,null,"Unterschrift:"]
[]
[]
[null,null,null,null,null,null,null,null,null,"1/16 Elimination",null,null,null,{"$f":"'R32_Baum'!$D$98","v":"Scheibe: 14A"},null,null,null,null,"1/8 Elimination",null,null,null,{"$f":"'R32_Baum'!$I$85","v":"Scheibe: 7B"}]
[null,null,null,null,null,null,null,null,null,null,1,2,3,"Summe","Punkte","Ges.",null,null,null,1,2,3,"Summe","Punkte","Ges."]
[{"$f":"Select!$C$12","v":"Demoturnier"},null,null,null,null,null,null,null,null,"Satz 1",null,null,null,null,null,null,null,null,"Satz 1"]
["Veranstaltung",null,null,null,null,null,null,null,null,"Satz 2",null,null,null,null,null,null,null,null,"Satz 2"]
[{"$f":"Select!$C$13","v":"1. April 2019"},null,null,null,null,null,null,null,null,"Satz 3",null,null,null,null,null,null,null,null,"Satz 3"]
["Datum",null,null,null,null,null,null,null,null,"wenn erforderlich",null,null,null,null,null,null,null,null,"wenn erforderlich"]
[null,null,null,null,null,null,null,null,null,"Satz 4",null,null,null,null,null,null,null,null,"Satz 4"]
[null,null,null,null,null,null,null,null,null,"wenn erforderlich",null,null,null,null,null,null,null,null,"wenn erforderlich"]
[{"$f":"'R32_Baum'!$D$55","v":"Kutmon Wilhelm"},null,null,null,null,null,null,null,null,"Satz 5",null,null,null,null,null,null,null,null,"Satz 5"]
["Name",null,null,null,null,null,null,null,null,"wenn erforderlich",null,null,null,null,null,null,null,null,"wenn erforderlich"]
[{"$f":"'R32_Baum'!$F$55","v":"BS Ligist - Archery Freaks"},null,null,null,null,null,null,null,null,"Stechen",null,null,null,null,null,null,null,null,"Stechen"]
["Verein",null,null,null,null,null,null,null,null,null,null,null,null,null,"gewonnen",null,null,null,null,null,null,null,null,"gewonnen"]
[{"$f":"Select!$C$18","v":"Recurve Herren"},null,null,null,null,null,null,null,null,"Schütze:",null,null,null,null,"verloren",null,null,null,"Schütze:",null,null,null,null,"verloren"]
["Bogenklasse"]
[null,null,null,null,null,null,null,null,null,"Gegner:",null,"Name:",{"$f":"'R32_Baum'!D56","v":"Navratil Christoph"},null,null,null,null,null,"Gegner:",null,"Name:"]
[null,null,null,null,null,null,null,null,null,null,null,"Unterschrift:",null,null,null,null,null,null,null,null,"Unterschrift:"]
[]
[]
["1/4 Finale",null,null,null,{"$f":"'R32_Baum'!$M$78","v":"Scheibe: 4A"},null,null,null,null,"1/2 Finale",null,null,null,{"$f":"'R32_Baum'!$Q$75","v":"Scheibe: 4"},null,null,null,null,"1./2. od. 3./4. Platz",null,null,null,"Scheibe:"]
[null,1,2,3,"Summe","Punkte","Ges.",null,null,null,1,2,3,"Summe","Punkte","Ges.",null,null,null,1,2,3,"Summe","Punkte","Ges."]
["Satz 1",null,null,null,null,null,null,null,null,"Satz 1",null,null,null,null,null,null,null,null,"Satz 1"]
["Satz 2",null,null,null,null,null,null,null,null,"Satz 2",null,null,null,null,null,null,null,null,"Satz 2"]
["Satz 3",null,null,null,null,null,null,null,null,"Satz 3",null,null,null,null,null,null,null,null,"Satz 3"]
["wenn erforderlich",null,null,null,null,null,null,null,null,"wenn erforderlich",null,null,null,null,null,null,null,null,"wenn erforderlich"]
["Satz 4",null,null,null,null,null,null,null,null,"Satz 4",null,null,null,null,null,null,null,null,"Satz 4"]
["wenn erforderlich",null,null,null,null,null,null,null,null,"wenn erforderlich",null,null,null,null,null,null,null,null,"wenn erforderlich"]
["Satz 5",null,null,null,null,null,null,null,null,"Satz 5",null,null,null,null,null,null,null,null,"Satz 5"]
["wenn erforderlich",null,null,null,null,null,null,null,null,"wenn erforderlich",null,null,null,null,null,null,null,null,"wenn erforderlich"]
["Stechen",null,null,null,null,null,null,null,null,"Stechen",null,null,null,null,null,null,null,null,"Stechen"]
[null,null,null,null,null,"gewonnen",null,null,null,null,null,null,null,null,"gewonnen",null,null,null,null,null,null,null,null,"gewonnen"]
["Schütze:",null,null,null,null,"verloren",null,null,null,"Schütze:",null,null,null,null,"verloren",null,null,null,"Schütze:",null,null,null,null,"verloren"]
[]
["Gegner:",null,"Name:",null,null,null,null,null,null,"Gegner:",null,"Name:",null,null,null,null,null,null,"Gegner:",null,"Name:"]
[null,null,"Unterschrift:",null,null,null,null,null,null,null,null,"Unterschrift:",null,null,null,null,null,null,null,null,"Unterschrift:"]
[]
[]
[null,null,null,null,null,null,null,null,null,"1/16 Elimination",null,null,null,{"$f":"'R32_Baum'!$D$99","v":"Scheibe: 14B"},null,null,null,null,"1/8 Elimination",null,null,null,{"$f":"'R32_Baum'!$I$85","v":"Scheibe: 7B"}]
[null,null,null,null,null,null,null,null,null,null,1,2,3,"Summe","Punkte","Ges.",null,null,null,1,2,3,"Summe","Punkte","Ges."]
[{"$f":"Select!$C$12","v":"Demoturnier"},null,null,null,null,null,null,null,null,"Satz 1",null,null,null,null,null,null,null,null,"Satz 1"]
["Veranstaltung",null,null,null,null,null,null,null,null,"Satz 2",null,null,null,null,null,null,null,null,"Satz 2"]
[{"$f":"Select!$C$13","v":"1. April 2019"},null,null,null,null,null,null,null,null,"Satz 3",null,null,null,null,null,null,null,null,"Satz 3"]
["Datum",null,null,null,null,null,null,null,null,"wenn erforderlich",null,null,null,null,null,null,null,null,"wenn erforderlich"]
[null,null,null,null,null,null,null,null,null,"Satz 4",null,null,null,null,null,null,null,null,"Satz 4"]
[null,null,null,null,null,null,null,null,null,"wenn erforderlich",null,null,null,null,null,null,null,null,"wenn erforderlich"]
[{"$f":"'R32_Baum'!$D$56","v":"Navratil Christoph"},null,null,null,null,null,null,null,null,"Satz 5",null,null,null,null,null,null,null,null,"Satz 5"]
["Name",null,null,null,null,null,null,null,null,"wenn erforderlich",null,null,null,null,null,null,null,null,"wenn erforderlich"]
[{"$f":"'R32_Baum'!$F$56","v":"BSV Schönbrunn"},null,null,null,null,null,null,null,null,"Stechen",null,null,null,null,null,null,null,null,"Stechen"]
["Verein",null,null,null,null,null,null,null,null,null,null,null,null,null,"gewonnen",null,null,null,null,null,null,null,null,"gewonnen"]
[{"$f":"Select!$C$18","v":"Recurve Herren"},null,null,null,null,null,null,null,null,"Schütze:",null,null,null,null,"verloren",null,null,null,"Schütze:",null,null,null,null,"verloren"]
["Bogenklasse"]
[null,null,null,null,null,null,null,null,null,"Gegner:",null,"Name:",{"$f":"'R32_Baum'!D55","v":"Kutmon Wilhelm"},null,null,null,null,null,"Gegner:",null,"Name:"]
[null,null,null,null,null,null,null,null,null,null,null,"Unterschrift:",null,null,null,null,null,null,null,null,"Unterschrift:"]
[]
[]
["1/4 Finale",null,null,null,{"$f":"'R32_Baum'!$M$78","v":"Scheibe: 4A"},null,null,null,null,"1/2 Finale",null,null,null,{"$f":"'R32_Baum'!$Q$75","v":"Scheibe: 4"},null,null,null,null,"1./2. od. 3./4. Platz",null,null,null,"Scheibe:"]
[null,1,2,3,"Summe","Punkte","Ges.",null,null,null,1,2,3,"Summe","Punkte","Ges.",null,null,null,1,2,3,"Summe","Punkte","Ges."]
["Satz 1",null,null,null,null,null,null,null,null,"Satz 1",null,null,null,null,null,null,null,null,"Satz 1"]
["Satz 2",null,null,null,null,null,null,null,null,"Satz 2",null,null,null,null,null,null,null,null,"Satz 2"]
["Satz 3",null,null,null,null,null,null,null,null,"Satz 3",null,null,null,null,null,null,null,null,"Satz 3"]
["wenn erforderlich",null,null,null,null,null,null,null,null,"wenn erforderlich",null,null,null,null,null,null,null,null,"wenn erforderlich"]
["Satz 4",null,null,null,null,null,null,null,null,"Satz 4",null,null,null,null,null,null,null,null,"Satz 4"]
["wenn erforderlich",null,null,null,null,null,null,null,null,"wenn erforderlich",null,null,null,null,null,null,null,null,"wenn erforderlich"]
["Satz 5",null,null,null,null,null,null,null,null,"Satz 5",null,null,null,null,null,null,null,null,"Satz 5"]
["wenn erforderlich",null,null,null,null,null,null,null,null,"wenn erforderlich",null,null,null,null,null,null,null,null,"wenn erforderlich"]
["Stechen",null,null,null,null,null,null,null,null,"Stechen",null,null,null,null,null,null,null,null,"Stechen"]
[null,null,null,null,null,"gewonnen",null,null,null,null,null,null,null,null,"gewonnen",null,null,null,null,null,null,null,null,"gewonnen"]
["Schütze:",null,null,null,null,"verloren",null,null,null,"Schütze:",null,null,null,null,"verloren",null,null,null,"Schütze:",null,null,null,null,"verloren"]
[]
["Gegner:",null,"Name:",null,null,null,null,null,null,"Gegner:",null,"Name:",null,null,null,null,null,null,"Gegner:",null,"Name:"]
[null,null,"Unterschrift:",null,null,null,null,null,null,null,null,"Unterschrift:",null,null,null,null,null,null,null,null,"Unterschrift:"]
[]
[]
[null,null,null,null,null,null,null,null,null,"1/16 Elimination",null,null,null,{"$f":"'R32_Baum'!$D$100","v":"Scheibe: 15A"},null,null,null,null,"1/8 Elimination",null,null,null,{"$f":"'R32_Baum'!$I$86","v":"Scheibe: 8A"}]
[null,null,null,null,null,null,null,null,null,null,1,2,3,"Summe","Punkte","Ges.",null,null,null,1,2,3,"Summe","Punkte","Ges."]
[{"$f":"Select!$C$12","v":"Demoturnier"},null,null,null,null,null,null,null,null,"Satz 1",null,null,null,null,null,null,null,null,"Satz 1"]
["Veranstaltung",null,null,null,null,null,null,null,null,"Satz 2",null,null,null,null,null,null,null,null,"Satz 2"]
[{"$f":"Select!$C$13","v":"1. April 2019"},null,null,null,null,null,null,null,null,"Satz 3",null,null,null,null,null,null,null,null,"Satz 3"]
["Datum",null,null,null,null,null,null,null,null,"wenn erforderlich",null,null,null,null,null,null,null,null,"wenn erforderlich"]
[null,null,null,null,null,null,null,null,null,"Satz 4",null,null,null,null,null,null,null,null,"Satz 4"]
[null,null,null,null,null,null,null,null,null,"wenn erforderlich",null,null,null,null,null,null,null,null,"wenn erforderlich"]
[{"$f":"'R32_Baum'!$D$59","v":"Markl Mario"},null,null,null,null,null,null,null,null,"Satz 5",null,null,null,null,null,null,null,null,"Satz 5"]
["Name",null,null,null,null,null,null,null,null,"wenn erforderlich",null,null,null,null,null,null,null,null,"wenn erforderlich"]
[{"$f":"'R32_Baum'!$F$59","v":"BSV Dakota"},null,null,null,null,null,null,null,null,"Stechen",null,null,null,null,null,null,null,null,"Stechen"]
["Verein",null,null,null,null,null,null,null,null,null,null,null,null,null,"gewonnen",null,null,null,null,null,null,null,null,"gewonnen"]
[{"$f":"Select!$C$18","v":"Recurve Herren"},null,null,null,null,null,null,null,null,"Schütze:",null,null,null,null,"verloren",null,null,null,"Schütze:",null,null,null,null,"verloren"]
["Bogenklasse"]
[null,null,null,null,null,null,null,null,null,"Gegner:",null,"Name:",{"$f":"'R32_Baum'!D60","v":"Hamedl Wolfgang"},null,null,null,null,null,"Gegner:",null,"Name:"]
[null,null,null,null,null,null,null,null,null,null,null,"Unterschrift:",null,null,null,null,null,null,null,null,"Unterschrift:"]
[]
[]
["1/4 Finale",null,null,null,{"$f":"'R32_Baum'!$M$79","v":"Scheibe: 4B"},null,null,null,null,"1/2 Finale",null,null,null,{"$f":"'R32_Baum'!$Q$75","v":"Scheibe: 4"},null,null,null,null,"1./2. od. 3./4. Platz",null,null,null,"Scheibe:"]
[null,1,2,3,"Summe","Punkte","Ges.",null,null,null,1,2,3,"Summe","Punkte","Ges.",null,null,null,1,2,3,"Summe","Punkte","Ges."]
["Satz 1",null,null,null,null,null,null,null,null,"Satz 1",null,null,null,null,null,null,null,null,"Satz 1"]
["Satz 2",null,null,null,null,null,null,null,null,"Satz 2",null,null,null,null,null,null,null,null,"Satz 2"]
["Satz 3",null,null,null,null,null,null,null,null,"Satz 3",null,null,null,null,null,null,null,null,"Satz 3"]
["wenn erforderlich",null,null,null,null,null,null,null,null,"wenn erforderlich",null,null,null,null,null,null,null,null,"wenn erforderlich"]
["Satz 4",null,null,null,null,null,null,null,null,"Satz 4",null,null,null,null,null,null,null,null,"Satz 4"]
["wenn erforderlich",null,null,null,null,null,null,null,null,"wenn erforderlich",null,null,null,null,null,null,null,null,"wenn erforderlich"]
["Satz 5",null,null,null,null,null,null,null,null,"Satz 5",null,null,null,null,null,null,null,null,"Satz 5"]
["wenn erforderlich",null,null,null,null,null,null,null,null,"wenn erforderlich",null,null,null,null,null,null,null,null,"wenn erforderlich"]
["Stechen",null,null,null,null,null,null,null,null,"Stechen",null,null,null,null,null,null,null,null,"Stechen"]
[null,null,null,null,null,"gewonnen",null,null,null,null,null,null,null,null,"gewonnen",null,null,null,null,null,null,null,null,"gewonnen"]
["Schütze:",null,null,null,null,"verloren",null,null,null,"Schütze:",null,null,null,null,"verloren",null,null,null,"Schütze:",null,null,null,null,"verloren"]
[]
["Gegner:",null,"Name:",null,null,null,null,null,null,"Gegner:",null,"Name:",null,null,null,null,null,null,"Gegner:",null,"Name:"]
[null,null,"Unterschrift:",null,null,null,null,null,null,null,null,"Unterschrift:",null,null,null,null,null,null,null,null,"Unterschrift:"]
[]
[]
[null,null,null,null,null,null,null,null,null,"1/16 Elimination",null,null,null,{"$f":"'R32_Baum'!$D$101","v":"Scheibe: 15B"},null,null,null,null,"1/8 Elimination",null,null,null,{"$f":"'R32_Baum'!$I$86","v":"Scheibe: 8A"}]
[null,null,null,null,null,null,null,null,null,null,1,2,3,"Summe","Punkte","Ges.",null,null,null,1,2,3,"Summe","Punkte","Ges."]
[{"$f":"Select!$C$12","v":"Demoturnier"},null,null,null,null,null,null,null,null,"Satz 1",null,null,null,null,null,null,null,null,"Satz 1"]
["Veranstaltung",null,null,null,null,null,null,null,null,"Satz 2",null,null,null,null,null,null,null,null,"Satz 2"]
[{"$f":"Select!$C$13","v":"1. April 2019"},null,null,null,null,null,null,null,null,"Satz 3",null,null,null,null,null,null,null,null,"Satz 3"]
["Datum",null,null,null,null,null,null,null,null,"wenn erforderlich",null,null,null,null,null,null,null,null,"wenn erforderlich"]
[null,null,null,null,null,null,null,null,null,"Satz 4",null,null,null,null,null,null,null,null,"Satz 4"]
[null,null,null,null,null,null,null,null,null,"wenn erforderlich",null,null,null,null,null,null,null,null,"wenn erforderlich"]
[{"$f":"'R32_Baum'!$D$60","v":"Hamedl Wolfgang"},null,null,null,null,null,null,null,null,"Satz 5",null,null,null,null,null,null,null,null,"Satz 5"]
["Name",null,null,null,null,null,null,null,null,"wenn erforderlich",null,null,null,null,null,null,null,null,"wenn erforderlich"]
[{"$f":"'R32_Baum'!$F$60","v":"PSV Burgenland - Sektion Bogen"},null,null,null,null,null,null,null,null,"Stechen",null,null,null,null,null,null,null,null,"Stechen"]
["Verein",null,null,null,null,null,null,null,null,null,null,null,null,null,"gewonnen",null,null,null,null,null,null,null,null,"gewonnen"]
[{"$f":"Select!$C$18","v":"Recurve Herren"},null,null,null,null,null,null,null,null,"Schütze:",null,null,null,null,"verloren",null,null,null,"Schütze:",null,null,null,null,"verloren"]
["Bogenklasse"]
[null,null,null,null,null,null,null,null,null,"Gegner:",null,"Name:",{"$f":"'R32_Baum'!D59","v":"Markl Mario"},null,null,null,null,null,"Gegner:",null,"Name:"]
[null,null,null,null,null,null,null,null,null,null,null,"Unterschrift:",null,null,null,null,null,null,null,null,"Unterschrift:"]
[]
[]
["1/4 Finale",null,null,null,{"$f":"'R32_Baum'!$M$79","v":"Scheibe: 4B"},null,null,null,null,"1/2 Finale",null,null,null,{"$f":"'R32_Baum'!$Q$75","v":"Scheibe: 4"},null,null,null,null,"1./2. od. 3./4. Platz",null,null,null,"Scheibe:"]
[null,1,2,3,"Summe","Punkte","Ges.",null,null,null,1,2,3,"Summe","Punkte","Ges.",null,null,null,1,2,3,"Summe","Punkte","Ges."]
["Satz 1",null,null,null,null,null,null,null,null,"Satz 1",null,null,null,null,null,null,null,null,"Satz 1"]
["Satz 2",null,null,null,null,null,null,null,null,"Satz 2",null,null,null,null,null,null,null,null,"Satz 2"]
["Satz 3",null,null,null,null,null,null,null,null,"Satz 3",null,null,null,null,null,null,null,null,"Satz 3"]
["wenn erforderlich",null,null,null,null,null,null,null,null,"wenn erforderlich",null,null,null,null,null,null,null,null,"wenn erforderlich"]
["Satz 4",null,null,null,null,null,null,null,null,"Satz 4",null,null,null,null,null,null,null,null,"Satz 4"]
["wenn erforderlich",null,null,null,null,null,null,null,null,"wenn erforderlich",null,null,null,null,null,null,null,null,"wenn erforderlich"]
["Satz 5",null,null,null,null,null,null,null,null,"Satz 5",null,null,null,null,null,null,null,null,"Satz 5"]
["wenn erforderlich",null,null,null,null,null,null,null,null,"wenn erforderlich",null,null,null,null,null,null,null,null,"wenn erforderlich"]
["Stechen",null,null,null,null,null,null,null,null,"Stechen",null,null,null,null,null,null,null,null,"Stechen"]
[null,null,null,null,null,"gewonnen",null,null,null,null,null,null,null,null,"gewonnen",null,null,null,null,null,null,null,null,"gewonnen"]
["Schütze:",null,null,null,null,"verloren",null,null,null,"Schütze:",null,null,null,null,"verloren",null,null,null,"Schütze:",null,null,null,null,"verloren"]
[]
["Gegner:",null,"Name:",null,null,null,null,null,null,"Gegner:",null,"Name:",null,null,null,null,null,null,"Gegner:",null,"Name:"]
[null,null,"Unterschrift:",null,null,null,null,null,null,null,null,"Unterschrift:",null,null,null,null,null,null,null,null,"Unterschrift:"]
[]
[]
[null,null,null,null,null,null,null,null,null,"1/16 Elimination",null,null,null,{"$f":"'R32_Baum'!$D$102","v":"Scheibe: 16A"},null,null,null,null,"1/8 Elimination",null,null,null,{"$f":"'R32_Baum'!$I$87","v":"Scheibe: 8B"}]
[null,null,null,null,null,null,null,null,null,null,1,2,3,"Summe","Punkte","Ges.",null,null,null,1,2,3,"Summe","Punkte","Ges."]
[{"$f":"Select!$C$12","v":"Demoturnier"},null,null,null,null,null,null,null,null,"Satz 1",null,null,null,null,null,null,null,null,"Satz 1"]
["Veranstaltung",null,null,null,null,null,null,null,null,"Satz 2",null,null,null,null,null,null,null,null,"Satz 2"]
[{"$f":"Select!$C$13","v":"1. April 2019"},null,null,null,null,null,null,null,null,"Satz 3",null,null,null,null,null,null,null,null,"Satz 3"]
["Datum",null,null,null,null,null,null,null,null,"wenn erforderlich",null,null,null,null,null,null,null,null,"wenn erforderlich"]
[null,null,null,null,null,null,null,null,null,"Satz 4",null,null,null,null,null,null,null,null,"Satz 4"]
[null,null,null,null,null,null,null,null,null,"wenn erforderlich",null,null,null,null,null,null,null,null,"wenn erforderlich"]
[{"$f":"'R32_Baum'!$D$63","v":"Klemke Harald"},null,null,null,null,null,null,null,null,"Satz 5",null,null,null,null,null,null,null,null,"Satz 5"]
["Name",null,null,null,null,null,null,null,null,"wenn erforderlich",null,null,null,null,null,null,null,null,"wenn erforderlich"]
[{"$f":"'R32_Baum'!$F$63","v":"BSV Mattersburg"},null,null,null,null,null,null,null,null,"Stechen",null,null,null,null,null,null,null,null,"Stechen"]
["Verein",null,null,null,null,null,null,null,null,null,null,null,null,null,"gewonnen",null,null,null,null,null,null,null,null,"gewonnen"]
[{"$f":"Select!$C$18","v":"Recurve Herren"},null,null,null,null,null,null,null,null,"Schütze:",null,null,null,null,"verloren",null,null,null,"Schütze:",null,null,null,null,"verloren"]
["Bogenklasse"]
[null,null,null,null,null,null,null,null,null,"Gegner:",null,"Name:",{"$f":"'R32_Baum'!D64","v":"Berger Hermann"},null,null,null,null,null,"Gegner:",null,"Name:"]
[null,null,null,null,null,null,null,null,null,null,null,"Unterschrift:",null,null,null,null,null,null,null,null,"Unterschrift:"]
[]
[]
["1/4 Finale",null,null,null,{"$f":"'R32_Baum'!$M$79","v":"Scheibe: 4B"},null,null,null,null,"1/2 Finale",null,null,null,{"$f":"'R32_Baum'!$Q$75","v":"Scheibe: 4"},null,null,null,null,"1./2. od. 3./4. Platz",null,null,null,"Scheibe:"]
[null,1,2,3,"Summe","Punkte","Ges.",null,null,null,1,2,3,"Summe","Punkte","Ges.",null,null,null,1,2,3,"Summe","Punkte","Ges."]
["Satz 1",null,null,null,null,null,null,null,null,"Satz 1",null,null,null,null,null,null,null,null,"Satz 1"]
["Satz 2",null,null,null,null,null,null,null,null,"Satz 2",null,null,null,null,null,null,null,null,"Satz 2"]
["Satz 3",null,null,null,null,null,null,null,null,"Satz 3",null,null,null,null,null,null,null,null,"Satz 3"]
["wenn erforderlich",null,null,null,null,null,null,null,null,"wenn erforderlich",null,null,null,null,null,null,null,null,"wenn erforderlich"]
["Satz 4",null,null,null,null,null,null,null,null,"Satz 4",null,null,null,null,null,null,null,null,"Satz 4"]
["wenn erforderlich",null,null,null,null,null,null,null,null,"wenn erforderlich",null,null,null,null,null,null,null,null,"wenn erforderlich"]
["Satz 5",null,null,null,null,null,null,null,null,"Satz 5",null,null,null,null,null,null,null,null,"Satz 5"]
["wenn erforderlich",null,null,null,null,null,null,null,null,"wenn erforderlich",null,null,null,null,null,null,null,null,"wenn erforderlich"]
["Stechen",null,null,null,null,null,null,null,null,"Stechen",null,null,null,null,null,null,null,null,"Stechen"]
[null,null,null,null,null,"gewonnen",null,null,null,null,null,null,null,null,"gewonnen",null,null,null,null,null,null,null,null,"gewonnen"]
["Schütze:",null,null,null,null,"verloren",null,null,null,"Schütze:",null,null,null,null,"verloren",null,null,null,"Schütze:",null,null,null,null,"verloren"]
[]
["Gegner:",null,"Name:",null,null,null,null,null,null,"Gegner:",null,"Name:",null,null,null,null,null,null,"Gegner:",null,"Name:"]
[null,null,"Unterschrift:",null,null,null,null,null,null,null,null,"Unterschrift:",null,null,null,null,null,null,null,null,"Unterschrift:"]
[]
[]
[null,null,null,null,null,null,null,null,null,"1/16 Elimination",null,null,null,{"$f":"'R32_Baum'!$D$103","v":"Scheibe: 16B"},null,null,null,null,"1/8 Elimination",null,null,null,{"$f":"'R32_Baum'!$I$87","v":"Scheibe: 8B"}]
[null,null,null,null,null,null,null,null,null,null,1,2,3,"Summe","Punkte","Ges.",null,null,null,1,2,3,"Summe","Punkte","Ges."]
[{"$f":"Select!$C$12","v":"Demoturnier"},null,null,null,null,null,null,null,null,"Satz 1",null,null,null,null,null,null,null,null,"Satz 1"]
["Veranstaltung",null,null,null,null,null,null,null,null,"Satz 2",null,null,null,null,null,null,null,null,"Satz 2"]
[{"$f":"Select!$C$13","v":"1. April 2019"},null,null,null,null,null,null,null,null,"Satz 3",null,null,null,null,null,null,null,null,"Satz 3"]
["Datum",null,null,null,null,null,null,null,null,"wenn erforderlich",null,null,null,null,null,null,null,null,"wenn erforderlich"]
[null,null,null,null,null,null,null,null,null,"Satz 4",null,null,null,null,null,null,null,null,"Satz 4"]
[null,null,null,null,null,null,null,null,null,"wenn erforderlich",null,null,null,null,null,null,null,null,"wenn erforderlich"]
[{"$f":"'R32_Baum'!$D$64","v":"Berger Hermann"},null,null,null,null,null,null,null,null,"Satz 5",null,null,null,null,null,null,null,null,"Satz 5"]
["Name",null,null,null,null,null,null,null,null,"wenn erforderlich",null,null,null,null,null,null,null,null,"wenn erforderlich"]
[{"$f":"'R32_Baum'!$F$64","v":"BSV Glemmerhof"},null,null,null,null,null,null,null,null,"Stechen",null,null,null,null,null,null,null,null,"Stechen"]
["Verein",null,null,null,null,null,null,null,null,null,null,null,null,null,"gewonnen",null,null,null,null,null,null,null,null,"gewonnen"]
[{"$f":"Select!$C$18","v":"Recurve Herren"},null,null,null,null,null,null,null,null,"Schütze:",null,null,null,null,"verloren",null,null,null,"Schütze:",null,null,null,null,"verloren"]
["Bogenklasse"]
[null,null,null,null,null,null,null,null,null,"Gegner:",null,"Name:",{"$f":"'R32_Baum'!D63","v":"Klemke Harald"},null,null,null,null,null,"Gegner:",null,"Name:"]
[null,null,null,null,null,null,null,null,null,null,null,"Unterschrift:",null,null,null,null,null,null,null,null,"Unterschrift:"]
[]
[]
["1/4 Finale",null,null,null,{"$f":"'R32_Baum'!$M$79","v":"Scheibe: 4B"},null,null,null,null,"1/2 Finale",null,null,null,{"$f":"'R32_Baum'!$Q$75","v":"Scheibe: 4"},null,null,null,null,"1./2. od. 3./4. Platz",null,null,null,"Scheibe:"]
[null,1,2,3,"Summe","Punkte","Ges.",null,null,null,1,2,3,"Summe","Punkte","Ges.",null,null,null,1,2,3,"Summe","Punkte","Ges."]
["Satz 1",null,null,null,null,null,null,null,null,"Satz 1",null,null,null,null,null,null,null,null,"Satz 1"]
["Satz 2",null,null,null,null,null,null,null,null,"Satz 2",null,null,null,null,null,null,null,null,"Satz 2"]
["Satz 3",null,null,null,null,null,null,null,null,"Satz 3",null,null,null,null,null,null,null,null,"Satz 3"]
["wenn erforderlich",null,null,null,null,null,null,null,null,"wenn erforderlich",null,null,null,null,null,null,null,null,"wenn erforderlich"]
["Satz 4",null,null,null,null,null,null,null,null,"Satz 4",null,null,null,null,null,null,null,null,"Satz 4"]
["wenn erforderlich",null,null,null,null,null,null,null,null,"wenn erforderlich",null,null,null,null,null,null,null,null,"wenn erforderlich"]
["Satz 5",null,null,null,null,null,null,null,null,"Satz 5",null,null,null,null,null,null,null,null,"Satz 5"]
["wenn erforderlich",null,null,null,null,null,null,null,null,"wenn erforderlich",null,null,null,null,null,null,null,null,"wenn erforderlich"]
["Stechen",null,null,null,null,null,null,null,null,"Stechen",null,null,null,null,null,null,null,null,"Stechen"]
[null,null,null,null,null,"gewonnen",null,null,null,null,null,null,null,null,"gewonnen",null,null,null,null,null,null,null,null,"gewonnen"]
["Schütze:",null,null,null,null,"verloren",null,null,null,"Schütze:",null,null,null,null,"verloren",null,null,null,"Schütze:",null,null,null,null,"verloren"]
[]
["Gegner:",null,"Name:",null,null,null,null,null,null,"Gegner:",null,"Name:",null,null,null,null,null,null,"Gegner:",null,"Name:"]
[null,null,"Unterschrift:",null,null,null,null,null,null,null,null,"Unterschrift:",null,null,null,null,null,null,null,null,"Unterschrift:"]

{"sheet":"R32_Ergebnis","index":5,"n_rows":41,"n_cols":19,"rows_kept":41,"cut":false,"hidden":true,"merged":[[6,11,6,18],[1,0,1,3],[1,4,1,9],[2,0,2,3],[4,0,4,9],[6,0,6,3]]}
[]
[{"$f":"Select!$C$12","v":"Demoturnier"},null,null,null,{"$f":"Select!C14","v":"WA-Outdoor"}]
[{"$f":"Select!C13","v":"1. April 2019"}]
[]
["Ergebnisliste"]
[]
[{"$f":"Select!C18","v":"Recurve Herren"},null,null,null,null,null,null,null,null,null,null,"!!!!!!!!!!!!!!!!!!!!!!!!!!  SORTIERBEREICH - NICHT ENTFERNEN !!!!!!!!!!!!!!!!!!!!!!!!!!"]
[]
["Pl.",null,"Name","Verein","Quali.","1/16","1/8","1/4","1/2","Finale",null,"SortName","SortVerein","SortQuali","Sort 1/16","Sort1/8","Sort1/4","Sort1/2","SortFinale"]
[{"$f":"IF(C10<>\"\",1,\"\")","v":""},null,null,null,null,null,null,null,null,null,null,{"$f":"'R32_Baum'!U7","v":""},{"$f":"VLOOKUP(L10,R_Quali!$C$10:$H$100,2,FALSE)","v":{"$error":"#N/A"}},{"$f":"VLOOKUP(L10,R_Quali!$C$10:$H$100,6,FALSE)","v":{"$error":"#N/A"}},{"$f":"VLOOKUP(L10,'R32_Baum'!$D$3:$G$64,4,FALSE)","v":{"$error":"#N/A"}},{"$f":"VLOOKUP(L10,'R32_Baum'!$I$5:$K$62,3,FALSE)","v":0},{"$f":"VLOOKUP(L10,'R32_Baum'!$M$9:$O$58,3,FALSE)","v":0},{"$f":"VLOOKUP(L10,'R32_Baum'!$Q$17:$S$50,3,FALSE)","v":0},{"$f":"VLOOKUP(L10,'R32_Baum'!$U$24:$W$42,3,FALSE)","v":0}]
[{"$f":"IF(C11<>\"\",A10+1,\"\")","v":""},null,null,null,null,null,null,null,null,null,null,{"$f":"'R32_Baum'!U9","v":""},{"$f":"VLOOKUP(L11,R_Quali!$C$10:$H$100,2,FALSE)","v":{"$error":"#N/A"}},{"$f":"VLOOKUP(L11,R_Quali!$C$10:$H$100,6,FALSE)","v":{"$error":"#N/A"}},{"$f":"VLOOKUP(L11,'R32_Baum'!$D$3:$G$64,4,FALSE)","v":{"$error":"#N/A"}},{"$f":"VLOOKUP(L11,'R32_Baum'!$I$5:$K$62,3,FALSE)","v":0},{"$f":"VLOOKUP(L11,'R32_Baum'!$M$9:$O$58,3,FALSE)","v":0},{"$f":"VLOOKUP(L11,'R32_Baum'!$Q$17:$S$50,3,FALSE)","v":0},{"$f":"VLOOKUP(L11,'R32_Baum'!$U$24:$W$42,3,FALSE)","v":0}]
["",null,null,null,null,null,null,null,null,null,null,{"$f":"'R32_Baum'!U11","v":""},{"$f":"VLOOKUP(L12,R_Quali!$C$10:$H$100,2,FALSE)","v":{"$error":"#N/A"}},{"$f":"VLOOKUP(L12,R_Quali!$C$10:$H$100,6,FALSE)","v":{"$error":"#N/A"}},{"$f":"VLOOKUP(L12,'R32_Baum'!$D$3:$G$64,4,FALSE)","v":{"$error":"#N/A"}},{"$f":"VLOOKUP(L12,'R32_Baum'!$I$5:$K$62,3,FALSE)","v":0},{"$f":"VLOOKUP(L12,'R32_Baum'!$M$9:$O$58,3,FALSE)","v":0},{"$f":"VLOOKUP(L12,'R32_Baum'!$Q$17:$S$50,3,FALSE)","v":0},{"$f":"VLOOKUP(L12,'R32_Baum'!$U$24:$W$42,3,FALSE)","v":0}]
["",null,null,null,null,null,null,null,null,null,null,{"$f":"IF('R32_Baum'!U11='R32_Baum'!U41,'R32_Baum'!U42,'R32_Baum'!U41)","v":""},{"$f":"VLOOKUP(L13,R_Quali!$C$10:$H$100,2,FALSE)","v":{"$error":"#N/A"}},{"$f":"VLOOKUP(L13,R_Quali!$C$10:$H$100,6,FALSE)","v":{"$error":"#N/A"}},{"$f":"VLOOKUP(L13,'R32_Baum'!$D$3:$G$64,4,FALSE)","v":{"$error":"#N/A"}},{"$f":"VLOOKUP(L13,'R32_Baum'!$I$5:$K$62,3,FALSE)","v":0},{"$f":"VLOOKUP(L13,'R32_Baum'!$M$9:$O$58,3,FALSE)","v":0},{"$f":"VLOOKUP(L13,'R32_Baum'!$Q$17:$S$50,3,FALSE)","v":0},{"$f":"VLOOKUP(L13,'R32_Baum'!$U$24:$W$42,3,FALSE)","v":0}]
["",null,null,null,null,null,null,null,null,null,null,{"$f":"IF('R32_Baum'!Q17='R32_Baum'!M9,'R32_Baum'!M10,'R32_Baum'!M9)","v":""},{"$f":"VLOOKUP(L14,R_Quali!$C$10:$H$100,2,FALSE)","v":{"$error":"#N/A"}},{"$f":"VLOOKUP(L14,R_Quali!$C$10:$H$100,6,FALSE)","v":{"$error":"#N/A"}},{"$f":"VLOOKUP(L14,'R32_Baum'!$D$3:$G$64,4,FALSE)","v":{"$error":"#N/A"}},{"$f":"VLOOKUP(L14,'R32_Baum'!$I$5:$K$62,3,FALSE)","v":0},{"$f":"VLOOKUP(L14,'R32_Baum'!$M$9:$O$58,3,FALSE)","v":0}]
["",null,null,null,null,null,null,null,null,null,null,{"$f":"IF('R32_Baum'!Q18='R32_Baum'!M25,'R32_Baum'!M26,'R32_Baum'!M25)","v":""},{"$f":"VLOOKUP(L15,R_Quali!$C$10:$H$100,2,FALSE)","v":{"$error":"#N/A"}},{"$f":"VLOOKUP(L15,R_Quali!$C$10:$H$100,6,FALSE)","v":{"$error":"#N/A"}},{"$f":"VLOOKUP(L15,'R32_Baum'!$D$3:$G$64,4,FALSE)","v":{"$error":"#N/A"}},{"$f":"VLOOKUP(L15,'R32_Baum'!$I$5:$K$62,3,FALSE)","v":0},{"$f":"VLOOKUP(L15,'R32_Baum'!$M$9:$O$58,3,FALSE)","v":0}]
["",null,null,null,null,null,null,null,null,null,null,{"$f":"IF('R32_Baum'!Q49='R32_Baum'!M41,'R32_Baum'!M42,'R32_Baum'!M41)","v":""},{"$f":"VLOOKUP(L16,R_Quali!$C$10:$H$100,2,FALSE)","v":{"$error":"#N/A"}},{"$f":"VLOOKUP(L16,R_Quali!$C$10:$H$100,6,FALSE)","v":{"$error":"#N/A"}},{"$f":"VLOOKUP(L16,'R32_Baum'!$D$3:$G$64,4,FALSE)","v":{"$error":"#N/A"}},{"$f":"VLOOKUP(L16,'R32_Baum'!$I$5:$K$62,3,FALSE)","v":0},{"$f":"VLOOKUP(L16,'R32_Baum'!$M$9:$O$58,3,FALSE)","v":0}]
["",null,null,null,null,null,null,null,null,null,null,{"$f":"IF('R32_Baum'!Q50='R32_Baum'!M57,'R32_Baum'!M58,'R32_Baum'!M57)","v":""},{"$f":"VLOOKUP(L17,R_Quali!$C$10:$H$100,2,FALSE)","v":{"$error":"#N/A"}},{"$f":"VLOOKUP(L17,R_Quali!$C$10:$H$100,6,FALSE)","v":{"$error":"#N/A"}},{"$f":"VLOOKUP(L17,'R32_Baum'!$D$3:$G$64,4,FALSE)","v":{"$error":"#N/A"}},{"$f":"VLOOKUP(L17,'R32_Baum'!$I$5:$K$62,3,FALSE)","v":0},{"$f":"VLOOKUP(L17,'R32_Baum'!$M$9:$O$58,3,FALSE)","v":0}]
["",null,null,null,null,null,null,null,null,null,null,{"$f":"IF('R32_Baum'!M9='R32_Baum'!I5,'R32_Baum'!I6,'R32_Baum'!I5)","v":""},{"$f":"VLOOKUP(L18,R_Quali!$C$10:$H$100,2,FALSE)","v":{"$error":"#N/A"}},{"$f":"VLOOKUP(L18,R_Quali!$C$10:$H$100,6,FALSE)","v":{"$error":"#N/A"}},{"$f":"VLOOKUP(L18,'R32_Baum'!$D$3:$G$64,4,FALSE)","v":{"$error":"#N/A"}},{"$f":"VLOOKUP(L18,'R32_Baum'!$I$5:$K$62,3,FALSE)","v":0}]
["",null,null,null,null,null,null,null,null,null,null,{"$f":"IF('R32_Baum'!M10='R32_Baum'!I13,'R32_Baum'!I14,'R32_Baum'!I13)","v":""},{"$f":"VLOOKUP(L19,R_Quali!$C$10:$H$100,2,FALSE)","v":{"$error":"#N/A"}},{"$f":"VLOOKUP(L19,R_Quali!$C$10:$H$100,6,FALSE)","v":{"$error":"#N/A"}},{"$f":"VLOOKUP(L19,'R32_Baum'!$D$3:$G$64,4,FALSE)","v":{"$error":"#N/A"}},{"$f":"VLOOKUP(L19,'R32_Baum'!$I$5:$K$62,3,FALSE)","v":0}]
["",null,null,null,null,null,null,null,null,null,null,{"$f":"IF('R32_Baum'!M25='R32_Baum'!I21,'R32_Baum'!I22,'R32_Baum'!I21)","v":""},{"$f":"VLOOKUP(L20,R_Quali!$C$10:$H$100,2,FALSE)","v":{"$error":"#N/A"}},{"$f":"VLOOKUP(L20,R_Quali!$C$10:$H$100,6,FALSE)","v":{"$error":"#N/A"}},{"$f":"VLOOKUP(L20,'R32_Baum'!$D$3:$G$64,4,FALSE)","v":{"$error":"#N/A"}},{"$f":"VLOOKUP(L20,'R32_Baum'!$I$5:$K$62,3,FALSE)","v":0}]
["",null,null,null,null,null,null,null,null,null,null,{"$f":"IF('R32_Baum'!M26='R32_Baum'!I29,'R32_Baum'!I30,'R32_Baum'!I29)","v":""},{"$f":"VLOOKUP(L21,R_Quali!$C$10:$H$100,2,FALSE)","v":{"$error":"#N/A"}},{"$f":"VLOOKUP(L21,R_Quali!$C$10:$H$100,6,FALSE)","v":{"$error":"#N/A"}},{"$f":"VLOOKUP(L21,'R32_Baum'!$D$3:$G$64,4,FALSE)","v":{"$error":"#N/A"}},{"$f":"VLOOKUP(L21,'R32_Baum'!$I$5:$K$62,3,FALSE)","v":0}]
["",null,null,null,null,null,null,null,null,null,null,{"$f":"IF('R32_Baum'!M41='R32_Baum'!I37,'R32_Baum'!I38,'R32_Baum'!I37)","v":""},{"$f":"VLOOKUP(L22,R_Quali!$C$10:$H$100,2,FALSE)","v":{"$error":"#N/A"}},{"$f":"VLOOKUP(L22,R_Quali!$C$10:$H$100,6,FALSE)","v":{"$error":"#N/A"}},{"$f":"VLOOKUP(L22,'R32_Baum'!$D$3:$G$64,4,FALSE)","v":{"$error":"#N/A"}},{"$f":"VLOOKUP(L22,'R32_Baum'!$I$5:$K$62,3,FALSE)","v":0}]
["",null,null,null,null,null,null,null,null,null,null,{"$f":"IF('R32_Baum'!M42='R32_Baum'!I45,'R32_Baum'!I46,'R32_Baum'!I45)","v":""},{"$f":"VLOOKUP(L23,R_Quali!$C$10:$H$100,2,FALSE)","v":{"$error":"#N/A"}},{"$f":"VLOOKUP(L23,R_Quali!$C$10:$H$100,6,FALSE)","v":{"$error":"#N/A"}},{"$f":"VLOOKUP(L23,'R32_Baum'!$D$3:$G$64,4,FALSE)","v":{"$error":"#N/A"}},{"$f":"VLOOKUP(L23,'R32_Baum'!$I$5:$K$62,3,FALSE)","v":0}]
["",null,null,null,null,null,null,null,null,null,null,{"$f":"IF('R32_Baum'!M57='R32_Baum'!I53,'R32_Baum'!I54,'R32_Baum'!I53)","v":""},{"$f":"VLOOKUP(L24,R_Quali!$C$10:$H$100,2,FALSE)","v":{"$error":"#N/A"}},{"$f":"VLOOKUP(L24,R_Quali!$C$10:$H$100,6,FALSE)","v":{"$error":"#N/A"}},{"$f":"VLOOKUP(L24,'R32_Baum'!$D$3:$G$64,4,FALSE)","v":{"$error":"#N/A"}},{"$f":"VLOOKUP(L24,'R32_Baum'!$I$5:$K$62,3,FALSE)","v":0}]
["",null,null,null,null,null,null,null,null,null,null,{"$f":"IF('R32_Baum'!M58='R32_Baum'!I61,'R32_Baum'!I62,'R32_Baum'!I61)","v":""},{"$f":"VLOOKUP(L25,R_Quali!$C$10:$H$100,2,FALSE)","v":{"$error":"#N/A"}},{"$f":"VLOOKUP(L25,R_Quali!$C$10:$H$100,6,FALSE)","v":{"$error":"#N/A"}},{"$f":"VLOOKUP(L25,'R32_Baum'!$D$3:$G$64,4,FALSE)","v":{"$error":"#N/A"}},{"$f":"VLOOKUP(L25,'R32_Baum'!$I$5:$K$62,3,FALSE)","v":0}]
["",null,null,null,null,null,null,null,null,null,null,{"$f":"IF('R32_Baum'!I6='R32_Baum'!D7,'R32_Baum'!D8,'R32_Baum'!D7)","v":"Schweiger Peter"},{"$f":"VLOOKUP(L26,R_Quali!$C$10:$H$100,2,FALSE)","v":"BSV-Blumental"},{"$f":"VLOOKUP(L26,R_Quali!$C$10:$H$100,6,FALSE)","v":516},{"$f":"VLOOKUP(L26,'R32_Baum'!$D$3:$G$64,4,FALSE)","v":0}]
["",null,null,null,null,null,null,null,null,null,null,{"$f":"IF('R32_Baum'!I13='R32_Baum'!D11,'R32_Baum'!D12,'R32_Baum'!D11)","v":"Traxler Helmuth"},{"$f":"VLOOKUP(L27,R_Quali!$C$10:$H$100,2,FALSE)","v":"UBC Diana NÖ"},{"$f":"VLOOKUP(L27,R_Quali!$C$10:$H$100,6,FALSE)","v":524},{"$f":"VLOOKUP(L27,'R32_Baum'!$D$3:$G$64,4,FALSE)","v":0}]
["",null,null,null,null,null,null,null,null,null,null,{"$f":"IF('R32_Baum'!I14='R32_Baum'!D15,'R32_Baum'!D16,'R32_Baum'!D15)","v":"Wallner Ewald"},{"$f":"VLOOKUP(L28,R_Quali!$C$10:$H$100,2,FALSE)","v":"BSC Sölkpass"},{"$f":"VLOOKUP(L28,R_Quali!$C$10:$H$100,6,FALSE)","v":508},{"$f":"VLOOKUP(L28,'R32_Baum'!$D$3:$G$64,4,FALSE)","v":0}]
["",null,null,null,null,null,null,null,null,null,null,{"$f":"IF('R32_Baum'!I21='R32_Baum'!D19,'R32_Baum'!D20,'R32_Baum'!D19)","v":"Höllwirth Andreas"},{"$f":"VLOOKUP(L29,R_Quali!$C$10:$H$100,2,FALSE)","v":"ASKÖ-Luftenberg"},{"$f":"VLOOKUP(L29,R_Quali!$C$10:$H$100,6,FALSE)","v":528},{"$f":"VLOOKUP(L29,'R32_Baum'!$D$3:$G$64,4,FALSE)","v":0}]
["",null,null,null,null,null,null,null,null,null,null,{"$f":"IF('R32_Baum'!I22='R32_Baum'!D23,'R32_Baum'!D24,'R32_Baum'!D23)","v":"Pupetschek Manfred"},{"$f":"VLOOKUP(L30,R_Quali!$C$10:$H$100,2,FALSE)","v":"IHG Sektion Bogen"},{"$f":"VLOOKUP(L30,R_Quali!$C$10:$H$100,6,FALSE)","v":512},{"$f":"VLOOKUP(L30,'R32_Baum'!$D$3:$G$64,4,FALSE)","v":0}]
["",null,null,null,null,null,null,null,null,null,null,{"$f":"IF('R32_Baum'!I29='R32_Baum'!D27,'R32_Baum'!D28,'R32_Baum'!D27)","v":"Jandl Ernst"},{"$f":"VLOOKUP(L31,R_Quali!$C$10:$H$100,2,FALSE)","v":"PSV Burgenland - Sektion Bogen"},{"$f":"VLOOKUP(L31,R_Quali!$C$10:$H$100,6,FALSE)","v":520},{"$f":"VLOOKUP(L31,'R32_Baum'!$D$3:$G$64,4,FALSE)","v":0}]
["",null,null,null,null,null,null,null,null,null,null,{"$f":"IF('R32_Baum'!I38='R32_Baum'!D39,'R32_Baum'!D40,'R32_Baum'!D39)","v":"Winkler Klaus"},{"$f":"VLOOKUP(L32,R_Quali!$C$10:$H$100,2,FALSE)","v":"BSC Enzenreith"},{"$f":"VLOOKUP(L32,R_Quali!$C$10:$H$100,6,FALSE)","v":514},{"$f":"VLOOKUP(L32,'R32_Baum'!$D$3:$G$64,4,FALSE)","v":0}]
["",null,null,null,null,null,null,null,null,null,null,{"$f":"IF('R32_Baum'!I45='R32_Baum'!D43,'R32_Baum'!D44,'R32_Baum'!D43)","v":"Reicher Ernst"},{"$f":"VLOOKUP(L33,R_Quali!$C$10:$H$100,2,FALSE)","v":"BSC Wörthersee"},{"$f":"VLOOKUP(L33,R_Quali!$C$10:$H$100,6,FALSE)","v":522},{"$f":"VLOOKUP(L33,'R32_Baum'!$D$3:$G$64,4,FALSE)","v":0}]
[{"$f":"IF(C34<>\"\",A33+1,\"\")","v":""},null,null,null,null,null,null,null,null,null,null,{"$f":"IF('R32_Baum'!I46='R32_Baum'!D47,'R32_Baum'!D48,'R32_Baum'!D47)","v":"Radauer Helmuth"},{"$f":"VLOOKUP(L34,R_Quali!$C$10:$H$100,2,FALSE)","v":"BSC Ennstal"},{"$f":"VLOOKUP(L34,R_Quali!$C$10:$H$100,6,FALSE)","v":506},{"$f":"VLOOKUP(L34,'R32_Baum'!$D$3:$G$64,4,FALSE)","v":0}]
[{"$f":"IF(C35<>\"\",A34+1,\"\")","v":""},null,null,null,null,null,null,null,null,null,null,{"$f":"IF('R32_Baum'!I53='R32_Baum'!D51,'R32_Baum'!D52,'R32_Baum'!D51)","v":"Bucher Martin"},{"$f":"VLOOKUP(L35,R_Quali!$C$10:$H$100,2,FALSE)","v":"LH Graz"},{"$f":"VLOOKUP(L35,R_Quali!$C$10:$H$100,6,FALSE)","v":526},{"$f":"VLOOKUP(L35,'R32_Baum'!$D$3:$G$64,4,FALSE)","v":0}]
[{"$f":"IF(C36<>\"\",A35+1,\"\")","v":""},null,null,null,null,null,null,null,null,null,null,{"$f":"IF('R32_Baum'!I54='R32_Baum'!D55,'R32_Baum'!D56,'R32_Baum'!D55)","v":"Kutmon Wilhelm"},{"$f":"VLOOKUP(L36,R_Quali!$C$10:$H$100,2,FALSE)","v":"BS Ligist - Archery Freaks"},{"$f":"VLOOKUP(L36,R_Quali!$C$10:$H$100,6,FALSE)","v":510},{"$f":"VLOOKUP(L36,'R32_Baum'!$D$3:$G$64,4,FALSE)","v":0}]
[{"$f":"IF(C37<>\"\",A36+1,\"\")","v":""},null,null,null,null,null,null,null,null,null,null,{"$f":"IF('R32_Baum'!I61='R32_Baum'!D59,'R32_Baum'!D60,'R32_Baum'!D59)","v":"Markl Mario"},{"$f":"VLOOKUP(L37,R_Quali!$C$10:$H$100,2,FALSE)","v":"BSV Dakota"},{"$f":"VLOOKUP(L37,R_Quali!$C$10:$H$100,6,FALSE)","v":518},{"$f":"VLOOKUP(L37,'R32_Baum'!$D$3:$G$64,4,FALSE)","v":0}]
[{"$f":"IF(C38<>\"\",A37+1,\"\")","v":""},null,null,null,null,null,null,null,null,null,null,{"$f":"IF('R32_Baum'!I5='R32_Baum'!D3,'R32_Baum'!D4,'R32_Baum'!D3)","v":"Url Günter"},{"$f":"VLOOKUP(L38,R_Quali!$C$10:$H$100,2,FALSE)","v":"BSC-Wolfspfeil Raab-Holzer"},{"$f":"VLOOKUP(L38,R_Quali!$C$10:$H$100,6,FALSE)","v":532},{"$f":"VLOOKUP(L38,'R32_Baum'!$D$3:$G$64,4,FALSE)","v":0}]
["",null,null,null,null,null,null,null,null,null,null,{"$f":"IF('R32_Baum'!I30='R32_Baum'!D31,'R32_Baum'!D32,'R32_Baum'!D31)","v":"Simmer Gerhard"},{"$f":"VLOOKUP(L39,R_Quali!$C$10:$H$100,2,FALSE)","v":"Union Bogensport Haag"},{"$f":"VLOOKUP(L39,R_Quali!$C$10:$H$100,6,FALSE)","v":504},{"$f":"VLOOKUP(L39,'R32_Baum'!$D$3:$G$64,4,FALSE)","v":0}]
["",null,null,null,null,null,null,null,null,null,null,{"$f":"IF('R32_Baum'!I37='R32_Baum'!D35,'R32_Baum'!D36,'R32_Baum'!D35)","v":"Strohmaier Joachim"},{"$f":"VLOOKUP(L40,R_Quali!$C$10:$H$100,2,FALSE)","v":"BSC Kumberg"},{"$f":"VLOOKUP(L40,R_Quali!$C$10:$H$100,6,FALSE)","v":530},{"$f":"VLOOKUP(L40,'R32_Baum'!$D$3:$G$64,4,FALSE)","v":0}]
["",null,null,null,null,null,null,null,null,null,null,{"$f":"IF('R32_Baum'!I62='R32_Baum'!D63,'R32_Baum'!D64,'R32_Baum'!D63)","v":"Klemke Harald"},{"$f":"VLOOKUP(L41,R_Quali!$C$10:$H$100,2,FALSE)","v":"BSV Mattersburg"},{"$f":"VLOOKUP(L41,R_Quali!$C$10:$H$100,6,FALSE)","v":502},{"$f":"VLOOKUP(L41,'R32_Baum'!$D$3:$G$64,4,FALSE)","v":0}]

{"sheet":"R28_Baum","index":6,"n_rows":103,"n_cols":28,"rows_kept":103,"cut":false,"hidden":true,"merged":[[10,20,11,21],[53,16,54,18],[65,10,66,16],[22,16,23,17],[24,16,25,17],[63,20,64,21],[63,19,64,19],[65,2,66,6],[64,7,65,9],[60,12,61,14],[1,13,2,22],[3,13,4,22],[52,20,53,22],[39,16,40,17],[41,16,42,17],[6,19,7,19],[6,22,7,22],[8,22,9,22],[10,22,11,22],[8,19,9,19],[10,19,11,19],[6,20,7,21],[8,20,9,21]]}
[]
[null,"Schb.","Qual.","Name","Land","Verein","Erg.",null,null,null,null,null,null,{"$f":"Select!C12","v":"Demoturnier"}]
[1,null,{"$f":"R_Quali!H10","v":532},{"$f":"R_Quali!C10","v":"Url Günter"},{"$f":"R_Quali!E10","v":"ST"},{"$f":"R_Quali!D10","v":"BSC-Wolfspfeil Raab-Holzer"},"*"]
[null,null,null,null,null,null,null,"Schb","Name","Land","Erg.",null,null,{"$f":"Select!C13","v":"1. April 2019"}]
[null,null,null,null,null,null,null,{"$f":"J72","v":"1A"},{"$f":"IF($G3>$G4,$D3,IF($G4>$G3,$D4,IF(RIGHT($G3,1)=\"*\",$D3,IF(RIGHT($G4,1)=\"*\",$D4,\"\"))))","v":"Url Günter"},{"$f":"IF($G3>$G4,$E3,IF($G4>$G3,$E4,IF(RIGHT($G3,1)=\"*\",$E3,IF(RIGHT($G4,1)=\"*\",$E4,\"\"))))","v":"ST"}]
[null,null,null,null,null,null,null,{"$f":"J73","v":"1B"},{"$f":"IF($G7>$G8,$D7,IF($G8>$G7,$D8,IF(RIGHT($G7,1)=\"*\",$D7,IF(RIGHT($G8,1)=\"*\",$D8,\"\"))))","v":""},{"$f":"IF($G7>$G8,$E7,IF($G8>$G7,$E8,IF(RIGHT($G7,1)=\"*\",$E7,IF(RIGHT($G8,1)=\"*\",$E8,\"\"))))","v":""}]
[17,{"$f":"E72","v":"1A"},{"$f":"R_Quali!H26","v":516},{"$f":"R_Quali!C26","v":"Schweiger Peter"},{"$f":"R_Quali!E26","v":"ST"},{"$f":"R_Quali!D26","v":"BSV-Blumental"},null,null,null,null,null,null,null,null,null,null,null,null,null,"1.",{"$f":"IF($W$24>$W$25,$U$24,IF($W$25>$W$24,$U$25,IF(RIGHT($W$24,1)=\"*\",$U$24,IF(RIGHT($W$25,1)=\"*\",$U$25,\"\"))))","v":""},null,{"$f":"IF($W$24>$W$25,$V$24,IF($W$25>$W$24,$V$25,IF(RIGHT($W$24,1)=\"*\",$V$24,IF(RIGHT($W$25,1)=\"*\",$V$25,\"\"))))","v":""}]
[16,{"$f":"E73","v":"1B"},{"$f":"R_Quali!H25","v":517},{"$f":"R_Quali!C25","v":"Lackner Uwe"},{"$f":"R_Quali!E25","v":"ST"},{"$f":"R_Quali!D25","v":"LH Graz"},null,null,null,null,null,"Schb","Name","Land","Erg."]
[null,null,null,null,null,null,null,null,null,null,null,{"$f":"N72","v":1},{"$f":"IF($K5>$K6,$I5,IF($K6>$K5,$I6,IF(RIGHT($K5,1)=\"*\",$I5,IF(RIGHT($K6,1)=\"*\",$I6,\"\"))))","v":""},{"$f":"IF($K5>$K6,$J5,IF($K6>$K5,$J6,IF(RIGHT($K5,1)=\"*\",$J5,IF(RIGHT($K6,1)=\"*\",$J6,\"\"))))","v":""},null,null,null,null,null,"2.",{"$f":"IF($W$24<$W$25,$U$24,IF($W$25<$W$24,$U$25,IF(RIGHT($W$25,1)=\"*\",$U$24,IF(RIGHT($W$24,1)=\"*\",$U$25,\"\"))))","v":""},null,{"$f":"IF($W$24<$W$25,$V$24,IF($W$25<$W$24,$V$25,IF(RIGHT($W$25,1)=\"*\",$V$24,IF(RIGHT($W$24,1)=\"*\",$V$25,\"\"))))","v":""}]
[null,null,null,null,null,null,null,null,null,null,null,{"$f":"N73","v":2},{"$f":"IF($K13>$K14,$I13,IF($K14>$K13,$I14,IF(RIGHT($K13,1)=\"*\",$I13,IF(RIGHT($K14,1)=\"*\",$I14,\"\"))))","v":""},{"$f":"IF($K13>$K14,$J13,IF($K14>$K13,$J14,IF(RIGHT($K13,1)=\"*\",$J13,IF(RIGHT($K14,1)=\"*\",$J14,\"\"))))","v":""}]
[9,{"$f":"E74","v":"2A"},{"$f":"R_Quali!H18","v":524},{"$f":"R_Quali!C18","v":"Traxler Helmuth"},{"$f":"R_Quali!E18","v":"NÖ"},{"$f":"R_Quali!D18","v":"UBC Diana NÖ"},null,null,null,null,null,null,null,null,null,null,null,null,null,"3.",{"$f":"IF($W$41>$W$42,$U$41,IF($W$42>$W$41,$U$42,IF(RIGHT($W$41,1)=\"*\",$U$41,IF(RIGHT($W$42,1)=\"*\",$U$42,\"\"))))","v":""},null,{"$f":"IF($W$41>$W$42,$V$41,IF($W$42>$W$41,$V$42,IF(RIGHT($W$41,1)=\"*\",$V$41,IF(RIGHT($W$42,1)=\"*\",$V$42,\"\"))))","v":""}]
[24,{"$f":"E75","v":"2B"},{"$f":"R_Quali!H33","v":509},{"$f":"R_Quali!C33","v":"Eidenberger Karl"},{"$f":"R_Quali!E33","v":"B"},{"$f":"R_Quali!D33","v":"PSV Burgenland - Sektion Bogen"}]
[null,null,null,null,null,null,null,{"$f":"J74","v":"2A"},{"$f":"IF($G11>$G12,$D11,IF($G12>$G11,$D12,IF(RIGHT($G11,1)=\"*\",$D11,IF(RIGHT($G12,1)=\"*\",$D12,\"\"))))","v":""},{"$f":"IF($G11>$G12,$E11,IF($G12>$G11,$E12,IF(RIGHT($G11,1)=\"*\",$E11,IF(RIGHT($G12,1)=\"*\",$E12,\"\"))))","v":""}]
[null,null,null,null,null,null,null,{"$f":"J75","v":"2B"},{"$f":"IF($G15>$G16,$D15,IF($G16>$G15,$D16,IF(RIGHT($G15,1)=\"*\",$D15,IF(RIGHT($G16,1)=\"*\",$D16,\"\"))))","v":""},{"$f":"IF($G15>$G16,$E15,IF($G16>$G15,$E16,IF(RIGHT($G15,1)=\"*\",$E15,IF(RIGHT($G16,1)=\"*\",$E16,\"\"))))","v":""}]
[25,{"$f":"E76","v":"3A"},{"$f":"R_Quali!H34","v":508},{"$f":"R_Quali!C34","v":"Wallner Ewald"},{"$f":"R_Quali!E34","v":"ST"},{"$f":"R_Quali!D34","v":"BSC Sölkpass"}]
[8,{"$f":"E77","v":"3B"},{"$f":"R_Quali!H17","v":525},{"$f":"R_Quali!C17","v":"Robl Ronald"},{"$f":"R_Quali!E17","v":"NÖ"},{"$f":"R_Quali!D17","v":"Austrian Free Archer"},null,null,null,null,null,null,null,null,null,"Schb","Name","Land","Erg."]
[null,null,null,null,null,null,null,null,null,null,null,null,null,null,null,{"$f":"R72","v":1},{"$f":"IF($O9>$O10,$M9,IF($O10>$O9,$M10,IF(RIGHT($O9,1)=\"*\",$M9,IF(RIGHT($O10,1)=\"*\",$M10,\"\"))))","v":""},{"$f":"IF($O9>$O10,$N9,IF($O10>$O9,$N10,IF(RIGHT($O9,1)=\"*\",$N9,IF(RIGHT($O10,1)=\"*\",$N10,\"\"))))","v":""}]
[null,null,null,null,null,null,null,null,null,null,null,null,null,null,null,{"$f":"R73","v":2},{"$f":"IF($O25>$O26,$M25,IF($O26>$O25,$M26,IF(RIGHT($O25,1)=\"*\",$M25,IF(RIGHT($O26,1)=\"*\",$M26,\"\"))))","v":""},{"$f":"IF($O25>$O26,$N25,IF($O26>$O25,$N26,IF(RIGHT($O25,1)=\"*\",$N25,IF(RIGHT($O26,1)=\"*\",$N26,\"\"))))","v":""}]
[5,{"$f":"E78","v":"4A"},{"$f":"R_Quali!H14","v":528},{"$f":"R_Quali!C14","v":"Höllwirth Andreas"},{"$f":"R_Quali!E14","v":"OÖ"},{"$f":"R_Quali!D14","v":"ASKÖ-Luftenberg"}]
[28,{"$f":"E79","v":"4B"},{"$f":"R_Quali!H37","v":505},{"$f":"R_Quali!C37","v":"Eberle Roland"},{"$f":"R_Quali!E37","v":"NÖ"},{"$f":"R_Quali!D37","v":"Austrian Free Archer"}]
[null,null,null,null,null,null,null,{"$f":"J76","v":"3A"},{"$f":"IF($G19>$G20,$D19,IF($G20>$G19,$D20,IF(RIGHT($G19,1)=\"*\",$D19,IF(RIGHT($G20,1)=\"*\",$D20,\"\"))))","v":""},{"$f":"IF($G19>$G20,$E19,IF($G20>$G19,$E20,IF(RIGHT($G19,1)=\"*\",$E19,IF(RIGHT($G20,1)=\"*\",$E20,\"\"))))","v":""}]
[null,null,null,null,null,null,null,{"$f":"J77","v":"3B"},{"$f":"IF($G23>$G24,$D23,IF($G24>$G23,$D24,IF(RIGHT($G23,1)=\"*\",$D23,IF(RIGHT($G24,1)=\"*\",$D24,\"\"))))","v":""},{"$f":"IF($G23>$G24,$E23,IF($G24>$G23,$E24,IF(RIGHT($G23,1)=\"*\",$E23,IF(RIGHT($G24,1)=\"*\",$E24,\"\"))))","v":""}]
[21,{"$f":"E80","v":"5A"},{"$f":"R_Quali!H30","v":512},{"$f":"R_Quali!C30","v":"Pupetschek Manfred"},{"$f":"R_Quali!E30","v":"T"},{"$f":"R_Quali!D30","v":"IHG Sektion Bogen"},null,null,null,null,null,null,null,null,null,null,"Finale",null,null,"Schb","Name","Land","Erg."]
[12,{"$f":"E81","v":"5B"},{"$f":"R_Quali!H21","v":521},{"$f":"R_Quali!C21","v":"Bauer Helfried"},{"$f":"R_Quali!E21","v":"NÖ"},{"$f":"R_Quali!D21","v":"Austrian Free Archer"},null,null,null,null,null,null,null,null,null,null,null,null,null,{"$f":"V72","v":1},{"$f":"IF($S17>$S18,$Q17,IF($S18>$S17,$Q18,IF(RIGHT($S17,1)=\"*\",$Q17,IF(RIGHT($S18,1)=\"*\",$Q18,\"\"))))","v":""},{"$f":"IF($S17>$S18,$R17,IF($S18>$S17,$R18,IF(RIGHT($S17,1)=\"*\",$R17,IF(RIGHT($S18,1)=\"*\",$R18,\"\"))))","v":""},null,null,null,null,{"$f":"IF($S17>$S18,$Q17,IF($S18>$S17,$Q18,IF(RIGHT($S17,1)=\"*\",$Q17,IF(RIGHT($S18,1)=\"*\",$Q18,\"\"))))","v":""},{"$f":"IF($S17>$S18,$R17,IF($S18>$S17,$R18,IF(RIGHT($S17,1)=\"*\",$R17,IF(RIGHT($S18,1)=\"*\",$R18,\"\"))))","v":""}]
[null,null,null,null,null,null,null,null,null,null,null,{"$f":"N74","v":3},{"$f":"IF($K21>$K22,$I21,IF($K22>$K21,$I22,IF(RIGHT($K21,1)=\"*\",$I21,IF(RIGHT($K22,1)=\"*\",$I22,\"\"))))","v":""},{"$f":"IF($K21>$K22,$J21,IF($K22>$K21,$J22,IF(RIGHT($K21,1)=\"*\",$J21,IF(RIGHT($K22,1)=\"*\",$J22,\"\"))))","v":""},null,null,"1. und 2. Platz",null,null,{"$f":"V73","v":2},{"$f":"IF($S49>$S50,$Q49,IF($S50>$S49,$Q50,IF(RIGHT($S49,1)=\"*\",$Q49,IF(RIGHT($S50,1)=\"*\",$Q50,\"\"))))","v":""},{"$f":"IF($S49>$S50,$R49,IF($S50>$S49,$R50,IF(RIGHT($S49,1)=\"*\",$R49,IF(RIGHT($S50,1)=\"*\",$R50,\"\"))))","v":""},null,null,null,null,{"$f":"IF($S49>$S50,$Q49,IF($S50>$S49,$Q50,IF(RIGHT($S49,1)=\"*\",$Q49,IF(RIGHT($S50,1)=\"*\",$Q50,\"\"))))","v":""},{"$f":"IF($S49>$S50,$R49,IF($S50>$S49,$R50,IF(RIGHT($S49,1)=\"*\",$R49,IF(RIGHT($S50,1)=\"*\",$R50,\"\"))))","v":""}]
[null,null,null,null,null,null,null,null,null,null,null,{"$f":"N75","v":4},{"$f":"IF($K29>$K30,$I29,IF($K30>$K29,$I30,IF(RIGHT($K29,1)=\"*\",$I29,IF(RIGHT($K30,1)=\"*\",$I30,\"\"))))","v":""},{"$f":"IF($K29>$K30,$J29,IF($K30>$K29,$J30,IF(RIGHT($K29,1)=\"*\",$J29,IF(RIGHT($K30,1)=\"*\",$J30,\"\"))))","v":""}]
[13,{"$f":"E82","v":"6A"},{"$f":"R_Quali!H22","v":520},{"$f":"R_Quali!C22","v":"Jandl Ernst"},{"$f":"R_Quali!E22","v":"B"},{"$f":"R_Quali!D22","v":"PSV Burgenland - Sektion Bogen"}]
[20,{"$f":"E83","v":"6B"},{"$f":"R_Quali!H29","v":513},{"$f":"R_Quali!C29","v":"Stiftner Alfred"},{"$f":"R_Quali!E29","v":"OÖ"},{"$f":"R_Quali!D29","v":"BC Kronstorf"}]
[null,null,null,null,null,null,null,{"$f":"J78","v":"4A"},{"$f":"IF($G27>$G28,$D27,IF($G28>$G27,$D28,IF(RIGHT($G27,1)=\"*\",$D27,IF(RIGHT($G28,1)=\"*\",$D28,\"\"))))","v":""},{"$f":"IF($G27>$G28,$E27,IF($G28>$G27,$E28,IF(RIGHT($G27,1)=\"*\",$E27,IF(RIGHT($G28,1)=\"*\",$E28,\"\"))))","v":""}]
[null,null,null,null,null,null,null,{"$f":"J79","v":"4B"},{"$f":"IF($G31>$G32,$D31,IF($G32>$G31,$D32,IF(RIGHT($G31,1)=\"*\",$D31,IF(RIGHT($G32,1)=\"*\",$D32,\"\"))))","v":"Krempl Werner"},{"$f":"IF($G31>$G32,$E31,IF($G32>$G31,$E32,IF(RIGHT($G31,1)=\"*\",$E31,IF(RIGHT($G32,1)=\"*\",$E32,\"\"))))","v":"ST"}]
[]
[4,null,{"$f":"R_Quali!H13","v":529},{"$f":"R_Quali!C13","v":"Krempl Werner"},{"$f":"R_Quali!E13","v":"ST"},{"$f":"R_Quali!D13","v":"BSC Semriach"},"*"]
[]
[]
[3,null,{"$f":"R_Quali!H12","v":530},{"$f":"R_Quali!C12","v":"Strohmaier Joachim"},{"$f":"R_Quali!E12","v":"ST"},{"$f":"R_Quali!D12","v":"BSC Kumberg"},"*"]
[]
[null,null,null,null,null,null,null,{"$f":"J80","v":"5A"},{"$f":"IF($G35>$G36,$D35,IF($G36>$G35,$D36,IF(RIGHT($G35,1)=\"*\",$D35,IF(RIGHT($G36,1)=\"*\",$D36,\"\"))))","v":"Strohmaier Joachim"},{"$f":"IF($G35>$G36,$E35,IF($G36>$G35,$E36,IF(RIGHT($G35,1)=\"*\",$E35,IF(RIGHT($G36,1)=\"*\",$E36,\"\"))))","v":"ST"}]
[null,null,null,null,null,null,null,{"$f":"J81","v":"5B"},{"$f":"IF($G39>$G40,$D39,IF($G40>$G39,$D40,IF(RIGHT($G39,1)=\"*\",$D39,IF(RIGHT($G40,1)=\"*\",$D40,\"\"))))","v":""},{"$f":"IF($G39>$G40,$E39,IF($G40>$G39,$E40,IF(RIGHT($G39,1)=\"*\",$E39,IF(RIGHT($G40,1)=\"*\",$E40,\"\"))))","v":""}]
[19,{"$f":"E84","v":"7A"},{"$f":"R_Quali!H28","v":514},{"$f":"R_Quali!C28","v":"Winkler Klaus"},{"$f":"R_Quali!E28","v":"NÖ"},{"$f":"R_Quali!D28","v":"BSC Enzenreith"}]
[14,{"$f":"E85","v":"7B"},{"$f":"R_Quali!H23","v":519},{"$f":"R_Quali!C23","v":"Schramm Wolfgang"},{"$f":"R_Quali!E23","v":"OÖ"},{"$f":"R_Quali!D23","v":"LINZ AG Sport - Sektion Bogen"},null,null,null,null,null,null,null,null,null,null,"Finale"]
[null,null,null,null,null,null,null,null,null,null,null,{"$f":"N76","v":5},{"$f":"IF($K37>$K38,$I37,IF($K38>$K37,$I38,IF(RIGHT($K37,1)=\"*\",$I37,IF(RIGHT($K38,1)=\"*\",$I38,\"\"))))","v":""},{"$f":"IF($K37>$K38,$J37,IF($K38>$K37,$J38,IF(RIGHT($K37,1)=\"*\",$J37,IF(RIGHT($K38,1)=\"*\",$J38,\"\"))))","v":""},null,null,null,null,null,{"$f":"V74","v":5},{"$f":"IF($S17>$S18,$Q18,IF($S18>$S17,$Q17,IF(RIGHT($S17,1)=\"*\",$Q18,IF(RIGHT($S18,1)=\"*\",$Q17,\"\"))))","v":""},{"$f":"IF($S17>$S18,$R18,IF($S18>$S17,$R17,IF(RIGHT($S17,1)=\"*\",$R18,IF(RIGHT($S18,1)=\"*\",$R17,\"\"))))","v":""},null,null,null,null,{"$f":"IF($S17>$S18,$Q18,IF($S18>$S17,$Q17,IF(RIGHT($S17,1)=\"*\",$Q18,IF(RIGHT($S18,1)=\"*\",$Q17,\"\"))))","v":""},{"$f":"IF($S17>$S18,$R18,IF($S18>$S17,$R17,IF(RIGHT($S17,1)=\"*\",$R18,IF(RIGHT($S18,1)=\"*\",$R17,\"\"))))","v":""}]
[null,null,null,null,null,null,null,null,null,null,null,{"$f":"N77","v":6},{"$f":"IF($K45>$K46,$I45,IF($K46>$K45,$I46,IF(RIGHT($K45,1)=\"*\",$I45,IF(RIGHT($K46,1)=\"*\",$I46,\"\"))))","v":""},{"$f":"IF($K45>$K46,$J45,IF($K46>$K45,$J46,IF(RIGHT($K45,1)=\"*\",$J45,IF(RIGHT($K46,1)=\"*\",$J46,\"\"))))","v":""},null,null,"3. und 4. Platz",null,null,{"$f":"V75","v":6},{"$f":"IF($S49>$S50,$Q50,IF($S50>$S49,$Q49,IF(RIGHT($S49,1)=\"*\",$Q50,IF(RIGHT($S50,1)=\"*\",$Q49,\"\"))))","v":""},{"$f":"IF($S49>$S50,$R50,IF($S50>$S49,$R49,IF(RIGHT($S49,1)=\"*\",$R50,IF(RIGHT($S50,1)=\"*\",$R49,\"\"))))","v":""},null,null,null,null,{"$f":"IF($S49>$S50,$Q50,IF($S50>$S49,$Q49,IF(RIGHT($S49,1)=\"*\",$Q50,IF(RIGHT($S50,1)=\"*\",$Q49,\"\"))))","v":""},{"$f":"IF($S49>$S50,$R50,IF($S50>$S49,$R49,IF(RIGHT($S49,1)=\"*\",$R50,IF(RIGHT($S50,1)=\"*\",$R49,\"\"))))","v":""}]
[11,{"$f":"E86","v":"8A"},{"$f":"R_Quali!H20","v":522},{"$f":"R_Quali!C20","v":"Reicher Ernst"},{"$f":"R_Quali!E20","v":"K"},{"$f":"R_Quali!D20","v":"BSC Wörthersee"}]
[22,{"$f":"E87","v":"8B"},{"$f":"R_Quali!H31","v":511},{"$f":"R_Quali!C31","v":"Schütz Raimund"},{"$f":"R_Quali!E31","v":"NÖ"},{"$f":"R_Quali!D31","v":"TBs Weinviertel"}]
[null,null,null,null,null,null,null,{"$f":"J82","v":"6A"},{"$f":"IF($G43>$G44,$D43,IF($G44>$G43,$D44,IF(RIGHT($G43,1)=\"*\",$D43,IF(RIGHT($G44,1)=\"*\",$D44,\"\"))))","v":""},{"$f":"IF($G43>$G44,$E43,IF($G44>$G43,$E44,IF(RIGHT($G43,1)=\"*\",$E43,IF(RIGHT($G44,1)=\"*\",$E44,\"\"))))","v":""}]
[null,null,null,null,null,null,null,{"$f":"J83","v":"6B"},{"$f":"IF($G47>$G48,$D47,IF($G48>$G47,$D48,IF(RIGHT($G47,1)=\"*\",$D47,IF(RIGHT($G48,1)=\"*\",$D48,\"\"))))","v":""},{"$f":"IF($G47>$G48,$E47,IF($G48>$G47,$E48,IF(RIGHT($G47,1)=\"*\",$E47,IF(RIGHT($G48,1)=\"*\",$E48,\"\"))))","v":""}]
[27,{"$f":"E88","v":"9A"},{"$f":"R_Quali!H36","v":506},{"$f":"R_Quali!C36","v":"Radauer Helmuth"},{"$f":"R_Quali!E36","v":"ST"},{"$f":"R_Quali!D36","v":"BSC Ennstal"}]
[6,{"$f":"E89","v":"9B"},{"$f":"R_Quali!H15","v":527},{"$f":"R_Quali!C15","v":"Parschisek Alexander"},{"$f":"R_Quali!E15","v":"B"},{"$f":"R_Quali!D15","v":"BC-Oberschützen"}]
[null,null,null,null,null,null,null,null,null,null,null,null,null,null,null,{"$f":"R74","v":3},{"$f":"IF($O41>$O42,$M41,IF($O42>$O41,$M42,IF(RIGHT($O41,1)=\"*\",$M41,IF(RIGHT($O42,1)=\"*\",$M42,\"\"))))","v":""},{"$f":"IF($O41>$O42,$N41,IF($O42>$O41,$N42,IF(RIGHT($O41,1)=\"*\",$N41,IF(RIGHT($O42,1)=\"*\",$N42,\"\"))))","v":""}]
[null,null,null,null,null,null,null,null,null,null,null,null,null,null,null,{"$f":"R75","v":4},{"$f":"IF($O57>$O58,$M57,IF($O58>$O57,$M58,IF(RIGHT($O57,1)=\"*\",$M57,IF(RIGHT($O58,1)=\"*\",$M58,\"\"))))","v":""},{"$f":"IF($O57>$O58,$N57,IF($O58>$O57,$N58,IF(RIGHT($O57,1)=\"*\",$N57,IF(RIGHT($O58,1)=\"*\",$N58,\"\"))))","v":""}]
[7,{"$f":"E90","v":"10A"},{"$f":"R_Quali!H16","v":526},{"$f":"R_Quali!C16","v":"Bucher Martin"},{"$f":"R_Quali!E16","v":"ST"},{"$f":"R_Quali!D16","v":"LH Graz"}]
[26,{"$f":"E91","v":"10B"},{"$f":"R_Quali!H35","v":507},{"$f":"R_Quali!C35","v":"Kossek Heinz"},{"$f":"R_Quali!E35","v":"ST"},{"$f":"R_Quali!D35","v":"BC Wildon Weitendorf"}]
[null,null,null,null,null,null,null,{"$f":"J84","v":"7A"},{"$f":"IF($G51>$G52,$D51,IF($G52>$G51,$D52,IF(RIGHT($G51,1)=\"*\",$D51,IF(RIGHT($G52,1)=\"*\",$D52,\"\"))))","v":""},{"$f":"IF($G51>$G52,$E51,IF($G52>$G51,$E52,IF(RIGHT($G51,1)=\"*\",$E51,IF(RIGHT($G52,1)=\"*\",$E52,\"\"))))","v":""},null,null,null,null,null,null,null,null,null,null,"Finale"]
[null,null,null,null,null,null,null,{"$f":"J85","v":"7B"},{"$f":"IF($G55>$G56,$D55,IF($G56>$G55,$D56,IF(RIGHT($G55,1)=\"*\",$D55,IF(RIGHT($G56,1)=\"*\",$D56,\"\"))))","v":""},{"$f":"IF($G55>$G56,$E55,IF($G56>$G55,$E56,IF(RIGHT($G55,1)=\"*\",$E55,IF(RIGHT($G56,1)=\"*\",$E56,\"\"))))","v":""},null,null,null,null,null,null,"1/2 Finale"]
[23,{"$f":"E92","v":"11A"},{"$f":"R_Quali!H32","v":510},{"$f":"R_Quali!C32","v":"Kutmon Wilhelm"},{"$f":"R_Quali!E32","v":"ST"},{"$f":"R_Quali!D32","v":"BS Ligist - Archery Freaks"}]
[10,{"$f":"E93","v":"11B"},{"$f":"R_Quali!H19","v":523},{"$f":"R_Quali!C19","v":"Navratil Christoph"},{"$f":"R_Quali!E19","v":"W"},{"$f":"R_Quali!D19","v":"BSV Schönbrunn"}]
[null,null,null,null,null,null,null,null,null,null,null,{"$f":"N78","v":7},{"$f":"IF($K53>$K54,$I53,IF($K54>$K53,$I54,IF(RIGHT($K53,1)=\"*\",$I53,IF(RIGHT($K54,1)=\"*\",$I54,\"\"))))","v":""},{"$f":"IF($K53>$K54,$J53,IF($K54>$K53,$J54,IF(RIGHT($K53,1)=\"*\",$J53,IF(RIGHT($K54,1)=\"*\",$J54,\"\"))))","v":""}]
[null,null,null,null,null,null,null,null,null,null,null,{"$f":"N79","v":8},{"$f":"IF($K61>$K62,$I61,IF($K62>$K61,$I62,IF(RIGHT($K61,1)=\"*\",$I61,IF(RIGHT($K62,1)=\"*\",$I62,\"\"))))","v":""},{"$f":"IF($K61>$K62,$J61,IF($K62>$K61,$J62,IF(RIGHT($K61,1)=\"*\",$J61,IF(RIGHT($K62,1)=\"*\",$J62,\"\"))))","v":""}]
[15,{"$f":"E94","v":"12A"},{"$f":"R_Quali!H24","v":518},{"$f":"R_Quali!C24","v":"Markl Mario"},{"$f":"R_Quali!E24","v":"NÖ"},{"$f":"R_Quali!D24","v":"BSV Dakota"}]
[18,{"$f":"E95","v":"12B"},{"$f":"R_Quali!H27","v":515},{"$f":"R_Quali!C27","v":"Hamedl Wolfgang"},{"$f":"R_Quali!E27","v":"B"},{"$f":"R_Quali!D27","v":"PSV Burgenland - Sektion Bogen"}]
[null,null,null,null,null,null,null,{"$f":"J86","v":"8A"},{"$f":"IF($G59>$G60,$D59,IF($G60>$G59,$D60,IF(RIGHT($G59,1)=\"*\",$D59,IF(RIGHT($G60,1)=\"*\",$D60,\"\"))))","v":""},{"$f":"IF($G59>$G60,$E59,IF($G60>$G59,$E60,IF(RIGHT($G59,1)=\"*\",$E59,IF(RIGHT($G60,1)=\"*\",$E60,\"\"))))","v":""},null,null,"1/4 Finale"]
[null,null,null,null,null,null,null,{"$f":"J87","v":"8B"},{"$f":"IF($G63>$G64,$D63,IF($G64>$G63,$D64,IF(RIGHT($G63,1)=\"*\",$D63,IF(RIGHT($G64,1)=\"*\",$D64,\"\"))))","v":"Berger Hermann"},{"$f":"IF($G63>$G64,$E63,IF($G64>$G63,$E64,IF(RIGHT($G63,1)=\"*\",$E63,IF(RIGHT($G64,1)=\"*\",$E64,\"\"))))","v":"S"}]
[]
[2,null,{"$f":"R_Quali!H11","v":531},{"$f":"R_Quali!C11","v":"Berger Hermann"},{"$f":"R_Quali!E11","v":"S"},{"$f":"R_Quali!D11","v":"BSV Glemmerhof"},"*"]
[null,null,null,null,null,null,null,"1/8 Elimination"]
[null,null,"1/12 Elimination",null,null,null,null,null,null,null,{"$f":"Select!C18","v":"Recurve Herren"}]
[]
[]
[]
[]
[null,null,null,"Scheibe:"]
[null,null,1,{"$f":"CONCATENATE($D$71,\" \",E72)","v":"Scheibe: 1A"},"1A",null,null,1,{"$f":"CONCATENATE($D$71,\" \",J72)","v":"Scheibe: 1A"},"1A",null,1,{"$f":"CONCATENATE($D$71,\" \",N72)","v":"Scheibe: 1"},1,null,1,{"$f":"CONCATENATE($D$71,\" \",R72)","v":"Scheibe: 1"},1,null,1,{"$f":"CONCATENATE($D$71,\" \",V72)","v":"Scheibe: 1"},1]
[null,null,null,"Scheibe: 1B",{"$f":"IF(RIGHT(E72,1)=\"A\",CONCATENATE(LEFT(E72,LEN(E72)-1),\"B\"),E72+1)","v":"1B"},null,null,null,"Scheibe: 1B",{"$f":"IF(RIGHT(J72,1)=\"A\",CONCATENATE(LEFT(J72,LEN(J72)-1),\"B\"),J72+1)","v":"1B"},null,null,"Scheibe: 2",{"$f":"IF(RIGHT(N72,1)=\"A\",CONCATENATE(LEFT(N72,LEN(N72)-1),\"B\"),N72+1)","v":2},null,null,{"$f":"CONCATENATE($D$71,\" \",R73)","v":"Scheibe: 2"},{"$f":"IF(RIGHT(R72,1)=\"A\",CONCATENATE(LEFT(R72,LEN(R72)-1),\"B\"),R72+1)","v":2},null,null,{"$f":"CONCATENATE($D$71,\" \",V73)","v":"Scheibe: 2"},{"$f":"IF(RIGHT(V72,1)=\"A\",CONCATENATE(LEFT(V72,LEN(V72)-1),\"B\"),V72+1)","v":2}]
[null,null,{"$f":"C72+1","v":2},"Scheibe: 2A",{"$f":"IF(RIGHT(E73,1)=\"B\",CONCATENATE(LEFT(E73,LEN(E73)-1)+1,\"A\"),E73+1)","v":"2A"},null,null,{"$f":"H72+1","v":2},"Scheibe: 2A",{"$f":"IF(RIGHT(J73,1)=\"B\",CONCATENATE(LEFT(J73,LEN(J73)-1)+1,\"A\"),J73+1)","v":"2A"},null,{"$f":"L72+1","v":2},"Scheibe: 3",{"$f":"IF(RIGHT(N73,1)=\"B\",CONCATENATE(LEFT(N73,LEN(N73)-1)+1,\"A\"),N73+1)","v":3},null,{"$f":"P72+1","v":2},{"$f":"CONCATENATE($D$71,\" \",R74)","v":"Scheibe: 3"},{"$f":"IF(RIGHT(R73,1)=\"B\",CONCATENATE(LEFT(R73,LEN(R73)-1)+1,\"A\"),R73+1)","v":3},null,{"$f":"T72+1","v":2},{"$f":"CONCATENATE($D$71,\" \",V74)","v":"Scheibe: 5"},5]
[null,null,null,"Scheibe: 2B",{"$f":"IF(RIGHT(E74,1)=\"A\",CONCATENATE(LEFT(E74,LEN(E74)-1),\"B\"),E74+1)","v":"2B"},null,null,null,"Scheibe: 2B",{"$f":"IF(RIGHT(J74,1)=\"A\",CONCATENATE(LEFT(J74,LEN(J74)-1),\"B\"),J74+1)","v":"2B"},null,null,"Scheibe: 4",{"$f":"IF(RIGHT(N74,1)=\"A\",CONCATENATE(LEFT(N74,LEN(N74)-1),\"B\"),N74+1)","v":4},null,null,{"$f":"CONCATENATE($D$71,\" \",R75)","v":"Scheibe: 4"},{"$f":"IF(RIGHT(R74,1)=\"A\",CONCATENATE(LEFT(R74,LEN(R74)-1),\"B\"),R74+1)","v":4},null,null,{"$f":"CONCATENATE($D$71,\" \",V75)","v":"Scheibe: 6"},{"$f":"IF(RIGHT(V74,1)=\"A\",CONCATENATE(LEFT(V74,LEN(V74)-1),\"B\"),V74+1)","v":6}]
[null,null,{"$f":"C74+1","v":3},"Scheibe: 3A",{"$f":"IF(RIGHT(E75,1)=\"B\",CONCATENATE(LEFT(E75,LEN(E75)-1)+1,\"A\"),E75+1)","v":"3A"},null,null,{"$f":"H74+1","v":3},"Scheibe: 3A",{"$f":"IF(RIGHT(J75,1)=\"B\",CONCATENATE(LEFT(J75,LEN(J75)-1)+1,\"A\"),J75+1)","v":"3A"},null,{"$f":"L74+1","v":3},"Scheibe: 5",{"$f":"IF(RIGHT(N75,1)=\"B\",CONCATENATE(LEFT(N75,LEN(N75)-1)+1,\"A\"),N75+1)","v":5}]
[null,null,null,"Scheibe: 3B",{"$f":"IF(RIGHT(E76,1)=\"A\",CONCATENATE(LEFT(E76,LEN(E76)-1),\"B\"),E76+1)","v":"3B"},null,null,null,"Scheibe: 3B",{"$f":"IF(RIGHT(J76,1)=\"A\",CONCATENATE(LEFT(J76,LEN(J76)-1),\"B\"),J76+1)","v":"3B"},null,null,"Scheibe: 6",{"$f":"IF(RIGHT(N76,1)=\"A\",CONCATENATE(LEFT(N76,LEN(N76)-1),\"B\"),N76+1)","v":6}]
[null,null,{"$f":"C76+1","v":4},"Scheibe: 4A",{"$f":"IF(RIGHT(E77,1)=\"B\",CONCATENATE(LEFT(E77,LEN(E77)-1)+1,\"A\"),E77+1)","v":"4A"},null,null,{"$f":"H76+1","v":4},"Scheibe: 4A",{"$f":"IF(RIGHT(J77,1)=\"B\",CONCATENATE(LEFT(J77,LEN(J77)-1)+1,\"A\"),J77+1)","v":"4A"},null,{"$f":"L76+1","v":4},"Scheibe: 7",{"$f":"IF(RIGHT(N77,1)=\"B\",CONCATENATE(LEFT(N77,LEN(N77)-1)+1,\"A\"),N77+1)","v":7}]
[null,null,null,"Scheibe: 4B",{"$f":"IF(RIGHT(E78,1)=\"A\",CONCATENATE(LEFT(E78,LEN(E78)-1),\"B\"),E78+1)","v":"4B"},null,null,null,"Scheibe: 4B",{"$f":"IF(RIGHT(J78,1)=\"A\",CONCATENATE(LEFT(J78,LEN(J78)-1),\"B\"),J78+1)","v":"4B"},null,null,"Scheibe: 8",{"$f":"IF(RIGHT(N78,1)=\"A\",CONCATENATE(LEFT(N78,LEN(N78)-1),\"B\"),N78+1)","v":8}]
[null,null,{"$f":"C78+1","v":5},"Scheibe: 5A",{"$f":"IF(RIGHT(E79,1)=\"B\",CONCATENATE(LEFT(E79,LEN(E79)-1)+1,\"A\"),E79+1)","v":"5A"},null,null,{"$f":"H78+1","v":5},"Scheibe: 5A",{"$f":"IF(RIGHT(J79,1)=\"B\",CONCATENATE(LEFT(J79,LEN(J79)-1)+1,\"A\"),J79+1)","v":"5A"}]
[null,null,null,"Scheibe: 5B",{"$f":"IF(RIGHT(E80,1)=\"A\",CONCATENATE(LEFT(E80,LEN(E80)-1),\"B\"),E80+1)","v":"5B"},null,null,null,"Scheibe: 5B",{"$f":"IF(RIGHT(J80,1)=\"A\",CONCATENATE(LEFT(J80,LEN(J80)-1),\"B\"),J80+1)","v":"5B"}]
[null,null,{"$f":"C80+1","v":6},"Scheibe: 6A",{"$f":"IF(RIGHT(E81,1)=\"B\",CONCATENATE(LEFT(E81,LEN(E81)-1)+1,\"A\"),E81+1)","v":"6A"},null,null,{"$f":"H80+1","v":6},"Scheibe: 6A",{"$f":"IF(RIGHT(J81,1)=\"B\",CONCATENATE(LEFT(J81,LEN(J81)-1)+1,\"A\"),J81+1)","v":"6A"}]
[null,null,null,"Scheibe: 6B",{"$f":"IF(RIGHT(E82,1)=\"A\",CONCATENATE(LEFT(E82,LEN(E82)-1),\"B\"),E82+1)","v":"6B"},null,null,null,"Scheibe: 6B",{"$f":"IF(RIGHT(J82,1)=\"A\",CONCATENATE(LEFT(J82,LEN(J82)-1),\"B\"),J82+1)","v":"6B"}]
[null,null,{"$f":"C82+1","v":7},"Scheibe: 7A",{"$f":"IF(RIGHT(E83,1)=\"B\",CONCATENATE(LEFT(E83,LEN(E83)-1)+1,\"A\"),E83+1)","v":"7A"},null,null,{"$f":"H82+1","v":7},"Scheibe: 7A",{"$f":"IF(RIGHT(J83,1)=\"B\",CONCATENATE(LEFT(J83,LEN(J83)-1)+1,\"A\"),J83+1)","v":"7A"}]
[null,null,null,"Scheibe: 7B",{"$f":"IF(RIGHT(E84,1)=\"A\",CONCATENATE(LEFT(E84,LEN(E84)-1),\"B\"),E84+1)","v":"7B"},null,null,null,"Scheibe: 7B",{"$f":"IF(RIGHT(J84,1)=\"A\",CONCATENATE(LEFT(J84,LEN(J84)-1),\"B\"),J84+1)","v":"7B"}]
[null,null,{"$f":"C84+1","v":8},"Scheibe: 8A",{"$f":"IF(RIGHT(E85,1)=\"B\",CONCATENATE(LEFT(E85,LEN(E85)-1)+1,\"A\"),E85+1)","v":"8A"},null,null,{"$f":"H84+1","v":8},"Scheibe: 8A",{"$f":"IF(RIGHT(J85,1)=\"B\",CONCATENATE(LEFT(J85,LEN(J85)-1)+1,\"A\"),J85+1)","v":"8A"}]
[null,null,null,"Scheibe: 8B",{"$f":"IF(RIGHT(E86,1)=\"A\",CONCATENATE(LEFT(E86,LEN(E86)-1),\"B\"),E86+1)","v":"8B"},null,null,null,"Scheibe: 8B",{"$f":"IF(RIGHT(J86,1)=\"A\",CONCATENATE(LEFT(J86,LEN(J86)-1),\"B\"),J86+1)","v":"8B"}]
[null,null,{"$f":"C86+1","v":9},"Scheibe: 9A",{"$f":"IF(RIGHT(E87,1)=\"B\",CONCATENATE(LEFT(E87,LEN(E87)-1)+1,\"A\"),E87+1)","v":"9A"}]
[null,null,null,"Scheibe: 9B",{"$f":"IF(RIGHT(E88,1)=\"A\",CONCATENATE(LEFT(E88,LEN(E88)-1),\"B\"),E88+1)","v":"9B"}]
[null,null,{"$f":"C88+1","v":10},"Scheibe: 10A",{"$f":"IF(RIGHT(E89,1)=\"B\",CONCATENATE(LEFT(E89,LEN(E89)-1)+1,\"A\"),E89+1)","v":"10A"}]
[null,null,null,"Scheibe: 10B",{"$f":"IF(RIGHT(E90,1)=\"A\",CONCATENATE(LEFT(E90,LEN(E90)-1),\"B\"),E90+1)","v":"10B"}]
[null,null,{"$f":"C90+1","v":11},"Scheibe: 11A",{"$f":"IF(RIGHT(E91,1)=\"B\",CONCATENATE(LEFT(E91,LEN(E91)-1)+1,\"A\"),E91+1)","v":"11A"}]
[null,null,null,"Scheibe: 11B",{"$f":"IF(RIGHT(E92,1)=\"A\",CONCATENATE(LEFT(E92,LEN(E92)-1),\"B\"),E92+1)","v":"11B"}]
[null,null,{"$f":"C92+1","v":12},"Scheibe: 12A",{"$f":"IF(RIGHT(E93,1)=\"B\",CONCATENATE(LEFT(E93,LEN(E93)-1)+1,\"A\"),E93+1)","v":"12A"}]
[null,null,null,"Scheibe: 12B",{"$f":"IF(RIGHT(E94,1)=\"A\",CONCATENATE(LEFT(E94,LEN(E94)-1),\"B\"),E94+1)","v":"12B"}]
[null,null,{"$f":"C94+1","v":13},"Scheibe: 13A",{"$f":"IF(RIGHT(E95,1)=\"B\",CONCATENATE(LEFT(E95,LEN(E95)-1)+1,\"A\"),E95+1)","v":"13A"}]
[null,null,null,"Scheibe: 13B",{"$f":"IF(RIGHT(E96,1)=\"A\",CONCATENATE(LEFT(E96,LEN(E96)-1),\"B\"),E96+1)","v":"13B"}]
[null,null,{"$f":"C96+1","v":14},"Scheibe: 14A",{"$f":"IF(RIGHT(E97,1)=\"B\",CONCATENATE(LEFT(E97,LEN(E97)-1)+1,\"A\"),E97+1)","v":"14A"}]
[null,null,null,"Scheibe: 14B",{"$f":"IF(RIGHT(E98,1)=\"A\",CONCATENATE(LEFT(E98,LEN(E98)-1),\"B\"),E98+1)","v":"14B"}]
[null,null,{"$f":"C98+1","v":15},"Scheibe: 15A",{"$f":"IF(RIGHT(E99,1)=\"B\",CONCATENATE(LEFT(E99,LEN(E99)-1)+1,\"A\"),E99+1)","v":"15A"}]
[null,null,null,"Scheibe: 15B",{"$f":"IF(RIGHT(E100,1)=\"A\",CONCATENATE(LEFT(E100,LEN(E100)-1),\"B\"),E100+1)","v":"15B"}]
[null,null,{"$f":"C100+1","v":16},"Scheibe: 16A",{"$f":"IF(RIGHT(E101,1)=\"B\",CONCATENATE(LEFT(E101,LEN(E101)-1)+1,\"A\"),E101+1)","v":"16A"}]
[null,null,null,"Scheibe: 16B",{"$f":"IF(RIGHT(E102,1)=\"A\",CONCATENATE(LEFT(E102,LEN(E102)-1),\"B\"),E102+1)","v":"16B"}]

{"sheet":"R28","index":7,"n_rows":1007,"n_cols":25,"rows_kept":1007,"cut":false,"hidden":true,"merged":[[1002,5,1002,6],[1002,14,1002,15],[1002,23,1002,24],[1003,5,1003,6],[1003,14,1003,15],[1003,23,1003,24],[996,0,996,7],[996,9,996,16],[996,18,996,25],[998,0,998,7],[998,9,998,16],[998,18,998,25],[991,18,991,21],[991,22,991,25],[992,6,992,7],[992,15,992,16],[992,24,992,25],[991,0,991,3],[991,4,991,7],[991,9,991,12],[991,13,991,16],[985,0,985,7],[985,14,985,15],[985,23,985,24],[986,0,986,1],[981,0,981,7],[983,0,983,7],[984,14,984,15],[984,23,984,24],[977,0,977,7],[978,9,978,16],[978,18,978,25],[980,9,980,16],[980,18,980,25],[974,15,974,16],[974,24,974,25],[975,0,975,7],[976,0,976,1],[973,9,973,12],[973,13,973,16],[973,18,973,21],[973,22,973,25],[966,5,966,6],[966,14,966,15],[966,23,966,24],[967,5,967,6],[967,14,967,15],[967,23,967,24],[960,0,960,7],[960,9,960,16],[960,18,960,25],[962,0,962,7],[962,9,962,16],[962,18,962,25],[955,18,955,21],[955,22,955,25],[956,6,956,7],[956,15,956,16],[956,24,956,25],[955,0,955,3],[955,4,955,7],[955,9,955,12],[955,13,955,16],[949,0,949,7],[949,14,949,15],[949,23,949,24],[950,0,950,1],[945,0,945,7],[947,0,947,7],[948,14,948,15],[948,23,948,24],[941,0,941,7],[942,9,942,16],[942,18,942,25],[944,9,944,16],[944,18,944,25],[938,15,938,16],[938,24,938,25],[939,0,939,7],[940,0,940,1],[937,9,937,12],[937,13,937,16],[937,18,937,21],[937,22,937,25],[930,5,930,6],[930,14,930,15],[930,23,930,24],[931,5,931,6],[931,14,931,15],[931,23,931,24],[924,0,924,7],[924,9,924,16],[924,18,924,25],[926,0,926,7],[926,9,926,16],[926,18,926,25],[919,18,919,21],[919,22,919,25],[920,6,920,7],[920,15,920,16],[920,24,920,25],[919,0,919,3],[919,4,919,7],[919,9,919,12],[919,13,919,16],[913,0,913,7],[913,14,913,15],[913,23,913,24],[914,0,914,1],[909,0,909,7],[911,0,911,7],[912,14,912,15],[912,23,912,24],[905,0,905,7],[906,9,906,16],[906,18,906,25],[908,9,908,16],[908,18,908,25],[902,15,902,16],[902,24,902,25],[903,0,903,7],[904,0,904,1],[901,9,901,12],[901,13,901,16],[901,18,901,21],[901,22,901,25],[894,5,894,6],[894,14,894,15],[894,23,894,24],[895,5,895,6],[895,14,895,15],[895,23,895,24],[888,0,888,7],[888,9,888,16],[888,18,888,25],[890,0,890,7],[890,9,890,16],[890,18,890,25],[883,18,883,21],[883,22,883,25],[884,6,884,7],[884,15,884,16],[884,24,884,25],[883,0,883,3],[883,4,883,7],[883,9,883,12],[883,13,883,16],[877,0,877,7],[877,14,877,15],[877,23,877,24],[878,0,878,1],[873,0,873,7],[875,0,875,7],[876,14,876,15],[876,23,876,24],[869,0,869,7],[870,9,870,16],[870,18,870,25],[872,9,872,16],[872,18,872,25],[866,15,866,16],[866,24,866,25],[867,0,867,7],[868,0,868,1],[865,9,865,12],[865,13,865,16],[865,18,865,21],[865,22,865,25],[858,5,858,6],[858,14,858,15],[858,23,858,24],[859,5,859,6],[859,14,859,15],[859,23,859,24],[852,0,852,7],[852,9,852,16],[852,18,852,25],[854,0,854,7],[854,9,854,16],[854,18,854,25],[847,18,847,21],[847,22,847,25],[848,6,848,7],[848,15,848,16],[848,24,848,25],[847,0,847,3],[847,4,847,7],[847,9,847,12],[847,13,847,16],[841,0,841,7],[841,14,841,15],[841,23,841,24],[842,0,842,1],[837,0,837,7],[839,0,839,7],[840,14,840,15],[840,23,840,24],[833,0,833,7],[834,9,834,16],[834,18,834,25],[836,9,836,16],[836,18,836,25],[830,15,830,16],[830,24,830,25],[831,0,831,7],[832,0,832,1],[829,9,829,12],[829,13,829,16],[829,18,829,21],[829,22,829,25],[822,5,822,6],[822,14,822,15],[822,23,822,24],[823,5,823,6],[823,14,823,15],[823,23,823,24],[816,0,816,7],[816,9,816,16],[816,18,816,25],[818,0,818,7],[818,9,818,16],[818,18,818,25],[811,18,811,21],[811,22,811,25],[812,6,812,7],[812,15,812,16],[812,24,812,25],[811,0,811,3],[811,4,811,7],[811,9,811,12],[811,13,811,16],[805,0,805,7],[805,14,805,15],[805,23,805,24],[806,0,806,1],[801,0,801,7],[803,0,803,7],[804,14,804,15],[804,23,804,24],[797,0,797,7],[798,9,798,16],[798,18,798,25],[800,9,800,16],[800,18,800,25],[794,15,794,16],[794,24,794,25],[795,0,795,7],[796,0,796,1],[787,5,787,6],[787,14,787,15],[787,23,787,24],[793,9,793,12],[793,13,793,16],[793,18,793,21],[793,22,793,25],[782,0,782,7],[782,9,782,16],[782,18,782,25],[786,5,786,6],[786,14,786,15],[786,23,786,24],[776,6,776,7],[776,15,776,16],[776,24,776,25],[780,0,780,7],[780,9,780,16],[780,18,780,25],[769,0,769,7],[769,14,769,15],[769,23,769,24],[775,0,775,3],[775,4,775,7],[775,9,775,12],[775,13,775,16],[775,18,775,21],[775,22,775,25],[765,0,765,7],[767,0,767,7],[768,14,768,15],[768,23,768,24],[761,0,761,7],[762,9,762,16],[762,18,762,25],[764,9,764,16],[764,18,764,25],[758,15,758,16],[758,24,758,25],[759,0,759,7],[760,0,760,1],[757,9,757,12],[757,13,757,16],[757,18,757,21],[757,22,757,25],[750,5,750,6],[750,14,750,15],[750,23,750,24],[751,5,751,6],[751,14,751,15],[751,23,751,24],[744,0,744,7],[744,9,744,16],[744,18,744,25],[746,0,746,7],[746,9,746,16],[746,18,746,25],[739,18,739,21],[739,22,739,25],[740,6,740,7],[740,15,740,16],[740,24,740,25],[739,0,739,3],[739,4,739,7],[739,9,739,12],[739,13,739,16],[733,0,733,7],[733,14,733,15],[733,23,733,24],[734,0,734,1],[729,0,729,7],[731,0,731,7],[732,14,732,15],[732,23,732,24],[725,0,725,7],[726,9,726,16],[726,18,726,25],[728,9,728,16],[728,18,728,25],[722,15,722,16],[722,24,722,25],[723,0,723,7],[724,0,724,1],[721,9,721,12],[721,13,721,16],[721,18,721,21],[721,22,721,25],[714,5,714,6],[714,14,714,15],[714,23,714,24],[715,5,715,6],[715,14,715,15],[715,23,715,24],[708,0,708,7],[708,9,708,16],[708,18,708,25],[710,0,710,7],[710,9,710,16],[710,18,710,25],[703,18,703,21],[703,22,703,25],[704,6,704,7],[704,15,704,16],[704,24,704,25],[703,0,703,3],[703,4,703,7],[703,9,703,12],[703,13,703,16],[697,0,697,7],[697,14,697,15],[697,23,697,24],[698,0,698,1],[693,0,693,7],[695,0,695,7],[696,14,696,15],[696,23,696,24],[689,0,689,7],[690,9,690,16],[690,18,690,25],[692,9,692,16],[692,18,692,25],[686,15,686,16],[686,24,686,25],[687,0,687,7],[688,0,688,1],[685,9,685,12],[685,13,685,16],[685,18,685,21],[685,22,685,25],[678,5,678,6],[678,14,678,15],[678,23,678,24],[679,5,679,6],[679,14,679,15],[679,23,679,24],[672,0,672,7],[672,9,672,16],[672,18,672,25],[674,0,674,7],[674,9,674,16],[674,18,674,25],[667,18,667,21],[667,22,667,25],[668,6,668,7],[668,15,668,16],[668,24,668,25],[667,0,667,3],[667,4,667,7],[667,9,667,12],[667,13,667,16],[661,0,661,7],[661,14,661,15],[661,23,661,24],[662,0,662,1],[657,0,657,7],[659,0,659,7],[660,14,660,15],[660,23,660,24],[653,0,653,7],[654,9,654,16],[654,18,654,25],[656,9,656,16],[656,18,656,25],[650,15,650,16],[650,24,650,25],[651,0,651,7],[652,0,652,1],[649,9,649,12],[649,13,649,16],[649,18,649,21],[649,22,649,25],[642,5,642,6],[642,14,642,15],[642,23,642,24],[643,5,643,6],[643,14,643,15],[643,23,643,24],[636,0,636,7],[636,9,636,16],[636,18,636,25],[638,0,638,7],[638,9,638,16],[638,18,638,25],[631,18,631,21],[631,22,631,25],[632,6,632,7],[632,15,632,16],[632,24,632,25],[631,0,631,3],[631,4,631,7],[631,9,631,12],[631,13,631,16],[625,0,625,7],[625,14,625,15],[625,23,625,24],[626,0,626,1],[621,0,621,7],[623,0,623,7],[624,14,624,15],[624,23,624,24],[617,0,617,7],[618,9,618,16],[618,18,618,25],[620,9,620,16],[620,18,620,25],[614,15,614,16],[614,24,614,25],[615,0,615,7],[616,0,616,1],[613,9,613,12],[613,13,613,16],[613,18,613,21],[613,22,613,25],[606,5,606,6],[606,14,606,15],[606,23,606,24],[607,5,607,6],[607,14,607,15],[607,23,607,24],[600,0,600,7],[600,9,600,16],[600,18,600,25],[602,0,602,7],[602,9,602,16],[602,18,602,25],[595,18,595,21],[595,22,595,25],[596,6,596,7],[596,15,596,16],[596,24,596,25],[595,0,595,3],[595,4,595,7],[595,9,595,12],[595,13,595,16],[589,0,589,7],[589,14,589,15],[589,23,589,24],[590,0,590,1],[585,0,585,7],[587,0,587,7],[588,14,588,15],[588,23,588,24],[581,0,581,7],[582,9,582,16],[582,18,582,25],[584,9,584,16],[584,18,584,25],[578,15,578,16],[578,24,578,25],[579,0,579,7],[580,0,580,1],[577,9,577,12],[577,13,577,16],[577,18,577,21],[577,22,577,25],[570,5,570,6],[570,14,570,15],[570,23,570,24],[571,5,571,6],[571,14,571,15],[571,23,571,24],[564,0,564,7],[564,9,564,16],[564,18,564,25],[566,0,566,7],[566,9,566,16],[566,18,566,25],[559,18,559,21],[559,22,559,25],[560,6,560,7],[560,15,560,16],[560,24,560,25],[559,0,559,3],[559,4,559,7],[559,9,559,12],[559,13,559,16],[553,0,553,7],[553,14,553,15],[553,23,553,24],[554,0,554,1],[549,0,549,7],[551,0,551,7],[552,14,552,15],[552,23,552,24],[545,0,545,7],[546,9,546,16],[546,18,546,25],[548,9,548,16],[548,18,548,25],[542,15,542,16],[542,24,542,25],[543,0,543,7],[544,0,544,1],[541,9,541,12],[541,13,541,16],[541,18,541,21],[541,22,541,25],[535,5,535,6],[535,14,535,15],[535,23,535,24],[530,0,530,7],[530,9,530,16],[530,18,530,25],[534,5,534,6],[534,14,534,15],[534,23,534,24],[524,6,524,7],[524,15,524,16],[524,24,524,25],[528,0,528,7],[528,9,528,16],[528,18,528,25],[517,0,517,7],[517,14,517,15],[517,23,517,24],[523,0,523,3],[523,4,523,7],[523,9,523,12],[523,13,523,16],[523,18,523,21],[523,22,523,25],[513,0,513,7],[515,0,515,7],[516,14,516,15],[516,23,516,24],[509,0,509,7],[510,9,510,16],[510,18,510,25],[512,9,512,16],[512,18,512,25],[506,15,506,16],[506,24,506,25],[507,0,507,7],[508,0,508,1],[505,9,505,12],[505,13,505,16],[505,18,505,21],[505,22,505,25],[498,5,498,6],[498,14,498,15],[498,23,498,24],[499,5,499,6],[499,14,499,15],[499,23,499,24],[492,0,492,7],[492,9,492,16],[492,18,492,25],[494,0,494,7],[494,9,494,16],[494,18,494,25],[487,18,487,21],[487,22,487,25],[488,6,488,7],[488,15,488,16],[488,24,488,25],[487,0,487,3],[487,4,487,7],[487,9,487,12],[487,13,487,16],[481,0,481,7],[481,14,481,15],[481,23,481,24],[482,0,482,1],[477,0,477,7],[479,0,479,7],[480,14,480,15],[480,23,480,24],[473,0,473,7],[474,9,474,16],[474,18,474,25],[476,9,476,16],[476,18,476,25],[470,15,470,16],[470,24,470,25],[471,0,471,7],[472,0,472,1],[469,9,469,12],[469,13,469,16],[469,18,469,21],[469,22,469,25],[462,5,462,6],[462,14,462,15],[462,23,462,24],[463,5,463,6],[463,14,463,15],[463,23,463,24],[456,0,456,7],[456,9,456,16],[456,18,456,25],[458,0,458,7],[458,9,458,16],[458,18,458,25],[451,18,451,21],[451,22,451,25],[452,6,452,7],[452,15,452,16],[452,24,452,25],[451,0,451,3],[451,4,451,7],[451,9,451,12],[451,13,451,16],[445,0,445,7],[445,14,445,15],[445,23,445,24],[446,0,446,1],[441,0,441,7],[443,0,443,7],[444,14,444,15],[444,23,444,24],[437,0,437,7],[438,9,438,16],[438,18,438,25],[440,9,440,16],[440,18,440,25],[434,15,434,16],[434,24,434,25],[435,0,435,7],[436,0,436,1],[433,9,433,12],[433,13,433,16],[433,18,433,21],[433,22,433,25],[426,5,426,6],[426,14,426,15],[426,23,426,24],[427,5,427,6],[427,14,427,15],[427,23,427,24],[420,0,420,7],[420,9,420,16],[420,18,420,25],[422,0,422,7],[422,9,422,16],[422,18,422,25],[415,18,415,21],[415,22,415,25],[416,6,416,7],[416,15,416,16],[416,24,416,25],[415,0,415,3],[415,4,415,7],[415,9,415,12],[415,13,415,16],[409,0,409,7],[409,14,409,15],[409,23,409,24],[410,0,410,1],[405,0,405,7],[407,0,407,7],[408,14,408,15],[408,23,408,24],[401,0,401,7],[402,9,402,16],[402,18,402,25],[404,9,404,16],[404,18,404,25],[398,15,398,16],[398,24,398,25],[399,0,399,7],[400,0,400,1],[397,9,397,12],[397,13,397,16],[397,18,397,21],[397,22,397,25],[390,5,390,6],[390,14,390,15],[390,23,390,24],[391,5,391,6],[391,14,391,15],[391,23,391,24],[384,0,384,7],[384,9,384,16],[384,18,384,25],[386,0,386,7],[386,9,386,16],[386,18,386,25],[379,18,379,21],[379,22,379,25],[380,6,380,7],[380,15,380,16],[380,24,380,25],[379,0,379,3],[379,4,379,7],[379,9,379,12],[379,13,379,16],[373,0,373,7],[373,14,373,15],[373,23,373,24],[374,0,374,1],[369,0,369,7],[371,0,371,7],[372,14,372,15],[372,23,372,24],[365,0,365,7],[366,9,366,16],[366,18,366,25],[368,9,368,16],[368,18,368,25],[362,15,362,16],[362,24,362,25],[363,0,363,7],[364,0,364,1],[361,9,361,12],[361,13,361,16],[361,18,361,21],[361,22,361,25],[354,5,354,6],[354,14,354,15],[354,23,354,24],[355,5,355,6],[355,14,355,15],[355,23,355,24],[348,0,348,7],[348,9,348,16],[348,18,348,25],[350,0,350,7],[350,9,350,16],[350,18,350,25],[343,18,343,21],[343,22,343,25],[344,6,344,7],[344,15,344,16],[344,24,344,25],[343,0,343,3],[343,4,343,7],[343,9,343,12],[343,13,343,16],[337,0,337,7],[337,14,337,15],[337,23,337,24],[338,0,338,1],[333,0,333,7],[335,0,335,7],[336,14,336,15],[336,23,336,24],[329,0,329,7],[330,9,330,16],[330,18,330,25],[332,9,332,16],[332,18,332,25],[326,15,326,16],[326,24,326,25],[327,0,327,7],[328,0,328,1],[325,9,325,12],[325,13,325,16],[325,18,325,21],[325,22,325,25],[318,5,318,6],[318,14,318,15],[318,23,318,24],[319,5,319,6],[319,14,319,15],[319,23,319,24],[312,0,312,7],[312,9,312,16],[312,18,312,25],[314,0,314,7],[314,9,314,16],[314,18,314,25],[307,18,307,21],[307,22,307,25],[308,6,308,7],[308,15,308,16],[308,24,308,25],[307,0,307,3],[307,4,307,7],[307,9,307,12],[307,13,307,16],[301,0,301,7],[301,14,301,15],[301,23,301,24],[302,0,302,1],[297,0,297,7],[299,0,299,7],[300,14,300,15],[300,23,300,24],[293,0,293,7],[294,9,294,16],[294,18,294,25],[296,9,296,16],[296,18,296,25],[290,15,290,16],[290,24,290,25],[291,0,291,7],[292,0,292,1],[283,5,283,6],[283,14,283,15],[283,23,283,24],[289,9,289,12],[289,13,289,16],[289,18,289,21],[289,22,289,25],[278,0,278,7],[278,9,278,16],[278,18,278,25],[282,5,282,6],[282,14,282,15],[282,23,282,24],[272,6,272,7],[272,15,272,16],[272,24,272,25],[276,0,276,7],[276,9,276,16],[276,18,276,25],[265,0,265,7],[265,14,265,15],[265,23,265,24],[271,0,271,3],[271,4,271,7],[271,9,271,12],[271,13,271,16],[271,18,271,21],[271,22,271,25],[261,0,261,7],[263,0,263,7],[264,14,264,15],[264,23,264,24],[257,0,257,7],[258,9,258,16],[258,18,258,25],[260,9,260,16],[260,18,260,25],[247,5,247,6],[175,5,175,6],[103,5,103,6],[254,15,254,16],[254,24,254,25],[255,0,255,7],[256,0,256,1],[253,9,253,12],[253,13,253,16],[253,18,253,21],[253,22,253,25],[227,0,227,7],[229,0,229,7],[230,0,230,1],[4,0,4,1],[40,0,40,1],[76,0,76,1],[112,0,112,1],[148,0,148,1],[219,0,219,7],[220,0,220,1],[221,0,221,7],[225,0,225,7],[183,0,183,7],[185,0,185,7],[189,0,189,7],[191,0,191,7],[184,0,184,1],[211,5,211,6],[206,0,206,7],[200,6,200,7],[147,0,147,7],[247,14,247,15],[247,23,247,24],[3,0,3,7],[5,0,5,7],[9,0,9,7],[11,0,11,7],[13,0,13,7],[242,0,242,7],[242,9,242,16],[242,18,242,25],[246,5,246,6],[246,14,246,15],[246,23,246,24],[236,6,236,7],[236,15,236,16],[236,24,236,25],[240,0,240,7],[240,9,240,16],[240,18,240,25],[229,14,229,15],[229,23,229,24],[235,0,235,3],[235,4,235,7],[235,9,235,12],[235,13,235,16],[235,18,235,21],[235,22,235,25],[224,9,224,16],[224,18,224,25],[228,14,228,15],[228,23,228,24],[218,15,218,16],[218,24,218,25],[222,9,222,16],[222,18,222,25],[211,14,211,15],[211,23,211,24],[217,9,217,12],[217,13,217,16],[217,18,217,21],[217,22,217,25],[206,9,206,16],[206,18,206,25],[210,5,210,6],[210,14,210,15],[210,23,210,24],[200,15,200,16],[200,24,200,25],[204,0,204,7],[204,9,204,16],[204,18,204,25],[193,14,193,15],[193,23,193,24],[199,0,199,3],[199,4,199,7],[199,9,199,12],[199,13,199,16],[199,18,199,21],[199,22,199,25],[193,0,193,7],[194,0,194,1],[188,9,188,16],[188,18,188,25],[192,14,192,15],[192,23,192,24],[182,15,182,16],[182,24,182,25],[186,9,186,16],[186,18,186,25],[175,14,175,15],[175,23,175,24],[181,9,181,12],[181,13,181,16],[181,18,181,21],[181,22,181,25],[170,0,170,7],[170,9,170,16],[170,18,170,25],[174,5,174,6],[174,14,174,15],[174,23,174,24],[164,6,164,7],[164,15,164,16],[164,24,164,25],[168,0,168,7],[168,9,168,16],[168,18,168,25],[157,14,157,15],[157,23,157,24],[163,0,163,3],[163,4,163,7],[163,9,163,12],[163,13,163,16],[163,18,163,21],[163,22,163,25],[157,0,157,7],[158,0,158,1]],"merged_total":1172,"flags":["merged_cut"]}
[]
[null,null,null,null,null,null,null,null,null,"1/12 Elimination",null,null,null,"Freilos",null,null,null,null,"1/8 Elimination",null,null,null,{"$f":"'R28_Baum'!$I$72","v":"Scheibe: 1A"}]
[null,null,null,null,null,null,null,null,null,null,1,2,3,"Summe","Punkte","Ges.",null,null,null,1,2,3,"Summe","Punkte","Ges."]
[{"$f":"Select!$C$12","v":"Demoturnier"},null,null,null,null,null,null,null,null,"Satz 1",null,null,null,null,null,null,null,null,"Satz 1"]
["Veranstaltung",null,null,null,null,null,null,null,null,"Satz 2",null,null,null,null,null,null,null,null,"Satz 2"]
[{"$f":"Select!$C$13","v":"1. April 2019"},null,null,null,null,null,null,null,null,"Satz 3",null,null,null,null,null,null,null,null,"Satz 3"]
["Datum",null,null,null,null,null,null,null,null,"wenn erforderlich",null,null,null,null,null,null,null,null,"wenn erforderlich"]
[null,null,null,null,null,null,null,null,null,"Satz 4",null,null,null,null,null,null,null,null,"Satz 4"]
[null,null,null,null,null,null,null,null,null,"wenn erforderlich",null,null,null,null,null,null,null,null,"wenn erforderlich"]
[{"$f":"'R28_Baum'!$D$3","v":"Url Günter"},null,null,null,null,null,null,null,null,"Satz 5",null,null,null,null,null,null,null,null,"Satz 5"]
["Name",null,null,null,null,null,null,null,null,"wenn erforderlich",null,null,null,null,null,null,null,null,"wenn erforderlich"]
[{"$f":"'R28_Baum'!$F$3","v":"BSC-Wolfspfeil Raab-Holzer"},null,null,null,null,null,null,null,null,"Stechen",null,null,null,null,null,null,null,null,"Stechen"]
["Verein",null,null,null,null,null,null,null,null,null,null,null,null,null,"gewonnen",null,null,null,null,null,null,null,null,"gewonnen"]
[{"$f":"Select!$C$18","v":"Recurve Herren"},null,null,null,null,null,null,null,null,"Schütze:",null,null,null,null,"verloren",null,null,null,"Schütze:",null,null,null,null,"verloren"]
["Bogenklasse"]
[null,null,null,null,null,null,null,null,null,"Gegner:",null,"Name:",null,null,null,null,null,null,"Gegner:",null,"Name:"]
[null,null,null,null,null,null,null,null,null,null,null,"Unterschrift:",null,null,null,null,null,null,null,null,"Unterschrift:"]
[]
[]
["1/4 Finale",null,null,null,{"$f":"'R28_Baum'!$M$72","v":"Scheibe: 1"},null,null,null,null,"1/2 Finale",null,null,null,{"$f":"'R28_Baum'!$Q$72","v":"Scheibe: 1"},null,null,null,null,"1./2. od. 3./4. Platz",null,null,null,"Scheibe:"]
[null,1,2,3,"Summe","Punkte","Ges.",null,null,null,1,2,3,"Summe","Punkte","Ges.",null,null,null,1,2,3,"Summe","Punkte","Ges."]
["Satz 1",null,null,null,null,null,null,null,null,"Satz 1",null,null,null,null,null,null,null,null,"Satz 1"]
["Satz 2",null,null,null,null,null,null,null,null,"Satz 2",null,null,null,null,null,null,null,null,"Satz 2"]
["Satz 3",null,null,null,null,null,null,null,null,"Satz 3",null,null,null,null,null,null,null,null,"Satz 3"]
["wenn erforderlich",null,null,null,null,null,null,null,null,"wenn erforderlich",null,null,null,null,null,null,null,null,"wenn erforderlich"]
["Satz 4",null,null,null,null,null,null,null,null,"Satz 4",null,null,null,null,null,null,null,null,"Satz 4"]
["wenn erforderlich",null,null,null,null,null,null,null,null,"wenn erforderlich",null,null,null,null,null,null,null,null,"wenn erforderlich"]
["Satz 5",null,null,null,null,null,null,null,null,"Satz 5",null,null,null,null,null,null,null,null,"Satz 5"]
["wenn erforderlich",null,null,null,null,null,null,null,null,"wenn erforderlich",null,null,null,null,null,null,null,null,"wenn erforderlich"]
["Stechen",null,null,null,null,null,null,null,null,"Stechen",null,null,null,null,null,null,null,null,"Stechen"]
[null,null,null,null,null,"gewonnen",null,null,null,null,null,null,null,null,"gewonnen",null,null,null,null,null,null,null,null,"gewonnen"]
["Schütze:",null,null,null,null,"verloren",null,null,null,"Schütze:",null,null,null,null,"verloren",null,null,null,"Schütze:",null,null,null,null,"verloren"]
[]
["Gegner:",null,"Name:",null,null,null,null,null,null,"Gegner:",null,"Name:",null,null,null,null,null,null,"Gegner:",null,"Name:"]
[null,null,"Unterschrift:",null,null,null,null,null,null,null,null,"Unterschrift:",null,null,null,null,null,null,null,null,"Unterschrift:"]
[]
[]
[null,null,null,null,null,null,null,null,null,"1/12 Elimination",null,null,null,{"$f":"'R28_Baum'!$D$72","v":"Scheibe: 1A"},null,null,null,null,"1/8 Elimination",null,null,null,{"$f":"'R28_Baum'!$I$73","v":"Scheibe: 1B"}]
[null,null,null,null,null,null,null,null,null,null,1,2,3,"Summe","Punkte","Ges.",null,null,null,1,2,3,"Summe","Punkte","Ges."]
[{"$f":"Select!$C$12","v":"Demoturnier"},null,null,null,null,null,null,null,null,"Satz 1",null,null,null,null,null,null,null,null,"Satz 1"]
["Veranstaltung",null,null,null,null,null,null,null,null,"Satz 2",null,null,null,null,null,null,null,null,"Satz 2"]
[{"$f":"Select!$C$13","v":"1. April 2019"},null,null,null,null,null,null,null,null,"Satz 3",null,null,null,null,null,null,null,null,"Satz 3"]
["Datum",null,null,null,null,null,null,null,null,"wenn erforderlich",null,null,null,null,null,null,null,null,"wenn erforderlich"]
[null,null,null,null,null,null,null,null,null,"Satz 4",null,null,null,null,null,null,null,null,"Satz 4"]
[null,null,null,null,null,null,null,null,null,"wenn erforderlich",null,null,null,null,null,null,null,null,"wenn erforderlich"]
[{"$f":"'R28_Baum'!$D$7","v":"Schweiger Peter"},null,null,null,null,null,null,null,null,"Satz 5",null,null,null,null,null,null,null,null,"Satz 5"]
["Name",null,null,null,null,null,null,null,null,"wenn erforderlich",null,null,null,null,null,null,null,null,"wenn erforderlich"]
[{"$f":"'R28_Baum'!$F$7","v":"BSV-Blumental"},null,null,null,null,null,null,null,null,"Stechen",null,null,null,null,null,null,null,null,"Stechen"]
["Verein",null,null,null,null,null,null,null,null,null,null,null,null,null,"gewonnen",null,null,null,null,null,null,null,null,"gewonnen"]
[{"$f":"Select!$C$18","v":"Recurve Herren"},null,null,null,null,null,null,null,null,"Schütze:",null,null,null,null,"verloren",null,null,null,"Schütze:",null,null,null,null,"verloren"]
["Bogenklasse"]
[null,null,null,null,null,null,null,null,null,"Gegner:",null,"Name:",{"$f":"'R28_Baum'!D8","v":"Lackner Uwe"},null,null,null,null,null,"Gegner:",null,"Name:"]
[null,null,null,null,null,null,null,null,null,null,null,"Unterschrift:",null,null,null,null,null,null,null,null,"Unterschrift:"]
[]
[]
["1/4 Finale",null,null,null,{"$f":"'R28_Baum'!$M$72","v":"Scheibe: 1"},null,null,null,null,"1/2 Finale",null,null,null,{"$f":"'R28_Baum'!$Q$72","v":"Scheibe: 1"},null,null,null,null,"1./2. od. 3./4. Platz",null,null,null,"Scheibe:"]
[null,1,2,3,"Summe","Punkte","Ges.",null,null,null,1,2,3,"Summe","Punkte","Ges.",null,null,null,1,2,3,"Summe","Punkte","Ges."]
["Satz 1",null,null,null,null,null,null,null,null,"Satz 1",null,null,null,null,null,null,null,null,"Satz 1"]
["Satz 2",null,null,null,null,null,null,null,null,"Satz 2",null,null,null,null,null,null,null,null,"Satz 2"]
["Satz 3",null,null,null,null,null,null,null,null,"Satz 3",null,null,null,null,null,null,null,null,"Satz 3"]
["wenn erforderlich",null,null,null,null,null,null,null,null,"wenn erforderlich",null,null,null,null,null,null,null,null,"wenn erforderlich"]
["Satz 4",null,null,null,null,null,null,null,null,"Satz 4",null,null,null,null,null,null,null,null,"Satz 4"]
["wenn erforderlich",null,null,null,null,null,null,null,null,"wenn erforderlich",null,null,null,null,null,null,null,null,"wenn erforderlich"]
["Satz 5",null,null,null,null,null,null,null,null,"Satz 5",null,null,null,null,null,null,null,null,"Satz 5"]
["wenn erforderlich",null,null,null,null,null,null,null,null,"wenn erforderlich",null,null,null,null,null,null,null,null,"wenn erforderlich"]
["Stechen",null,null,null,null,null,null,null,null,"Stechen",null,null,null,null,null,null,null,null,"Stechen"]
[null,null,null,null,null,"gewonnen",null,null,null,null,null,null,null,null,"gewonnen",null,null,null,null,null,null,null,null,"gewonnen"]
["Schütze:",null,null,null,null,"verloren",null,null,null,"Schütze:",null,null,null,null,"verloren",null,null,null,"Schütze:",null,null,null,null,"verloren"]
[]
["Gegner:",null,"Name:",null,null,null,null,null,null,"Gegner:",null,"Name:",null,null,null,null,null,null,"Gegner:",null,"Name:"]
[null,null,"Unterschrift:",null,null,null,null,null,null,null,null,"Unterschrift:",null,null,null,null,null,null,null,null,"Unterschrift:"]
[]
[]
[null,null,null,null,null,null,null,null,null,"1/12 Elimination",null,null,null,{"$f":"'R28_Baum'!$D$73","v":"Scheibe: 1B"},null,null,null,null,"1/8 Elimination",null,null,null,{"$f":"'R28_Baum'!$I$73","v":"Scheibe: 1B"}]
[null,null,null,null,null,null,null,null,null,null,1,2,3,"Summe","Punkte","Ges.",null,null,null,1,2,3,"Summe","Punkte","Ges."]
[{"$f":"Select!$C$12","v":"Demoturnier"},null,null,null,null,null,null,null,null,"Satz 1",null,null,null,null,null,null,null,null,"Satz 1"]
["Veranstaltung",null,null,null,null,null,null,null,null,"Satz 2",null,null,null,null,null,null,null,null,"Satz 2"]
[{"$f":"Select!$C$13","v":"1. April 2019"},null,null,null,null,null,null,null,null,"Satz 3",null,null,null,null,null,null,null,null,"Satz 3"]
["Datum",null,null,null,null,null,null,null,null,"wenn erforderlich",null,null,null,null,null,null,null,null,"wenn erforderlich"]
[null,null,null,null,null,null,null,null,null,"Satz 4",null,null,null,null,null,null,null,null,"Satz 4"]
[null,null,null,null,null,null,null,null,null,"wenn erforderlich",null,null,null,null,null,null,null,null,"wenn erforderlich"]
[{"$f":"'R28_Baum'!$D$8","v":"Lackner Uwe"},null,null,null,null,null,null,null,null,"Satz 5",null,null,null,null,null,null,null,null,"Satz 5"]
["Name",null,null,null,null,null,null,null,null,"wenn erforderlich",null,null,null,null,null,null,null,null,"wenn erforderlich"]
[{"$f":"'R28_Baum'!$F$8","v":"LH Graz"},null,null,null,null,null,null,null,null,"Stechen",null,null,null,null,null,null,null,null,"Stechen"]
["Verein",null,null,null,null,null,null,null,null,null,null,null,null,null,"gewonnen",null,null,null,null,null,null,null,null,"gewonnen"]
[{"$f":"Select!$C$18","v":"Recurve Herren"},null,null,null,null,null,null,null,null,"Schütze:",null,null,null,null,"verloren",null,null,null,"Schütze:",null,null,null,null,"verloren"]
["Bogenklasse"]
[null,null,null,null,null,null,null,null,null,"Gegner:",null,"Name:",{"$f":"'R28_Baum'!D7","v":"Schweiger Peter"},null,null,null,null,null,"Gegner:",null,"Name:"]
[null,null,null,null,null,null,null,null,null,null,null,"Unterschrift:",null,null,null,null,null,null,null,null,"Unterschrift:"]
[]
[]
["1/4 Finale",null,null,null,{"$f":"'R28_Baum'!$M$72","v":"Scheibe: 1"},null,null,null,null,"1/2 Finale",null,null,null,{"$f":"'R28_Baum'!$Q$72","v":"Scheibe: 1"},null,null,null,null,"1./2. od. 3./4. Platz",null,null,null,"Scheibe:"]
[null,1,2,3,"Summe","Punkte","Ges.",null,null,null,1,2,3,"Summe","Punkte","Ges.",null,null,null,1,2,3,"Summe","Punkte","Ges."]
["Satz 1",null,null,null,null,null,null,null,null,"Satz 1",null,null,null,null,null,null,null,null,"Satz 1"]
["Satz 2",null,null,null,null,null,null,null,null,"Satz 2",null,null,null,null,null,null,null,null,"Satz 2"]
["Satz 3",null,null,null,null,null,null,null,null,"Satz 3",null,null,null,null,null,null,null,null,"Satz 3"]
["wenn erforderlich",null,null,null,null,null,null,null,null,"wenn erforderlich",null,null,null,null,null,null,null,null,"wenn erforderlich"]
["Satz 4",null,null,null,null,null,null,null,null,"Satz 4",null,null,null,null,null,null,null,null,"Satz 4"]
["wenn erforderlich",null,null,null,null,null,null,null,null,"wenn erforderlich",null,null,null,null,null,null,null,null,"wenn erforderlich"]
["Satz 5",null,null,null,null,null,null,null,null,"Satz 5",null,null,null,null,null,null,null,null,"Satz 5"]
["wenn erforderlich",null,null,null,null,null,null,null,null,"wenn erforderlich",null,null,null,null,null,null,null,null,"wenn erforderlich"]
["Stechen",null,null,null,null,null,null,null,null,"Stechen",null,null,null,null,null,null,null,null,"Stechen"]
[null,null,null,null,null,"gewonnen",null,null,null,null,null,null,null,null,"gewonnen",null,null,null,null,null,null,null,null,"gewonnen"]
["Schütze:",null,null,null,null,"verloren",null,null,null,"Schütze:",null,null,null,null,"verloren",null,null,null,"Schütze:",null,null,null,null,"verloren"]
[]
["Gegner:",null,"Name:",null,null,null,null,null,null,"Gegner:",null,"Name:",null,null,null,null,null,null,"Gegner:",null,"Name:"]
[null,null,"Unterschrift:",null,null,null,null,null,null,null,null,"Unterschrift:",null,null,null,null,null,null,null,null,"Unterschrift:"]
[]
[]
[null,null,null,null,null,null,null,null,null,"1/12 Elimination",null,null,null,{"$f":"'R28_Baum'!$D$74","v":"Scheibe: 2A"},null,null,null,null,"1/8 Elimination",null,null,null,{"$f":"'R28_Baum'!$I$74","v":"Scheibe: 2A"}]
[null,null,null,null,null,null,null,null,null,null,1,2,3,"Summe","Punkte","Ges.",null,null,null,1,2,3,"Summe","Punkte","Ges."]
[{"$f":"Select!$C$12","v":"Demoturnier"},null,null,null,null,null,null,null,null,"Satz 1",null,null,null,null,null,null,null,null,"Satz 1"]
["Veranstaltung",null,null,null,null,null,null,null,null,"Satz 2",null,null,null,null,null,null,null,null,"Satz 2"]
[{"$f":"Select!$C$13","v":"1. April 2019"},null,null,null,null,null,null,null,null,"Satz 3",null,null,null,null,null,null,null,null,"Satz 3"]
["Datum",null,null,null,null,null,null,null,null,"wenn erforderlich",null,null,null,null,null,null,null,null,"wenn erforderlich"]
[null,null,null,null,null,null,null,null,null,"Satz 4",null,null,null,null,null,null,null,null,"Satz 4"]
[null,null,null,null,null,null,null,null,null,"wenn erforderlich",null,null,null,null,null,null,null,null,"wenn erforderlich"]
[{"$f":"'R28_Baum'!$D$11","v":"Traxler Helmuth"},null,null,null,null,null,null,null,null,"Satz 5",null,null,null,null,null,null,null,null,"Satz 5"]
["Name",null,null,null,null,null,null,null,null,"wenn erforderlich",null,null,null,null,null,null,null,null,"wenn erforderlich"]
[{"$f":"'R28_Baum'!$F$11","v":"UBC Diana NÖ"},null,null,null,null,null,null,null,null,"Stechen",null,null,null,null,null,null,null,null,"Stechen"]
["Verein",null,null,null,null,null,null,null,null,null,null,null,null,null,"gewonnen",null,null,null,null,null,null,null,null,"gewonnen"]
[{"$f":"Select!$C$18","v":"Recurve Herren"},null,null,null,null,null,null,null,null,"Schütze:",null,null,null,null,"verloren",null,null,null,"Schütze:",null,null,null,null,"verloren"]
["Bogenklasse"]
[null,null,null,null,null,null,null,null,null,"Gegner:",null,"Name:",{"$f":"'R28_Baum'!D12","v":"Eidenberger Karl"},null,null,null,null,null,"Gegner:",null,"Name:"]
[null,null,null,null,null,null,null,null,null,null,null,"Unterschrift:",null,null,null,null,null,null,null,null,"Unterschrift:"]
[]
[]
["1/4 Finale",null,null,null,{"$f":"'R28_Baum'!$M$73","v":"Scheibe: 2"},null,null,null,null,"1/2 Finale",null,null,null,{"$f":"'R28_Baum'!$Q$72","v":"Scheibe: 1"},null,null,null,null,"1./2. od. 3./4. Platz",null,null,null,"Scheibe:"]
[null,1,2,3,"Summe","Punkte","Ges.",null,null,null,1,2,3,"Summe","Punkte","Ges.",null,null,null,1,2,3,"Summe","Punkte","Ges."]
["Satz 1",null,null,null,null,null,null,null,null,"Satz 1",null,null,null,null,null,null,null,null,"Satz 1"]
["Satz 2",null,null,null,null,null,null,null,null,"Satz 2",null,null,null,null,null,null,null,null,"Satz 2"]
["Satz 3",null,null,null,null,null,null,null,null,"Satz 3",null,null,null,null,null,null,null,null,"Satz 3"]
["wenn erforderlich",null,null,null,null,null,null,null,null,"wenn erforderlich",null,null,null,null,null,null,null,null,"wenn erforderlich"]
["Satz 4",null,null,null,null,null,null,null,null,"Satz 4",null,null,null,null,null,null,null,null,"Satz 4"]
["wenn erforderlich",null,null,null,null,null,null,null,null,"wenn erforderlich",null,null,null,null,null,null,null,null,"wenn erforderlich"]
["Satz 5",null,null,null,null,null,null,null,null,"Satz 5",null,null,null,null,null,null,null,null,"Satz 5"]
["wenn erforderlich",null,null,null,null,null,null,null,null,"wenn erforderlich",null,null,null,null,null,null,null,null,"wenn erforderlich"]
["Stechen",null,null,null,null,null,null,null,null,"Stechen",null,null,null,null,null,null,null,null,"Stechen"]
[null,null,null,null,null,"gewonnen",null,null,null,null,null,null,null,null,"gewonnen",null,null,null,null,null,null,null,null,"gewonnen"]
["Schütze:",null,null,null,null,"verloren",null,null,null,"Schütze:",null,null,null,null,"verloren",null,null,null,"Schütze:",null,null,null,null,"verloren"]
[]
["Gegner:",null,"Name:",null,null,null,null,null,null,"Gegner:",null,"Name:",null,null,null,null,null,null,"Gegner:",null,"Name:"]
[null,null,"Unterschrift:",null,null,null,null,null,null,null,null,"Unterschrift:",null,null,null,null,null,null,null,null,"Unterschrift:"]
[]
[]
[null,null,null,null,null,null,null,null,null,"1/12 Elimination",null,null,null,{"$f":"'R28_Baum'!$D$75","v":"Scheibe: 2B"},null,null,null,null,"1/8 Elimination",null,null,null,{"$f":"'R28_Baum'!$I$74","v":"Scheibe: 2A"}]
[null,null,null,null,null,null,null,null,null,null,1,2,3,"Summe","Punkte","Ges.",null,null,null,1,2,3,"Summe","Punkte","Ges."]
[{"$f":"Select!$C$12","v":"Demoturnier"},null,null,null,null,null,null,null,null,"Satz 1",null,null,null,null,null,null,null,null,"Satz 1"]
["Veranstaltung",null,null,null,null,null,null,null,null,"Satz 2",null,null,null,null,null,null,null,null,"Satz 2"]
[{"$f":"Select!$C$13","v":"1. April 2019"},null,null,null,null,null,null,null,null,"Satz 3",null,null,null,null,null,null,null,null,"Satz 3"]
["Datum",null,null,null,null,null,null,null,null,"wenn erforderlich",null,null,null,null,null,null,null,null,"wenn erforderlich"]
[null,null,null,null,null,null,null,null,null,"Satz 4",null,null,null,null,null,null,null,null,"Satz 4"]
[null,null,null,null,null,null,null,null,null,"wenn erforderlich",null,null,null,null,null,null,null,null,"wenn erforderlich"]
[{"$f":"'R28_Baum'!$D$12","v":"Eidenberger Karl"},null,null,null,null,null,null,null,null,"Satz 5",null,null,null,null,null,null,null,null,"Satz 5"]
["Name",null,null,null,null,null,null,null,null,"wenn erforderlich",null,null,null,null,null,null,null,null,"wenn erforderlich"]
[{"$f":"'R28_Baum'!$F$12","v":"PSV Burgenland - Sektion Bogen"},null,null,null,null,null,null,null,null,"Stechen",null,null,null,null,null,null,null,null,"Stechen"]
["Verein",null,null,null,null,null,null,null,null,null,null,null,null,null,"gewonnen",null,null,null,null,null,null,null,null,"gewonnen"]
[{"$f":"Select!$C$18","v":"Recurve Herren"},null,null,null,null,null,null,null,null,"Schütze:",null,null,null,null,"verloren",null,null,null,"Schütze:",null,null,null,null,"verloren"]
["Bogenklasse"]
[null,null,null,null,null,null,null,null,null,"Gegner:",null,"Name:",{"$f":"'R28_Baum'!D11","v":"Traxler Helmuth"},null,null,null,null,null,"Gegner:",null,"Name:"]
[null,null,null,null,null,null,null,null,null,null,null,"Unterschrift:",null,null,null,null,null,null,null,null,"Unterschrift:"]
[]
[]
["1/4 Finale",null,null,null,{"$f":"'R28_Baum'!$M$73","v":"Scheibe: 2"},null,null,null,null,"1/2 Finale",null,null,null,{"$f":"'R28_Baum'!$Q$72","v":"Scheibe: 1"},null,null,null,null,"1./2. od. 3./4. Platz",null,null,null,"Scheibe:"]
[null,1,2,3,"Summe","Punkte","Ges.",null,null,null,1,2,3,"Summe","Punkte","Ges.",null,null,null,1,2,3,"Summe","Punkte","Ges."]
["Satz 1",null,null,null,null,null,null,null,null,"Satz 1",null,null,null,null,null,null,null,null,"Satz 1"]
["Satz 2",null,null,null,null,null,null,null,null,"Satz 2",null,null,null,null,null,null,null,null,"Satz 2"]
["Satz 3",null,null,null,null,null,null,null,null,"Satz 3",null,null,null,null,null,null,null,null,"Satz 3"]
["wenn erforderlich",null,null,null,null,null,null,null,null,"wenn erforderlich",null,null,null,null,null,null,null,null,"wenn erforderlich"]
["Satz 4",null,null,null,null,null,null,null,null,"Satz 4",null,null,null,null,null,null,null,null,"Satz 4"]
["wenn erforderlich",null,null,null,null,null,null,null,null,"wenn erforderlich",null,null,null,null,null,null,null,null,"wenn erforderlich"]
["Satz 5",null,null,null,null,null,null,null,null,"Satz 5",null,null,null,null,null,null,null,null,"Satz 5"]
["wenn erforderlich",null,null,null,null,null,null,null,null,"wenn erforderlich",null,null,null,null,null,null,null,null,"wenn erforderlich"]
["Stechen",null,null,null,null,null,null,null,null,"Stechen",null,null,null,null,null,null,null,null,"Stechen"]
[null,null,null,null,null,"gewonnen",null,null,null,null,null,null,null,null,"gewonnen",null,null,null,null,null,null,null,null,"gewonnen"]
["Schütze:",null,null,null,null,"verloren",null,null,null,"Schütze:",null,null,null,null,"verloren",null,null,null,"Schütze:",null,null,null,null,"verloren"]
[]
["Gegner:",null,"Name:",null,null,null,null,null,null,"Gegner:",null,"Name:",null,null,null,null,null,null,"Gegner:",null,"Name:"]
[null,null,"Unterschrift:",null,null,null,null,null,null,null,null,"Unterschrift:",null,null,null,null,null,null,null,null,"Unterschrift:"]
[]
[]
[null,null,null,null,null,null,null,null,null,"1/12 Elimination",null,null,null,{"$f":"'R28_Baum'!$D$76","v":"Scheibe: 3A"},null,null,null,null,"1/8 Elimination",null,null,null,{"$f":"'R28_Baum'!$I$75","v":"Scheibe: 2B"}]
[null,null,null,null,null,null,null,null,null,null,1,2,3,"Summe","Punkte","Ges.",null,null,null,1,2,3,"Summe","Punkte","Ges."]
[{"$f":"Select!$C$12","v":"Demoturnier"},null,null,null,null,null,null,null,null,"Satz 1",null,null,null,null,null,null,null,null,"Satz 1"]
["Veranstaltung",null,null,null,null,null,null,null,null,"Satz 2",null,null,null,null,null,null,null,null,"Satz 2"]
[{"$f":"Select!$C$13","v":"1. April 2019"},null,null,null,null,null,null,null,null,"Satz 3",null,null,null,null,null,null,null,null,"Satz 3"]
["Datum",null,null,null,null,null,null,null,null,"wenn erforderlich",null,null,null,null,null,null,null,null,"wenn erforderlich"]
[null,null,null,null,null,null,null,null,null,"Satz 4",null,null,null,null,null,null,null,null,"Satz 4"]
[null,null,null,null,null,null,null,null,null,"wenn erforderlich",null,null,null,null,null,null,null,null,"wenn erforderlich"]
[{"$f":"'R28_Baum'!$D$15","v":"Wallner Ewald"},null,null,null,null,null,null,null,null,"Satz 5",null,null,null,null,null,null,null,null,"Satz 5"]
["Name",null,null,null,null,null,null,null,null,"wenn erforderlich",null,null,null,null,null,null,null,null,"wenn erforderlich"]
[{"$f":"'R28_Baum'!$F$15","v":"BSC Sölkpass"},null,null,null,null,null,null,null,null,"Stechen",null,null,null,null,null,null,null,null,"Stechen"]
["Verein",null,null,null,null,null,null,null,null,null,null,null,null,null,"gewonnen",null,null,null,null,null,null,null,null,"gewonnen"]
[{"$f":"Select!$C$18","v":"Recurve Herren"},null,null,null,null,null,null,null,null,"Schütze:",null,null,null,null,"verloren",null,null,null,"Schütze:",null,null,null,null,"verloren"]
["Bogenklasse"]
[null,null,null,null,null,null,null,null,null,"Gegner:",null,"Name:",{"$f":"'R28_Baum'!D16","v":"Robl Ronald"},null,null,null,null,null,"Gegner:",null,"Name:"]
[null,null,null,null,null,null,null,null,null,null,null,"Unterschrift:",null,null,null,null,null,null,null,null,"Unterschrift:"]
[]
[]
["1/4 Finale",null,null,null,{"$f":"'R28_Baum'!$M$73","v":"Scheibe: 2"},null,null,null,null,"1/2 Finale",null,null,null,{"$f":"'R28_Baum'!$Q$72","v":"Scheibe: 1"},null,null,null,null,"1./2. od. 3./4. Platz",null,null,null,"Scheibe:"]
[null,1,2,3,"Summe","Punkte","Ges.",null,null,null,1,2,3,"Summe","Punkte","Ges.",null,null,null,1,2,3,"Summe","Punkte","Ges."]
["Satz 1",null,null,null,null,null,null,null,null,"Satz 1",null,null,null,null,null,null,null,null,"Satz 1"]
["Satz 2",null,null,null,null,null,null,null,null,"Satz 2",null,null,null,null,null,null,null,null,"Satz 2"]
["Satz 3",null,null,null,null,null,null,null,null,"Satz 3",null,null,null,null,null,null,null,null,"Satz 3"]
["wenn erforderlich",null,null,null,null,null,null,null,null,"wenn erforderlich",null,null,null,null,null,null,null,null,"wenn erforderlich"]
["Satz 4",null,null,null,null,null,null,null,null,"Satz 4",null,null,null,null,null,null,null,null,"Satz 4"]
["wenn erforderlich",null,null,null,null,null,null,null,null,"wenn erforderlich",null,null,null,null,null,null,null,null,"wenn erforderlich"]
["Satz 5",null,null,null,null,null,null,null,null,"Satz 5",null,null,null,null,null,null,null,null,"Satz 5"]
["wenn erforderlich",null,null,null,null,null,null,null,null,"wenn erforderlich",null,null,null,null,null,null,null,null,"wenn erforderlich"]
["Stechen",null,null,null,null,null,null,null,null,"Stechen",null,null,null,null,null,null,null,null,"Stechen"]
[null,null,null,null,null,"gewonnen",null,null,null,null,null,null,null,null,"gewonnen",null,null,null,null,null,null,null,null,"gewonnen"]
["Schütze:",null,null,null,null,"verloren",null,null,null,"Schütze:",null,null,null,null,"verloren",null,null,null,"Schütze:",null,null,null,null,"verloren"]
[]
["Gegner:",null,"Name:",null,null,null,null,null,null,"Gegner:",null,"Name:",null,null,null,null,null,null,"Gegner:",null,"Name:"]
[null,null,"Unterschrift:",null,null,null,null,null,null,null,null,"Unterschrift:",null,null,null,null,null,null,null,null,"Unterschrift:"]
[]
[]
[null,null,null,null,null,null,null,null,null,"1/12 Elimination",null,null,null,{"$f":"'R28_Baum'!$D$77","v":"Scheibe: 3B"},null,null,null,null,"1/8 Elimination",null,null,null,{"$f":"'R28_Baum'!$I$75","v":"Scheibe: 2B"}]
[null,null,null,null,null,null,null,null,null,null,1,2,3,"Summe","Punkte","Ges.",null,null,null,1,2,3,"Summe","Punkte","Ges."]
[{"$f":"Select!$C$12","v":"Demoturnier"},null,null,null,null,null,null,null,null,"Satz 1",null,null,null,null,null,null,null,null,"Satz 1"]
["Veranstaltung",null,null,null,null,null,null,null,null,"Satz 2",null,null,null,null,null,null,null,null,"Satz 2"]
[{"$f":"Select!$C$13","v":"1. April 2019"},null,null,null,null,null,null,null,null,"Satz 3",null,null,null,null,null,null,null,null,"Satz 3"]
["Datum",null,null,null,null,null,null,null,null,"wenn erforderlich",null,null,null,null,null,null,null,null,"wenn erforderlich"]
[null,null,null,null,null,null,null,null,null,"Satz 4",null,null,null,null,null,null,null,null,"Satz 4"]
[null,null,null,null,null,null,null,null,null,"wenn erforderlich",null,null,null,null,null,null,null,null,"wenn erforderlich"]
[{"$f":"'R28_Baum'!$D$16","v":"Robl Ronald"},null,null,null,null,null,null,null,null,"Satz 5",null,null,null,null,null,null,null,null,"Satz 5"]
["Name",null,null,null,null,null,null,null,null,"wenn erforderlich",null,null,null,null,null,null,null,null,"wenn erforderlich"]
[{"$f":"'R28_Baum'!$F$16","v":"Austrian Free Archer"},null,null,null,null,null,null,null,null,"Stechen",null,null,null,null,null,null,null,null,"Stechen"]
["Verein",null,null,null,null,null,null,null,null,null,null,null,null,null,"gewonnen",null,null,null,null,null,null,null,null,"gewonnen"]
[{"$f":"Select!$C$18","v":"Recurve Herren"},null,null,null,null,null,null,null,null,"Schütze:",null,null,null,null,"verloren",null,null,null,"Schütze:",null,null,null,null,"verloren"]
["Bogenklasse"]
[null,null,null,null,null,null,null,null,null,"Gegner:",null,"Name:",{"$f":"'R28_Baum'!D15","v":"Wallner Ewald"},null,null,null,null,null,"Gegner:",null,"Name:"]
[null,null,null,null,null,null,null,null,null,null,null,"Unterschrift:",null,null,null,null,null,null,null,null,"Unterschrift:"]
[]
[]
["1/4 Finale",null,null,null,{"$f":"'R28_Baum'!$M$73","v":"Scheibe: 2"},null,null,null,null,"1/2 Finale",null,null,null,{"$f":"'R28_Baum'!$Q$72","v":"Scheibe: 1"},null,null,null,null,"1./2. od. 3./4. Platz",null,null,null,"Scheibe:"]
[null,1,2,3,"Summe","Punkte","Ges.",null,null,null,1,2,3,"Summe","Punkte","Ges.",null,null,null,1,2,3,"Summe","Punkte","Ges."]
["Satz 1",null,null,null,null,null,null,null,null,"Satz 1",null,null,null,null,null,null,null,null,"Satz 1"]
["Satz 2",null,null,null,null,null,null,null,null,"Satz 2",null,null,null,null,null,null,null,null,"Satz 2"]
["Satz 3",null,null,null,null,null,null,null,null,"Satz 3",null,null,null,null,null,null,null,null,"Satz 3"]
["wenn erforderlich",null,null,null,null,null,null,null,null,"wenn erforderlich",null,null,null,null,null,null,null,null,"wenn erforderlich"]
["Satz 4",null,null,null,null,null,null,null,null,"Satz 4",null,null,null,null,null,null,null,null,"Satz 4"]
["wenn erforderlich",null,null,null,null,null,null,null,null,"wenn erforderlich",null,null,null,null,null,null,null,null,"wenn erforderlich"]
["Satz 5",null,null,null,null,null,null,null,null,"Satz 5",null,null,null,null,null,null,null,null,"Satz 5"]
["wenn erforderlich",null,null,null,null,null,null,null,null,"wenn erforderlich",null,null,null,null,null,null,null,null,"wenn erforderlich"]
["Stechen",null,null,null,null,null,null,null,null,"Stechen",null,null,null,null,null,null,null,null,"Stechen"]
[null,null,null,null,null,"gewonnen",null,null,null,null,null,null,null,null,"gewonnen",null,null,null,null,null,null,null,null,"gewonnen"]
["Schütze:",null,null,null,null,"verloren",null,null,null,"Schütze:",null,null,null,null,"verloren",null,null,null,"Schütze:",null,null,null,null,"verloren"]
[]
["Gegner:",null,"Name:",null,null,null,null,null,null,"Gegner:",null,"Name:",null,null,null,null,null,null,"Gegner:",null,"Name:"]
[null,null,"Unterschrift:",null,null,null,null,null,null,null,null,"Unterschrift:",null,null,null,null,null,null,null,null,"Unterschrift:"]
[]
[]
[null,null,null,null,null,null,null,null,null,"1/12 Elimination",null,null,null,{"$f":"'R28_Baum'!$D$78","v":"Scheibe: 4A"},null,null,null,null,"1/8 Elimination",null,null,null,{"$f":"'R28_Baum'!$I$76","v":"Scheibe: 3A"}]
[null,null,null,null,null,null,null,null,null,null,1,2,3,"Summe","Punkte","Ges.",null,null,null,1,2,3,"Summe","Punkte","Ges."]
[{"$f":"Select!$C$12","v":"Demoturnier"},null,null,null,null,null,null,null,null,"Satz 1",null,null,null,null,null,null,null,null,"Satz 1"]
["Veranstaltung",null,null,null,null,null,null,null,null,"Satz 2",null,null,null,null,null,null,null,null,"Satz 2"]
[{"$f":"Select!$C$13","v":"1. April 2019"},null,null,null,null,null,null,null,null,"Satz 3",null,null,null,null,null,null,null,null,"Satz 3"]
["Datum",null,null,null,null,null,null,null,null,"wenn erforderlich",null,null,null,null,null,null,null,null,"wenn erforderlich"]
[null,null,null,null,null,null,null,null,null,"Satz 4",null,null,null,null,null,null,null,null,"Satz 4"]
[null,null,null,null,null,null,null,null,null,"wenn erforderlich",null,null,null,null,null,null,null,null,"wenn erforderlich"]
[{"$f":"'R28_Baum'!$D$19","v":"Höllwirth Andreas"},null,null,null,null,null,null,null,null,"Satz 5",null,null,null,null,null,null,null,null,"Satz 5"]
["Name",null,null,null,null,null,null,null,null,"wenn erforderlich",null,null,null,null,null,null,null,null,"wenn erforderlich"]
[{"$f":"'R28_Baum'!$F$19","v":"ASKÖ-Luftenberg"},null,null,null,null,null,null,null,null,"Stechen",null,null,null,null,null,null,null,null,"Stechen"]
["Verein",null,null,null,null,null,null,null,null,null,null,null,null,null,"gewonnen",null,null,null,null,null,null,null,null,"gewonnen"]
[{"$f":"Select!$C$18","v":"Recurve Herren"},null,null,null,null,null,null,null,null,"Schütze:",null,null,null,null,"verloren",null,null,null,"Schütze:",null,null,null,null,"verloren"]
["Bogenklasse"]
[null,null,null,null,null,null,null,null,null,"Gegner:",null,"Name:",{"$f":"'R28_Baum'!D20","v":"Eberle Roland"},null,null,null,null,null,"Gegner:",null,"Name:"]
[null,null,null,null,null,null,null,null,null,null,null,"Unterschrift:",null,null,null,null,null,null,null,null,"Unterschrift:"]
[]
[]
["1/4 Finale",null,null,null,{"$f":"'R28_Baum'!$M$74","v":"Scheibe: 3"},null,null,null,null,"1/2 Finale",null,null,null,{"$f":"'R28_Baum'!$Q$73","v":"Scheibe: 2"},null,null,null,null,"1./2. od. 3./4. Platz",null,null,null,"Scheibe:"]
[null,1,2,3,"Summe","Punkte","Ges.",null,null,null,1,2,3,"Summe","Punkte","Ges.",null,null,null,1,2,3,"Summe","Punkte","Ges."]
["Satz 1",null,null,null,null,null,null,null,null,"Satz 1",null,null,null,null,null,null,null,null,"Satz 1"]
["Satz 2",null,null,null,null,null,null,null,null,"Satz 2",null,null,null,null,null,null,null,null,"Satz 2"]
["Satz 3",null,null,null,null,null,null,null,null,"Satz 3",null,null,null,null,null,null,null,null,"Satz 3"]
["wenn erforderlich",null,null,null,null,null,null,null,null,"wenn erforderlich",null,null,null,null,null,null,null,null,"wenn erforderlich"]
["Satz 4",null,null,null,null,null,null,null,null,"Satz 4",null,null,null,null,null,null,null,null,"Satz 4"]
["wenn erforderlich",null,null,null,null,null,null,null,null,"wenn erforderlich",null,null,null,null,null,null,null,null,"wenn erforderlich"]
["Satz 5",null,null,null,null,null,null,null,null,"Satz 5",null,null,null,null,null,null,null,null,"Satz 5"]
["wenn erforderlich",null,null,null,null,null,null,null,null,"wenn erforderlich",null,null,null,null,null,null,null,null,"wenn erforderlich"]
["Stechen",null,null,null,null,null,null,null,null,"Stechen",null,null,null,null,null,null,null,null,"Stechen"]
[null,null,null,null,null,"gewonnen",null,null,null,null,null,null,null,null,"gewonnen",null,null,null,null,null,null,null,null,"gewonnen"]
["Schütze:",null,null,null,null,"verloren",null,null,null,"Schütze:",null,null,null,null,"verloren",null,null,null,"Schütze:",null,null,null,null,"verloren"]
[]
["Gegner:",null,"Name:",null,null,null,null,null,null,"Gegner:",null,"Name:",null,null,null,null,null,null,"Gegner:",null,"Name:"]
[null,null,"Unterschrift:",null,null,null,null,null,null,null,null,"Unterschrift:",null,null,null,null,null,null,null,null,"Unterschrift:"]
[]
[]
[null,null,null,null,null,null,null,null,null,"1/12 Elimination",null,null,null,{"$f":"'R28_Baum'!$D$79","v":"Scheibe: 4B"},null,null,null,null,"1/8 Elimination",null,null,null,{"$f":"'R28_Baum'!$I$76","v":"Scheibe: 3A"}]
[null,null,null,null,null,null,null,null,null,null,1,2,3,"Summe","Punkte","Ges.",null,null,null,1,2,3,"Summe","Punkte","Ges."]
[{"$f":"Select!$C$12","v":"Demoturnier"},null,null,null,null,null,null,null,null,"Satz 1",null,null,null,null,null,null,null,null,"Satz 1"]
["Veranstaltung",null,null,null,null,null,null,null,null,"Satz 2",null,null,null,null,null,null,null,null,"Satz 2"]
[{"$f":"Select!$C$13","v":"1. April 2019"},null,null,null,null,null,null,null,null,"Satz 3",null,null,null,null,null,null,null,null,"Satz 3"]
["Datum",null,null,null,null,null,null,null,null,"wenn erforderlich",null,null,null,null,null,null,null,null,"wenn erforderlich"]
[null,null,null,null,null,null,null,null,null,"Satz 4",null,null,null,null,null,null,null,null,"Satz 4"]
[null,null,null,null,null,null,null,null,null,"wenn erforderlich",null,null,null,null,null,null,null,null,"wenn erforderlich"]
[{"$f":"'R28_Baum'!$D$20","v":"Eberle Roland"},null,null,null,null,null,null,null,null,"Satz 5",null,null,null,null,null,null,null,null,"Satz 5"]
["Name",null,null,null,null,null,null,null,null,"wenn erforderlich",null,null,null,null,null,null,null,null,"wenn erforderlich"]
[{"$f":"'R28_Baum'!$F$20","v":"Austrian Free Archer"},null,null,null,null,null,null,null,null,"Stechen",null,null,null,null,null,null,null,null,"Stechen"]
["Verein",null,null,null,null,null,null,null,null,null,null,null,null,null,"gewonnen",null,null,null,null,null,null,null,null,"gewonnen"]
[{"$f":"Select!$C$18","v":"Recurve Herren"},null,null,null,null,null,null,null,null,"Schütze:",null,null,null,null,"verloren",null,null,null,"Schütze:",null,null,null,null,"verloren"]
["Bogenklasse"]
[null,null,null,null,null,null,null,null,null,"Gegner:",null,"Name:",{"$f":"'R28_Baum'!D19","v":"Höllwirth Andreas"},null,null,null,null,null,"Gegner:",null,"Name:"]
[null,null,null,null,null,null,null,null,null,null,null,"Unterschrift:",null,null,null,null,null,null,null,null,"Unterschrift:"]
[]
[]
["1/4 Finale",null,null,null,{"$f":"'R28_Baum'!$M$74","v":"Scheibe: 3"},null,null,null,null,"1/2 Finale",null,null,null,{"$f":"'R28_Baum'!$Q$73","v":"Scheibe: 2"},null,null,null,null,"1./2. od. 3./4. Platz",null,null,null,"Scheibe:"]
[null,1,2,3,"Summe","Punkte","Ges.",null,null,null,1,2,3,"Summe","Punkte","Ges.",null,null,null,1,2,3,"Summe","Punkte","Ges."]
["Satz 1",null,null,null,null,null,null,null,null,"Satz 1",null,null,null,null,null,null,null,null,"Satz 1"]
["Satz 2",null,null,null,null,null,null,null,null,"Satz 2",null,null,null,null,null,null,null,null,"Satz 2"]
["Satz 3",null,null,null,null,null,null,null,null,"Satz 3",null,null,null,null,null,null,null,null,"Satz 3"]
["wenn erforderlich",null,null,null,null,null,null,null,null,"wenn erforderlich",null,null,null,null,null,null,null,null,"wenn erforderlich"]
["Satz 4",null,null,null,null,null,null,null,null,"Satz 4",null,null,null,null,null,null,null,null,"Satz 4"]
["wenn erforderlich",null,null,null,null,null,null,null,null,"wenn erforderlich",null,null,null,null,null,null,null,null,"wenn erforderlich"]
["Satz 5",null,null,null,null,null,null,null,null,"Satz 5",null,null,null,null,null,null,null,null,"Satz 5"]
["wenn erforderlich",null,null,null,null,null,null,null,null,"wenn erforderlich",null,null,null,null,null,null,null,null,"wenn erforderlich"]
["Stechen",null,null,null,null,null,null,null,null,"Stechen",null,null,null,null,null,null,null,null,"Stechen"]
[null,null,null,null,null,"gewonnen",null,null,null,null,null,null,null,null,"gewonnen",null,null,null,null,null,null,null,null,"gewonnen"]
["Schütze:",null,null,null,null,"verloren",null,null,null,"Schütze:",null,null,null,null,"verloren",null,null,null,"Schütze:",null,null,null,null,"verloren"]
[]
["Gegner:",null,"Name:",null,null,null,null,null,null,"Gegner:",null,"Name:",null,null,null,null,null,null,"Gegner:",null,"Name:"]
[null,null,"Unterschrift:",null,null,null,null,null,null,null,null,"Unterschrift:",null,null,null,null,null,null,null,null,"Unterschrift:"]
[]
[]
[null,null,null,null,null,null,null,null,null,"1/12 Elimination",null,null,null,{"$f":"'R28_Baum'!$D$80","v":"Scheibe: 5A"},null,null,null,null,"1/8 Elimination",null,null,null,{"$f":"'R28_Baum'!$I$77","v":"Scheibe: 3B"}]
[null,null,null,null,null,null,null,null,null,null,1,2,3,"Summe","Punkte","Ges.",null,null,null,1,2,3,"Summe","Punkte","Ges."]
[{"$f":"Select!$C$12","v":"Demoturnier"},null,null,null,null,null,null,null,null,"Satz 1",null,null,null,null,null,null,null,null,"Satz 1"]
["Veranstaltung",null,null,null,null,null,null,null,null,"Satz 2",null,null,null,null,null,null,null,null,"Satz 2"]
[{"$f":"Select!$C$13","v":"1. April 2019"},null,null,null,null,null,null,null,null,"Satz 3",null,null,null,null,null,null,null,null,"Satz 3"]
["Datum",null,null,null,null,null,null,null,null,"wenn erforderlich",null,null,null,null,null,null,null,null,"wenn erforderlich"]
[null,null,null,null,null,null,null,null,null,"Satz 4",null,null,null,null,null,null,null,null,"Satz 4"]
[null,null,null,null,null,null,null,null,null,"wenn erforderlich",null,null,null,null,null,null,null,null,"wenn erforderlich"]
[{"$f":"'R28_Baum'!$D$23","v":"Pupetschek Manfred"},null,null,null,null,null,null,null,null,"Satz 5",null,null,null,null,null,null,null,null,"Satz 5"]
["Name",null,null,null,null,null,null,null,null,"wenn erforderlich",null,null,null,null,null,null,null,null,"wenn erforderlich"]
[{"$f":"'R28_Baum'!$F$23","v":"IHG Sektion Bogen"},null,null,null,null,null,null,null,null,"Stechen",null,null,null,null,null,null,null,null,"Stechen"]
["Verein",null,null,null,null,null,null,null,null,null,null,null,null,null,"gewonnen",null,null,null,null,null,null,null,null,"gewonnen"]
[{"$f":"Select!$C$18","v":"Recurve Herren"},null,null,null,null,null,null,null,null,"Schütze:",null,null,null,null,"verloren",null,null,null,"Schütze:",null,null,null,null,"verloren"]
["Bogenklasse"]
[null,null,null,null,null,null,null,null,null,"Gegner:",null,"Name:",{"$f":"'R28_Baum'!D24","v":"Bauer Helfried"},null,null,null,null,null,"Gegner:",null,"Name:"]
[null,null,null,null,null,null,null,null,null,null,null,"Unterschrift:",null,null,null,null,null,null,null,null,"Unterschrift:"]
[]
[]
["1/4 Finale",null,null,null,{"$f":"'R28_Baum'!$M$74","v":"Scheibe: 3"},null,null,null,null,"1/2 Finale",null,null,null,{"$f":"'R28_Baum'!$Q$73","v":"Scheibe: 2"},null,null,null,null,"1./2. od. 3./4. Platz",null,null,null,"Scheibe:"]
[null,1,2,3,"Summe","Punkte","Ges.",null,null,null,1,2,3,"Summe","Punkte","Ges.",null,null,null,1,2,3,"Summe","Punkte","Ges."]
["Satz 1",null,null,null,null,null,null,null,null,"Satz 1",null,null,null,null,null,null,null,null,"Satz 1"]
["Satz 2",null,null,null,null,null,null,null,null,"Satz 2",null,null,null,null,null,null,null,null,"Satz 2"]
["Satz 3",null,null,null,null,null,null,null,null,"Satz 3",null,null,null,null,null,null,null,null,"Satz 3"]
["wenn erforderlich",null,null,null,null,null,null,null,null,"wenn erforderlich",null,null,null,null,null,null,null,null,"wenn erforderlich"]
["Satz 4",null,null,null,null,null,null,null,null,"Satz 4",null,null,null,null,null,null,null,null,"Satz 4"]
["wenn erforderlich",null,null,null,null,null,null,null,null,"wenn erforderlich",null,null,null,null,null,null,null,null,"wenn erforderlich"]
["Satz 5",null,null,null,null,null,null,null,null,"Satz 5",null,null,null,null,null,null,null,null,"Satz 5"]
["wenn erforderlich",null,null,null,null,null,null,null,null,"wenn erforderlich",null,null,null,null,null,null,null,null,"wenn erforderlich"]
["Stechen",null,null,null,null,null,null,null,null,"Stechen",null,null,null,null,null,null,null,null,"Stechen"]
[null,null,null,null,null,"gewonnen",null,null,null,null,null,null,null,null,"gewonnen",null,null,null,null,null,null,null,null,"gewonnen"]
["Schütze:",null,null,null,null,"verloren",null,null,null,"Schütze:",null,null,null,null,"verloren",null,null,null,"Schütze:",null,null,null,null,"verloren"]
[]
["Gegner:",null,"Name:",null,null,null,null,null,null,"Gegner:",null,"Name:",null,null,null,null,null,null,"Gegner:",null,"Name:"]
[null,null,"Unterschrift:",null,null,null,null,null,null,null,null,"Unterschrift:",null,null,null,null,null,null,null,null,"Unterschrift:"]
[]
[]
[null,null,null,null,null,null,null,null,null,"1/12 Elimination",null,null,null,{"$f":"'R28_Baum'!$D$81","v":"Scheibe: 5B"},null,null,null,null,"1/8 Elimination",null,null,null,{"$f":"'R28_Baum'!$I$77","v":"Scheibe: 3B"}]
[null,null,null,null,null,null,null,null,null,null,1,2,3,"Summe","Punkte","Ges.",null,null,null,1,2,3,"Summe","Punkte","Ges."]
[{"$f":"Select!$C$12","v":"Demoturnier"},null,null,null,null,null,null,null,null,"Satz 1",null,null,null,null,null,null,null,null,"Satz 1"]
["Veranstaltung",null,null,null,null,null,null,null,null,"Satz 2",null,null,null,null,null,null,null,null,"Satz 2"]
[{"$f":"Select!$C$13","v":"1. April 2019"},null,null,null,null,null,null,null,null,"Satz 3",null,null,null,null,null,null,null,null,"Satz 3"]
["Datum",null,null,null,null,null,null,null,null,"wenn erforderlich",null,null,null,null,null,null,null,null,"wenn erforderlich"]
[null,null,null,null,null,null,null,null,null,"Satz 4",null,null,null,null,null,null,null,null,"Satz 4"]
[null,null,null,null,null,null,null,null,null,"wenn erforderlich",null,null,null,null,null,null,null,null,"wenn erforderlich"]
[{"$f":"'R28_Baum'!$D$24","v":"Bauer Helfried"},null,null,null,null,null,null,null,null,"Satz 5",null,null,null,null,null,null,null,null,"Satz 5"]
["Name",null,null,null,null,null,null,null,null,"wenn erforderlich",null,null,null,null,null,null,null,null,"wenn erforderlich"]
[{"$f":"'R28_Baum'!$F$24","v":"Austrian Free Archer"},null,null,null,null,null,null,null,null,"Stechen",null,null,null,null,null,null,null,null,"Stechen"]
["Verein",null,null,null,null,null,null,null,null,null,null,null,null,null,"gewonnen",null,null,null,null,null,null,null,null,"gewonnen"]
[{"$f":"Select!$C$18","v":"Recurve Herren"},null,null,null,null,null,null,null,null,"Schütze:",null,null,null,null,"verloren",null,null,null,"Schütze:",null,null,null,null,"verloren"]
["Bogenklasse"]
[null,null,null,null,null,null,null,null,null,"Gegner:",null,"Name:",{"$f":"'R28_Baum'!D23","v":"Pupetschek Manfred"},null,null,null,null,null,"Gegner:",null,"Name:"]
[null,null,null,null,null,null,null,null,null,null,null,"Unterschrift:",null,null,null,null,null,null,null,null,"Unterschrift:"]
[]
[]
["1/4 Finale",null,null,null,{"$f":"'R28_Baum'!$M$74","v":"Scheibe: 3"},null,null,null,null,"1/2 Finale",null,null,null,{"$f":"'R28_Baum'!$Q$73","v":"Scheibe: 2"},null,null,null,null,"1./2. od. 3./4. Platz",null,null,null,"Scheibe:"]
[null,1,2,3,"Summe","Punkte","Ges.",null,null,null,1,2,3,"Summe","Punkte","Ges.",null,null,null,1,2,3,"Summe","Punkte","Ges."]
["Satz 1",null,null,null,null,null,null,null,null,"Satz 1",null,null,null,null,null,null,null,null,"Satz 1"]
["Satz 2",null,null,null,null,null,null,null,null,"Satz 2",null,null,null,null,null,null,null,null,"Satz 2"]
["Satz 3",null,null,null,null,null,null,null,null,"Satz 3",null,null,null,null,null,null,null,null,"Satz 3"]
["wenn erforderlich",null,null,null,null,null,null,null,null,"wenn erforderlich",null,null,null,null,null,null,null,null,"wenn erforderlich"]
["Satz 4",null,null,null,null,null,null,null,null,"Satz 4",null,null,null,null,null,null,null,null,"Satz 4"]
["wenn erforderlich",null,null,null,null,null,null,null,null,"wenn erforderlich",null,null,null,null,null,null,null,null,"wenn erforderlich"]
["Satz 5",null,null,null,null,null,null,null,null,"Satz 5",null,null,null,null,null,null,null,null,"Satz 5"]
["wenn erforderlich",null,null,null,null,null,null,null,null,"wenn erforderlich",null,null,null,null,null,null,null,null,"wenn erforderlich"]
["Stechen",null,null,null,null,null,null,null,null,"Stechen",null,null,null,null,null,null,null,null,"Stechen"]
[null,null,null,null,null,"gewonnen",null,null,null,null,null,null,null,null,"gewonnen",null,null,null,null,null,null,null,null,"gewonnen"]
["Schütze:",null,null,null,null,"verloren",null,null,null,"Schütze:",null,null,null,null,"verloren",null,null,null,"Schütze:",null,null,null,null,"verloren"]
[]
["Gegner:",null,"Name:",null,null,null,null,null,null,"Gegner:",null,"Name:",null,null,null,null,null,null,"Gegner:",null,"Name:"]
[null,null,"Unterschrift:",null,null,null,null,null,null,null,null,"Unterschrift:",null,null,null,null,null,null,null,null,"Unterschrift:"]
[]
[]
[null,null,null,null,null,null,null,null,null,"1/12 Elimination",null,null,null,{"$f":"'R28_Baum'!$D$82","v":"Scheibe: 6A"},null,null,null,null,"1/8 Elimination",null,null,null,{"$f":"'R28_Baum'!$I$78","v":"Scheibe: 4A"}]
[null,null,null,null,null,null,null,null,null,null,1,2,3,"Summe","Punkte","Ges.",null,null,null,1,2,3,"Summe","Punkte","Ges."]
[{"$f":"Select!$C$12","v":"Demoturnier"},null,null,null,null,null,null,null,null,"Satz 1",null,null,null,null,null,null,null,null,"Satz 1"]
["Veranstaltung",null,null,null,null,null,null,null,null,"Satz 2",null,null,null,null,null,null,null,null,"Satz 2"]
[{"$f":"Select!$C$13","v":"1. April 2019"},null,null,null,null,null,null,null,null,"Satz 3",null,null,null,null,null,null,null,null,"Satz 3"]
["Datum",null,null,null,null,null,null,null,null,"wenn erforderlich",null,null,null,null,null,null,null,null,"wenn erforderlich"]
[null,null,null,null,null,null,null,null,null,"Satz 4",null,null,null,null,null,null,null,null,"Satz 4"]
[null,null,null,null,null,null,null,null,null,"wenn erforderlich",null,null,null,null,null,null,null,null,"wenn erforderlich"]
[{"$f":"'R28_Baum'!$D$27","v":"Jandl Ernst"},null,null,null,null,null,null,null,null,"Satz 5",null,null,null,null,null,null,null,null,"Satz 5"]
["Name",null,null,null,null,null,null,null,null,"wenn erforderlich",null,null,null,null,null,null,null,null,"wenn erforderlich"]
[{"$f":"'R28_Baum'!$F$27","v":"PSV Burgenland - Sektion Bogen"},null,null,null,null,null,null,null,null,"Stechen",null,null,null,null,null,null,null,null,"Stechen"]
["Verein",null,null,null,null,null,null,null,null,null,null,null,null,null,"gewonnen",null,null,null,null,null,null,null,null,"gewonnen"]
[{"$f":"Select!$C$18","v":"Recurve Herren"},null,null,null,null,null,null,null,null,"Schütze:",null,null,null,null,"verloren",null,null,null,"Schütze:",null,null,null,null,"verloren"]
["Bogenklasse"]
[null,null,null,null,null,null,null,null,null,"Gegner:",null,"Name:",{"$f":"'R28_Baum'!D28","v":"Stiftner Alfred"},null,null,null,null,null,"Gegner:",null,"Name:"]
[null,null,null,null,null,null,null,null,null,null,null,"Unterschrift:",null,null,null,null,null,null,null,null,"Unterschrift:"]
[]
[]
["1/4 Finale",null,null,null,{"$f":"'R28_Baum'!$M$75","v":"Scheibe: 4"},null,null,null,null,"1/2 Finale",null,null,null,{"$f":"'R28_Baum'!$Q$73","v":"Scheibe: 2"},null,null,null,null,"1./2. od. 3./4. Platz",null,null,null,"Scheibe:"]
[null,1,2,3,"Summe","Punkte","Ges.",null,null,null,1,2,3,"Summe","Punkte","Ges.",null,null,null,1,2,3,"Summe","Punkte","Ges."]
["Satz 1",null,null,null,null,null,null,null,null,"Satz 1",null,null,null,null,null,null,null,null,"Satz 1"]
["Satz 2",null,null,null,null,null,null,null,null,"Satz 2",null,null,null,null,null,null,null,null,"Satz 2"]
["Satz 3",null,null,null,null,null,null,null,null,"Satz 3",null,null,null,null,null,null,null,null,"Satz 3"]
["wenn erforderlich",null,null,null,null,null,null,null,null,"wenn erforderlich",null,null,null,null,null,null,null,null,"wenn erforderlich"]
["Satz 4",null,null,null,null,null,null,null,null,"Satz 4",null,null,null,null,null,null,null,null,"Satz 4"]
["wenn erforderlich",null,null,null,null,null,null,null,null,"wenn erforderlich",null,null,null,null,null,null,null,null,"wenn erforderlich"]
["Satz 5",null,null,null,null,null,null,null,null,"Satz 5",null,null,null,null,null,null,null,null,"Satz 5"]
["wenn erforderlich",null,null,null,null,null,null,null,null,"wenn erforderlich",null,null,null,null,null,null,null,null,"wenn erforderlich"]
["Stechen",null,null,null,null,null,null,null,null,"Stechen",null,null,null,null,null,null,null,null,"Stechen"]
[null,null,null,null,null,"gewonnen",null,null,null,null,null,null,null,null,"gewonnen",null,null,null,null,null,null,null,null,"gewonnen"]
["Schütze:",null,null,null,null,"verloren",null,null,null,"Schütze:",null,null,null,null,"verloren",null,null,null,"Schütze:",null,null,null,null,"verloren"]
[]
["Gegner:",null,"Name:",null,null,null,null,null,null,"Gegner:",null,"Name:",null,null,null,null,null,null,"Gegner:",null,"Name:"]
[null,null,"Unterschrift:",null,null,null,null,null,null,null,null,"Unterschrift:",null,null,null,null,null,null,null,null,"Unterschrift:"]
[]
[]
[null,null,null,null,null,null,null,null,null,"1/12 Elimination",null,null,null,{"$f":"'R28_Baum'!$D$83","v":"Scheibe: 6B"},null,null,null,null,"1/8 Elimination",null,null,null,{"$f":"'R28_Baum'!$I$78","v":"Scheibe: 4A"}]
[null,null,null,null,null,null,null,null,null,null,1,2,3,"Summe","Punkte","Ges.",null,null,null,1,2,3,"Summe","Punkte","Ges."]
[{"$f":"Select!$C$12","v":"Demoturnier"},null,null,null,null,null,null,null,null,"Satz 1",null,null,null,null,null,null,null,null,"Satz 1"]
["Veranstaltung",null,null,null,null,null,null,null,null,"Satz 2",null,null,null,null,null,null,null,null,"Satz 2"]
[{"$f":"Select!$C$13","v":"1. April 2019"},null,null,null,null,null,null,null,null,"Satz 3",null,null,null,null,null,null,null,null,"Satz 3"]
["Datum",null,null,null,null,null,null,null,null,"wenn erforderlich",null,null,null,null,null,null,null,null,"wenn erforderlich"]
[null,null,null,null,null,null,null,null,null,"Satz 4",null,null,null,null,null,null,null,null,"Satz 4"]
[null,null,null,null,null,null,null,null,null,"wenn erforderlich",null,null,null,null,null,null,null,null,"wenn erforderlich"]
[{"$f":"'R28_Baum'!$D$28","v":"Stiftner Alfred"},null,null,null,null,null,null,null,null,"Satz 5",null,null,null,null,null,null,null,null,"Satz 5"]
["Name",null,null,null,null,null,null,null,null,"wenn erforderlich",null,null,null,null,null,null,null,null,"wenn erforderlich"]
[{"$f":"'R28_Baum'!$F$28","v":"BC Kronstorf"},null,null,null,null,null,null,null,null,"Stechen",null,null,null,null,null,null,null,null,"Stechen"]
["Verein",null,null,null,null,null,null,null,null,null,null,null,null,null,"gewonnen",null,null,null,null,null,null,null,null,"gewonnen"]
[{"$f":"Select!$C$18","v":"Recurve Herren"},null,null,null,null,null,null,null,null,"Schütze:",null,null,null,null,"verloren",null,null,null,"Schütze:",null,null,null,null,"verloren"]
["Bogenklasse"]
[null,null,null,null,null,null,null,null,null,"Gegner:",null,"Name:",{"$f":"'R28_Baum'!D27","v":"Jandl Ernst"},null,null,null,null,null,"Gegner:",null,"Name:"]
[null,null,null,null,null,null,null,null,null,null,null,"Unterschrift:",null,null,null,null,null,null,null,null,"Unterschrift:"]
[]
[]
["1/4 Finale",null,null,null,{"$f":"'R28_Baum'!$M$75","v":"Scheibe: 4"},null,null,null,null,"1/2 Finale",null,null,null,{"$f":"'R28_Baum'!$Q$73","v":"Scheibe: 2"},null,null,null,null,"1./2. od. 3./4. Platz",null,null,null,"Scheibe:"]
[null,1,2,3,"Summe","Punkte","Ges.",null,null,null,1,2,3,"Summe","Punkte","Ges.",null,null,null,1,2,3,"Summe","Punkte","Ges."]
["Satz 1",null,null,null,null,null,null,null,null,"Satz 1",null,null,null,null,null,null,null,null,"Satz 1"]
["Satz 2",null,null,null,null,null,null,null,null,"Satz 2",null,null,null,null,null,null,null,null,"Satz 2"]
["Satz 3",null,null,null,null,null,null,null,null,"Satz 3",null,null,null,null,null,null,null,null,"Satz 3"]
["wenn erforderlich",null,null,null,null,null,null,null,null,"wenn erforderlich",null,null,null,null,null,null,null,null,"wenn erforderlich"]
["Satz 4",null,null,null,null,null,null,null,null,"Satz 4",null,null,null,null,null,null,null,null,"Satz 4"]
["wenn erforderlich",null,null,null,null,null,null,null,null,"wenn erforderlich",null,null,null,null,null,null,null,null,"wenn erforderlich"]
["Satz 5",null,null,null,null,null,null,null,null,"Satz 5",null,null,null,null,null,null,null,null,"Satz 5"]
["wenn erforderlich",null,null,null,null,null,null,null,null,"wenn erforderlich",null,null,null,null,null,null,null,null,"wenn erforderlich"]
["Stechen",null,null,null,null,null,null,null,null,"Stechen",null,null,null,null,null,null,null,null,"Stechen"]
[null,null,null,null,null,"gewonnen",null,null,null,null,null,null,null,null,"gewonnen",null,null,null,null,null,null,null,null,"gewonnen"]
["Schütze:",null,null,null,null,"verloren",null,null,null,"Schütze:",null,null,null,null,"verloren",null,null,null,"Schütze:",null,null,null,null,"verloren"]
[]
["Gegner:",null,"Name:",null,null,null,null,null,null,"Gegner:",null,"Name:",null,null,null,null,null,null,"Gegner:",null,"Name:"]
[null,null,"Unterschrift:",null,null,null,null,null,null,null,null,"Unterschrift:",null,null,null,null,null,null,null,null,"Unterschrift:"]
[]
[]
[null,null,null,null,null,null,null,null,null,"1/12 Elimination",null,null,null,"Freilos",null,null,null,null,"1/8 Elimination",null,null,null,{"$f":"'R28_Baum'!$I$79","v":"Scheibe: 4B"}]
[null,null,null,null,null,null,null,null,null,null,1,2,3,"Summe","Punkte","Ges.",null,null,null,1,2,3,"Summe","Punkte","Ges."]
[{"$f":"Select!$C$12","v":"Demoturnier"},null,null,null,null,null,null,null,null,"Satz 1",null,null,null,null,null,null,null,null,"Satz 1"]
["Veranstaltung",null,null,null,null,null,null,null,null,"Satz 2",null,null,null,null,null,null,null,null,"Satz 2"]
[{"$f":"Select!$C$13","v":"1. April 2019"},null,null,null,null,null,null,null,null,"Satz 3",null,null,null,null,null,null,null,null,"Satz 3"]
["Datum",null,null,null,null,null,null,null,null,"wenn erforderlich",null,null,null,null,null,null,null,null,"wenn erforderlich"]
[null,null,null,null,null,null,null,null,null,"Satz 4",null,null,null,null,null,null,null,null,"Satz 4"]
[null,null,null,null,null,null,null,null,null,"wenn erforderlich",null,null,null,null,null,null,null,null,"wenn erforderlich"]
[{"$f":"'R28_Baum'!$D$32","v":"Krempl Werner"},null,null,null,null,null,null,null,null,"Satz 5",null,null,null,null,null,null,null,null,"Satz 5"]
["Name",null,null,null,null,null,null,null,null,"wenn erforderlich",null,null,null,null,null,null,null,null,"wenn erforderlich"]
[{"$f":"'R28_Baum'!$F$32","v":"BSC Semriach"},null,null,null,null,null,null,null,null,"Stechen",null,null,null,null,null,null,null,null,"Stechen"]
["Verein",null,null,null,null,null,null,null,null,null,null,null,null,null,"gewonnen",null,null,null,null,null,null,null,null,"gewonnen"]
[{"$f":"Select!$C$18","v":"Recurve Herren"},null,null,null,null,null,null,null,null,"Schütze:",null,null,null,null,"verloren",null,null,null,"Schütze:",null,null,null,null,"verloren"]
["Bogenklasse"]
[null,null,null,null,null,null,null,null,null,"Gegner:",null,"Name:",null,null,null,null,null,null,"Gegner:",null,"Name:"]
[null,null,null,null,null,null,null,null,null,null,null,"Unterschrift:",null,null,null,null,null,null,null,null,"Unterschrift:"]
[]
[]
["1/4 Finale",null,null,null,{"$f":"'R28_Baum'!$M$75","v":"Scheibe: 4"},null,null,null,null,"1/2 Finale",null,null,null,{"$f":"'R28_Baum'!$Q$73","v":"Scheibe: 2"},null,null,null,null,"1./2. od. 3./4. Platz",null,null,null,"Scheibe:"]
[null,1,2,3,"Summe","Punkte","Ges.",null,null,null,1,2,3,"Summe","Punkte","Ges.",null,null,null,1,2,3,"Summe","Punkte","Ges."]
["Satz 1",null,null,null,null,null,null,null,null,"Satz 1",null,null,null,null,null,null,null,null,"Satz 1"]
["Satz 2",null,null,null,null,null,null,null,null,"Satz 2",null,null,null,null,null,null,null,null,"Satz 2"]
["Satz 3",null,null,null,null,null,null,null,null,"Satz 3",null,null,null,null,null,null,null,null,"Satz 3"]
["wenn erforderlich",null,null,null,null,null,null,null,null,"wenn erforderlich",null,null,null,null,null,null,null,null,"wenn erforderlich"]
["Satz 4",null,null,null,null,null,null,null,null,"Satz 4",null,null,null,null,null,null,null,null,"Satz 4"]
["wenn erforderlich",null,null,null,null,null,null,null,null,"wenn erforderlich",null,null,null,null,null,null,null,null,"wenn erforderlich"]
["Satz 5",null,null,null,null,null,null,null,null,"Satz 5",null,null,null,null,null,null,null,null,"Satz 5"]
["wenn erforderlich",null,null,null,null,null,null,null,null,"wenn erforderlich",null,null,null,null,null,null,null,null,"wenn erforderlich"]
["Stechen",null,null,null,null,null,null,null,null,"Stechen",null,null,null,null,null,null,null,null,"Stechen"]
[null,null,null,null,null,"gewonnen",null,null,null,null,null,null,null,null,"gewonnen",null,null,null,null,null,null,null,null,"gewonnen"]
["Schütze:",null,null,null,null,"verloren",null,null,null,"Schütze:",null,null,null,null,"verloren",null,null,null,"Schütze:",null,null,null,null,"verloren"]
[]
["Gegner:",null,"Name:",null,null,null,null,null,null,"Gegner:",null,"Name:",null,null,null,null,null,null,"Gegner:",null,"Name:"]
[null,null,"Unterschrift:",null,null,null,null,null,null,null,null,"Unterschrift:",null,null,null,null,null,null,null,null,"Unterschrift:"]
[]
[]
[null,null,null,null,null,null,null,null,null,"1/12 Elimination",null,null,null,"Freilos",null,null,null,null,"1/8 Elimination",null,null,null,{"$f":"'R28_Baum'!$I$80","v":"Scheibe: 5A"}]
[null,null,null,null,null,null,null,null,null,null,1,2,3,"Summe","Punkte","Ges.",null,null,null,1,2,3,"Summe","Punkte","Ges."]
[{"$f":"Select!$C$12","v":"Demoturnier"},null,null,null,null,null,null,null,null,"Satz 1",null,null,null,null,null,null,null,null,"Satz 1"]
["Veranstaltung",null,null,null,null,null,null,null,null,"Satz 2",null,null,null,null,null,null,null,null,"Satz 2"]
[{"$f":"Select!$C$13","v":"1. April 2019"},null,null,null,null,null,null,null,null,"Satz 3",null,null,null,null,null,null,null,null,"Satz 3"]
["Datum",null,null,null,null,null,null,null,null,"wenn erforderlich",null,null,null,null,null,null,null,null,"wenn erforderlich"]
[null,null,null,null,null,null,null,null,null,"Satz 4",null,null,null,null,null,null,null,null,"Satz 4"]
[null,null,null,null,null,null,null,null,null,"wenn erforderlich",null,null,null,null,null,null,null,null,"wenn erforderlich"]
[{"$f":"'R28_Baum'!$D$35","v":"Strohmaier Joachim"},null,null,null,null,null,null,null,null,"Satz 5",null,null,null,null,null,null,null,null,"Satz 5"]
["Name",null,null,null,null,null,null,null,null,"wenn erforderlich",null,null,null,null,null,null,null,null,"wenn erforderlich"]
[{"$f":"'R28_Baum'!$F$35","v":"BSC Kumberg"},null,null,null,null,null,null,null,null,"Stechen",null,null,null,null,null,null,null,null,"Stechen"]
["Verein",null,null,null,null,null,null,null,null,null,null,null,null,null,"gewonnen",null,null,null,null,null,null,null,null,"gewonnen"]
[{"$f":"Select!$C$18","v":"Recurve Herren"},null,null,null,null,null,null,null,null,"Schütze:",null,null,null,null,"verloren",null,null,null,"Schütze:",null,null,null,null,"verloren"]
["Bogenklasse"]
[null,null,null,null,null,null,null,null,null,"Gegner:",null,"Name:",null,null,null,null,null,null,"Gegner:",null,"Name:"]
[null,null,null,null,null,null,null,null,null,null,null,"Unterschrift:",null,null,null,null,null,null,null,null,"Unterschrift:"]
[]
[]
["1/4 Finale",null,null,null,{"$f":"'R28_Baum'!$M$76","v":"Scheibe: 5"},null,null,null,null,"1/2 Finale",null,null,null,{"$f":"'R28_Baum'!$Q$74","v":"Scheibe: 3"},null,null,null,null,"1./2. od. 3./4. Platz",null,null,null,"Scheibe:"]
[null,1,2,3,"Summe","Punkte","Ges.",null,null,null,1,2,3,"Summe","Punkte","Ges.",null,null,null,1,2,3,"Summe","Punkte","Ges."]
["Satz 1",null,null,null,null,null,null,null,null,"Satz 1",null,null,null,null,null,null,null,null,"Satz 1"]
["Satz 2",null,null,null,null,null,null,null,null,"Satz 2",null,null,null,null,null,null,null,null,"Satz 2"]
["Satz 3",null,null,null,null,null,null,null,null,"Satz 3",null,null,null,null,null,null,null,null,"Satz 3"]
["wenn erforderlich",null,null,null,null,null,null,null,null,"wenn erforderlich",null,null,null,null,null,null,null,null,"wenn erforderlich"]
["Satz 4",null,null,null,null,null,null,null,null,"Satz 4",null,null,null,null,null,null,null,null,"Satz 4"]
["wenn erforderlich",null,null,null,null,null,null,null,null,"wenn erforderlich",null,null,null,null,null,null,null,null,"wenn erforderlich"]
["Satz 5",null,null,null,null,null,null,null,null,"Satz 5",null,null,null,null,null,null,null,null,"Satz 5"]
["wenn erforderlich",null,null,null,null,null,null,null,null,"wenn erforderlich",null,null,null,null,null,null,null,null,"wenn erforderlich"]
["Stechen",null,null,null,null,null,null,null,null,"Stechen",null,null,null,null,null,null,null,null,"Stechen"]
[null,null,null,null,null,"gewonnen",null,null,null,null,null,null,null,null,"gewonnen",null,null,null,null,null,null,null,null,"gewonnen"]
["Schütze:",null,null,null,null,"verloren",null,null,null,"Schütze:",null,null,null,null,"verloren",null,null,null,"Schütze:",null,null,null,null,"verloren"]
[]
["Gegner:",null,"Name:",null,null,null,null,null,null,"Gegner:",null,"Name:",null,null,null,null,null,null,"Gegner:",null,"Name:"]
[null,null,"Unterschrift:",null,null,null,null,null,null,null,null,"Unterschrift:",null,null,null,null,null,null,null,null,"Unterschrift:"]
[]
[]
[null,null,null,null,null,null,null,null,null,"1/12 Elimination",null,null,null,{"$f":"'R28_Baum'!$D$84","v":"Scheibe: 7A"},null,null,null,null,"1/8 Elimination",null,null,null,{"$f":"'R28_Baum'!$I$81","v":"Scheibe: 5B"}]
[null,null,null,null,null,null,null,null,null,null,1,2,3,"Summe","Punkte","Ges.",null,null,null,1,2,3,"Summe","Punkte","Ges."]
[{"$f":"Select!$C$12","v":"Demoturnier"},null,null,null,null,null,null,null,null,"Satz 1",null,null,null,null,null,null,null,null,"Satz 1"]
["Veranstaltung",null,null,null,null,null,null,null,null,"Satz 2",null,null,null,null,null,null,null,null,"Satz 2"]
[{"$f":"Select!$C$13","v":"1. April 2019"},null,null,null,null,null,null,null,null,"Satz 3",null,null,null,null,null,null,null,null,"Satz 3"]
["Datum",null,null,null,null,null,null,null,null,"wenn erforderlich",null,null,null,null,null,null,null,null,"wenn erforderlich"]
[null,null,null,null,null,null,null,null,null,"Satz 4",null,null,null,null,null,null,null,null,"Satz 4"]
[null,null,null,null,null,null,null,null,null,"wenn erforderlich",null,null,null,null,null,null,null,null,"wenn erforderlich"]
[{"$f":"'R28_Baum'!$D$39","v":"Winkler Klaus"},null,null,null,null,null,null,null,null,"Satz 5",null,null,null,null,null,null,null,null,"Satz 5"]
["Name",null,null,null,null,null,null,null,null,"wenn erforderlich",null,null,null,null,null,null,null,null,"wenn erforderlich"]
[{"$f":"'R28_Baum'!$F$39","v":"BSC Enzenreith"},null,null,null,null,null,null,null,null,"Stechen",null,null,null,null,null,null,null,null,"Stechen"]
["Verein",null,null,null,null,null,null,null,null,null,null,null,null,null,"gewonnen",null,null,null,null,null,null,null,null,"gewonnen"]
[{"$f":"Select!$C$18","v":"Recurve Herren"},null,null,null,null,null,null,null,null,"Schütze:",null,null,null,null,"verloren",null,null,null,"Schütze:",null,null,null,null,"verloren"]
["Bogenklasse"]
[null,null,null,null,null,null,null,null,null,"Gegner:",null,"Name:",{"$f":"'R28_Baum'!D40","v":"Schramm Wolfgang"},null,null,null,null,null,"Gegner:",null,"Name:"]
[null,null,null,null,null,null,null,null,null,null,null,"Unterschrift:",null,null,null,null,null,null,null,null,"Unterschrift:"]
[]
[]
["1/4 Finale",null,null,null,{"$f":"'R28_Baum'!$M$76","v":"Scheibe: 5"},null,null,null,null,"1/2 Finale",null,null,null,{"$f":"'R28_Baum'!$Q$74","v":"Scheibe: 3"},null,null,null,null,"1./2. od. 3./4. Platz",null,null,null,"Scheibe:"]
[null,1,2,3,"Summe","Punkte","Ges.",null,null,null,1,2,3,"Summe","Punkte","Ges.",null,null,null,1,2,3,"Summe","Punkte","Ges."]
["Satz 1",null,null,null,null,null,null,null,null,"Satz 1",null,null,null,null,null,null,null,null,"Satz 1"]
["Satz 2",null,null,null,null,null,null,null,null,"Satz 2",null,null,null,null,null,null,null,null,"Satz 2"]
["Satz 3",null,null,null,null,null,null,null,null,"Satz 3",null,null,null,null,null,null,null,null,"Satz 3"]
["wenn erforderlich",null,null,null,null,null,null,null,null,"wenn erforderlich",null,null,null,null,null,null,null,null,"wenn erforderlich"]
["Satz 4",null,null,null,null,null,null,null,null,"Satz 4",null,null,null,null,null,null,null,null,"Satz 4"]
["wenn erforderlich",null,null,null,null,null,null,null,null,"wenn erforderlich",null,null,null,null,null,null,null,null,"wenn erforderlich"]
["Satz 5",null,null,null,null,null,null,null,null,"Satz 5",null,null,null,null,null,null,null,null,"Satz 5"]
["wenn erforderlich",null,null,null,null,null,null,null,null,"wenn erforderlich",null,null,null,null,null,null,null,null,"wenn erforderlich"]
["Stechen",null,null,null,null,null,null,null,null,"Stechen",null,null,null,null,null,null,null,null,"Stechen"]
[null,null,null,null,null,"gewonnen",null,null,null,null,null,null,null,null,"gewonnen",null,null,null,null,null,null,null,null,"gewonnen"]
["Schütze:",null,null,null,null,"verloren",null,null,null,"Schütze:",null,null,null,null,"verloren",null,null,null,"Schütze:",null,null,null,null,"verloren"]
[]
["Gegner:",null,"Name:",null,null,null,null,null,null,"Gegner:",null,"Name:",null,null,null,null,null,null,"Gegner:",null,"Name:"]
[null,null,"Unterschrift:",null,null,null,null,null,null,null,null,"Unterschrift:",null,null,null,null,null,null,null,null,"Unterschrift:"]
[]
[]
[null,null,null,null,null,null,null,null,null,"1/12 Elimination",null,null,null,{"$f":"'R28_Baum'!$D$85","v":"Scheibe: 7B"},null,null,null,null,"1/8 Elimination",null,null,null,{"$f":"'R28_Baum'!$I$81","v":"Scheibe: 5B"}]
[null,null,null,null,null,null,null,null,null,null,1,2,3,"Summe","Punkte","Ges.",null,null,null,1,2,3,"Summe","Punkte","Ges."]
[{"$f":"Select!$C$12","v":"Demoturnier"},null,null,null,null,null,null,null,null,"Satz 1",null,null,null,null,null,null,null,null,"Satz 1"]
["Veranstaltung",null,null,null,null,null,null,null,null,"Satz 2",null,null,null,null,null,null,null,null,"Satz 2"]
[{"$f":"Select!$C$13","v":"1. April 2019"},null,null,null,null,null,null,null,null,"Satz 3",null,null,null,null,null,null,null,null,"Satz 3"]
["Datum",null,null,null,null,null,null,null,null,"wenn erforderlich",null,null,null,null,null,null,null,null,"wenn erforderlich"]
[null,null,null,null,null,null,null,null,null,"Satz 4",null,null,null,null,null,null,null,null,"Satz 4"]
[null,null,null,null,null,null,null,null,null,"wenn erforderlich",null,null,null,null,null,null,null,null,"wenn erforderlich"]
[{"$f":"'R28_Baum'!$D$40","v":"Schramm Wolfgang"},null,null,null,null,null,null,null,null,"Satz 5",null,null,null,null,null,null,null,null,"Satz 5"]
["Name",null,null,null,null,null,null,null,null,"wenn erforderlich",null,null,null,null,null,null,null,null,"wenn erforderlich"]
[{"$f":"'R28_Baum'!$F$40","v":"LINZ AG Sport - Sektion Bogen"},null,null,null,null,null,null,null,null,"Stechen",null,null,null,null,null,null,null,null,"Stechen"]
["Verein",null,null,null,null,null,null,null,null,null,null,null,null,null,"gewonnen",null,null,null,null,null,null,null,null,"gewonnen"]
[{"$f":"Select!$C$18","v":"Recurve Herren"},null,null,null,null,null,null,null,null,"Schütze:",null,null,null,null,"verloren",null,null,null,"Schütze:",null,null,null,null,"verloren"]
["Bogenklasse"]
[null,null,null,null,null,null,null,null,null,"Gegner:",null,"Name:",{"$f":"'R28_Baum'!D39","v":"Winkler Klaus"},null,null,null,null,null,"Gegner:",null,"Name:"]
[null,null,null,null,null,null,null,null,null,null,null,"Unterschrift:",null,null,null,null,null,null,null,null,"Unterschrift:"]
[]
[]
["1/4 Finale",null,null,null,{"$f":"'R28_Baum'!$M$76","v":"Scheibe: 5"},null,null,null,null,"1/2 Finale",null,null,null,{"$f":"'R28_Baum'!$Q$74","v":"Scheibe: 3"},null,null,null,null,"1./2. od. 3./4. Platz",null,null,null,"Scheibe:"]
[null,1,2,3,"Summe","Punkte","Ges.",null,null,null,1,2,3,"Summe","Punkte","Ges.",null,null,null,1,2,3,"Summe","Punkte","Ges."]
["Satz 1",null,null,null,null,null,null,null,null,"Satz 1",null,null,null,null,null,null,null,null,"Satz 1"]
["Satz 2",null,null,null,null,null,null,null,null,"Satz 2",null,null,null,null,null,null,null,null,"Satz 2"]
["Satz 3",null,null,null,null,null,null,null,null,"Satz 3",null,null,null,null,null,null,null,null,"Satz 3"]
["wenn erforderlich",null,null,null,null,null,null,null,null,"wenn erforderlich",null,null,null,null,null,null,null,null,"wenn erforderlich"]
["Satz 4",null,null,null,null,null,null,null,null,"Satz 4",null,null,null,null,null,null,null,null,"Satz 4"]
["wenn erforderlich",null,null,null,null,null,null,null,null,"wenn erforderlich",null,null,null,null,null,null,null,null,"wenn erforderlich"]
["Satz 5",null,null,null,null,null,null,null,null,"Satz 5",null,null,null,null,null,null,null,null,"Satz 5"]
["wenn erforderlich",null,null,null,null,null,null,null,null,"wenn erforderlich",null,null,null,null,null,null,null,null,"wenn erforderlich"]
["Stechen",null,null,null,null,null,null,null,null,"Stechen",null,null,null,null,null,null,null,null,"Stechen"]
[null,null,null,null,null,"gewonnen",null,null,null,null,null,null,null,null,"gewonnen",null,null,null,null,null,null,null,null,"gewonnen"]
["Schütze:",null,null,null,null,"verloren",null,null,null,"Schütze:",null,null,null,null,"verloren",null,null,null,"Schütze:",null,null,null,null,"verloren"]
[]
["Gegner:",null,"Name:",null,null,null,null,null,null,"Gegner:",null,"Name:",null,null,null,null,null,null,"Gegner:",null,"Name:"]
[null,null,"Unterschrift:",null,null,null,null,null,null,null,null,"Unterschrift:",null,null,null,null,null,null,null,null,"Unterschrift:"]
[]
[]
[null,null,null,null,null,null,null,null,null,"1/12 Elimination",null,null,null,{"$f":"'R28_Baum'!$D$86","v":"Scheibe: 8A"},null,null,null,null,"1/8 Elimination",null,null,null,{"$f":"'R28_Baum'!$I$82","v":"Scheibe: 6A"}]
[null,null,null,null,null,null,null,null,null,null,1,2,3,"Summe","Punkte","Ges.",null,null,null,1,2,3,"Summe","Punkte","Ges."]
[{"$f":"Select!$C$12","v":"Demoturnier"},null,null,null,null,null,null,null,null,"Satz 1",null,null,null,null,null,null,null,null,"Satz 1"]
["Veranstaltung",null,null,null,null,null,null,null,null,"Satz 2",null,null,null,null,null,null,null,null,"Satz 2"]
[{"$f":"Select!$C$13","v":"1. April 2019"},null,null,null,null,null,null,null,null,"Satz 3",null,null,null,null,null,null,null,null,"Satz 3"]
["Datum",null,null,null,null,null,null,null,null,"wenn erforderlich",null,null,null,null,null,null,null,null,"wenn erforderlich"]
[null,null,null,null,null,null,null,null,null,"Satz 4",null,null,null,null,null,null,null,null,"Satz 4"]
[null,null,null,null,null,null,null,null,null,"wenn erforderlich",null,null,null,null,null,null,null,null,"wenn erforderlich"]
[{"$f":"'R28_Baum'!$D$43","v":"Reicher Ernst"},null,null,null,null,null,null,null,null,"Satz 5",null,null,null,null,null,null,null,null,"Satz 5"]
["Name",null,null,null,null,null,null,null,null,"wenn erforderlich",null,null,null,null,null,null,null,null,"wenn erforderlich"]
[{"$f":"'R28_Baum'!$F$43","v":"BSC Wörthersee"},null,null,null,null,null,null,null,null,"Stechen",null,null,null,null,null,null,null,null,"Stechen"]
["Verein",null,null,null,null,null,null,null,null,null,null,null,null,null,"gewonnen",null,null,null,null,null,null,null,null,"gewonnen"]
[{"$f":"Select!$C$18","v":"Recurve Herren"},null,null,null,null,null,null,null,null,"Schütze:",null,null,null,null,"verloren",null,null,null,"Schütze:",null,null,null,null,"verloren"]
["Bogenklasse"]
[null,null,null,null,null,null,null,null,null,"Gegner:",null,"Name:",{"$f":"'R28_Baum'!D44","v":"Schütz Raimund"},null,null,null,null,null,"Gegner:",null,"Name:"]
[null,null,null,null,null,null,null,null,null,null,null,"Unterschrift:",null,null,null,null,null,null,null,null,"Unterschrift:"]
[]
[]
["1/4 Finale",null,null,null,{"$f":"'R28_Baum'!$M$77","v":"Scheibe: 6"},null,null,null,null,"1/2 Finale",null,null,null,{"$f":"'R28_Baum'!$Q$74","v":"Scheibe: 3"},null,null,null,null,"1./2. od. 3./4. Platz",null,null,null,"Scheibe:"]
[null,1,2,3,"Summe","Punkte","Ges.",null,null,null,1,2,3,"Summe","Punkte","Ges.",null,null,null,1,2,3,"Summe","Punkte","Ges."]
["Satz 1",null,null,null,null,null,null,null,null,"Satz 1",null,null,null,null,null,null,null,null,"Satz 1"]
["Satz 2",null,null,null,null,null,null,null,null,"Satz 2",null,null,null,null,null,null,null,null,"Satz 2"]
["Satz 3",null,null,null,null,null,null,null,null,"Satz 3",null,null,null,null,null,null,null,null,"Satz 3"]
["wenn erforderlich",null,null,null,null,null,null,null,null,"wenn erforderlich",null,null,null,null,null,null,null,null,"wenn erforderlich"]
["Satz 4",null,null,null,null,null,null,null,null,"Satz 4",null,null,null,null,null,null,null,null,"Satz 4"]
["wenn erforderlich",null,null,null,null,null,null,null,null,"wenn erforderlich",null,null,null,null,null,null,null,null,"wenn erforderlich"]
["Satz 5",null,null,null,null,null,null,null,null,"Satz 5",null,null,null,null,null,null,null,null,"Satz 5"]
["wenn erforderlich",null,null,null,null,null,null,null,null,"wenn erforderlich",null,null,null,null,null,null,null,null,"wenn erforderlich"]
["Stechen",null,null,null,null,null,null,null,null,"Stechen",null,null,null,null,null,null,null,null,"Stechen"]
[null,null,null,null,null,"gewonnen",null,null,null,null,null,null,null,null,"gewonnen",null,null,null,null,null,null,null,null,"gewonnen"]
["Schütze:",null,null,null,null,"verloren",null,null,null,"Schütze:",null,null,null,null,"verloren",null,null,null,"Schütze:",null,null,null,null,"verloren"]
[]
["Gegner:",null,"Name:",null,null,null,null,null,null,"Gegner:",null,"Name:",null,null,null,null,null,null,"Gegner:",null,"Name:"]
[null,null,"Unterschrift:",null,null,null,null,null,null,null,null,"Unterschrift:",null,null,null,null,null,null,null,null,"Unterschrift:"]
[]
[]
[null,null,null,null,null,null,null,null,null,"1/12 Elimination",null,null,null,{"$f":"'R28_Baum'!$D$87","v":"Scheibe: 8B"},null,null,null,null,"1/8 Elimination",null,null,null,{"$f":"'R28_Baum'!$I$82","v":"Scheibe: 6A"}]
[null,null,null,null,null,null,null,null,null,null,1,2,3,"Summe","Punkte","Ges.",null,null,null,1,2,3,"Summe","Punkte","Ges."]
[{"$f":"Select!$C$12","v":"Demoturnier"},null,null,null,null,null,null,null,null,"Satz 1",null,null,null,null,null,null,null,null,"Satz 1"]
["Veranstaltung",null,null,null,null,null,null,null,null,"Satz 2",null,null,null,null,null,null,null,null,"Satz 2"]
[{"$f":"Select!$C$13","v":"1. April 2019"},null,null,null,null,null,null,null,null,"Satz 3",null,null,null,null,null,null,null,null,"Satz 3"]
["Datum",null,null,null,null,null,null,null,null,"wenn erforderlich",null,null,null,null,null,null,null,null,"wenn erforderlich"]
[null,null,null,null,null,null,null,null,null,"Satz 4",null,null,null,null,null,null,null,null,"Satz 4"]
[null,null,null,null,null,null,null,null,null,"wenn erforderlich",null,null,null,null,null,null,null,null,"wenn erforderlich"]
[{"$f":"'R28_Baum'!$D$44","v":"Schütz Raimund"},null,null,null,null,null,null,null,null,"Satz 5",null,null,null,null,null,null,null,null,"Satz 5"]
["Name",null,null,null,null,null,null,null,null,"wenn erforderlich",null,null,null,null,null,null,null,null,"wenn erforderlich"]
[{"$f":"'R28_Baum'!$F$44","v":"TBs Weinviertel"},null,null,null,null,null,null,null,null,"Stechen",null,null,null,null,null,null,null,null,"Stechen"]
["Verein",null,null,null,null,null,null,null,null,null,null,null,null,null,"gewonnen",null,null,null,null,null,null,null,null,"gewonnen"]
[{"$f":"Select!$C$18","v":"Recurve Herren"},null,null,null,null,null,null,null,null,"Schütze:",null,null,null,null,"verloren",null,null,null,"Schütze:",null,null,null,null,"verloren"]
["Bogenklasse"]
[null,null,null,null,null,null,null,null,null,"Gegner:",null,"Name:",{"$f":"'R28_Baum'!D43","v":"Reicher Ernst"},null,null,null,null,null,"Gegner:",null,"Name:"]
[null,null,null,null,null,null,null,null,null,null,null,"Unterschrift:",null,null,null,null,null,null,null,null,"Unterschrift:"]
[]
[]
["1/4 Finale",null,null,null,{"$f":"'R28_Baum'!$M$77","v":"Scheibe: 6"},null,null,null,null,"1/2 Finale",null,null,null,{"$f":"'R28_Baum'!$Q$74","v":"Scheibe: 3"},null,null,null,null,"1./2. od. 3./4. Platz",null,null,null,"Scheibe:"]
[null,1,2,3,"Summe","Punkte","Ges.",null,null,null,1,2,3,"Summe","Punkte","Ges.",null,null,null,1,2,3,"Summe","Punkte","Ges."]
["Satz 1",null,null,null,null,null,null,null,null,"Satz 1",null,null,null,null,null,null,null,null,"Satz 1"]
["Satz 2",null,null,null,null,null,null,null,null,"Satz 2",null,null,null,null,null,null,null,null,"Satz 2"]
["Satz 3",null,null,null,null,null,null,null,null,"Satz 3",null,null,null,null,null,null,null,null,"Satz 3"]
["wenn erforderlich",null,null,null,null,null,null,null,null,"wenn erforderlich",null,null,null,null,null,null,null,null,"wenn erforderlich"]
["Satz 4",null,null,null,null,null,null,null,null,"Satz 4",null,null,null,null,null,null,null,null,"Satz 4"]
["wenn erforderlich",null,null,null,null,null,null,null,null,"wenn erforderlich",null,null,null,null,null,null,null,null,"wenn erforderlich"]
["Satz 5",null,null,null,null,null,null,null,null,"Satz 5",null,null,null,null,null,null,null,null,"Satz 5"]
["wenn erforderlich",null,null,null,null,null,null,null,null,"wenn erforderlich",null,null,null,null,null,null,null,null,"wenn erforderlich"]
["Stechen",null,null,null,null,null,null,null,null,"Stechen",null,null,null,null,null,null,null,null,"Stechen"]
[null,null,null,null,null,"gewonnen",null,null,null,null,null,null,null,null,"gewonnen",null,null,null,null,null,null,null,null,"gewonnen"]
["Schütze:",null,null,null,null,"verloren",null,null,null,"Schütze:",null,null,null,null,"verloren",null,null,null,"Schütze:",null,null,null,null,"verloren"]
[]
["Gegner:",null,"Name:",null,null,null,null,null,null,"Gegner:",null,"Name:",null,null,null,null,null,null,"Gegner:",null,"Name:"]
[null,null,"Unterschrift:",null,null,null,null,null,null,null,null,"Unterschrift:",null,null,null,null,null,null,null,null,"Unterschrift:"]
[]
[]
[null,null,null,null,null,null,null,null,null,"1/12 Elimination",null,null,null,{"$f":"'R28_Baum'!$D$88","v":"Scheibe: 9A"},null,null,null,null,"1/8 Elimination",null,null,null,{"$f":"'R28_Baum'!$I$83","v":"Scheibe: 6B"}]
[null,null,null,null,null,null,null,null,null,null,1,2,3,"Summe","Punkte","Ges.",null,null,null,1,2,3,"Summe","Punkte","Ges."]
[{"$f":"Select!$C$12","v":"Demoturnier"},null,null,null,null,null,null,null,null,"Satz 1",null,null,null,null,null,null,null,null,"Satz 1"]
["Veranstaltung",null,null,null,null,null,null,null,null,"Satz 2",null,null,null,null,null,null,null,null,"Satz 2"]
[{"$f":"Select!$C$13","v":"1. April 2019"},null,null,null,null,null,null,null,null,"Satz 3",null,null,null,null,null,null,null,null,"Satz 3"]
["Datum",null,null,null,null,null,null,null,null,"wenn erforderlich",null,null,null,null,null,null,null,null,"wenn erforderlich"]
[null,null,null,null,null,null,null,null,null,"Satz 4",null,null,null,null,null,null,null,null,"Satz 4"]
[null,null,null,null,null,null,null,null,null,"wenn erforderlich",null,null,null,null,null,null,null,null,"wenn erforderlich"]
[{"$f":"'R28_Baum'!$D$47","v":"Radauer Helmuth"},null,null,null,null,null,null,null,null,"Satz 5",null,null,null,null,null,null,null,null,"Satz 5"]
["Name",null,null,null,null,null,null,null,null,"wenn erforderlich",null,null,null,null,null,null,null,null,"wenn erforderlich"]
[{"$f":"'R28_Baum'!$F$47","v":"BSC Ennstal"},null,null,null,null,null,null,null,null,"Stechen",null,null,null,null,null,null,null,null,"Stechen"]
["Verein",null,null,null,null,null,null,null,null,null,null,null,null,null,"gewonnen",null,null,null,null,null,null,null,null,"gewonnen"]
[{"$f":"Select!$C$18","v":"Recurve Herren"},null,null,null,null,null,null,null,null,"Schütze:",null,null,null,null,"verloren",null,null,null,"Schütze:",null,null,null,null,"verloren"]
["Bogenklasse"]
[null,null,null,null,null,null,null,null,null,"Gegner:",null,"Name:",{"$f":"'R28_Baum'!D48","v":"Parschisek Alexander"},null,null,null,null,null,"Gegner:",null,"Name:"]
[null,null,null,null,null,null,null,null,null,null,null,"Unterschrift:",null,null,null,null,null,null,null,null,"Unterschrift:"]
[]
[]
["1/4 Finale",null,null,null,{"$f":"'R28_Baum'!$M$77","v":"Scheibe: 6"},null,null,null,null,"1/2 Finale",null,null,null,{"$f":"'R28_Baum'!$Q$74","v":"Scheibe: 3"},null,null,null,null,"1./2. od. 3./4. Platz",null,null,null,"Scheibe:"]
[null,1,2,3,"Summe","Punkte","Ges.",null,null,null,1,2,3,"Summe","Punkte","Ges.",null,null,null,1,2,3,"Summe","Punkte","Ges."]
["Satz 1",null,null,null,null,null,null,null,null,"Satz 1",null,null,null,null,null,null,null,null,"Satz 1"]
["Satz 2",null,null,null,null,null,null,null,null,"Satz 2",null,null,null,null,null,null,null,null,"Satz 2"]
["Satz 3",null,null,null,null,null,null,null,null,"Satz 3",null,null,null,null,null,null,null,null,"Satz 3"]
["wenn erforderlich",null,null,null,null,null,null,null,null,"wenn erforderlich",null,null,null,null,null,null,null,null,"wenn erforderlich"]
["Satz 4",null,null,null,null,null,null,null,null,"Satz 4",null,null,null,null,null,null,null,null,"Satz 4"]
["wenn erforderlich",null,null,null,null,null,null,null,null,"wenn erforderlich",null,null,null,null,null,null,null,null,"wenn erforderlich"]
["Satz 5",null,null,null,null,null,null,null,null,"Satz 5",null,null,null,null,null,null,null,null,"Satz 5"]
["wenn erforderlich",null,null,null,null,null,null,null,null,"wenn erforderlich",null,null,null,null,null,null,null,null,"wenn erforderlich"]
["Stechen",null,null,null,null,null,null,null,null,"Stechen",null,null,null,null,null,null,null,null,"Stechen"]
[null,null,null,null,null,"gewonnen",null,null,null,null,null,null,null,null,"gewonnen",null,null,null,null,null,null,null,null,"gewonnen"]
["Schütze:",null,null,null,null,"verloren",null,null,null,"Schütze:",null,null,null,null,"verloren",null,null,null,"Schütze:",null,null,null,null,"verloren"]
[]
["Gegner:",null,"Name:",null,null,null,null,null,null,"Gegner:",null,"Name:",null,null,null,null,null,null,"Gegner:",null,"Name:"]
[null,null,"Unterschrift:",null,null,null,null,null,null,null,null,"Unterschrift:",null,null,null,null,null,null,null,null,"Unterschrift:"]
[]
[]
[null,null,null,null,null,null,null,null,null,"1/12 Elimination",null,null,null,{"$f":"'R28_Baum'!$D$89","v":"Scheibe: 9B"},null,null,null,null,"1/8 Elimination",null,null,null,{"$f":"'R28_Baum'!$I$83","v":"Scheibe: 6B"}]
[null,null,null,null,null,null,null,null,null,null,1,2,3,"Summe","Punkte","Ges.",null,null,null,1,2,3,"Summe","Punkte","Ges."]
[{"$f":"Select!$C$12","v":"Demoturnier"},null,null,null,null,null,null,null,null,"Satz 1",null,null,null,null,null,null,null,null,"Satz 1"]
["Veranstaltung",null,null,null,null,null,null,null,null,"Satz 2",null,null,null,null,null,null,null,null,"Satz 2"]
[{"$f":"Select!$C$13","v":"1. April 2019"},null,null,null,null,null,null,null,null,"Satz 3",null,null,null,null,null,null,null,null,"Satz 3"]
["Datum",null,null,null,null,null,null,null,null,"wenn erforderlich",null,null,null,null,null,null,null,null,"wenn erforderlich"]
[null,null,null,null,null,null,null,null,null,"Satz 4",null,null,null,null,null,null,null,null,"Satz 4"]
[null,null,null,null,null,null,null,null,null,"wenn erforderlich",null,null,null,null,null,null,null,null,"wenn erforderlich"]
[{"$f":"'R28_Baum'!$D$48","v":"Parschisek Alexander"},null,null,null,null,null,null,null,null,"Satz 5",null,null,null,null,null,null,null,null,"Satz 5"]
["Name",null,null,null,null,null,null,null,null,"wenn erforderlich",null,null,null,null,null,null,null,null,"wenn erforderlich"]
[{"$f":"'R28_Baum'!$F$48","v":"BC-Oberschützen"},null,null,null,null,null,null,null,null,"Stechen",null,null,null,null,null,null,null,null,"Stechen"]
["Verein",null,null,null,null,null,null,null,null,null,null,null,null,null,"gewonnen",null,null,null,null,null,null,null,null,"gewonnen"]
[{"$f":"Select!$C$18","v":"Recurve Herren"},null,null,null,null,null,null,null,null,"Schütze:",null,null,null,null,"verloren",null,null,null,"Schütze:",null,null,null,null,"verloren"]
["Bogenklasse"]
[null,null,null,null,null,null,null,null,null,"Gegner:",null,"Name:",{"$f":"'R28_Baum'!D47","v":"Radauer Helmuth"},null,null,null,null,null,"Gegner:",null,"Name:"]
[null,null,null,null,null,null,null,null,null,null,null,"Unterschrift:",null,null,null,null,null,null,null,null,"Unterschrift:"]
[]
[]
["1/4 Finale",null,null,null,{"$f":"'R28_Baum'!$M$77","v":"Scheibe: 6"},null,null,null,null,"1/2 Finale",null,null,null,{"$f":"'R28_Baum'!$Q$74","v":"Scheibe: 3"},null,null,null,null,"1./2. od. 3./4. Platz",null,null,null,"Scheibe:"]
[null,1,2,3,"Summe","Punkte","Ges.",null,null,null,1,2,3,"Summe","Punkte","Ges.",null,null,null,1,2,3,"Summe","Punkte","Ges."]
["Satz 1",null,null,null,null,null,null,null,null,"Satz 1",null,null,null,null,null,null,null,null,"Satz 1"]
["Satz 2",null,null,null,null,null,null,null,null,"Satz 2",null,null,null,null,null,null,null,null,"Satz 2"]
["Satz 3",null,null,null,null,null,null,null,null,"Satz 3",null,null,null,null,null,null,null,null,"Satz 3"]
["wenn erforderlich",null,null,null,null,null,null,null,null,"wenn erforderlich",null,null,null,null,null,null,null,null,"wenn erforderlich"]
["Satz 4",null,null,null,null,null,null,null,null,"Satz 4",null,null,null,null,null,null,null,null,"Satz 4"]
["wenn erforderlich",null,null,null,null,null,null,null,null,"wenn erforderlich",null,null,null,null,null,null,null,null,"wenn erforderlich"]
["Satz 5",null,null,null,null,null,null,null,null,"Satz 5",null,null,null,null,null,null,null,null,"Satz 5"]
["wenn erforderlich",null,null,null,null,null,null,null,null,"wenn erforderlich",null,null,null,null,null,null,null,null,"wenn erforderlich"]
["Stechen",null,null,null,null,null,null,null,null,"Stechen",null,null,null,null,null,null,null,null,"Stechen"]
[null,null,null,null,null,"gewonnen",null,null,null,null,null,null,null,null,"gewonnen",null,null,null,null,null,null,null,null,"gewonnen"]
["Schütze:",null,null,null,null,"verloren",null,null,null,"Schütze:",null,null,null,null,"verloren",null,null,null,"Schütze:",null,null,null,null,"verloren"]
[]
["Gegner:",null,"Name:",null,null,null,null,null,null,"Gegner:",null,"Name:",null,null,null,null,null,null,"Gegner:",null,"Name:"]
[null,null,"Unterschrift:",null,null,null,null,null,null,null,null,"Unterschrift:",null,null,null,null,null,null,null,null,"Unterschrift:"]
[]
[]
[null,null,null,null,null,null,null,null,null,"1/12 Elimination",null,null,null,{"$f":"'R28_Baum'!$D$90","v":"Scheibe: 10A"},null,null,null,null,"1/8 Elimination",null,null,null,{"$f":"'R28_Baum'!$I$84","v":"Scheibe: 7A"}]
[null,null,null,null,null,null,null,null,null,null,1,2,3,"Summe","Punkte","Ges.",null,null,null,1,2,3,"Summe","Punkte","Ges."]
[{"$f":"Select!$C$12","v":"Demoturnier"},null,null,null,null,null,null,null,null,"Satz 1",null,null,null,null,null,null,null,null,"Satz 1"]
["Veranstaltung",null,null,null,null,null,null,null,null,"Satz 2",null,null,null,null,null,null,null,null,"Satz 2"]
[{"$f":"Select!$C$13","v":"1. April 2019"},null,null,null,null,null,null,null,null,"Satz 3",null,null,null,null,null,null,null,null,"Satz 3"]
["Datum",null,null,null,null,null,null,null,null,"wenn erforderlich",null,null,null,null,null,null,null,null,"wenn erforderlich"]
[null,null,null,null,null,null,null,null,null,"Satz 4",null,null,null,null,null,null,null,null,"Satz 4"]
[null,null,null,null,null,null,null,null,null,"wenn erforderlich",null,null,null,null,null,null,null,null,"wenn erforderlich"]
[{"$f":"'R28_Baum'!$D$51","v":"Bucher Martin"},null,null,null,null,null,null,null,null,"Satz 5",null,null,null,null,null,null,null,null,"Satz 5"]
["Name",null,null,null,null,null,null,null,null,"wenn erforderlich",null,null,null,null,null,null,null,null,"wenn erforderlich"]
[{"$f":"'R28_Baum'!$F$51","v":"LH Graz"},null,null,null,null,null,null,null,null,"Stechen",null,null,null,null,null,null,null,null,"Stechen"]
["Verein",null,null,null,null,null,null,null,null,null,null,null,null,null,"gewonnen",null,null,null,null,null,null,null,null,"gewonnen"]
[{"$f":"Select!$C$18","v":"Recurve Herren"},null,null,null,null,null,null,null,null,"Schütze:",null,null,null,null,"verloren",null,null,null,"Schütze:",null,null,null,null,"verloren"]
["Bogenklasse"]
[null,null,null,null,null,null,null,null,null,"Gegner:",null,"Name:",{"$f":"'R28_Baum'!D52","v":"Kossek Heinz"},null,null,null,null,null,"Gegner:",null,"Name:"]
[null,null,null,null,null,null,null,null,null,null,null,"Unterschrift:",null,null,null,null,null,null,null,null,"Unterschrift:"]
[]
[]
["1/4 Finale",null,null,null,{"$f":"'R28_Baum'!$M$78","v":"Scheibe: 7"},null,null,null,null,"1/2 Finale",null,null,null,{"$f":"'R28_Baum'!$Q$75","v":"Scheibe: 4"},null,null,null,null,"1./2. od. 3./4. Platz",null,null,null,"Scheibe:"]
[null,1,2,3,"Summe","Punkte","Ges.",null,null,null,1,2,3,"Summe","Punkte","Ges.",null,null,null,1,2,3,"Summe","Punkte","Ges."]
["Satz 1",null,null,null,null,null,null,null,null,"Satz 1",null,null,null,null,null,null,null,null,"Satz 1"]
["Satz 2",null,null,null,null,null,null,null,null,"Satz 2",null,null,null,null,null,null,null,null,"Satz 2"]
["Satz 3",null,null,null,null,null,null,null,null,"Satz 3",null,null,null,null,null,null,null,null,"Satz 3"]
["wenn erforderlich",null,null,null,null,null,null,null,null,"wenn erforderlich",null,null,null,null,null,null,null,null,"wenn erforderlich"]
["Satz 4",null,null,null,null,null,null,null,null,"Satz 4",null,null,null,null,null,null,null,null,"Satz 4"]
["wenn erforderlich",null,null,null,null,null,null,null,null,"wenn erforderlich",null,null,null,null,null,null,null,null,"wenn erforderlich"]
["Satz 5",null,null,null,null,null,null,null,null,"Satz 5",null,null,null,null,null,null,null,null,"Satz 5"]
["wenn erforderlich",null,null,null,null,null,null,null,null,"wenn erforderlich",null,null,null,null,null,null,null,null,"wenn erforderlich"]
["Stechen",null,null,null,null,null,null,null,null,"Stechen",null,null,null,null,null,null,null,null,"Stechen"]
[null,null,null,null,null,"gewonnen",null,null,null,null,null,null,null,null,"gewonnen",null,null,null,null,null,null,null,null,"gewonnen"]
["Schütze:",null,null,null,null,"verloren",null,null,null,"Schütze:",null,null,null,null,"verloren",null,null,null,"Schütze:",null,null,null,null,"verloren"]
[]
["Gegner:",null,"Name:",null,null,null,null,null,null,"Gegner:",null,"Name:",null,null,null,null,null,null,"Gegner:",null,"Name:"]
[null,null,"Unterschrift:",null,null,null,null,null,null,null,null,"Unterschrift:",null,null,null,null,null,null,null,null,"Unterschrift:"]
[]
[]
[null,null,null,null,null,null,null,null,null,"1/12 Elimination",null,null,null,{"$f":"'R28_Baum'!$D$91","v":"Scheibe: 10B"},null,null,null,null,"1/8 Elimination",null,null,null,{"$f":"'R28_Baum'!$I$84","v":"Scheibe: 7A"}]
[null,null,null,null,null,null,null,null,null,null,1,2,3,"Summe","Punkte","Ges.",null,null,null,1,2,3,"Summe","Punkte","Ges."]
[{"$f":"Select!$C$12","v":"Demoturnier"},null,null,null,null,null,null,null,null,"Satz 1",null,null,null,null,null,null,null,null,"Satz 1"]
["Veranstaltung",null,null,null,null,null,null,null,null,"Satz 2",null,null,null,null,null,null,null,null,"Satz 2"]
[{"$f":"Select!$C$13","v":"1. April 2019"},null,null,null,null,null,null,null,null,"Satz 3",null,null,null,null,null,null,null,null,"Satz 3"]
["Datum",null,null,null,null,null,null,null,null,"wenn erforderlich",null,null,null,null,null,null,null,null,"wenn erforderlich"]
[null,null,null,null,null,null,null,null,null,"Satz 4",null,null,null,null,null,null,null,null,"Satz 4"]
[null,null,null,null,null,null,null,null,null,"wenn erforderlich",null,null,null,null,null,null,null,null,"wenn erforderlich"]
[{"$f":"'R28_Baum'!$D$52","v":"Kossek Heinz"},null,null,null,null,null,null,null,null,"Satz 5",null,null,null,null,null,null,null,null,"Satz 5"]
["Name",null,null,null,null,null,null,null,null,"wenn erforderlich",null,null,null,null,null,null,null,null,"wenn erforderlich"]
[{"$f":"'R28_Baum'!$F$52","v":"BC Wildon Weitendorf"},null,null,null,null,null,null,null,null,"Stechen",null,null,null,null,null,null,null,null,"Stechen"]
["Verein",null,null,null,null,null,null,null,null,null,null,null,null,null,"gewonnen",null,null,null,null,null,null,null,null,"gewonnen"]
[{"$f":"Select!$C$18","v":"Recurve Herren"},null,null,null,null,null,null,null,null,"Schütze:",null,null,null,null,"verloren",null,null,null,"Schütze:",null,null,null,null,"verloren"]
["Bogenklasse"]
[null,null,null,null,null,null,null,null,null,"Gegner:",null,"Name:",{"$f":"'R28_Baum'!D51","v":"Bucher Martin"},null,null,null,null,null,"Gegner:",null,"Name:"]
[null,null,null,null,null,null,null,null,null,null,null,"Unterschrift:",null,null,null,null,null,null,null,null,"Unterschrift:"]
[]
[]
["1/4 Finale",null,null,null,{"$f":"'R28_Baum'!$M$78","v":"Scheibe: 7"},null,null,null,null,"1/2 Finale",null,null,null,{"$f":"'R28_Baum'!$Q$75","v":"Scheibe: 4"},null,null,null,null,"1./2. od. 3./4. Platz",null,null,null,"Scheibe:"]
[null,1,2,3,"Summe","Punkte","Ges.",null,null,null,1,2,3,"Summe","Punkte","Ges.",null,null,null,1,2,3,"Summe","Punkte","Ges."]
["Satz 1",null,null,null,null,null,null,null,null,"Satz 1",null,null,null,null,null,null,null,null,"Satz 1"]
["Satz 2",null,null,null,null,null,null,null,null,"Satz 2",null,null,null,null,null,null,null,null,"Satz 2"]
["Satz 3",null,null,null,null,null,null,null,null,"Satz 3",null,null,null,null,null,null,null,null,"Satz 3"]
["wenn erforderlich",null,null,null,null,null,null,null,null,"wenn erforderlich",null,null,null,null,null,null,null,null,"wenn erforderlich"]
["Satz 4",null,null,null,null,null,null,null,null,"Satz 4",null,null,null,null,null,null,null,null,"Satz 4"]
["wenn erforderlich",null,null,null,null,null,null,null,null,"wenn erforderlich",null,null,null,null,null,null,null,null,"wenn erforderlich"]
["Satz 5",null,null,null,null,null,null,null,null,"Satz 5",null,null,null,null,null,null,null,null,"Satz 5"]
["wenn erforderlich",null,null,null,null,null,null,null,null,"wenn erforderlich",null,null,null,null,null,null,null,null,"wenn erforderlich"]
["Stechen",null,null,null,null,null,null,null,null,"Stechen",null,null,null,null,null,null,null,null,"Stechen"]
[null,null,null,null,null,"gewonnen",null,null,null,null,null,null,null,null,"gewonnen",null,null,null,null,null,null,null,null,"gewonnen"]
["Schütze:",null,null,null,null,"verloren",null,null,null,"Schütze:",null,null,null,null,"verloren",null,null,null,"Schütze:",null,null,null,null,"verloren"]
[]
["Gegner:",null,"Name:",null,null,null,null,null,null,"Gegner:",null,"Name:",null,null,null,null,null,null,"Gegner:",null,"Name:"]
[null,null,"Unterschrift:",null,null,null,null,null,null,null,null,"Unterschrift:",null,null,null,null,null,null,null,null,"Unterschrift:"]
[]
[]
[null,null,null,null,null,null,null,null,null,"1/12 Elimination",null,null,null,{"$f":"'R28_Baum'!$D$92","v":"Scheibe: 11A"},null,null,null,null,"1/8 Elimination",null,null,null,{"$f":"'R28_Baum'!$I$85","v":"Scheibe: 7B"}]
[null,null,null,null,null,null,null,null,null,null,1,2,3,"Summe","Punkte","Ges.",null,null,null,1,2,3,"Summe","Punkte","Ges."]
[{"$f":"Select!$C$12","v":"Demoturnier"},null,null,null,null,null,null,null,null,"Satz 1",null,null,null,null,null,null,null,null,"Satz 1"]
["Veranstaltung",null,null,null,null,null,null,null,null,"Satz 2",null,null,null,null,null,null,null,null,"Satz 2"]
[{"$f":"Select!$C$13","v":"1. April 2019"},null,null,null,null,null,null,null,null,"Satz 3",null,null,null,null,null,null,null,null,"Satz 3"]
["Datum",null,null,null,null,null,null,null,null,"wenn erforderlich",null,null,null,null,null,null,null,null,"wenn erforderlich"]
[null,null,null,null,null,null,null,null,null,"Satz 4",null,null,null,null,null,null,null,null,"Satz 4"]
[null,null,null,null,null,null,null,null,null,"wenn erforderlich",null,null,null,null,null,null,null,null,"wenn erforderlich"]
[{"$f":"'R28_Baum'!$D$55","v":"Kutmon Wilhelm"},null,null,null,null,null,null,null,null,"Satz 5",null,null,null,null,null,null,null,null,"Satz 5"]
["Name",null,null,null,null,null,null,null,null,"wenn erforderlich",null,null,null,null,null,null,null,null,"wenn erforderlich"]
[{"$f":"'R28_Baum'!$F$55","v":"BS Ligist - Archery Freaks"},null,null,null,null,null,null,null,null,"Stechen",null,null,null,null,null,null,null,null,"Stechen"]
["Verein",null,null,null,null,null,null,null,null,null,null,null,null,null,"gewonnen",null,null,null,null,null,null,null,null,"gewonnen"]
[{"$f":"Select!$C$18","v":"Recurve Herren"},null,null,null,null,null,null,null,null,"Schütze:",null,null,null,null,"verloren",null,null,null,"Schütze:",null,null,null,null,"verloren"]
["Bogenklasse"]
[null,null,null,null,null,null,null,null,null,"Gegner:",null,"Name:",{"$f":"'R28_Baum'!D56","v":"Navratil Christoph"},null,null,null,null,null,"Gegner:",null,"Name:"]
[null,null,null,null,null,null,null,null,null,null,null,"Unterschrift:",null,null,null,null,null,null,null,null,"Unterschrift:"]
[]
[]
["1/4 Finale",null,null,null,{"$f":"'R28_Baum'!$M$78","v":"Scheibe: 7"},null,null,null,null,"1/2 Finale",null,null,null,{"$f":"'R28_Baum'!$Q$75","v":"Scheibe: 4"},null,null,null,null,"1./2. od. 3./4. Platz",null,null,null,"Scheibe:"]
[null,1,2,3,"Summe","Punkte","Ges.",null,null,null,1,2,3,"Summe","Punkte","Ges.",null,null,null,1,2,3,"Summe","Punkte","Ges."]
["Satz 1",null,null,null,null,null,null,null,null,"Satz 1",null,null,null,null,null,null,null,null,"Satz 1"]
["Satz 2",null,null,null,null,null,null,null,null,"Satz 2",null,null,null,null,null,null,null,null,"Satz 2"]
["Satz 3",null,null,null,null,null,null,null,null,"Satz 3",null,null,null,null,null,null,null,null,"Satz 3"]
["wenn erforderlich",null,null,null,null,null,null,null,null,"wenn erforderlich",null,null,null,null,null,null,null,null,"wenn erforderlich"]
["Satz 4",null,null,null,null,null,null,null,null,"Satz 4",null,null,null,null,null,null,null,null,"Satz 4"]
["wenn erforderlich",null,null,null,null,null,null,null,null,"wenn erforderlich",null,null,null,null,null,null,null,null,"wenn erforderlich"]
["Satz 5",null,null,null,null,null,null,null,null,"Satz 5",null,null,null,null,null,null,null,null,"Satz 5"]
["wenn erforderlich",null,null,null,null,null,null,null,null,"wenn erforderlich",null,null,null,null,null,null,null,null,"wenn erforderlich"]
["Stechen",null,null,null,null,null,null,null,null,"Stechen",null,null,null,null,null,null,null,null,"Stechen"]
[null,null,null,null,null,"gewonnen",null,null,null,null,null,null,null,null,"gewonnen",null,null,null,null,null,null,null,null,"gewonnen"]
["Schütze:",null,null,null,null,"verloren",null,null,null,"Schütze:",null,null,null,null,"verloren",null,null,null,"Schütze:",null,null,null,null,"verloren"]
[]
["Gegner:",null,"Name:",null,null,null,null,null,null,"Gegner:",null,"Name:",null,null,null,null,null,null,"Gegner:",null,"Name:"]
[null,null,"Unterschrift:",null,null,null,null,null,null,null,null,"Unterschrift:",null,null,null,null,null,null,null,null,"Unterschrift:"]
[]
[]
[null,null,null,null,null,null,null,null,null,"1/12 Elimination",null,null,null,{"$f":"'R28_Baum'!$D$93","v":"Scheibe: 11B"},null,null,null,null,"1/8 Elimination",null,null,null,{"$f":"'R28_Baum'!$I$85","v":"Scheibe: 7B"}]
[null,null,null,null,null,null,null,null,null,null,1,2,3,"Summe","Punkte","Ges.",null,null,null,1,2,3,"Summe","Punkte","Ges."]
[{"$f":"Select!$C$12","v":"Demoturnier"},null,null,null,null,null,null,null,null,"Satz 1",null,null,null,null,null,null,null,null,"Satz 1"]
["Veranstaltung",null,null,null,null,null,null,null,null,"Satz 2",null,null,null,null,null,null,null,null,"Satz 2"]
[{"$f":"Select!$C$13","v":"1. April 2019"},null,null,null,null,null,null,null,null,"Satz 3",null,null,null,null,null,null,null,null,"Satz 3"]
["Datum",null,null,null,null,null,null,null,null,"wenn erforderlich",null,null,null,null,null,null,null,null,"wenn erforderlich"]
[null,null,null,null,null,null,null,null,null,"Satz 4",null,null,null,null,null,null,null,null,"Satz 4"]
[null,null,null,null,null,null,null,null,null,"wenn erforderlich",null,null,null,null,null,null,null,null,"wenn erforderlich"]
[{"$f":"'R28_Baum'!$D$56","v":"Navratil Christoph"},null,null,null,null,null,null,null,null,"Satz 5",null,null,null,null,null,null,null,null,"Satz 5"]
["Name",null,null,null,null,null,null,null,null,"wenn erforderlich",null,null,null,null,null,null,null,null,"wenn erforderlich"]
[{"$f":"'R28_Baum'!$F$56","v":"BSV Schönbrunn"},null,null,null,null,null,null,null,null,"Stechen",null,null,null,null,null,null,null,null,"Stechen"]
["Verein",null,null,null,null,null,null,null,null,null,null,null,null,null,"gewonnen",null,null,null,null,null,null,null,null,"gewonnen"]
[{"$f":"Select!$C$18","v":"Recurve Herren"},null,null,null,null,null,null,null,null,"Schütze:",null,null,null,null,"verloren",null,null,null,"Schütze:",null,null,null,null,"verloren"]
["Bogenklasse"]
[null,null,null,null,null,null,null,null,null,"Gegner:",null,"Name:",{"$f":"'R28_Baum'!D55","v":"Kutmon Wilhelm"},null,null,null,null,null,"Gegner:",null,"Name:"]
[null,null,null,null,null,null,null,null,null,null,null,"Unterschrift:",null,null,null,null,null,null,null,null,"Unterschrift:"]
[]
[]
["1/4 Finale",null,null,null,{"$f":"'R28_Baum'!$M$78","v":"Scheibe: 7"},null,null,null,null,"1/2 Finale",null,null,null,{"$f":"'R28_Baum'!$Q$75","v":"Scheibe: 4"},null,null,null,null,"1./2. od. 3./4. Platz",null,null,null,"Scheibe:"]
[null,1,2,3,"Summe","Punkte","Ges.",null,null,null,1,2,3,"Summe","Punkte","Ges.",null,null,null,1,2,3,"Summe","Punkte","Ges."]
["Satz 1",null,null,null,null,null,null,null,null,"Satz 1",null,null,null,null,null,null,null,null,"Satz 1"]
["Satz 2",null,null,null,null,null,null,null,null,"Satz 2",null,null,null,null,null,null,null,null,"Satz 2"]
["Satz 3",null,null,null,null,null,null,null,null,"Satz 3",null,null,null,null,null,null,null,null,"Satz 3"]
["wenn erforderlich",null,null,null,null,null,null,null,null,"wenn erforderlich",null,null,null,null,null,null,null,null,"wenn erforderlich"]
["Satz 4",null,null,null,null,null,null,null,null,"Satz 4",null,null,null,null,null,null,null,null,"Satz 4"]
["wenn erforderlich",null,null,null,null,null,null,null,null,"wenn erforderlich",null,null,null,null,null,null,null,null,"wenn erforderlich"]
["Satz 5",null,null,null,null,null,null,null,null,"Satz 5",null,null,null,null,null,null,null,null,"Satz 5"]
["wenn erforderlich",null,null,null,null,null,null,null,null,"wenn erforderlich",null,null,null,null,null,null,null,null,"wenn erforderlich"]
["Stechen",null,null,null,null,null,null,null,null,"Stechen",null,null,null,null,null,null,null,null,"Stechen"]
[null,null,null,null,null,"gewonnen",null,null,null,null,null,null,null,null,"gewonnen",null,null,null,null,null,null,null,null,"gewonnen"]
["Schütze:",null,null,null,null,"verloren",null,null,null,"Schütze:",null,null,null,null,"verloren",null,null,null,"Schütze:",null,null,null,null,"verloren"]
[]
["Gegner:",null,"Name:",null,null,null,null,null,null,"Gegner:",null,"Name:",null,null,null,null,null,null,"Gegner:",null,"Name:"]
[null,null,"Unterschrift:",null,null,null,null,null,null,null,null,"Unterschrift:",null,null,null,null,null,null,null,null,"Unterschrift:"]
[]
[]
[null,null,null,null,null,null,null,null,null,"1/12 Elimination",null,null,null,{"$f":"'R28_Baum'!$D$94","v":"Scheibe: 12A"},null,null,null,null,"1/8 Elimination",null,null,null,{"$f":"'R28_Baum'!$I$86","v":"Scheibe: 8A"}]
[null,null,null,null,null,null,null,null,null,null,1,2,3,"Summe","Punkte","Ges.",null,null,null,1,2,3,"Summe","Punkte","Ges."]
[{"$f":"Select!$C$12","v":"Demoturnier"},null,null,null,null,null,null,null,null,"Satz 1",null,null,null,null,null,null,null,null,"Satz 1"]
["Veranstaltung",null,null,null,null,null,null,null,null,"Satz 2",null,null,null,null,null,null,null,null,"Satz 2"]
[{"$f":"Select!$C$13","v":"1. April 2019"},null,null,null,null,null,null,null,null,"Satz 3",null,null,null,null,null,null,null,null,"Satz 3"]
["Datum",null,null,null,null,null,null,null,null,"wenn erforderlich",null,null,null,null,null,null,null,null,"wenn erforderlich"]
[null,null,null,null,null,null,null,null,null,"Satz 4",null,null,null,null,null,null,null,null,"Satz 4"]
[null,null,null,null,null,null,null,null,null,"wenn erforderlich",null,null,null,null,null,null,null,null,"wenn erforderlich"]
[{"$f":"'R28_Baum'!$D$59","v":"Markl Mario"},null,null,null,null,null,null,null,null,"Satz 5",null,null,null,null,null,null,null,null,"Satz 5"]
["Name",null,null,null,null,null,null,null,null,"wenn erforderlich",null,null,null,null,null,null,null,null,"wenn erforderlich"]
[{"$f":"'R28_Baum'!$F$59","v":"BSV Dakota"},null,null,null,null,null,null,null,null,"Stechen",null,null,null,null,null,null,null,null,"Stechen"]
["Verein",null,null,null,null,null,null,null,null,null,null,null,null,null,"gewonnen",null,null,null,null,null,null,null,null,"gewonnen"]
[{"$f":"Select!$C$18","v":"Recurve Herren"},null,null,null,null,null,null,null,null,"Schütze:",null,null,null,null,"verloren",null,null,null,"Schütze:",null,null,null,null,"verloren"]
["Bogenklasse"]
[null,null,null,null,null,null,null,null,null,"Gegner:",null,"Name:",{"$f":"'R28_Baum'!D60","v":"Hamedl Wolfgang"},null,null,null,null,null,"Gegner:",null,"Name:"]
[null,null,null,null,null,null,null,null,null,null,null,"Unterschrift:",null,null,null,null,null,null,null,null,"Unterschrift:"]
[]
[]
["1/4 Finale",null,null,null,{"$f":"'R28_Baum'!$M$79","v":"Scheibe: 8"},null,null,null,null,"1/2 Finale",null,null,null,{"$f":"'R28_Baum'!$Q$75","v":"Scheibe: 4"},null,null,null,null,"1./2. od. 3./4. Platz",null,null,null,"Scheibe:"]
[null,1,2,3,"Summe","Punkte","Ges.",null,null,null,1,2,3,"Summe","Punkte","Ges.",null,null,null,1,2,3,"Summe","Punkte","Ges."]
["Satz 1",null,null,null,null,null,null,null,null,"Satz 1",null,null,null,null,null,null,null,null,"Satz 1"]
["Satz 2",null,null,null,null,null,null,null,null,"Satz 2",null,null,null,null,null,null,null,null,"Satz 2"]
["Satz 3",null,null,null,null,null,null,null,null,"Satz 3",null,null,null,null,null,null,null,null,"Satz 3"]
["wenn erforderlich",null,null,null,null,null,null,null,null,"wenn erforderlich",null,null,null,null,null,null,null,null,"wenn erforderlich"]
["Satz 4",null,null,null,null,null,null,null,null,"Satz 4",null,null,null,null,null,null,null,null,"Satz 4"]
["wenn erforderlich",null,null,null,null,null,null,null,null,"wenn erforderlich",null,null,null,null,null,null,null,null,"wenn erforderlich"]
["Satz 5",null,null,null,null,null,null,null,null,"Satz 5",null,null,null,null,null,null,null,null,"Satz 5"]
["wenn erforderlich",null,null,null,null,null,null,null,null,"wenn erforderlich",null,null,null,null,null,null,null,null,"wenn erforderlich"]
["Stechen",null,null,null,null,null,null,null,null,"Stechen",null,null,null,null,null,null,null,null,"Stechen"]
[null,null,null,null,null,"gewonnen",null,null,null,null,null,null,null,null,"gewonnen",null,null,null,null,null,null,null,null,"gewonnen"]
["Schütze:",null,null,null,null,"verloren",null,null,null,"Schütze:",null,null,null,null,"verloren",null,null,null,"Schütze:",null,null,null,null,"verloren"]
[]
["Gegner:",null,"Name:",null,null,null,null,null,null,"Gegner:",null,"Name:",null,null,null,null,null,null,"Gegner:",null,"Name:"]
[null,null,"Unterschrift:",null,null,null,null,null,null,null,null,"Unterschrift:",null,null,null,null,null,null,null,null,"Unterschrift:"]
[]
[]
[null,null,null,null,null,null,null,null,null,"1/12 Elimination",null,null,null,{"$f":"'R28_Baum'!$D$95","v":"Scheibe: 12B"},null,null,null,null,"1/8 Elimination",null,null,null,{"$f":"'R28_Baum'!$I$86","v":"Scheibe: 8A"}]
[null,null,null,null,null,null,null,null,null,null,1,2,3,"Summe","Punkte","Ges.",null,null,null,1,2,3,"Summe","Punkte","Ges."]
[{"$f":"Select!$C$12","v":"Demoturnier"},null,null,null,null,null,null,null,null,"Satz 1",null,null,null,null,null,null,null,null,"Satz 1"]
["Veranstaltung",null,null,null,null,null,null,null,null,"Satz 2",null,null,null,null,null,null,null,null,"Satz 2"]
[{"$f":"Select!$C$13","v":"1. April 2019"},null,null,null,null,null,null,null,null,"Satz 3",null,null,null,null,null,null,null,null,"Satz 3"]
["Datum",null,null,null,null,null,null,null,null,"wenn erforderlich",null,null,null,null,null,null,null,null,"wenn erforderlich"]
[null,null,null,null,null,null,null,null,null,"Satz 4",null,null,null,null,null,null,null,null,"Satz 4"]
[null,null,null,null,null,null,null,null,null,"wenn erforderlich",null,null,null,null,null,null,null,null,"wenn erforderlich"]
[{"$f":"'R28_Baum'!$D$60","v":"Hamedl Wolfgang"},null,null,null,null,null,null,null,null,"Satz 5",null,null,null,null,null,null,null,null,"Satz 5"]
["Name",null,null,null,null,null,null,null,null,"wenn erforderlich",null,null,null,null,null,null,null,null,"wenn erforderlich"]
[{"$f":"'R28_Baum'!$F$60","v":"PSV Burgenland - Sektion Bogen"},null,null,null,null,null,null,null,null,"Stechen",null,null,null,null,null,null,null,null,"Stechen"]
["Verein",null,null,null,null,null,null,null,null,null,null,null,null,null,"gewonnen",null,null,null,null,null,null,null,null,"gewonnen"]
[{"$f":"Select!$C$18","v":"Recurve Herren"},null,null,null,null,null,null,null,null,"Schütze:",null,null,null,null,"verloren",null,null,null,"Schütze:",null,null,null,null,"verloren"]
["Bogenklasse"]
[null,null,null,null,null,null,null,null,null,"Gegner:",null,"Name:",{"$f":"'R28_Baum'!D59","v":"Markl Mario"},null,null,null,null,null,"Gegner:",null,"Name:"]
[null,null,null,null,null,null,null,null,null,null,null,"Unterschrift:",null,null,null,null,null,null,null,null,"Unterschrift:"]
[]
[]
["1/4 Finale",null,null,null,{"$f":"'R28_Baum'!$M$79","v":"Scheibe: 8"},null,null,null,null,"1/2 Finale",null,null,null,{"$f":"'R28_Baum'!$Q$75","v":"Scheibe: 4"},null,null,null,null,"1./2. od. 3./4. Platz",null,null,null,"Scheibe:"]
[null,1,2,3,"Summe","Punkte","Ges.",null,null,null,1,2,3,"Summe","Punkte","Ges.",null,null,null,1,2,3,"Summe","Punkte","Ges."]
["Satz 1",null,null,null,null,null,null,null,null,"Satz 1",null,null,null,null,null,null,null,null,"Satz 1"]
["Satz 2",null,null,null,null,null,null,null,null,"Satz 2",null,null,null,null,null,null,null,null,"Satz 2"]
["Satz 3",null,null,null,null,null,null,null,null,"Satz 3",null,null,null,null,null,null,null,null,"Satz 3"]
["wenn erforderlich",null,null,null,null,null,null,null,null,"wenn erforderlich",null,null,null,null,null,null,null,null,"wenn erforderlich"]
["Satz 4",null,null,null,null,null,null,null,null,"Satz 4",null,null,null,null,null,null,null,null,"Satz 4"]
["wenn erforderlich",null,null,null,null,null,null,null,null,"wenn erforderlich",null,null,null,null,null,null,null,null,"wenn erforderlich"]
["Satz 5",null,null,null,null,null,null,null,null,"Satz 5",null,null,null,null,null,null,null,null,"Satz 5"]
["wenn erforderlich",null,null,null,null,null,null,null,null,"wenn erforderlich",null,null,null,null,null,null,null,null,"wenn erforderlich"]
["Stechen",null,null,null,null,null,null,null,null,"Stechen",null,null,null,null,null,null,null,null,"Stechen"]
[null,null,null,null,null,"gewonnen",null,null,null,null,null,null,null,null,"gewonnen",null,null,null,null,null,null,null,null,"gewonnen"]
["Schütze:",null,null,null,null,"verloren",null,null,null,"Schütze:",null,null,null,null,"verloren",null,null,null,"Schütze:",null,null,null,null,"verloren"]
[]
["Gegner:",null,"Name:",null,null,null,null,null,null,"Gegner:",null,"Name:",null,null,null,null,null,null,"Gegner:",null,"Name:"]
[null,null,"Unterschrift:",null,null,null,null,null,null,null,null,"Unterschrift:",null,null,null,null,null,null,null,null,"Unterschrift:"]
[]
[]
[null,null,null,null,null,null,null,null,null,"1/12 Elimination",null,null,null,"Freilos",null,null,null,null,"1/8 Elimination",null,null,null,{"$f":"'R28_Baum'!$I$87","v":"Scheibe: 8B"}]
[null,null,null,null,null,null,null,null,null,null,1,2,3,"Summe","Punkte","Ges.",null,null,null,1,2,3,"Summe","Punkte","Ges."]
[{"$f":"Select!$C$12","v":"Demoturnier"},null,null,null,null,null,null,null,null,"Satz 1",null,null,null,null,null,null,null,null,"Satz 1"]
["Veranstaltung",null,null,null,null,null,null,null,null,"Satz 2",null,null,null,null,null,null,null,null,"Satz 2"]
[{"$f":"Select!$C$13","v":"1. April 2019"},null,null,null,null,null,null,null,null,"Satz 3",null,null,null,null,null,null,null,null,"Satz 3"]
["Datum",null,null,null,null,null,null,null,null,"wenn erforderlich",null,null,null,null,null,null,null,null,"wenn erforderlich"]
[null,null,null,null,null,null,null,null,null,"Satz 4",null,null,null,null,null,null,null,null,"Satz 4"]
[null,null,null,null,null,null,null,null,null,"wenn erforderlich",null,null,null,null,null,null,null,null,"wenn erforderlich"]
[{"$f":"'R28_Baum'!$D$64","v":"Berger Hermann"},null,null,null,null,null,null,null,null,"Satz 5",null,null,null,null,null,null,null,null,"Satz 5"]
["Name",null,null,null,null,null,null,null,null,"wenn erforderlich",null,null,null,null,null,null,null,null,"wenn erforderlich"]
[{"$f":"'R28_Baum'!$F$64","v":"BSV Glemmerhof"},null,null,null,null,null,null,null,null,"Stechen",null,null,null,null,null,null,null,null,"Stechen"]
["Verein",null,null,null,null,null,null,null,null,null,null,null,null,null,"gewonnen",null,null,null,null,null,null,null,null,"gewonnen"]
[{"$f":"Select!$C$18","v":"Recurve Herren"},null,null,null,null,null,null,null,null,"Schütze:",null,null,null,null,"verloren",null,null,null,"Schütze:",null,null,null,null,"verloren"]
["Bogenklasse"]
[null,null,null,null,null,null,null,null,null,"Gegner:",null,"Name:",null,null,null,null,null,null,"Gegner:",null,"Name:"]
[null,null,null,null,null,null,null,null,null,null,null,"Unterschrift:",null,null,null,null,null,null,null,null,"Unterschrift:"]
[]
[]
["1/4 Finale",null,null,null,{"$f":"'R28_Baum'!$M$79","v":"Scheibe: 8"},null,null,null,null,"1/2 Finale",null,null,null,{"$f":"'R28_Baum'!$Q$75","v":"Scheibe: 4"},null,null,null,null,"1./2. od. 3./4. Platz",null,null,null,"Scheibe:"]
[null,1,2,3,"Summe","Punkte","Ges.",null,null,null,1,2,3,"Summe","Punkte","Ges.",null,null,null,1,2,3,"Summe","Punkte","Ges."]
["Satz 1",null,null,null,null,null,null,null,null,"Satz 1",null,null,null,null,null,null,null,null,"Satz 1"]
["Satz 2",null,null,null,null,null,null,null,null,"Satz 2",null,null,null,null,null,null,null,null,"Satz 2"]
["Satz 3",null,null,null,null,null,null,null,null,"Satz 3",null,null,null,null,null,null,null,null,"Satz 3"]
["wenn erforderlich",null,null,null,null,null,null,null,null,"wenn erforderlich",null,null,null,null,null,null,null,null,"wenn erforderlich"]
["Satz 4",null,null,null,null,null,null,null,null,"Satz 4",null,null,null,null,null,null,null,null,"Satz 4"]
["wenn erforderlich",null,null,null,null,null,null,null,null,"wenn erforderlich",null,null,null,null,null,null,null,null,"wenn erforderlich"]
["Satz 5",null,null,null,null,null,null,null,null,"Satz 5",null,null,null,null,null,null,null,null,"Satz 5"]
["wenn erforderlich",null,null,null,null,null,null,null,null,"wenn erforderlich",null,null,null,null,null,null,null,null,"wenn erforderlich"]
["Stechen",null,null,null,null,null,null,null,null,"Stechen",null,null,null,null,null,null,null,null,"Stechen"]
[null,null,null,null,null,"gewonnen",null,null,null,null,null,null,null,null,"gewonnen",null,null,null,null,null,null,null,null,"gewonnen"]
["Schütze:",null,null,null,null,"verloren",null,null,null,"Schütze:",null,null,null,null,"verloren",null,null,null,"Schütze:",null,null,null,null,"verloren"]
[]
["Gegner:",null,"Name:",null,null,null,null,null,null,"Gegner:",null,"Name:",null,null,null,null,null,null,"Gegner:",null,"Name:"]
[null,null,"Unterschrift:",null,null,null,null,null,null,null,null,"Unterschrift:",null,null,null,null,null,null,null,null,"Unterschrift:"]

{"sheet":"R28_Ergebnis","index":8,"n_rows":37,"n_cols":19,"rows_kept":37,"cut":false,"hidden":true,"merged":[[6,11,6,18],[6,0,6,3],[2,0,2,3],[1,0,1,3],[4,0,4,9],[1,4,1,9]]}
[]
[{"$f":"Select!$C$12","v":"Demoturnier"},null,null,null,{"$f":"Select!C14","v":"WA-Outdoor"}]
[{"$f":"Select!C13","v":"1. April 2019"}]
[]
["Ergebnisliste"]
[]
[{"$f":"Select!C18","v":"Recurve Herren"},null,null,null,null,null,null,null,null,null,null,"!!!!!!!!!!!!!!!!!!!!!!!!!!  SORTIERBEREICH - NICHT ENTFERNEN !!!!!!!!!!!!!!!!!!!!!!!!!!"]
[]
["Pl.",null,"Name","Verein","Quali.","1/12","1/8","1/4","1/2","Finale",null,"SortName","SortVerein","SortQuali","Sort 1/12","Sort1/8","Sort1/4","Sort1/2","SortFinale"]
[{"$f":"IF(C10<>\"\",1,\"\")","v":""},null,null,null,null,null,null,null,null,null,null,{"$f":"'R28_Baum'!U7","v":""},{"$f":"VLOOKUP(L10,R_Quali!$C$10:$H$100,2,FALSE)","v":{"$error":"#N/A"}},{"$f":"VLOOKUP(L10,R_Quali!$C$10:$H$100,6,FALSE)","v":{"$error":"#N/A"}},{"$f":"VLOOKUP(L10,'R28_Baum'!$D$3:$G$64,4,FALSE)","v":{"$error":"#N/A"}},{"$f":"VLOOKUP(L10,'R28_Baum'!$I$5:$K$62,3,FALSE)","v":0},{"$f":"VLOOKUP(L10,'R28_Baum'!$M$9:$O$58,3,FALSE)","v":0},{"$f":"VLOOKUP(L10,'R28_Baum'!$Q$17:$S$50,3,FALSE)","v":0},{"$f":"VLOOKUP(L10,'R28_Baum'!$U$24:$W$42,3,FALSE)","v":0}]
[{"$f":"IF(C11<>\"\",A10+1,\"\")","v":""},null,null,null,null,null,null,null,null,null,null,{"$f":"'R28_Baum'!U9","v":""},{"$f":"VLOOKUP(L11,R_Quali!$C$10:$H$100,2,FALSE)","v":{"$error":"#N/A"}},{"$f":"VLOOKUP(L11,R_Quali!$C$10:$H$100,6,FALSE)","v":{"$error":"#N/A"}},{"$f":"VLOOKUP(L11,'R28_Baum'!$D$3:$G$64,4,FALSE)","v":{"$error":"#N/A"}},{"$f":"VLOOKUP(L11,'R28_Baum'!$I$5:$K$62,3,FALSE)","v":0},{"$f":"VLOOKUP(L11,'R28_Baum'!$M$9:$O$58,3,FALSE)","v":0},{"$f":"VLOOKUP(L11,'R28_Baum'!$Q$17:$S$50,3,FALSE)","v":0},{"$f":"VLOOKUP(L11,'R28_Baum'!$U$24:$W$42,3,FALSE)","v":0}]
["",null,null,null,null,null,null,null,null,null,null,{"$f":"'R28_Baum'!U11","v":""},{"$f":"VLOOKUP(L12,R_Quali!$C$10:$H$100,2,FALSE)","v":{"$error":"#N/A"}},{"$f":"VLOOKUP(L12,R_Quali!$C$10:$H$100,6,FALSE)","v":{"$error":"#N/A"}},{"$f":"VLOOKUP(L12,'R28_Baum'!$D$3:$G$64,4,FALSE)","v":{"$error":"#N/A"}},{"$f":"VLOOKUP(L12,'R28_Baum'!$I$5:$K$62,3,FALSE)","v":0},{"$f":"VLOOKUP(L12,'R28_Baum'!$M$9:$O$58,3,FALSE)","v":0},{"$f":"VLOOKUP(L12,'R28_Baum'!$Q$17:$S$50,3,FALSE)","v":0},{"$f":"VLOOKUP(L12,'R28_Baum'!$U$24:$W$42,3,FALSE)","v":0}]
["",null,null,null,null,null,null,null,null,null,null,{"$f":"IF('R28_Baum'!U11='R28_Baum'!U41,'R28_Baum'!U42,'R28_Baum'!U41)","v":""},{"$f":"VLOOKUP(L13,R_Quali!$C$10:$H$100,2,FALSE)","v":{"$error":"#N/A"}},{"$f":"VLOOKUP(L13,R_Quali!$C$10:$H$100,6,FALSE)","v":{"$error":"#N/A"}},{"$f":"VLOOKUP(L13,'R28_Baum'!$D$3:$G$64,4,FALSE)","v":{"$error":"#N/A"}},{"$f":"VLOOKUP(L13,'R28_Baum'!$I$5:$K$62,3,FALSE)","v":0},{"$f":"VLOOKUP(L13,'R28_Baum'!$M$9:$O$58,3,FALSE)","v":0},{"$f":"VLOOKUP(L13,'R28_Baum'!$Q$17:$S$50,3,FALSE)","v":0},{"$f":"VLOOKUP(L13,'R28_Baum'!$U$24:$W$42,3,FALSE)","v":0}]
["",null,null,null,null,null,null,null,null,null,null,{"$f":"IF('R28_Baum'!Q17='R28_Baum'!M9,'R28_Baum'!M10,'R28_Baum'!M9)","v":""},{"$f":"VLOOKUP(L14,R_Quali!$C$10:$H$100,2,FALSE)","v":{"$error":"#N/A"}},{"$f":"VLOOKUP(L14,R_Quali!$C$10:$H$100,6,FALSE)","v":{"$error":"#N/A"}},{"$f":"VLOOKUP(L14,'R28_Baum'!$D$3:$G$64,4,FALSE)","v":{"$error":"#N/A"}},{"$f":"VLOOKUP(L14,'R28_Baum'!$I$5:$K$62,3,FALSE)","v":0},{"$f":"VLOOKUP(L14,'R28_Baum'!$M$9:$O$58,3,FALSE)","v":0}]
["",null,null,null,null,null,null,null,null,null,null,{"$f":"IF('R28_Baum'!Q18='R28_Baum'!M25,'R28_Baum'!M26,'R28_Baum'!M25)","v":""},{"$f":"VLOOKUP(L15,R_Quali!$C$10:$H$100,2,FALSE)","v":{"$error":"#N/A"}},{"$f":"VLOOKUP(L15,R_Quali!$C$10:$H$100,6,FALSE)","v":{"$error":"#N/A"}},{"$f":"VLOOKUP(L15,'R28_Baum'!$D$3:$G$64,4,FALSE)","v":{"$error":"#N/A"}},{"$f":"VLOOKUP(L15,'R28_Baum'!$I$5:$K$62,3,FALSE)","v":0},{"$f":"VLOOKUP(L15,'R28_Baum'!$M$9:$O$58,3,FALSE)","v":0}]
["",null,null,null,null,null,null,null,null,null,null,{"$f":"IF('R28_Baum'!Q49='R28_Baum'!M41,'R28_Baum'!M42,'R28_Baum'!M41)","v":""},{"$f":"VLOOKUP(L16,R_Quali!$C$10:$H$100,2,FALSE)","v":{"$error":"#N/A"}},{"$f":"VLOOKUP(L16,R_Quali!$C$10:$H$100,6,FALSE)","v":{"$error":"#N/A"}},{"$f":"VLOOKUP(L16,'R28_Baum'!$D$3:$G$64,4,FALSE)","v":{"$error":"#N/A"}},{"$f":"VLOOKUP(L16,'R28_Baum'!$I$5:$K$62,3,FALSE)","v":0},{"$f":"VLOOKUP(L16,'R28_Baum'!$M$9:$O$58,3,FALSE)","v":0}]
["",null,null,null,null,null,null,null,null,null,null,{"$f":"IF('R28_Baum'!Q50='R28_Baum'!M57,'R28_Baum'!M58,'R28_Baum'!M57)","v":""},{"$f":"VLOOKUP(L17,R_Quali!$C$10:$H$100,2,FALSE)","v":{"$error":"#N/A"}},{"$f":"VLOOKUP(L17,R_Quali!$C$10:$H$100,6,FALSE)","v":{"$error":"#N/A"}},{"$f":"VLOOKUP(L17,'R28_Baum'!$D$3:$G$64,4,FALSE)","v":{"$error":"#N/A"}},{"$f":"VLOOKUP(L17,'R28_Baum'!$I$5:$K$62,3,FALSE)","v":0},{"$f":"VLOOKUP(L17,'R28_Baum'!$M$9:$O$58,3,FALSE)","v":0}]
["",null,null,null,null,null,null,null,null,null,null,{"$f":"IF('R28_Baum'!M9='R28_Baum'!I5,'R28_Baum'!I6,'R28_Baum'!I5)","v":"Url Günter"},{"$f":"VLOOKUP(L18,R_Quali!$C$10:$H$100,2,FALSE)","v":"BSC-Wolfspfeil Raab-Holzer"},{"$f":"VLOOKUP(L18,R_Quali!$C$10:$H$100,6,FALSE)","v":532},{"$f":"VLOOKUP(L18,'R28_Baum'!$D$3:$G$64,4,FALSE)","v":"*"},{"$f":"VLOOKUP(L18,'R28_Baum'!$I$5:$K$62,3,FALSE)","v":0}]
["",null,null,null,null,null,null,null,null,null,null,{"$f":"IF('R28_Baum'!M10='R28_Baum'!I13,'R28_Baum'!I14,'R28_Baum'!I13)","v":""},{"$f":"VLOOKUP(L19,R_Quali!$C$10:$H$100,2,FALSE)","v":{"$error":"#N/A"}},{"$f":"VLOOKUP(L19,R_Quali!$C$10:$H$100,6,FALSE)","v":{"$error":"#N/A"}},{"$f":"VLOOKUP(L19,'R28_Baum'!$D$3:$G$64,4,FALSE)","v":{"$error":"#N/A"}},{"$f":"VLOOKUP(L19,'R28_Baum'!$I$5:$K$62,3,FALSE)","v":0}]
["",null,null,null,null,null,null,null,null,null,null,{"$f":"IF('R28_Baum'!M25='R28_Baum'!I21,'R28_Baum'!I22,'R28_Baum'!I21)","v":""},{"$f":"VLOOKUP(L20,R_Quali!$C$10:$H$100,2,FALSE)","v":{"$error":"#N/A"}},{"$f":"VLOOKUP(L20,R_Quali!$C$10:$H$100,6,FALSE)","v":{"$error":"#N/A"}},{"$f":"VLOOKUP(L20,'R28_Baum'!$D$3:$G$64,4,FALSE)","v":{"$error":"#N/A"}},{"$f":"VLOOKUP(L20,'R28_Baum'!$I$5:$K$62,3,FALSE)","v":0}]
["",null,null,null,null,null,null,null,null,null,null,{"$f":"IF('R28_Baum'!M26='R28_Baum'!I29,'R28_Baum'!I30,'R28_Baum'!I29)","v":"Krempl Werner"},{"$f":"VLOOKUP(L21,R_Quali!$C$10:$H$100,2,FALSE)","v":"BSC Semriach"},{"$f":"VLOOKUP(L21,R_Quali!$C$10:$H$100,6,FALSE)","v":529},{"$f":"VLOOKUP(L21,'R28_Baum'!$D$3:$G$64,4,FALSE)","v":"*"},{"$f":"VLOOKUP(L21,'R28_Baum'!$I$5:$K$62,3,FALSE)","v":0}]
["",null,null,null,null,null,null,null,null,null,null,{"$f":"IF('R28_Baum'!M41='R28_Baum'!I37,'R28_Baum'!I38,'R28_Baum'!I37)","v":"Strohmaier Joachim"},{"$f":"VLOOKUP(L22,R_Quali!$C$10:$H$100,2,FALSE)","v":"BSC Kumberg"},{"$f":"VLOOKUP(L22,R_Quali!$C$10:$H$100,6,FALSE)","v":530},{"$f":"VLOOKUP(L22,'R28_Baum'!$D$3:$G$64,4,FALSE)","v":"*"},{"$f":"VLOOKUP(L22,'R28_Baum'!$I$5:$K$62,3,FALSE)","v":0}]
["",null,null,null,null,null,null,null,null,null,null,{"$f":"IF('R28_Baum'!M42='R28_Baum'!I45,'R28_Baum'!I46,'R28_Baum'!I45)","v":""},{"$f":"VLOOKUP(L23,R_Quali!$C$10:$H$100,2,FALSE)","v":{"$error":"#N/A"}},{"$f":"VLOOKUP(L23,R_Quali!$C$10:$H$100,6,FALSE)","v":{"$error":"#N/A"}},{"$f":"VLOOKUP(L23,'R28_Baum'!$D$3:$G$64,4,FALSE)","v":{"$error":"#N/A"}},{"$f":"VLOOKUP(L23,'R28_Baum'!$I$5:$K$62,3,FALSE)","v":0}]
["",null,null,null,null,null,null,null,null,null,null,{"$f":"IF('R28_Baum'!M57='R28_Baum'!I53,'R28_Baum'!I54,'R28_Baum'!I53)","v":""},{"$f":"VLOOKUP(L24,R_Quali!$C$10:$H$100,2,FALSE)","v":{"$error":"#N/A"}},{"$f":"VLOOKUP(L24,R_Quali!$C$10:$H$100,6,FALSE)","v":{"$error":"#N/A"}},{"$f":"VLOOKUP(L24,'R28_Baum'!$D$3:$G$64,4,FALSE)","v":{"$error":"#N/A"}},{"$f":"VLOOKUP(L24,'R28_Baum'!$I$5:$K$62,3,FALSE)","v":0}]
["",null,null,null,null,null,null,null,null,null,null,{"$f":"IF('R28_Baum'!M58='R28_Baum'!I61,'R28_Baum'!I62,'R28_Baum'!I61)","v":"Berger Hermann"},{"$f":"VLOOKUP(L25,R_Quali!$C$10:$H$100,2,FALSE)","v":"BSV Glemmerhof"},{"$f":"VLOOKUP(L25,R_Quali!$C$10:$H$100,6,FALSE)","v":531},{"$f":"VLOOKUP(L25,'R28_Baum'!$D$3:$G$64,4,FALSE)","v":"*"},{"$f":"VLOOKUP(L25,'R28_Baum'!$I$5:$K$62,3,FALSE)","v":0}]
[{"$f":"IF(C26<>\"\",A25+1,\"\")","v":""},null,null,null,null,null,null,null,null,null,null,{"$f":"IF('R28_Baum'!I6='R28_Baum'!D7,'R28_Baum'!D8,'R28_Baum'!D7)","v":"Schweiger Peter"},{"$f":"VLOOKUP(L26,R_Quali!$C$10:$H$100,2,FALSE)","v":"BSV-Blumental"},{"$f":"VLOOKUP(L26,R_Quali!$C$10:$H$100,6,FALSE)","v":516},{"$f":"VLOOKUP(L26,'R28_Baum'!$D$3:$G$64,4,FALSE)","v":0}]
["",null,null,null,null,null,null,null,null,null,null,{"$f":"IF('R28_Baum'!I13='R28_Baum'!D11,'R28_Baum'!D12,'R28_Baum'!D11)","v":"Traxler Helmuth"},{"$f":"VLOOKUP(L27,R_Quali!$C$10:$H$100,2,FALSE)","v":"UBC Diana NÖ"},{"$f":"VLOOKUP(L27,R_Quali!$C$10:$H$100,6,FALSE)","v":524},{"$f":"VLOOKUP(L27,'R28_Baum'!$D$3:$G$64,4,FALSE)","v":0}]
["",null,null,null,null,null,null,null,null,null,null,{"$f":"IF('R28_Baum'!I14='R28_Baum'!D15,'R28_Baum'!D16,'R28_Baum'!D15)","v":"Wallner Ewald"},{"$f":"VLOOKUP(L28,R_Quali!$C$10:$H$100,2,FALSE)","v":"BSC Sölkpass"},{"$f":"VLOOKUP(L28,R_Quali!$C$10:$H$100,6,FALSE)","v":508},{"$f":"VLOOKUP(L28,'R28_Baum'!$D$3:$G$64,4,FALSE)","v":0}]
["",null,null,null,null,null,null,null,null,null,null,{"$f":"IF('R28_Baum'!I21='R28_Baum'!D19,'R28_Baum'!D20,'R28_Baum'!D19)","v":"Höllwirth Andreas"},{"$f":"VLOOKUP(L29,R_Quali!$C$10:$H$100,2,FALSE)","v":"ASKÖ-Luftenberg"},{"$f":"VLOOKUP(L29,R_Quali!$C$10:$H$100,6,FALSE)","v":528},{"$f":"VLOOKUP(L29,'R28_Baum'!$D$3:$G$64,4,FALSE)","v":0}]
["",null,null,null,null,null,null,null,null,null,null,{"$f":"IF('R28_Baum'!I22='R28_Baum'!D23,'R28_Baum'!D24,'R28_Baum'!D23)","v":"Pupetschek Manfred"},{"$f":"VLOOKUP(L30,R_Quali!$C$10:$H$100,2,FALSE)","v":"IHG Sektion Bogen"},{"$f":"VLOOKUP(L30,R_Quali!$C$10:$H$100,6,FALSE)","v":512},{"$f":"VLOOKUP(L30,'R28_Baum'!$D$3:$G$64,4,FALSE)","v":0}]
["",null,null,null,null,null,null,null,null,null,null,{"$f":"IF('R28_Baum'!I29='R28_Baum'!D27,'R28_Baum'!D28,'R28_Baum'!D27)","v":"Jandl Ernst"},{"$f":"VLOOKUP(L31,R_Quali!$C$10:$H$100,2,FALSE)","v":"PSV Burgenland - Sektion Bogen"},{"$f":"VLOOKUP(L31,R_Quali!$C$10:$H$100,6,FALSE)","v":520},{"$f":"VLOOKUP(L31,'R28_Baum'!$D$3:$G$64,4,FALSE)","v":0}]
["",null,null,null,null,null,null,null,null,null,null,{"$f":"IF('R28_Baum'!I38='R28_Baum'!D39,'R28_Baum'!D40,'R28_Baum'!D39)","v":"Winkler Klaus"},{"$f":"VLOOKUP(L32,R_Quali!$C$10:$H$100,2,FALSE)","v":"BSC Enzenreith"},{"$f":"VLOOKUP(L32,R_Quali!$C$10:$H$100,6,FALSE)","v":514},{"$f":"VLOOKUP(L32,'R28_Baum'!$D$3:$G$64,4,FALSE)","v":0}]
["",null,null,null,null,null,null,null,null,null,null,{"$f":"IF('R28_Baum'!I45='R28_Baum'!D43,'R28_Baum'!D44,'R28_Baum'!D43)","v":"Reicher Ernst"},{"$f":"VLOOKUP(L33,R_Quali!$C$10:$H$100,2,FALSE)","v":"BSC Wörthersee"},{"$f":"VLOOKUP(L33,R_Quali!$C$10:$H$100,6,FALSE)","v":522},{"$f":"VLOOKUP(L33,'R28_Baum'!$D$3:$G$64,4,FALSE)","v":0}]
[{"$f":"IF(C34<>\"\",A33+1,\"\")","v":""},null,null,null,null,null,null,null,null,null,null,{"$f":"IF('R28_Baum'!I46='R28_Baum'!D47,'R28_Baum'!D48,'R28_Baum'!D47)","v":"Radauer Helmuth"},{"$f":"VLOOKUP(L34,R_Quali!$C$10:$H$100,2,FALSE)","v":"BSC Ennstal"},{"$f":"VLOOKUP(L34,R_Quali!$C$10:$H$100,6,FALSE)","v":506},{"$f":"VLOOKUP(L34,'R28_Baum'!$D$3:$G$64,4,FALSE)","v":0}]
[{"$f":"IF(C35<>\"\",A34+1,\"\")","v":""},null,null,null,null,null,null,null,null,null,null,{"$f":"IF('R28_Baum'!I53='R28_Baum'!D51,'R28_Baum'!D52,'R28_Baum'!D51)","v":"Bucher Martin"},{"$f":"VLOOKUP(L35,R_Quali!$C$10:$H$100,2,FALSE)","v":"LH Graz"},{"$f":"VLOOKUP(L35,R_Quali!$C$10:$H$100,6,FALSE)","v":526},{"$f":"VLOOKUP(L35,'R28_Baum'!$D$3:$G$64,4,FALSE)","v":0}]
[{"$f":"IF(C36<>\"\",A35+1,\"\")","v":""},null,null,null,null,null,null,null,null,null,null,{"$f":"IF('R28_Baum'!I54='R28_Baum'!D55,'R28_Baum'!D56,'R28_Baum'!D55)","v":"Kutmon Wilhelm"},{"$f":"VLOOKUP(L36,R_Quali!$C$10:$H$100,2,FALSE)","v":"BS Ligist - Archery Freaks"},{"$f":"VLOOKUP(L36,R_Quali!$C$10:$H$100,6,FALSE)","v":510},{"$f":"VLOOKUP(L36,'R28_Baum'!$D$3:$G$64,4,FALSE)","v":0}]
[{"$f":"IF(C37<>\"\",A36+1,\"\")","v":""},null,null,null,null,null,null,null,null,null,null,{"$f":"IF('R28_Baum'!I61='R28_Baum'!D59,'R28_Baum'!D60,'R28_Baum'!D59)","v":"Markl Mario"},{"$f":"VLOOKUP(L37,R_Quali!$C$10:$H$100,2,FALSE)","v":"BSV Dakota"},{"$f":"VLOOKUP(L37,R_Quali!$C$10:$H$100,6,FALSE)","v":518},{"$f":"VLOOKUP(L37,'R28_Baum'!$D$3:$G$64,4,FALSE)","v":0}]

{"sheet":"R52_Baum","index":9,"n_rows":163,"n_cols":32,"rows_kept":163,"cut":false,"hidden":true,"merged":[[11,23,12,23],[11,24,12,25],[11,26,12,26],[7,26,8,26],[9,26,10,26],[1,17,2,26],[4,17,5,26],[7,23,8,23],[9,23,10,23],[7,24,8,25],[9,24,10,25],[106,23,108,23],[106,24,108,25],[42,20,43,21],[44,20,45,21],[64,20,65,21],[66,20,67,21],[90,20,91,21],[89,24,90,25],[109,2,110,4],[109,8,110,9],[108,12,109,13],[103,16,104,17],[108,16,109,20]]}
[]
[null,"Schb.","Qual.","Name","Land","Verein","Erg.",null,null,null,null,null,null,null,null,null,null,{"$f":"Select!C12","v":"Demoturnier"}]
[1,null,{"$f":"R_Quali!H10","v":532},{"$f":"R_Quali!C10","v":"Url Günter"},{"$f":"R_Quali!E10","v":"ST"},{"$f":"R_Quali!D10","v":"BSC-Wolfspfeil Raab-Holzer"},null,"Schb.","Name","Land","Erg."]
[null,null,null,null,null,null,null,null,{"$f":"D3","v":"Url Günter"},{"$f":"E3","v":"ST"}]
[null,null,null,null,null,null,null,null,null,null,null,"Schb","Name","Land","Erg.",null,null,{"$f":"Select!C13","v":"1. April 2019"}]
[17,{"$f":"E116","v":"3A"},{"$f":"R_Quali!H26","v":516},{"$f":"R_Quali!C26","v":"Schweiger Peter"},{"$f":"R_Quali!E26","v":"ST"},{"$f":"R_Quali!D26","v":"BSV-Blumental"},null,null,null,null,null,{"$f":"N116","v":"3A"},{"$f":"I4","v":"Url Günter"},{"$f":"J4","v":"ST"}]
[40,{"$f":"E117","v":"3B"},{"$f":"R_Quali!H49","v":483},{"$f":"R_Quali!C49","v":"Kramer Michael"},{"$f":"R_Quali!E49","v":"OÖ"},{"$f":"R_Quali!D49","v":"Union Ried in der Riedmark"},null,null,null,null,null,{"$f":"N117","v":"3B"},{"$f":"IF($K8>$K9,$I8,IF($K9>$K8,$I9,IF(RIGHT($K8,1)=\"*\",$I8,IF(RIGHT($K9,1)=\"*\",$I9,\"\"))))","v":""},{"$f":"IF($K8>$K9,$J8,IF($K9>$K8,$J9,IF(RIGHT($K8,1)=\"*\",$J8,IF(RIGHT($K9,1)=\"*\",$J9,\"\"))))","v":""}]
[null,null,null,null,null,null,null,{"$f":"J116","v":"3A"},{"$f":"IF($G6>$G7,$D6,IF($G7>$G6,$D7,IF(RIGHT($G6,1)=\"*\",$D6,IF(RIGHT($G7,1)=\"*\",$D7,\"\"))))","v":""},{"$f":"IF($G6>$G7,$E6,IF($G7>$G6,$E7,IF(RIGHT($G6,1)=\"*\",$E6,IF(RIGHT($G7,1)=\"*\",$E7,\"\"))))","v":""},null,null,null,null,null,null,null,null,null,null,null,null,null,"1.",{"$f":"IF($AA$44>$AA$45,$Y$44,IF($AA$45>$AA$44,$Y$45,IF(RIGHT($AA$44,1)=\"*\",$Y$44,IF(RIGHT($AA$45,1)=\"*\",$Y$45,\"\"))))","v":""},null,{"$f":"IF($AA$44>$AA$45,$Z$44,IF($AA$45>$AA$44,$Z$45,IF(RIGHT($AA$44,1)=\"*\",$Z$44,IF(RIGHT($AA$45,1)=\"*\",$Z$45,\"\"))))","v":""}]
[null,null,null,null,null,null,null,{"$f":"J117","v":"3B"},{"$f":"IF($G10>$G11,$D10,IF($G11>$G10,$D11,IF(RIGHT($G10,1)=\"*\",$D10,IF(RIGHT($G11,1)=\"*\",$D11,\"\"))))","v":""},{"$f":"IF($G10>$G11,$E10,IF($G11>$G10,$E11,IF(RIGHT($G10,1)=\"*\",$E10,IF(RIGHT($G11,1)=\"*\",$E11,\"\"))))","v":""}]
[41,{"$f":"E118","v":"4A"},{"$f":"R_Quali!H50","v":479},{"$f":"R_Quali!C50","v":"Thuswald Alfred"},{"$f":"R_Quali!E50","v":"OÖ"},{"$f":"R_Quali!D50","v":"ASKÖ Gunskirchen"},null,null,null,null,null,null,null,null,null,null,null,null,null,null,null,null,null,"2.",{"$f":"IF($AA$44<$AA$45,$Y$44,IF($AA$45<$AA$44,$Y$45,IF(RIGHT($AA$45,1)=\"*\",$Y$44,IF(RIGHT($AA$44,1)=\"*\",$Y$45,\"\"))))","v":""},null,{"$f":"IF($AA$44<$AA$45,$Z$44,IF($AA$45<$AA$44,$Z$45,IF(RIGHT($AA$45,1)=\"*\",$Z$44,IF(RIGHT($AA$44,1)=\"*\",$Z$45,\"\"))))","v":""}]
[16,{"$f":"E119","v":"4B"},{"$f":"R_Quali!H25","v":517},{"$f":"R_Quali!C25","v":"Lackner Uwe"},{"$f":"R_Quali!E25","v":"ST"},{"$f":"R_Quali!D25","v":"LH Graz"},null,null,null,null,null,null,null,null,null,"Schb","Name","Land","Erg."]
[null,null,null,null,null,null,null,null,null,null,null,null,null,null,null,{"$f":"R116","v":5},{"$f":"IF($O6>$O7,$M6,IF($O7>$O6,$M7,IF(RIGHT($O6,1)=\"*\",$M6,IF(RIGHT($O7,1)=\"*\",$M7,\"\"))))","v":""},{"$f":"IF($O6>$O7,$N6,IF($O7>$O6,$N7,IF(RIGHT($O6,1)=\"*\",$N6,IF(RIGHT($O7,1)=\"*\",$N7,\"\"))))","v":""},null,null,null,null,null,"3.",{"$f":"IF($AA$66>$AA$67,$Y$66,IF($AA$67>$AA$66,$Y$67,IF(RIGHT($AA$66,1)=\"*\",$Y$66,IF(RIGHT($AA$67,1)=\"*\",$Y$67,\"\"))))","v":""},null,{"$f":"IF($AA$66>$AA$67,$Z$66,IF($AA$67>$AA$66,$Z$67,IF(RIGHT($AA$66,1)=\"*\",$Z$66,IF(RIGHT($AA$67,1)=\"*\",$Z$67,\"\"))))","v":""}]
[null,null,null,null,null,null,null,null,null,null,null,null,null,null,null,{"$f":"R117","v":6},{"$f":"IF($O20>$O21,$M20,IF($O21>$O20,$M21,IF(RIGHT($O20,1)=\"*\",$M20,IF(RIGHT($O21,1)=\"*\",$M21,\"\"))))","v":""},{"$f":"IF($O20>$O21,$N20,IF($O21>$O20,$N21,IF(RIGHT($O20,1)=\"*\",$N20,IF(RIGHT($O21,1)=\"*\",$N21,\"\"))))","v":""}]
[9,{"$f":"E120","v":"5A"},{"$f":"R_Quali!H18","v":524},{"$f":"R_Quali!C18","v":"Traxler Helmuth"},{"$f":"R_Quali!E18","v":"NÖ"},{"$f":"R_Quali!D18","v":"UBC Diana NÖ"}]
[48,{"$f":"E121","v":"5B"},{"$f":"R_Quali!H57","v":472},{"$f":"R_Quali!C57","v":"Schinko Bernhard"},{"$f":"R_Quali!E57","v":"OÖ"},{"$f":"R_Quali!D57","v":"BSV Offenhausen"}]
[null,null,null,null,null,null,null,{"$f":"J118","v":"4A"},{"$f":"IF($G14>$G15,$D14,IF($G15>$G14,$D15,IF(RIGHT($G14,1)=\"*\",$D14,IF(RIGHT($G15,1)=\"*\",$D15,\"\"))))","v":""},{"$f":"IF($G14>$G15,$E14,IF($G15>$G14,$E15,IF(RIGHT($G14,1)=\"*\",$E14,IF(RIGHT($G15,1)=\"*\",$E15,\"\"))))","v":""}]
[null,null,null,null,null,null,null,{"$f":"J119","v":"4B"},{"$f":"IF($G18>$G19,$D18,IF($G19>$G18,$D19,IF(RIGHT($G18,1)=\"*\",$D18,IF(RIGHT($G19,1)=\"*\",$D19,\"\"))))","v":""},{"$f":"IF($G18>$G19,$E18,IF($G19>$G18,$E19,IF(RIGHT($G18,1)=\"*\",$E18,IF(RIGHT($G19,1)=\"*\",$E19,\"\"))))","v":""}]
[33,{"$f":"E122","v":"6A"},{"$f":"R_Quali!H42","v":500},{"$f":"R_Quali!C42","v":"Werlitsch Ernst"},{"$f":"R_Quali!E42","v":"ST"},{"$f":"R_Quali!D42","v":"EAT-Bogensport"}]
[24,{"$f":"E123","v":"6B"},{"$f":"R_Quali!H33","v":509},{"$f":"R_Quali!C33","v":"Eidenberger Karl"},{"$f":"R_Quali!E33","v":"B"},{"$f":"R_Quali!D33","v":"PSV Burgenland - Sektion Bogen"}]
[null,null,null,null,null,null,null,null,null,null,null,{"$f":"N118","v":"4A"},{"$f":"IF($K16>$K17,$I16,IF($K17>$K16,$I17,IF(RIGHT($K16,1)=\"*\",$I16,IF(RIGHT($K17,1)=\"*\",$I17,\"\"))))","v":""},{"$f":"IF($K16>$K17,$J16,IF($K17>$K16,$J17,IF(RIGHT($K16,1)=\"*\",$J16,IF(RIGHT($K17,1)=\"*\",$J17,\"\"))))","v":""}]
[null,null,null,null,null,null,null,null,null,null,null,{"$f":"N119","v":"4B"},{"$f":"IF($K24>$K25,$I24,IF($K25>$K24,$I25,IF(RIGHT($K24,1)=\"*\",$I24,IF(RIGHT($K25,1)=\"*\",$I25,\"\"))))","v":""},{"$f":"IF($K24>$K25,$J24,IF($K25>$K24,$J25,IF(RIGHT($K24,1)=\"*\",$J24,IF(RIGHT($K25,1)=\"*\",$J25,\"\"))))","v":""}]
[25,{"$f":"E124","v":"7A"},{"$f":"R_Quali!H34","v":508},{"$f":"R_Quali!C34","v":"Wallner Ewald"},{"$f":"R_Quali!E34","v":"ST"},{"$f":"R_Quali!D34","v":"BSC Sölkpass"}]
[32,{"$f":"E125","v":"7B"},{"$f":"R_Quali!H41","v":501},{"$f":"R_Quali!C41","v":"Klampfer Markus"},{"$f":"R_Quali!E41","v":"S"},{"$f":"R_Quali!D41","v":"Club 3-D Austria Bogensport"}]
[null,null,null,null,null,null,null,{"$f":"J120","v":"5A"},{"$f":"IF($G22>$G23,$D22,IF($G23>$G22,$D23,IF(RIGHT($G22,1)=\"*\",$D22,IF(RIGHT($G23,1)=\"*\",$D23,\"\"))))","v":""},{"$f":"IF($G22>$G23,$E22,IF($G23>$G22,$E23,IF(RIGHT($G22,1)=\"*\",$E22,IF(RIGHT($G23,1)=\"*\",$E23,\"\"))))","v":""}]
[null,null,null,null,null,null,null,{"$f":"J121","v":"5B"},{"$f":"IF($G26>$G27,$D26,IF($G27>$G26,$D27,IF(RIGHT($G26,1)=\"*\",$D26,IF(RIGHT($G27,1)=\"*\",$D27,\"\"))))","v":""},{"$f":"IF($G26>$G27,$E26,IF($G27>$G26,$E27,IF(RIGHT($G26,1)=\"*\",$E26,IF(RIGHT($G27,1)=\"*\",$E27,\"\"))))","v":""}]
[49,{"$f":"E126","v":"8A"},{"$f":"R_Quali!H58","v":472},{"$f":"R_Quali!C58","v":"Linhart Christian"},{"$f":"R_Quali!E58","v":"B"},{"$f":"R_Quali!D58","v":"BSV Stöttera"}]
[8,{"$f":"E127","v":"8B"},{"$f":"R_Quali!H17","v":525},{"$f":"R_Quali!C17","v":"Robl Ronald"},{"$f":"R_Quali!E17","v":"NÖ"},{"$f":"R_Quali!D17","v":"Austrian Free Archer"}]
[]
[null,null,null,null,null,null,null,null,null,null,null,null,null,null,null,null,null,null,null,"Schb","Name","Land","Erg."]
[5,{"$f":"E128","v":"9A"},{"$f":"R_Quali!H14","v":528},{"$f":"R_Quali!C14","v":"Höllwirth Andreas"},{"$f":"R_Quali!E14","v":"OÖ"},{"$f":"R_Quali!D14","v":"ASKÖ-Luftenberg"},null,null,null,null,null,null,null,null,null,null,null,null,null,{"$f":"V116","v":5},{"$f":"IF($S12>$S13,$Q12,IF($S13>$S12,$Q13,IF(RIGHT($S12,1)=\"*\",$Q12,IF(RIGHT($S13,1)=\"*\",$Q13,\"\"))))","v":""},{"$f":"IF($S12>$S13,$R12,IF($S13>$S12,$R13,IF(RIGHT($S12,1)=\"*\",$R12,IF(RIGHT($S13,1)=\"*\",$R13,\"\"))))","v":""}]
[52,{"$f":"E129","v":"9B"},{"$f":"R_Quali!H61","v":467},{"$f":"R_Quali!C61","v":"Thullner Erik"},{"$f":"R_Quali!E61","v":"NÖ"},{"$f":"R_Quali!D61","v":"BSV - Lassee"},null,null,null,null,null,null,null,null,null,null,null,null,null,{"$f":"V117","v":6},{"$f":"IF($S44>$S45,$Q44,IF($S45>$S44,$Q45,IF(RIGHT($S44,1)=\"*\",$Q44,IF(RIGHT($S45,1)=\"*\",$Q45,\"\"))))","v":""},{"$f":"IF($S44>$S45,$R44,IF($S45>$S44,$R45,IF(RIGHT($S44,1)=\"*\",$R44,IF(RIGHT($S45,1)=\"*\",$R45,\"\"))))","v":""}]
[null,null,null,null,null,null,null,{"$f":"J122","v":"6A"},{"$f":"IF($G30>$G31,$D30,IF($G31>$G30,$D31,IF(RIGHT($G30,1)=\"*\",$D30,IF(RIGHT($G31,1)=\"*\",$D31,\"\"))))","v":""},{"$f":"IF($G30>$G31,$E30,IF($G31>$G30,$E31,IF(RIGHT($G30,1)=\"*\",$E30,IF(RIGHT($G31,1)=\"*\",$E31,\"\"))))","v":""}]
[null,null,null,null,null,null,null,{"$f":"J123","v":"6B"},{"$f":"IF($G34>$G35,$D34,IF($G35>$G34,$D35,IF(RIGHT($G34,1)=\"*\",$D34,IF(RIGHT($G35,1)=\"*\",$D35,\"\"))))","v":""},{"$f":"IF($G34>$G35,$E34,IF($G35>$G34,$E35,IF(RIGHT($G34,1)=\"*\",$E34,IF(RIGHT($G35,1)=\"*\",$E35,\"\"))))","v":""}]
[29,{"$f":"E130","v":"10A"},{"$f":"R_Quali!H38","v":504},{"$f":"R_Quali!C38","v":"Simmer Gerhard"},{"$f":"R_Quali!E38","v":"NÖ"},{"$f":"R_Quali!D38","v":"Union Bogensport Haag"}]
[28,{"$f":"E131","v":"10B"},{"$f":"R_Quali!H37","v":505},{"$f":"R_Quali!C37","v":"Eberle Roland"},{"$f":"R_Quali!E37","v":"NÖ"},{"$f":"R_Quali!D37","v":"Austrian Free Archer"}]
[null,null,null,null,null,null,null,null,null,null,null,{"$f":"N120","v":"5A"},{"$f":"IF($K32>$K33,$I32,IF($K33>$K32,$I33,IF(RIGHT($K32,1)=\"*\",$I32,IF(RIGHT($K33,1)=\"*\",$I33,\"\"))))","v":""},{"$f":"IF($K32>$K33,$J32,IF($K33>$K32,$J33,IF(RIGHT($K32,1)=\"*\",$J32,IF(RIGHT($K33,1)=\"*\",$J33,\"\"))))","v":""}]
[null,null,null,null,null,null,null,null,null,null,null,{"$f":"N121","v":"5B"},{"$f":"IF($K40>$K41,$I40,IF($K41>$K40,$I41,IF(RIGHT($K40,1)=\"*\",$I40,IF(RIGHT($K41,1)=\"*\",$I41,\"\"))))","v":""},{"$f":"IF($K40>$K41,$J40,IF($K41>$K40,$J41,IF(RIGHT($K40,1)=\"*\",$J40,IF(RIGHT($K41,1)=\"*\",$J41,\"\"))))","v":""}]
[21,{"$f":"E132","v":"11A"},{"$f":"R_Quali!H30","v":512},{"$f":"R_Quali!C30","v":"Pupetschek Manfred"},{"$f":"R_Quali!E30","v":"T"},{"$f":"R_Quali!D30","v":"IHG Sektion Bogen"}]
[36,{"$f":"E133","v":"11B"},{"$f":"R_Quali!H45","v":487},{"$f":"R_Quali!C45","v":"Zorgovsky Peter"},{"$f":"R_Quali!E45","v":"W"},{"$f":"R_Quali!D45","v":"BSV Schönbrunn"}]
[null,null,null,null,null,null,null,{"$f":"J124","v":"7A"},{"$f":"IF($G38>$G39,$D38,IF($G39>$G38,$D39,IF(RIGHT($G38,1)=\"*\",$D38,IF(RIGHT($G39,1)=\"*\",$D39,\"\"))))","v":""},{"$f":"IF($G38>$G39,$E38,IF($G39>$G38,$E39,IF(RIGHT($G38,1)=\"*\",$E38,IF(RIGHT($G39,1)=\"*\",$E39,\"\"))))","v":""}]
[null,null,null,null,null,null,null,{"$f":"J125","v":"7B"},{"$f":"IF($G42>$G43,$D42,IF($G43>$G42,$D43,IF(RIGHT($G42,1)=\"*\",$D42,IF(RIGHT($G43,1)=\"*\",$D43,\"\"))))","v":""},{"$f":"IF($G42>$G43,$E42,IF($G43>$G42,$E43,IF(RIGHT($G42,1)=\"*\",$E42,IF(RIGHT($G43,1)=\"*\",$E43,\"\"))))","v":""},null,null,null,null,null,null,null,null,null,null,null,null,null,null,null,null,null,null,null,null,{"$f":"IF($W30>$W31,$U30,IF($W31>$W30,$U31,IF(RIGHT($W30,1)=\"*\",$U30,IF(RIGHT($W31,1)=\"*\",$U31,\"\"))))","v":""},{"$f":"IF($W30>$W31,$V30,IF($W31>$W30,$V31,IF(RIGHT($W30,1)=\"*\",$V30,IF(RIGHT($W31,1)=\"*\",$V31,\"\"))))","v":""}]
[45,{"$f":"E134","v":"12A"},{"$f":"R_Quali!H54","v":475},{"$f":"R_Quali!C54","v":"Bouse Harald"},{"$f":"R_Quali!E54","v":"W"},{"$f":"R_Quali!D54","v":"BSV Schönbrunn"}]
[12,{"$f":"E135","v":"12B"},{"$f":"R_Quali!H21","v":521},{"$f":"R_Quali!C21","v":"Bauer Helfried"},{"$f":"R_Quali!E21","v":"NÖ"},{"$f":"R_Quali!D21","v":"Austrian Free Archer"},null,null,null,null,null,null,null,null,null,null,null,null,null,null,"Finale",null,null,"Schb","Name","Land","Erg."]
[null,null,null,null,null,null,null,null,null,null,null,null,null,null,null,{"$f":"R118","v":7},{"$f":"IF($O36>$O37,$M36,IF($O37>$O36,$M37,IF(RIGHT($O36,1)=\"*\",$M36,IF(RIGHT($O37,1)=\"*\",$M37,\"\"))))","v":""},{"$f":"IF($O36>$O37,$N36,IF($O37>$O36,$N37,IF(RIGHT($O36,1)=\"*\",$N36,IF(RIGHT($O37,1)=\"*\",$N37,\"\"))))","v":""},null,null,null,null,null,{"$f":"Z116","v":5},{"$f":"IF($W30>$W31,$U30,IF($W31>$W30,$U31,IF(RIGHT($W30,1)=\"*\",$U30,IF(RIGHT($W31,1)=\"*\",$U31,\"\"))))","v":""},{"$f":"IF($W30>$W31,$V30,IF($W31>$W30,$V31,IF(RIGHT($W30,1)=\"*\",$V30,IF(RIGHT($W31,1)=\"*\",$V31,\"\"))))","v":""},null,null,null,null,{"$f":"IF($W82>$W83,$U82,IF($W83>$W82,$U83,IF(RIGHT($W82,1)=\"*\",$U82,IF(RIGHT($W83,1)=\"*\",$U83,\"\"))))","v":""},{"$f":"IF($W82>$W83,$V82,IF($W83>$W82,$V83,IF(RIGHT($W82,1)=\"*\",$V82,IF(RIGHT($W83,1)=\"*\",$V83,\"\"))))","v":""}]
[null,null,null,null,null,null,null,null,null,null,null,null,null,null,null,{"$f":"R119","v":8},{"$f":"IF($O50>$O51,$M50,IF($O51>$O50,$M51,IF(RIGHT($O50,1)=\"*\",$M50,IF(RIGHT($O51,1)=\"*\",$M51,\"\"))))","v":""},{"$f":"IF($O50>$O51,$N50,IF($O51>$O50,$N51,IF(RIGHT($O50,1)=\"*\",$N50,IF(RIGHT($O51,1)=\"*\",$N51,\"\"))))","v":""},null,null,"1. und 2. Platz",null,null,{"$f":"Z117","v":6},{"$f":"IF($W82>$W83,$U82,IF($W83>$W82,$U83,IF(RIGHT($W82,1)=\"*\",$U82,IF(RIGHT($W83,1)=\"*\",$U83,\"\"))))","v":""},{"$f":"IF($W82>$W83,$V82,IF($W83>$W82,$V83,IF(RIGHT($W82,1)=\"*\",$V82,IF(RIGHT($W83,1)=\"*\",$V83,\"\"))))","v":""}]
[13,{"$f":"E136","v":"13A"},{"$f":"R_Quali!H22","v":520},{"$f":"R_Quali!C22","v":"Jandl Ernst"},{"$f":"R_Quali!E22","v":"B"},{"$f":"R_Quali!D22","v":"PSV Burgenland - Sektion Bogen"}]
[44,{"$f":"E137","v":"13B"},{"$f":"R_Quali!H53","v":476},{"$f":"R_Quali!C53","v":"Schauer Bernhard"},{"$f":"R_Quali!E53","v":"OÖ"},{"$f":"R_Quali!D53","v":"SVM Sportverein Magistrat Linz"}]
[null,null,null,null,null,null,null,{"$f":"J126","v":"8A"},{"$f":"IF($G46>$G47,$D46,IF($G47>$G46,$D47,IF(RIGHT($G46,1)=\"*\",$D46,IF(RIGHT($G47,1)=\"*\",$D47,\"\"))))","v":""},{"$f":"IF($G46>$G47,$E46,IF($G47>$G46,$E47,IF(RIGHT($G46,1)=\"*\",$E46,IF(RIGHT($G47,1)=\"*\",$E47,\"\"))))","v":""}]
[null,null,null,null,null,null,null,{"$f":"J127","v":"8B"},{"$f":"IF($G50>$G51,$D50,IF($G51>$G50,$D51,IF(RIGHT($G50,1)=\"*\",$D50,IF(RIGHT($G51,1)=\"*\",$D51,\"\"))))","v":""},{"$f":"IF($G50>$G51,$E50,IF($G51>$G50,$E51,IF(RIGHT($G50,1)=\"*\",$E50,IF(RIGHT($G51,1)=\"*\",$E51,\"\"))))","v":""}]
[37,{"$f":"E138","v":"14A"},{"$f":"R_Quali!H46","v":487},{"$f":"R_Quali!C46","v":"Mühlgassner Wolfgang"},{"$f":"R_Quali!E46","v":"W"},{"$f":"R_Quali!D46","v":"UBSC Artemis Wien"},null,null,null,null,null,{"$f":"N122","v":"6A"},{"$f":"IF($K48>$K49,$I48,IF($K49>$K48,$I49,IF(RIGHT($K48,1)=\"*\",$I48,IF(RIGHT($K49,1)=\"*\",$I49,\"\"))))","v":""},{"$f":"IF($K48>$K49,$J48,IF($K49>$K48,$J49,IF(RIGHT($K48,1)=\"*\",$J48,IF(RIGHT($K49,1)=\"*\",$J49,\"\"))))","v":""}]
[20,{"$f":"E139","v":"14B"},{"$f":"R_Quali!H29","v":513},{"$f":"R_Quali!C29","v":"Stiftner Alfred"},{"$f":"R_Quali!E29","v":"OÖ"},{"$f":"R_Quali!D29","v":"BC Kronstorf"},null,null,null,null,null,{"$f":"N123","v":"6B"},{"$f":"I53","v":"Krempl Werner"},{"$f":"J53","v":"ST"}]
[]
[null,null,null,null,null,null,null,null,{"$f":"D54","v":"Krempl Werner"},{"$f":"E54","v":"ST"}]
[4,null,{"$f":"R_Quali!H13","v":529},{"$f":"R_Quali!C13","v":"Krempl Werner"},{"$f":"R_Quali!E13","v":"ST"},{"$f":"R_Quali!D13","v":"BSC Semriach"}]
[]
[]
[3,null,{"$f":"R_Quali!H12","v":530},{"$f":"R_Quali!C12","v":"Strohmaier Joachim"},{"$f":"R_Quali!E12","v":"ST"},{"$f":"R_Quali!D12","v":"BSC Kumberg"}]
[null,null,null,null,null,null,null,null,{"$f":"D57","v":"Strohmaier Joachim"},{"$f":"E57","v":"ST"}]
[]
[19,{"$f":"E140","v":"15A"},{"$f":"R_Quali!H28","v":514},{"$f":"R_Quali!C28","v":"Winkler Klaus"},{"$f":"R_Quali!E28","v":"NÖ"},{"$f":"R_Quali!D28","v":"BSC Enzenreith"},null,null,null,null,null,{"$f":"N124","v":"7A"},{"$f":"I58","v":"Strohmaier Joachim"},{"$f":"J58","v":"ST"}]
[38,{"$f":"E141","v":"15B"},{"$f":"R_Quali!H47","v":484},{"$f":"R_Quali!C47","v":"Greis Christian"},{"$f":"R_Quali!E47","v":"NÖ"},{"$f":"R_Quali!D47","v":"BSV Spannberg"},null,null,null,null,null,{"$f":"N125","v":"7B"},{"$f":"IF($K62>$K63,$I62,IF($K63>$K62,$I63,IF(RIGHT($K62,1)=\"*\",$I62,IF(RIGHT($K63,1)=\"*\",$I63,\"\"))))","v":""},{"$f":"IF($K62>$K63,$J62,IF($K63>$K62,$J63,IF(RIGHT($K62,1)=\"*\",$J62,IF(RIGHT($K63,1)=\"*\",$J63,\"\"))))","v":""}]
[null,null,null,null,null,null,null,{"$f":"J128","v":"9A"},{"$f":"IF($G60>$G61,$D60,IF($G61>$G60,$D61,IF(RIGHT($G60,1)=\"*\",$D60,IF(RIGHT($G61,1)=\"*\",$D61,\"\"))))","v":""},{"$f":"IF($G60>$G61,$E60,IF($G61>$G60,$E61,IF(RIGHT($G60,1)=\"*\",$E60,IF(RIGHT($G61,1)=\"*\",$E61,\"\"))))","v":""}]
[null,null,null,null,null,null,null,{"$f":"J129","v":"9B"},{"$f":"IF($G64>$G65,$D64,IF($G65>$G64,$D65,IF(RIGHT($G64,1)=\"*\",$D64,IF(RIGHT($G65,1)=\"*\",$D65,\"\"))))","v":""},{"$f":"IF($G64>$G65,$E64,IF($G65>$G64,$E65,IF(RIGHT($G64,1)=\"*\",$E64,IF(RIGHT($G65,1)=\"*\",$E65,\"\"))))","v":""}]
[43,{"$f":"E142","v":"16A"},{"$f":"R_Quali!H52","v":476},{"$f":"R_Quali!C52","v":"Galler Joachim"},{"$f":"R_Quali!E52","v":"B"},{"$f":"R_Quali!D52","v":"BSV Mattersburg"}]
[14,{"$f":"E143","v":"16B"},{"$f":"R_Quali!H23","v":519},{"$f":"R_Quali!C23","v":"Schramm Wolfgang"},{"$f":"R_Quali!E23","v":"OÖ"},{"$f":"R_Quali!D23","v":"LINZ AG Sport - Sektion Bogen"},null,null,null,null,null,null,null,null,null,null,null,null,null,null,"Finale"]
[null,null,null,null,null,null,null,null,null,null,null,null,null,null,null,{"$f":"R120","v":9},{"$f":"IF($O60>$O61,$M60,IF($O61>$O60,$M61,IF(RIGHT($O60,1)=\"*\",$M60,IF(RIGHT($O61,1)=\"*\",$M61,\"\"))))","v":""},{"$f":"IF($O60>$O61,$N60,IF($O61>$O60,$N61,IF(RIGHT($O60,1)=\"*\",$N60,IF(RIGHT($O61,1)=\"*\",$N61,\"\"))))","v":""},null,null,null,null,null,{"$f":"Z118","v":5},{"$f":"IF($W30>$W31,$U31,IF($W31>$W30,$U30,IF(RIGHT($W30,1)=\"*\",$U31,IF(RIGHT($W31,1)=\"*\",$U30,\"\"))))","v":""},{"$f":"IF($W30>$W31,$V31,IF($W31>$W30,$V30,IF(RIGHT($W30,1)=\"*\",$V31,IF(RIGHT($W31,1)=\"*\",$V30,\"\"))))","v":""},null,null,null,null,{"$f":"IF($W30>$W31,$U31,IF($W31>$W30,$U30,IF(RIGHT($W30,1)=\"*\",$U31,IF(RIGHT($W31,1)=\"*\",$U30,\"\"))))","v":""},{"$f":"IF($W30>$W31,$V31,IF($W31>$W30,$V30,IF(RIGHT($W30,1)=\"*\",$V31,IF(RIGHT($W31,1)=\"*\",$V30,\"\"))))","v":""}]
[null,null,null,null,null,null,null,null,null,null,null,null,null,null,null,{"$f":"R121","v":10},{"$f":"IF($O74>$O75,$M74,IF($O75>$O74,$M75,IF(RIGHT($O74,1)=\"*\",$M74,IF(RIGHT($O75,1)=\"*\",$M75,\"\"))))","v":""},{"$f":"IF($O74>$O75,$N74,IF($O75>$O74,$N75,IF(RIGHT($O74,1)=\"*\",$N74,IF(RIGHT($O75,1)=\"*\",$N75,\"\"))))","v":""},null,null,"3. und 4. Platz",null,null,{"$f":"Z119","v":6},{"$f":"IF($W82>$W83,$U83,IF($W83>$W82,$U82,IF(RIGHT($W82,1)=\"*\",$U83,IF(RIGHT($W83,1)=\"*\",$U82,\"\"))))","v":""},{"$f":"IF($W82>$W83,$V83,IF($W83>$W82,$V82,IF(RIGHT($W82,1)=\"*\",$V83,IF(RIGHT($W83,1)=\"*\",$V82,\"\"))))","v":""},null,null,null,null,{"$f":"IF($W82>$W83,$U83,IF($W83>$W82,$U82,IF(RIGHT($W82,1)=\"*\",$U83,IF(RIGHT($W83,1)=\"*\",$U82,\"\"))))","v":""},{"$f":"IF($W82>$W83,$V83,IF($W83>$W82,$V82,IF(RIGHT($W82,1)=\"*\",$V83,IF(RIGHT($W83,1)=\"*\",$V82,\"\"))))","v":""}]
[11,{"$f":"E144","v":"17A"},{"$f":"R_Quali!H20","v":522},{"$f":"R_Quali!C20","v":"Reicher Ernst"},{"$f":"R_Quali!E20","v":"K"},{"$f":"R_Quali!D20","v":"BSC Wörthersee"}]
[46,{"$f":"E145","v":"17B"},{"$f":"R_Quali!H55","v":475},{"$f":"R_Quali!C55","v":"Doppler Wolfgang"},{"$f":"R_Quali!E55","v":"OÖ"},{"$f":"R_Quali!D55","v":"Union BSC Ried"}]
[null,null,null,null,null,null,null,{"$f":"J130","v":"10A"},{"$f":"IF($G68>$G69,$D68,IF($G69>$G68,$D69,IF(RIGHT($G68,1)=\"*\",$D68,IF(RIGHT($G69,1)=\"*\",$D69,\"\"))))","v":""},{"$f":"IF($G68>$G69,$E68,IF($G69>$G68,$E69,IF(RIGHT($G68,1)=\"*\",$E68,IF(RIGHT($G69,1)=\"*\",$E69,\"\"))))","v":""}]
[null,null,null,null,null,null,null,{"$f":"J131","v":"10B"},{"$f":"IF($G72>$G73,$D72,IF($G73>$G72,$D73,IF(RIGHT($G72,1)=\"*\",$D72,IF(RIGHT($G73,1)=\"*\",$D73,\"\"))))","v":""},{"$f":"IF($G72>$G73,$E72,IF($G73>$G72,$E73,IF(RIGHT($G72,1)=\"*\",$E72,IF(RIGHT($G73,1)=\"*\",$E73,\"\"))))","v":""}]
[35,{"$f":"E146","v":"18A"},{"$f":"R_Quali!H44","v":487},{"$f":"R_Quali!C44","v":"Hochbaumer Thomas"},{"$f":"R_Quali!E44","v":"NÖ"},{"$f":"R_Quali!D44","v":"Austrian Free Archer"}]
[22,{"$f":"E147","v":"18B"},{"$f":"R_Quali!H31","v":511},{"$f":"R_Quali!C31","v":"Schütz Raimund"},{"$f":"R_Quali!E31","v":"NÖ"},{"$f":"R_Quali!D31","v":"TBs Weinviertel"}]
[null,null,null,null,null,null,null,null,null,null,null,{"$f":"N126","v":"8A"},{"$f":"IF($K70>$K71,$I70,IF($K71>$K70,$I71,IF(RIGHT($K70,1)=\"*\",$I70,IF(RIGHT($K71,1)=\"*\",$I71,\"\"))))","v":""},{"$f":"IF($K70>$K71,$J70,IF($K71>$K70,$J71,IF(RIGHT($K70,1)=\"*\",$J70,IF(RIGHT($K71,1)=\"*\",$J71,\"\"))))","v":""}]
[null,null,null,null,null,null,null,null,null,null,null,{"$f":"N127","v":"8B"},{"$f":"IF($K78>$K79,$I78,IF($K79>$K78,$I79,IF(RIGHT($K78,1)=\"*\",$I78,IF(RIGHT($K79,1)=\"*\",$I79,\"\"))))","v":""},{"$f":"IF($K78>$K79,$J78,IF($K79>$K78,$J79,IF(RIGHT($K78,1)=\"*\",$J78,IF(RIGHT($K79,1)=\"*\",$J79,\"\"))))","v":""}]
[27,{"$f":"E148","v":"19A"},{"$f":"R_Quali!H36","v":506},{"$f":"R_Quali!C36","v":"Radauer Helmuth"},{"$f":"R_Quali!E36","v":"ST"},{"$f":"R_Quali!D36","v":"BSC Ennstal"}]
[30,{"$f":"E149","v":"19B"},{"$f":"R_Quali!H39","v":503},{"$f":"R_Quali!C39","v":"Lein Karl"},{"$f":"R_Quali!E39","v":"B"},{"$f":"R_Quali!D39","v":"BSV Mattersburg"}]
[null,null,null,null,null,null,null,{"$f":"J132","v":"11A"},{"$f":"IF($G76>$G77,$D76,IF($G77>$G76,$D77,IF(RIGHT($G76,1)=\"*\",$D76,IF(RIGHT($G77,1)=\"*\",$D77,\"\"))))","v":""},{"$f":"IF($G76>$G77,$E76,IF($G77>$G76,$E77,IF(RIGHT($G76,1)=\"*\",$E76,IF(RIGHT($G77,1)=\"*\",$E77,\"\"))))","v":""}]
[null,null,null,null,null,null,null,{"$f":"J133","v":"11B"},{"$f":"IF($G80>$G81,$D80,IF($G81>$G80,$D81,IF(RIGHT($G80,1)=\"*\",$D80,IF(RIGHT($G81,1)=\"*\",$D81,\"\"))))","v":""},{"$f":"IF($G80>$G81,$E80,IF($G81>$G80,$E81,IF(RIGHT($G80,1)=\"*\",$E80,IF(RIGHT($G81,1)=\"*\",$E81,\"\"))))","v":""}]
[51,{"$f":"E150","v":"20A"},{"$f":"R_Quali!H60","v":468},{"$f":"R_Quali!C60","v":"Vorauer Helmut"},{"$f":"R_Quali!E60","v":"T"},{"$f":"R_Quali!D60","v":"HSV Absam Bogensport"}]
[6,{"$f":"E151","v":"20B"},{"$f":"R_Quali!H15","v":527},{"$f":"R_Quali!C15","v":"Parschisek Alexander"},{"$f":"R_Quali!E15","v":"B"},{"$f":"R_Quali!D15","v":"BC-Oberschützen"}]
[null,null,null,null,null,null,null,null,null,null,null,null,null,null,null,null,null,null,null,{"$f":"V118","v":7},{"$f":"IF($S66>$S67,$Q66,IF($S67>$S66,$Q67,IF(RIGHT($S66,1)=\"*\",$Q66,IF(RIGHT($S67,1)=\"*\",$Q67,\"\"))))","v":""},{"$f":"IF($S66>$S67,$R66,IF($S67>$S66,$R67,IF(RIGHT($S66,1)=\"*\",$R66,IF(RIGHT($S67,1)=\"*\",$R67,\"\"))))","v":""}]
[null,null,null,null,null,null,null,null,null,null,null,null,null,null,null,null,null,null,null,{"$f":"V119","v":8},{"$f":"IF($S98>$S99,$Q98,IF($S99>$S98,$Q99,IF(RIGHT($S98,1)=\"*\",$Q98,IF(RIGHT($S99,1)=\"*\",$Q99,\"\"))))","v":""},{"$f":"IF($S98>$S99,$R98,IF($S99>$S98,$R99,IF(RIGHT($S98,1)=\"*\",$R98,IF(RIGHT($S99,1)=\"*\",$R99,\"\"))))","v":""}]
[7,{"$f":"E152","v":"21A"},{"$f":"R_Quali!H16","v":526},{"$f":"R_Quali!C16","v":"Bucher Martin"},{"$f":"R_Quali!E16","v":"ST"},{"$f":"R_Quali!D16","v":"LH Graz"}]
[50,{"$f":"E153","v":"21B"},{"$f":"R_Quali!H59","v":468},{"$f":"R_Quali!C59","v":"Hahn Gottfried"},{"$f":"R_Quali!E59","v":"NÖ"},{"$f":"R_Quali!D59","v":"BSV Spannberg"}]
[null,null,null,null,null,null,null,{"$f":"J134","v":"12A"},{"$f":"IF($G84>$G85,$D84,IF($G85>$G84,$D85,IF(RIGHT($G84,1)=\"*\",$D84,IF(RIGHT($G85,1)=\"*\",$D85,\"\"))))","v":""},{"$f":"IF($G84>$G85,$E84,IF($G85>$G84,$E85,IF(RIGHT($G84,1)=\"*\",$E84,IF(RIGHT($G85,1)=\"*\",$E85,\"\"))))","v":""}]
[null,null,null,null,null,null,null,{"$f":"J135","v":"12B"},{"$f":"IF($G88>$G89,$D88,IF($G89>$G88,$D89,IF(RIGHT($G88,1)=\"*\",$D88,IF(RIGHT($G89,1)=\"*\",$D89,\"\"))))","v":""},{"$f":"IF($G88>$G89,$E88,IF($G89>$G88,$E89,IF(RIGHT($G88,1)=\"*\",$E88,IF(RIGHT($G89,1)=\"*\",$E89,\"\"))))","v":""}]
[31,{"$f":"E154","v":"22A"},{"$f":"R_Quali!H40","v":502},{"$f":"R_Quali!C40","v":"Klemke Harald"},{"$f":"R_Quali!E40","v":"B"},{"$f":"R_Quali!D40","v":"BSV Mattersburg"}]
[26,{"$f":"E155","v":"22B"},{"$f":"R_Quali!H35","v":507},{"$f":"R_Quali!C35","v":"Kossek Heinz"},{"$f":"R_Quali!E35","v":"ST"},{"$f":"R_Quali!D35","v":"BC Wildon Weitendorf"}]
[null,null,null,null,null,null,null,null,null,null,null,{"$f":"N128","v":"9A"},{"$f":"IF($K86>$K87,$I86,IF($K87>$K86,$I87,IF(RIGHT($K86,1)=\"*\",$I86,IF(RIGHT($K87,1)=\"*\",$I87,\"\"))))","v":""},{"$f":"IF($K86>$K87,$J86,IF($K87>$K86,$J87,IF(RIGHT($K86,1)=\"*\",$J86,IF(RIGHT($K87,1)=\"*\",$J87,\"\"))))","v":""},null,null,null,null,null,null,null,null,null,null,"Finale"]
[null,null,null,null,null,null,null,null,null,null,null,{"$f":"N129","v":"9B"},{"$f":"IF($K94>$K95,$I94,IF($K95>$K94,$I95,IF(RIGHT($K94,1)=\"*\",$I94,IF(RIGHT($K95,1)=\"*\",$I95,\"\"))))","v":""},{"$f":"IF($K94>$K95,$J94,IF($K95>$K94,$J95,IF(RIGHT($K94,1)=\"*\",$J94,IF(RIGHT($K95,1)=\"*\",$J95,\"\"))))","v":""},null,null,null,null,null,null,"1/2 Finale"]
[23,{"$f":"E156","v":"23A"},{"$f":"R_Quali!H32","v":510},{"$f":"R_Quali!C32","v":"Kutmon Wilhelm"},{"$f":"R_Quali!E32","v":"ST"},{"$f":"R_Quali!D32","v":"BS Ligist - Archery Freaks"}]
[34,{"$f":"E157","v":"23B"},{"$f":"R_Quali!H43","v":488},{"$f":"R_Quali!C43","v":"Grünsteidl Klaus"},{"$f":"R_Quali!E43","v":"OÖ"},{"$f":"R_Quali!D43","v":"BSV Stoneface - Archery"}]
[null,null,null,null,null,null,null,{"$f":"J136","v":"13A"},{"$f":"IF($G92>$G93,$D92,IF($G93>$G92,$D93,IF(RIGHT($G92,1)=\"*\",$D92,IF(RIGHT($G93,1)=\"*\",$D93,\"\"))))","v":""},{"$f":"IF($G92>$G93,$E92,IF($G93>$G92,$E93,IF(RIGHT($G92,1)=\"*\",$E92,IF(RIGHT($G93,1)=\"*\",$E93,\"\"))))","v":""}]
[null,null,null,null,null,null,null,{"$f":"J137","v":"13B"},{"$f":"IF($G96>$G97,$D96,IF($G97>$G96,$D97,IF(RIGHT($G96,1)=\"*\",$D96,IF(RIGHT($G97,1)=\"*\",$D97,\"\"))))","v":""},{"$f":"IF($G96>$G97,$E96,IF($G97>$G96,$E97,IF(RIGHT($G96,1)=\"*\",$E96,IF(RIGHT($G97,1)=\"*\",$E97,\"\"))))","v":""}]
[47,{"$f":"E158","v":"24A"},{"$f":"R_Quali!H56","v":474},{"$f":"R_Quali!C56","v":"Feizlmair Andreas"},{"$f":"R_Quali!E56","v":"NÖ"},{"$f":"R_Quali!D56","v":"Union Bogensport Haag"}]
[10,{"$f":"E159","v":"24B"},{"$f":"R_Quali!H19","v":523},{"$f":"R_Quali!C19","v":"Navratil Christoph"},{"$f":"R_Quali!E19","v":"W"},{"$f":"R_Quali!D19","v":"BSV Schönbrunn"}]
[null,null,null,null,null,null,null,null,null,null,null,null,null,null,null,{"$f":"R122","v":11},{"$f":"IF($O90>$O91,$M90,IF($O91>$O90,$M91,IF(RIGHT($O90,1)=\"*\",$M90,IF(RIGHT($O91,1)=\"*\",$M91,\"\"))))","v":""},{"$f":"IF($O90>$O91,$N90,IF($O91>$O90,$N91,IF(RIGHT($O90,1)=\"*\",$N90,IF(RIGHT($O91,1)=\"*\",$N91,\"\"))))","v":""}]
[null,null,null,null,null,null,null,null,null,null,null,null,null,null,null,{"$f":"R123","v":12},{"$f":"IF($O104>$O105,$M104,IF($O105>$O104,$M105,IF(RIGHT($O104,1)=\"*\",$M104,IF(RIGHT($O105,1)=\"*\",$M105,\"\"))))","v":""},{"$f":"IF($O104>$O105,$N104,IF($O105>$O104,$N105,IF(RIGHT($O104,1)=\"*\",$N104,IF(RIGHT($O105,1)=\"*\",$N105,\"\"))))","v":""}]
[15,{"$f":"E160","v":"25A"},{"$f":"R_Quali!H24","v":518},{"$f":"R_Quali!C24","v":"Markl Mario"},{"$f":"R_Quali!E24","v":"NÖ"},{"$f":"R_Quali!D24","v":"BSV Dakota"}]
[42,{"$f":"E161","v":"25B"},{"$f":"R_Quali!H51","v":477},{"$f":"R_Quali!C51","v":"Hoyer Wolfgang"},{"$f":"R_Quali!E51","v":"W"},{"$f":"R_Quali!D51","v":"UBSC Artemis Wien"}]
[null,null,null,null,null,null,null,{"$f":"J138","v":"14A"},{"$f":"IF($G100>$G101,$D100,IF($G101>$G100,$D101,IF(RIGHT($G100,1)=\"*\",$D100,IF(RIGHT($G101,1)=\"*\",$D101,\"\"))))","v":""},{"$f":"IF($G100>$G101,$E100,IF($G101>$G100,$E101,IF(RIGHT($G100,1)=\"*\",$E100,IF(RIGHT($G101,1)=\"*\",$E101,\"\"))))","v":""}]
[null,null,null,null,null,null,null,{"$f":"J139","v":"14B"},{"$f":"IF($G104>$G105,$D104,IF($G105>$G104,$D105,IF(RIGHT($G104,1)=\"*\",$D104,IF(RIGHT($G105,1)=\"*\",$D105,\"\"))))","v":""},{"$f":"IF($G104>$G105,$E104,IF($G105>$G104,$E105,IF(RIGHT($G104,1)=\"*\",$E104,IF(RIGHT($G105,1)=\"*\",$E105,\"\"))))","v":""}]
[39,{"$f":"E162","v":"26A"},{"$f":"R_Quali!H48","v":483},{"$f":"R_Quali!C48","v":"Arfsten Sven"},{"$f":"R_Quali!E48","v":"S"},{"$f":"R_Quali!D48","v":"BC Golden Arrows"},null,null,null,null,null,{"$f":"N130","v":"10A"},{"$f":"IF($K102>$K103,$I102,IF($K103>$K102,$I103,IF(RIGHT($K102,1)=\"*\",$I102,IF(RIGHT($K103,1)=\"*\",$I103,\"\"))))","v":""},{"$f":"IF($K102>$K103,$J102,IF($K103>$K102,$J103,IF(RIGHT($K102,1)=\"*\",$J102,IF(RIGHT($K103,1)=\"*\",$J103,\"\"))))","v":""},null,null,"1/4 Finale"]
[18,{"$f":"E163","v":"26B"},{"$f":"R_Quali!H27","v":515},{"$f":"R_Quali!C27","v":"Hamedl Wolfgang"},{"$f":"R_Quali!E27","v":"B"},{"$f":"R_Quali!D27","v":"PSV Burgenland - Sektion Bogen"},null,null,null,null,null,{"$f":"N131","v":"10B"},{"$f":"I107","v":"Berger Hermann"},{"$f":"J107","v":"S"}]
[]
[null,null,null,null,null,null,null,null,{"$f":"D108","v":"Berger Hermann"},{"$f":"E108","v":"S"}]
[2,null,{"$f":"R_Quali!H11","v":531},{"$f":"R_Quali!C11","v":"Berger Hermann"},{"$f":"R_Quali!E11","v":"S"},{"$f":"R_Quali!D11","v":"BSV Glemmerhof"}]
[null,null,null,null,null,null,null,null,null,null,null,null,"1/8 Elimination",null,null,null,{"$f":"Select!C18","v":"Recurve Herren"}]
[null,null,"1/24 Elimination",null,null,null,null,null,"1/12 Elimination"]
[]
[]
[]
[]
[null,null,null,"Scheibe:",null,null,null,null,"Scheibe:"]
[null,null,1,{"$f":"CONCATENATE($I$115,\" \",E116)","v":"Scheibe: 3A"},"3A",null,null,1,{"$f":"CONCATENATE($I$115,\" \",J116)","v":"Scheibe: 3A"},"3A",null,1,{"$f":"CONCATENATE($I$115,\" \",N116)","v":"Scheibe: 3A"},"3A",null,1,{"$f":"CONCATENATE($I$115,\" \",R116)","v":"Scheibe: 5"},5,null,1,{"$f":"CONCATENATE($I$115,\" \",V116)","v":"Scheibe: 5"},5,null,1,{"$f":"CONCATENATE($I$115,\" \",Z116)","v":"Scheibe: 5"},5]
[null,null,null,"Scheibe: 3B",{"$f":"IF(RIGHT(E116,1)=\"A\",CONCATENATE(LEFT(E116,LEN(E116)-1),\"B\"),E116+1)","v":"3B"},null,null,null,"Scheibe: 3B",{"$f":"IF(RIGHT(J116,1)=\"A\",CONCATENATE(LEFT(J116,LEN(J116)-1),\"B\"),J116+1)","v":"3B"},null,null,"Scheibe: 3B",{"$f":"IF(RIGHT(N116,1)=\"A\",CONCATENATE(LEFT(N116,LEN(N116)-1),\"B\"),N116+1)","v":"3B"},null,null,"Scheibe: 6",{"$f":"IF(RIGHT(R116,1)=\"A\",CONCATENATE(LEFT(R116,LEN(R116)-1),\"B\"),R116+1)","v":6},null,null,{"$f":"CONCATENATE($I$115,\" \",V117)","v":"Scheibe: 6"},{"$f":"IF(RIGHT(V116,1)=\"A\",CONCATENATE(LEFT(V116,LEN(V116)-1),\"B\"),V116+1)","v":6},null,null,{"$f":"CONCATENATE($I$115,\" \",Z117)","v":"Scheibe: 6"},{"$f":"IF(RIGHT(Z116,1)=\"A\",CONCATENATE(LEFT(Z116,LEN(Z116)-1),\"B\"),Z116+1)","v":6}]
[null,null,{"$f":"C116+1","v":2},"Scheibe: 4A",{"$f":"IF(RIGHT(E117,1)=\"B\",CONCATENATE(LEFT(E117,LEN(E117)-1)+1,\"A\"),E117+1)","v":"4A"},null,null,{"$f":"H116+1","v":2},"Scheibe: 4A",{"$f":"IF(RIGHT(J117,1)=\"B\",CONCATENATE(LEFT(J117,LEN(J117)-1)+1,\"A\"),J117+1)","v":"4A"},null,{"$f":"L116+1","v":2},"Scheibe: 4A",{"$f":"IF(RIGHT(N117,1)=\"B\",CONCATENATE(LEFT(N117,LEN(N117)-1)+1,\"A\"),N117+1)","v":"4A"},null,{"$f":"P116+1","v":2},"Scheibe: 7",{"$f":"IF(RIGHT(R117,1)=\"B\",CONCATENATE(LEFT(R117,LEN(R117)-1)+1,\"A\"),R117+1)","v":7},null,{"$f":"T116+1","v":2},{"$f":"CONCATENATE($I$115,\" \",V118)","v":"Scheibe: 7"},{"$f":"IF(RIGHT(V117,1)=\"B\",CONCATENATE(LEFT(V117,LEN(V117)-1)+1,\"A\"),V117+1)","v":7},null,{"$f":"X116+1","v":2},{"$f":"CONCATENATE($I$115,\" \",Z118)","v":"Scheibe: 5"},5]
[null,null,null,"Scheibe: 4B",{"$f":"IF(RIGHT(E118,1)=\"A\",CONCATENATE(LEFT(E118,LEN(E118)-1),\"B\"),E118+1)","v":"4B"},null,null,null,"Scheibe: 4B",{"$f":"IF(RIGHT(J118,1)=\"A\",CONCATENATE(LEFT(J118,LEN(J118)-1),\"B\"),J118+1)","v":"4B"},null,null,"Scheibe: 4B",{"$f":"IF(RIGHT(N118,1)=\"A\",CONCATENATE(LEFT(N118,LEN(N118)-1),\"B\"),N118+1)","v":"4B"},null,null,"Scheibe: 8",{"$f":"IF(RIGHT(R118,1)=\"A\",CONCATENATE(LEFT(R118,LEN(R118)-1),\"B\"),R118+1)","v":8},null,null,{"$f":"CONCATENATE($I$115,\" \",V119)","v":"Scheibe: 8"},{"$f":"IF(RIGHT(V118,1)=\"A\",CONCATENATE(LEFT(V118,LEN(V118)-1),\"B\"),V118+1)","v":8},null,null,{"$f":"CONCATENATE($I$115,\" \",Z119)","v":"Scheibe: 6"},{"$f":"IF(RIGHT(Z118,1)=\"A\",CONCATENATE(LEFT(Z118,LEN(Z118)-1),\"B\"),Z118+1)","v":6}]
[null,null,{"$f":"C118+1","v":3},"Scheibe: 5A",{"$f":"IF(RIGHT(E119,1)=\"B\",CONCATENATE(LEFT(E119,LEN(E119)-1)+1,\"A\"),E119+1)","v":"5A"},null,null,{"$f":"H118+1","v":3},"Scheibe: 5A",{"$f":"IF(RIGHT(J119,1)=\"B\",CONCATENATE(LEFT(J119,LEN(J119)-1)+1,\"A\"),J119+1)","v":"5A"},null,{"$f":"L118+1","v":3},"Scheibe: 5A",{"$f":"IF(RIGHT(N119,1)=\"B\",CONCATENATE(LEFT(N119,LEN(N119)-1)+1,\"A\"),N119+1)","v":"5A"},null,{"$f":"P118+1","v":3},"Scheibe: 9",{"$f":"IF(RIGHT(R119,1)=\"B\",CONCATENATE(LEFT(R119,LEN(R119)-1)+1,\"A\"),R119+1)","v":9}]
[null,null,null,"Scheibe: 5B",{"$f":"IF(RIGHT(E120,1)=\"A\",CONCATENATE(LEFT(E120,LEN(E120)-1),\"B\"),E120+1)","v":"5B"},null,null,null,"Scheibe: 5B",{"$f":"IF(RIGHT(J120,1)=\"A\",CONCATENATE(LEFT(J120,LEN(J120)-1),\"B\"),J120+1)","v":"5B"},null,null,"Scheibe: 5B",{"$f":"IF(RIGHT(N120,1)=\"A\",CONCATENATE(LEFT(N120,LEN(N120)-1),\"B\"),N120+1)","v":"5B"},null,null,"Scheibe: 10",{"$f":"IF(RIGHT(R120,1)=\"A\",CONCATENATE(LEFT(R120,LEN(R120)-1),\"B\"),R120+1)","v":10}]
[null,null,{"$f":"C120+1","v":4},"Scheibe: 6A",{"$f":"IF(RIGHT(E121,1)=\"B\",CONCATENATE(LEFT(E121,LEN(E121)-1)+1,\"A\"),E121+1)","v":"6A"},null,null,{"$f":"H120+1","v":4},"Scheibe: 6A",{"$f":"IF(RIGHT(J121,1)=\"B\",CONCATENATE(LEFT(J121,LEN(J121)-1)+1,\"A\"),J121+1)","v":"6A"},null,{"$f":"L120+1","v":4},"Scheibe: 6A",{"$f":"IF(RIGHT(N121,1)=\"B\",CONCATENATE(LEFT(N121,LEN(N121)-1)+1,\"A\"),N121+1)","v":"6A"},null,{"$f":"P120+1","v":4},"Scheibe: 11",{"$f":"IF(RIGHT(R121,1)=\"B\",CONCATENATE(LEFT(R121,LEN(R121)-1)+1,\"A\"),R121+1)","v":11}]
[null,null,null,"Scheibe: 6B",{"$f":"IF(RIGHT(E122,1)=\"A\",CONCATENATE(LEFT(E122,LEN(E122)-1),\"B\"),E122+1)","v":"6B"},null,null,null,"Scheibe: 6B",{"$f":"IF(RIGHT(J122,1)=\"A\",CONCATENATE(LEFT(J122,LEN(J122)-1),\"B\"),J122+1)","v":"6B"},null,null,"Scheibe: 6B",{"$f":"IF(RIGHT(N122,1)=\"A\",CONCATENATE(LEFT(N122,LEN(N122)-1),\"B\"),N122+1)","v":"6B"},null,null,"Scheibe: 12",{"$f":"IF(RIGHT(R122,1)=\"A\",CONCATENATE(LEFT(R122,LEN(R122)-1),\"B\"),R122+1)","v":12}]
[null,null,{"$f":"C122+1","v":5},"Scheibe: 7A",{"$f":"IF(RIGHT(E123,1)=\"B\",CONCATENATE(LEFT(E123,LEN(E123)-1)+1,\"A\"),E123+1)","v":"7A"},null,null,{"$f":"H122+1","v":5},"Scheibe: 7A",{"$f":"IF(RIGHT(J123,1)=\"B\",CONCATENATE(LEFT(J123,LEN(J123)-1)+1,\"A\"),J123+1)","v":"7A"},null,{"$f":"L122+1","v":5},"Scheibe: 7A",{"$f":"IF(RIGHT(N123,1)=\"B\",CONCATENATE(LEFT(N123,LEN(N123)-1)+1,\"A\"),N123+1)","v":"7A"}]
[null,null,null,"Scheibe: 7B",{"$f":"IF(RIGHT(E124,1)=\"A\",CONCATENATE(LEFT(E124,LEN(E124)-1),\"B\"),E124+1)","v":"7B"},null,null,null,"Scheibe: 7B",{"$f":"IF(RIGHT(J124,1)=\"A\",CONCATENATE(LEFT(J124,LEN(J124)-1),\"B\"),J124+1)","v":"7B"},null,null,"Scheibe: 7B",{"$f":"IF(RIGHT(N124,1)=\"A\",CONCATENATE(LEFT(N124,LEN(N124)-1),\"B\"),N124+1)","v":"7B"}]
[null,null,{"$f":"C124+1","v":6},"Scheibe: 8A",{"$f":"IF(RIGHT(E125,1)=\"B\",CONCATENATE(LEFT(E125,LEN(E125)-1)+1,\"A\"),E125+1)","v":"8A"},null,null,{"$f":"H124+1","v":6},"Scheibe: 8A",{"$f":"IF(RIGHT(J125,1)=\"B\",CONCATENATE(LEFT(J125,LEN(J125)-1)+1,\"A\"),J125+1)","v":"8A"},null,{"$f":"L124+1","v":6},"Scheibe: 8A",{"$f":"IF(RIGHT(N125,1)=\"B\",CONCATENATE(LEFT(N125,LEN(N125)-1)+1,\"A\"),N125+1)","v":"8A"}]
[null,null,null,"Scheibe: 8B",{"$f":"IF(RIGHT(E126,1)=\"A\",CONCATENATE(LEFT(E126,LEN(E126)-1),\"B\"),E126+1)","v":"8B"},null,null,null,"Scheibe: 8B",{"$f":"IF(RIGHT(J126,1)=\"A\",CONCATENATE(LEFT(J126,LEN(J126)-1),\"B\"),J126+1)","v":"8B"},null,null,"Scheibe: 8B",{"$f":"IF(RIGHT(N126,1)=\"A\",CONCATENATE(LEFT(N126,LEN(N126)-1),\"B\"),N126+1)","v":"8B"}]
[null,null,{"$f":"C126+1","v":7},"Scheibe: 9A",{"$f":"IF(RIGHT(E127,1)=\"B\",CONCATENATE(LEFT(E127,LEN(E127)-1)+1,\"A\"),E127+1)","v":"9A"},null,null,{"$f":"H126+1","v":7},"Scheibe: 9A",{"$f":"IF(RIGHT(J127,1)=\"B\",CONCATENATE(LEFT(J127,LEN(J127)-1)+1,\"A\"),J127+1)","v":"9A"},null,{"$f":"L126+1","v":7},"Scheibe: 9A",{"$f":"IF(RIGHT(N127,1)=\"B\",CONCATENATE(LEFT(N127,LEN(N127)-1)+1,\"A\"),N127+1)","v":"9A"}]
[null,null,null,"Scheibe: 9B",{"$f":"IF(RIGHT(E128,1)=\"A\",CONCATENATE(LEFT(E128,LEN(E128)-1),\"B\"),E128+1)","v":"9B"},null,null,null,"Scheibe: 9B",{"$f":"IF(RIGHT(J128,1)=\"A\",CONCATENATE(LEFT(J128,LEN(J128)-1),\"B\"),J128+1)","v":"9B"},null,null,"Scheibe: 9B",{"$f":"IF(RIGHT(N128,1)=\"A\",CONCATENATE(LEFT(N128,LEN(N128)-1),\"B\"),N128+1)","v":"9B"}]
[null,null,{"$f":"C128+1","v":8},"Scheibe: 10A",{"$f":"IF(RIGHT(E129,1)=\"B\",CONCATENATE(LEFT(E129,LEN(E129)-1)+1,\"A\"),E129+1)","v":"10A"},null,null,{"$f":"H128+1","v":8},"Scheibe: 10A",{"$f":"IF(RIGHT(J129,1)=\"B\",CONCATENATE(LEFT(J129,LEN(J129)-1)+1,\"A\"),J129+1)","v":"10A"},null,{"$f":"L128+1","v":8},"Scheibe: 10A",{"$f":"IF(RIGHT(N129,1)=\"B\",CONCATENATE(LEFT(N129,LEN(N129)-1)+1,\"A\"),N129+1)","v":"10A"}]
[null,null,null,"Scheibe: 10B",{"$f":"IF(RIGHT(E130,1)=\"A\",CONCATENATE(LEFT(E130,LEN(E130)-1),\"B\"),E130+1)","v":"10B"},null,null,null,"Scheibe: 10B",{"$f":"IF(RIGHT(J130,1)=\"A\",CONCATENATE(LEFT(J130,LEN(J130)-1),\"B\"),J130+1)","v":"10B"},null,null,"Scheibe: 10B",{"$f":"IF(RIGHT(N130,1)=\"A\",CONCATENATE(LEFT(N130,LEN(N130)-1),\"B\"),N130+1)","v":"10B"}]
[null,null,{"$f":"C130+1","v":9},"Scheibe: 11A",{"$f":"IF(RIGHT(E131,1)=\"B\",CONCATENATE(LEFT(E131,LEN(E131)-1)+1,\"A\"),E131+1)","v":"11A"},null,null,{"$f":"H130+1","v":9},"Scheibe: 11A",{"$f":"IF(RIGHT(J131,1)=\"B\",CONCATENATE(LEFT(J131,LEN(J131)-1)+1,\"A\"),J131+1)","v":"11A"}]
[null,null,null,"Scheibe: 11B",{"$f":"IF(RIGHT(E132,1)=\"A\",CONCATENATE(LEFT(E132,LEN(E132)-1),\"B\"),E132+1)","v":"11B"},null,null,null,"Scheibe: 11B",{"$f":"IF(RIGHT(J132,1)=\"A\",CONCATENATE(LEFT(J132,LEN(J132)-1),\"B\"),J132+1)","v":"11B"}]
[null,null,{"$f":"C132+1","v":10},"Scheibe: 12A",{"$f":"IF(RIGHT(E133,1)=\"B\",CONCATENATE(LEFT(E133,LEN(E133)-1)+1,\"A\"),E133+1)","v":"12A"},null,null,{"$f":"H132+1","v":10},"Scheibe: 12A",{"$f":"IF(RIGHT(J133,1)=\"B\",CONCATENATE(LEFT(J133,LEN(J133)-1)+1,\"A\"),J133+1)","v":"12A"}]
[null,null,null,"Scheibe: 12B",{"$f":"IF(RIGHT(E134,1)=\"A\",CONCATENATE(LEFT(E134,LEN(E134)-1),\"B\"),E134+1)","v":"12B"},null,null,null,"Scheibe: 12B",{"$f":"IF(RIGHT(J134,1)=\"A\",CONCATENATE(LEFT(J134,LEN(J134)-1),\"B\"),J134+1)","v":"12B"}]
[null,null,{"$f":"C134+1","v":11},"Scheibe: 13A",{"$f":"IF(RIGHT(E135,1)=\"B\",CONCATENATE(LEFT(E135,LEN(E135)-1)+1,\"A\"),E135+1)","v":"13A"},null,null,{"$f":"H134+1","v":11},"Scheibe: 13A",{"$f":"IF(RIGHT(J135,1)=\"B\",CONCATENATE(LEFT(J135,LEN(J135)-1)+1,\"A\"),J135+1)","v":"13A"}]
[null,null,null,"Scheibe: 13B",{"$f":"IF(RIGHT(E136,1)=\"A\",CONCATENATE(LEFT(E136,LEN(E136)-1),\"B\"),E136+1)","v":"13B"},null,null,null,"Scheibe: 13B",{"$f":"IF(RIGHT(J136,1)=\"A\",CONCATENATE(LEFT(J136,LEN(J136)-1),\"B\"),J136+1)","v":"13B"}]
[null,null,{"$f":"C136+1","v":12},"Scheibe: 14A",{"$f":"IF(RIGHT(E137,1)=\"B\",CONCATENATE(LEFT(E137,LEN(E137)-1)+1,\"A\"),E137+1)","v":"14A"},null,null,{"$f":"H136+1","v":12},"Scheibe: 14A",{"$f":"IF(RIGHT(J137,1)=\"B\",CONCATENATE(LEFT(J137,LEN(J137)-1)+1,\"A\"),J137+1)","v":"14A"}]
[null,null,null,"Scheibe: 14B",{"$f":"IF(RIGHT(E138,1)=\"A\",CONCATENATE(LEFT(E138,LEN(E138)-1),\"B\"),E138+1)","v":"14B"},null,null,null,"Scheibe: 14B",{"$f":"IF(RIGHT(J138,1)=\"A\",CONCATENATE(LEFT(J138,LEN(J138)-1),\"B\"),J138+1)","v":"14B"}]
[null,null,{"$f":"C138+1","v":13},{"$f":"CONCATENATE($I$115,\" \",E140)","v":"Scheibe: 15A"},{"$f":"IF(RIGHT(E139,1)=\"B\",CONCATENATE(LEFT(E139,LEN(E139)-1)+1,\"A\"),E139+1)","v":"15A"},null,null,{"$f":"H138+1","v":13},"Scheibe: 15A",{"$f":"IF(RIGHT(J139,1)=\"B\",CONCATENATE(LEFT(J139,LEN(J139)-1)+1,\"A\"),J139+1)","v":"15A"}]
[null,null,null,"Scheibe: 15B",{"$f":"IF(RIGHT(E140,1)=\"A\",CONCATENATE(LEFT(E140,LEN(E140)-1),\"B\"),E140+1)","v":"15B"},null,null,null,"Scheibe: 15B",{"$f":"IF(RIGHT(J140,1)=\"A\",CONCATENATE(LEFT(J140,LEN(J140)-1),\"B\"),J140+1)","v":"15B"}]
[null,null,{"$f":"C140+1","v":14},"Scheibe: 16A",{"$f":"IF(RIGHT(E141,1)=\"B\",CONCATENATE(LEFT(E141,LEN(E141)-1)+1,\"A\"),E141+1)","v":"16A"},null,null,{"$f":"H140+1","v":14},"Scheibe: 16A",{"$f":"IF(RIGHT(J141,1)=\"B\",CONCATENATE(LEFT(J141,LEN(J141)-1)+1,\"A\"),J141+1)","v":"16A"}]
[null,null,null,"Scheibe: 16B",{"$f":"IF(RIGHT(E142,1)=\"A\",CONCATENATE(LEFT(E142,LEN(E142)-1),\"B\"),E142+1)","v":"16B"},null,null,null,"Scheibe: 16B",{"$f":"IF(RIGHT(J142,1)=\"A\",CONCATENATE(LEFT(J142,LEN(J142)-1),\"B\"),J142+1)","v":"16B"}]
[null,null,{"$f":"C142+1","v":15},"Scheibe: 17A",{"$f":"IF(RIGHT(E143,1)=\"B\",CONCATENATE(LEFT(E143,LEN(E143)-1)+1,\"A\"),E143+1)","v":"17A"},null,null,{"$f":"H142+1","v":15},"Scheibe: 17A",{"$f":"IF(RIGHT(J143,1)=\"B\",CONCATENATE(LEFT(J143,LEN(J143)-1)+1,\"A\"),J143+1)","v":"17A"}]
[null,null,null,"Scheibe: 17B",{"$f":"IF(RIGHT(E144,1)=\"A\",CONCATENATE(LEFT(E144,LEN(E144)-1),\"B\"),E144+1)","v":"17B"},null,null,null,"Scheibe: 17B",{"$f":"IF(RIGHT(J144,1)=\"A\",CONCATENATE(LEFT(J144,LEN(J144)-1),\"B\"),J144+1)","v":"17B"}]
[null,null,{"$f":"C144+1","v":16},"Scheibe: 18A",{"$f":"IF(RIGHT(E145,1)=\"B\",CONCATENATE(LEFT(E145,LEN(E145)-1)+1,\"A\"),E145+1)","v":"18A"},null,null,{"$f":"H144+1","v":16},"Scheibe: 18A",{"$f":"IF(RIGHT(J145,1)=\"B\",CONCATENATE(LEFT(J145,LEN(J145)-1)+1,\"A\"),J145+1)","v":"18A"}]
[null,null,null,"Scheibe: 18B",{"$f":"IF(RIGHT(E146,1)=\"A\",CONCATENATE(LEFT(E146,LEN(E146)-1),\"B\"),E146+1)","v":"18B"},null,null,null,"Scheibe: 18B",{"$f":"IF(RIGHT(J146,1)=\"A\",CONCATENATE(LEFT(J146,LEN(J146)-1),\"B\"),J146+1)","v":"18B"}]
[null,null,{"$f":"C146+1","v":17},"Scheibe: 19A",{"$f":"IF(RIGHT(E147,1)=\"B\",CONCATENATE(LEFT(E147,LEN(E147)-1)+1,\"A\"),E147+1)","v":"19A"}]
[null,null,null,"Scheibe: 19B",{"$f":"IF(RIGHT(E148,1)=\"A\",CONCATENATE(LEFT(E148,LEN(E148)-1),\"B\"),E148+1)","v":"19B"}]
[null,null,{"$f":"C148+1","v":18},"Scheibe: 20A",{"$f":"IF(RIGHT(E149,1)=\"B\",CONCATENATE(LEFT(E149,LEN(E149)-1)+1,\"A\"),E149+1)","v":"20A"}]
[null,null,null,"Scheibe: 20B",{"$f":"IF(RIGHT(E150,1)=\"A\",CONCATENATE(LEFT(E150,LEN(E150)-1),\"B\"),E150+1)","v":"20B"}]
[null,null,{"$f":"C150+1","v":19},{"$f":"CONCATENATE($I$115,\" \",E152)","v":"Scheibe: 21A"},{"$f":"IF(RIGHT(E151,1)=\"B\",CONCATENATE(LEFT(E151,LEN(E151)-1)+1,\"A\"),E151+1)","v":"21A"}]
[null,null,null,"Scheibe: 21B",{"$f":"IF(RIGHT(E152,1)=\"A\",CONCATENATE(LEFT(E152,LEN(E152)-1),\"B\"),E152+1)","v":"21B"}]
[null,null,{"$f":"C152+1","v":20},"Scheibe: 22A",{"$f":"IF(RIGHT(E153,1)=\"B\",CONCATENATE(LEFT(E153,LEN(E153)-1)+1,\"A\"),E153+1)","v":"22A"}]
[null,null,null,"Scheibe: 22B",{"$f":"IF(RIGHT(E154,1)=\"A\",CONCATENATE(LEFT(E154,LEN(E154)-1),\"B\"),E154+1)","v":"22B"}]
[null,null,{"$f":"C154+1","v":21},"Scheibe: 23A",{"$f":"IF(RIGHT(E155,1)=\"B\",CONCATENATE(LEFT(E155,LEN(E155)-1)+1,\"A\"),E155+1)","v":"23A"}]
[null,null,null,"Scheibe: 23B",{"$f":"IF(RIGHT(E156,1)=\"A\",CONCATENATE(LEFT(E156,LEN(E156)-1),\"B\"),E156+1)","v":"23B"}]
[null,null,{"$f":"C156+1","v":22},"Scheibe: 24A",{"$f":"IF(RIGHT(E157,1)=\"B\",CONCATENATE(LEFT(E157,LEN(E157)-1)+1,\"A\"),E157+1)","v":"24A"}]
[null,null,null,"Scheibe: 24B",{"$f":"IF(RIGHT(E158,1)=\"A\",CONCATENATE(LEFT(E158,LEN(E158)-1),\"B\"),E158+1)","v":"24B"}]
[null,null,{"$f":"C158+1","v":23},"Scheibe: 25A",{"$f":"IF(RIGHT(E159,1)=\"B\",CONCATENATE(LEFT(E159,LEN(E159)-1)+1,\"A\"),E159+1)","v":"25A"}]
[null,null,null,"Scheibe: 25B",{"$f":"IF(RIGHT(E160,1)=\"A\",CONCATENATE(LEFT(E160,LEN(E160)-1),\"B\"),E160+1)","v":"25B"}]
[null,null,{"$f":"C160+1","v":24},"Scheibe: 26A",{"$f":"IF(RIGHT(E161,1)=\"B\",CONCATENATE(LEFT(E161,LEN(E161)-1)+1,\"A\"),E161+1)","v":"26A"}]
[null,null,null,"Scheibe: 26B",{"$f":"IF(RIGHT(E162,1)=\"A\",CONCATENATE(LEFT(E162,LEN(E162)-1),\"B\"),E162+1)","v":"26B"}]

{"sheet":"R52","index":10,"n_rows":1871,"n_cols":25,"rows_kept":1871,"cut":false,"hidden":true,"merged":[[1100,6,1100,7],[1100,15,1100,16],[1100,24,1100,25],[1104,0,1104,7],[1104,9,1104,16],[1104,18,1104,25],[1106,0,1106,7],[1106,9,1106,16],[1106,18,1106,25],[1110,5,1110,6],[1110,14,1110,15],[1110,23,1110,24],[1111,5,1111,6],[1111,14,1111,15],[1111,23,1111,24],[1083,0,1083,7],[1084,0,1084,1],[1085,0,1085,7],[1086,9,1086,16],[1086,18,1086,25],[1088,9,1088,16],[1088,18,1088,25],[1089,0,1089,7],[1091,0,1091,7],[1092,14,1092,15],[1092,23,1092,24],[1093,0,1093,7],[1093,14,1093,15],[1093,23,1093,24],[1094,0,1094,1],[1099,0,1099,3],[1099,4,1099,7],[1099,9,1099,12],[1099,13,1099,16],[1099,18,1099,21],[1099,22,1099,25],[1068,0,1068,7],[1068,9,1068,16],[1068,18,1068,25],[1070,0,1070,7],[1070,9,1070,16],[1070,18,1070,25],[1074,5,1074,6],[1074,14,1074,15],[1074,23,1074,24],[1075,5,1075,6],[1075,14,1075,15],[1075,23,1075,24],[1081,9,1081,12],[1081,13,1081,16],[1081,18,1081,21],[1081,22,1081,25],[1082,15,1082,16],[1082,24,1082,25],[1052,9,1052,16],[1052,18,1052,25],[1053,0,1053,7],[1055,0,1055,7],[1056,14,1056,15],[1056,23,1056,24],[1057,0,1057,7],[1057,14,1057,15],[1057,23,1057,24],[1058,0,1058,1],[1063,0,1063,3],[1063,4,1063,7],[1063,9,1063,12],[1063,13,1063,16],[1063,18,1063,21],[1063,22,1063,25],[1064,6,1064,7],[1064,15,1064,16],[1064,24,1064,25],[1038,5,1038,6],[1038,14,1038,15],[1038,23,1038,24],[1039,5,1039,6],[1039,14,1039,15],[1039,23,1039,24],[1045,9,1045,12],[1045,13,1045,16],[1045,18,1045,21],[1045,22,1045,25],[1046,15,1046,16],[1046,24,1046,25],[1047,0,1047,7],[1048,0,1048,1],[1049,0,1049,7],[1050,9,1050,16],[1050,18,1050,25],[1021,0,1021,7],[1021,14,1021,15],[1021,23,1021,24],[1022,0,1022,1],[1027,0,1027,3],[1027,4,1027,7],[1027,9,1027,12],[1027,13,1027,16],[1027,18,1027,21],[1027,22,1027,25],[1028,6,1028,7],[1028,15,1028,16],[1028,24,1028,25],[1032,0,1032,7],[1032,9,1032,16],[1032,18,1032,25],[1034,0,1034,7],[1034,9,1034,16],[1034,18,1034,25],[1009,9,1009,12],[1009,13,1009,16],[1009,18,1009,21],[1009,22,1009,25],[1010,15,1010,16],[1010,24,1010,25],[1011,0,1011,7],[1012,0,1012,1],[1013,0,1013,7],[1014,9,1014,16],[1014,18,1014,25],[1016,9,1016,16],[1016,18,1016,25],[1017,0,1017,7],[1019,0,1019,7],[1020,14,1020,15],[1020,23,1020,24],[9,0,9,7],[11,0,11,7],[12,14,12,15],[12,23,12,24],[13,0,13,7],[13,14,13,15],[13,23,13,24],[3,0,3,7],[4,0,4,1],[5,0,5,7],[6,9,6,16],[6,18,6,25],[8,9,8,16],[8,18,8,25],[1,9,1,12],[1,13,1,16],[1,18,1,21],[1,22,1,25],[2,15,2,16],[2,24,2,25],[26,0,26,7],[26,9,26,16],[26,18,26,25],[30,5,30,6],[30,14,30,15],[30,23,30,24],[20,6,20,7],[20,15,20,16],[20,24,20,25],[24,0,24,7],[24,9,24,16],[24,18,24,25],[19,0,19,3],[19,4,19,7],[19,9,19,12],[19,13,19,16],[19,18,19,21],[19,22,19,25],[44,9,44,16],[44,18,44,25],[45,0,45,7],[47,0,47,7],[48,14,48,15],[48,23,48,24],[38,15,38,16],[38,24,38,25],[39,0,39,7],[40,0,40,1],[41,0,41,7],[42,9,42,16],[42,18,42,25],[31,5,31,6],[31,14,31,15],[31,23,31,24],[37,9,37,12],[37,13,37,16],[37,18,37,21],[37,22,37,25],[62,0,62,7],[62,9,62,16],[62,18,62,25],[66,5,66,6],[66,14,66,15],[66,23,66,24],[56,6,56,7],[56,15,56,16],[56,24,56,25],[60,0,60,7],[60,9,60,16],[60,18,60,25],[49,0,49,7],[49,14,49,15],[49,23,49,24],[50,0,50,1],[55,0,55,3],[55,4,55,7],[55,9,55,12],[55,13,55,16],[55,18,55,21],[55,22,55,25],[80,9,80,16],[80,18,80,25],[81,0,81,7],[83,0,83,7],[84,14,84,15],[84,23,84,24],[74,15,74,16],[74,24,74,25],[75,0,75,7],[76,0,76,1],[77,0,77,7],[78,9,78,16],[78,18,78,25],[67,5,67,6],[67,14,67,15],[67,23,67,24],[73,9,73,12],[73,13,73,16],[73,18,73,21],[73,22,73,25],[98,0,98,7],[98,9,98,16],[98,18,98,25],[102,5,102,6],[102,14,102,15],[102,23,102,24],[92,6,92,7],[92,15,92,16],[92,24,92,25],[96,0,96,7],[96,9,96,16],[96,18,96,25],[85,0,85,7],[85,14,85,15],[85,23,85,24],[86,0,86,1],[91,0,91,3],[91,4,91,7],[91,9,91,12],[91,13,91,16],[91,18,91,21],[91,22,91,25],[116,9,116,16],[116,18,116,25],[117,0,117,7],[119,0,119,7],[120,14,120,15],[120,23,120,24],[110,15,110,16],[110,24,110,25],[111,0,111,7],[112,0,112,1],[113,0,113,7],[114,9,114,16],[114,18,114,25],[103,5,103,6],[103,14,103,15],[103,23,103,24],[109,9,109,12],[109,13,109,16],[109,18,109,21],[109,22,109,25],[134,0,134,7],[134,9,134,16],[134,18,134,25],[138,5,138,6],[138,14,138,15],[138,23,138,24],[128,6,128,7],[128,15,128,16],[128,24,128,25],[132,0,132,7],[132,9,132,16],[132,18,132,25],[121,0,121,7],[121,14,121,15],[121,23,121,24],[122,0,122,1],[127,0,127,3],[127,4,127,7],[127,9,127,12],[127,13,127,16],[127,18,127,21],[127,22,127,25],[152,9,152,16],[152,18,152,25],[153,0,153,7],[155,0,155,7],[156,14,156,15],[156,23,156,24],[146,15,146,16],[146,24,146,25],[147,0,147,7],[148,0,148,1],[149,0,149,7],[150,9,150,16],[150,18,150,25],[139,5,139,6],[139,14,139,15],[139,23,139,24],[145,9,145,12],[145,13,145,16],[145,18,145,21],[145,22,145,25],[170,0,170,7],[170,9,170,16],[170,18,170,25],[174,5,174,6],[174,14,174,15],[174,23,174,24],[164,6,164,7],[164,15,164,16],[164,24,164,25],[168,0,168,7],[168,9,168,16],[168,18,168,25],[157,0,157,7],[157,14,157,15],[157,23,157,24],[158,0,158,1],[163,0,163,3],[163,4,163,7],[163,9,163,12],[163,13,163,16],[163,18,163,21],[163,22,163,25],[188,9,188,16],[188,18,188,25],[189,0,189,7],[191,0,191,7],[192,14,192,15],[192,23,192,24],[182,15,182,16],[182,24,182,25],[183,0,183,7],[184,0,184,1],[185,0,185,7],[186,9,186,16],[186,18,186,25],[175,5,175,6],[175,14,175,15],[175,23,175,24],[181,9,181,12],[181,13,181,16],[181,18,181,21],[181,22,181,25],[206,0,206,7],[206,9,206,16],[206,18,206,25],[210,5,210,6],[210,14,210,15],[210,23,210,24],[200,6,200,7],[200,15,200,16],[200,24,200,25],[204,0,204,7],[204,9,204,16],[204,18,204,25],[193,0,193,7],[193,14,193,15],[193,23,193,24],[194,0,194,1],[199,0,199,3],[199,4,199,7],[199,9,199,12],[199,13,199,16],[199,18,199,21],[199,22,199,25],[224,9,224,16],[224,18,224,25],[225,0,225,7],[227,0,227,7],[228,14,228,15],[228,23,228,24],[218,15,218,16],[218,24,218,25],[219,0,219,7],[220,0,220,1],[221,0,221,7],[222,9,222,16],[222,18,222,25],[211,5,211,6],[211,14,211,15],[211,23,211,24],[217,9,217,12],[217,13,217,16],[217,18,217,21],[217,22,217,25],[242,0,242,7],[242,9,242,16],[242,18,242,25],[246,5,246,6],[246,14,246,15],[246,23,246,24],[236,6,236,7],[236,15,236,16],[236,24,236,25],[240,0,240,7],[240,9,240,16],[240,18,240,25],[229,0,229,7],[229,14,229,15],[229,23,229,24],[230,0,230,1],[235,0,235,3],[235,4,235,7],[235,9,235,12],[235,13,235,16],[235,18,235,21],[235,22,235,25],[260,9,260,16],[260,18,260,25],[261,0,261,7],[263,0,263,7],[264,14,264,15],[264,23,264,24],[254,15,254,16],[254,24,254,25],[255,0,255,7],[256,0,256,1],[257,0,257,7],[258,9,258,16],[258,18,258,25],[247,5,247,6],[247,14,247,15],[247,23,247,24],[253,9,253,12],[253,13,253,16],[253,18,253,21],[253,22,253,25],[278,0,278,7],[278,9,278,16],[278,18,278,25],[282,5,282,6],[282,14,282,15],[282,23,282,24],[272,6,272,7],[272,15,272,16],[272,24,272,25],[276,0,276,7],[276,9,276,16],[276,18,276,25],[265,0,265,7],[265,14,265,15],[265,23,265,24],[271,0,271,3],[271,4,271,7],[271,9,271,12],[271,13,271,16],[271,18,271,21],[271,22,271,25],[266,0,266,1],[296,9,296,16],[296,18,296,25],[297,0,297,7],[299,0,299,7],[300,14,300,15],[300,23,300,24],[290,15,290,16],[290,24,290,25],[291,0,291,7],[292,0,292,1],[293,0,293,7],[294,9,294,16],[294,18,294,25],[283,5,283,6],[283,14,283,15],[283,23,283,24],[289,9,289,12],[289,13,289,16],[289,18,289,21],[289,22,289,25],[314,0,314,7],[314,9,314,16],[314,18,314,25],[318,5,318,6],[318,14,318,15],[318,23,318,24],[308,6,308,7],[308,15,308,16],[308,24,308,25],[312,0,312,7],[312,9,312,16],[312,18,312,25],[301,0,301,7],[301,14,301,15],[301,23,301,24],[302,0,302,1],[307,0,307,3],[307,4,307,7],[307,9,307,12],[307,13,307,16],[307,18,307,21],[307,22,307,25],[332,9,332,16],[332,18,332,25],[333,0,333,7],[335,0,335,7],[336,14,336,15],[336,23,336,24],[326,15,326,16],[326,24,326,25],[327,0,327,7],[328,0,328,1],[329,0,329,7],[330,9,330,16],[330,18,330,25],[319,5,319,6],[319,14,319,15],[319,23,319,24],[325,9,325,12],[325,13,325,16],[325,18,325,21],[325,22,325,25],[350,0,350,7],[350,9,350,16],[350,18,350,25],[354,5,354,6],[354,14,354,15],[354,23,354,24],[344,6,344,7],[344,15,344,16],[344,24,344,25],[348,0,348,7],[348,9,348,16],[348,18,348,25],[337,0,337,7],[337,14,337,15],[337,23,337,24],[338,0,338,1],[343,0,343,3],[343,4,343,7],[343,9,343,12],[343,13,343,16],[343,18,343,21],[343,22,343,25],[368,9,368,16],[368,18,368,25],[369,0,369,7],[371,0,371,7],[372,14,372,15],[372,23,372,24],[362,15,362,16],[362,24,362,25],[363,0,363,7],[364,0,364,1],[365,0,365,7],[366,9,366,16],[366,18,366,25],[355,5,355,6],[355,14,355,15],[355,23,355,24],[361,9,361,12],[361,13,361,16],[361,18,361,21],[361,22,361,25],[386,0,386,7],[386,9,386,16],[386,18,386,25],[390,5,390,6],[390,14,390,15],[390,23,390,24],[380,6,380,7],[380,15,380,16],[380,24,380,25],[384,0,384,7],[384,9,384,16],[384,18,384,25],[373,0,373,7],[373,14,373,15],[373,23,373,24],[374,0,374,1],[379,0,379,3],[379,4,379,7],[379,9,379,12],[379,13,379,16],[379,18,379,21],[379,22,379,25],[404,9,404,16],[404,18,404,25],[405,0,405,7],[407,0,407,7],[408,14,408,15],[408,23,408,24],[398,15,398,16],[398,24,398,25],[399,0,399,7],[400,0,400,1],[401,0,401,7],[402,9,402,16],[402,18,402,25],[391,5,391,6],[391,14,391,15],[391,23,391,24],[397,9,397,12],[397,13,397,16],[397,18,397,21],[397,22,397,25],[422,0,422,7],[422,9,422,16],[422,18,422,25],[426,5,426,6],[426,14,426,15],[426,23,426,24],[416,6,416,7],[416,15,416,16],[416,24,416,25],[420,0,420,7],[420,9,420,16],[420,18,420,25],[409,0,409,7],[409,14,409,15],[409,23,409,24],[410,0,410,1],[415,0,415,3],[415,4,415,7],[415,9,415,12],[415,13,415,16],[415,18,415,21],[415,22,415,25],[440,9,440,16],[440,18,440,25],[441,0,441,7],[443,0,443,7],[444,14,444,15],[444,23,444,24],[434,15,434,16],[434,24,434,25],[435,0,435,7],[436,0,436,1],[437,0,437,7],[438,9,438,16],[438,18,438,25],[427,5,427,6],[427,14,427,15],[427,23,427,24],[433,9,433,12],[433,13,433,16],[433,18,433,21],[433,22,433,25],[458,0,458,7],[458,9,458,16],[458,18,458,25],[462,5,462,6],[462,14,462,15],[462,23,462,24],[452,6,452,7],[452,15,452,16],[452,24,452,25],[456,0,456,7],[456,9,456,16],[456,18,456,25],[445,0,445,7],[445,14,445,15],[445,23,445,24],[446,0,446,1],[451,0,451,3],[451,4,451,7],[451,9,451,12],[451,13,451,16],[451,18,451,21],[451,22,451,25],[476,9,476,16],[476,18,476,25],[477,0,477,7],[479,0,479,7],[480,14,480,15],[480,23,480,24],[470,15,470,16],[470,24,470,25],[471,0,471,7],[472,0,472,1],[473,0,473,7],[474,9,474,16],[474,18,474,25],[463,5,463,6],[463,14,463,15],[463,23,463,24],[469,9,469,12],[469,13,469,16],[469,18,469,21],[469,22,469,25],[494,0,494,7],[494,9,494,16],[494,18,494,25],[498,5,498,6],[498,14,498,15],[498,23,498,24],[488,6,488,7],[488,15,488,16],[488,24,488,25],[492,0,492,7],[492,9,492,16],[492,18,492,25],[481,0,481,7],[481,14,481,15],[481,23,481,24],[482,0,482,1],[487,0,487,3],[487,4,487,7],[487,9,487,12],[487,13,487,16],[487,18,487,21],[487,22,487,25],[512,9,512,16],[512,18,512,25],[513,0,513,7],[515,0,515,7],[516,14,516,15],[516,23,516,24],[506,15,506,16],[506,24,506,25],[507,0,507,7],[508,0,508,1],[509,0,509,7],[510,9,510,16],[510,18,510,25],[499,5,499,6],[499,14,499,15],[499,23,499,24],[505,9,505,12],[505,13,505,16],[505,18,505,21],[505,22,505,25],[530,0,530,7],[530,9,530,16],[530,18,530,25],[534,5,534,6],[534,14,534,15],[534,23,534,24],[524,6,524,7],[524,15,524,16],[524,24,524,25],[528,0,528,7],[528,9,528,16],[528,18,528,25],[517,0,517,7],[517,14,517,15],[517,23,517,24],[523,0,523,3],[523,4,523,7],[523,9,523,12],[523,13,523,16],[523,18,523,21],[523,22,523,25],[518,0,518,1],[548,9,548,16],[548,18,548,25],[549,0,549,7],[551,0,551,7],[552,14,552,15],[552,23,552,24],[542,15,542,16],[542,24,542,25],[543,0,543,7],[544,0,544,1],[545,0,545,7],[546,9,546,16],[546,18,546,25],[535,5,535,6],[535,14,535,15],[535,23,535,24],[541,9,541,12],[541,13,541,16],[541,18,541,21],[541,22,541,25],[566,0,566,7],[566,9,566,16],[566,18,566,25],[570,5,570,6],[570,14,570,15],[570,23,570,24],[560,6,560,7],[560,15,560,16],[560,24,560,25],[564,0,564,7],[564,9,564,16],[564,18,564,25],[553,0,553,7],[553,14,553,15],[553,23,553,24],[554,0,554,1],[559,0,559,3],[559,4,559,7],[559,9,559,12],[559,13,559,16],[559,18,559,21],[559,22,559,25],[584,9,584,16],[584,18,584,25],[585,0,585,7],[587,0,587,7],[588,14,588,15],[588,23,588,24],[578,15,578,16],[578,24,578,25],[579,0,579,7],[580,0,580,1],[581,0,581,7],[582,9,582,16],[582,18,582,25],[571,5,571,6],[571,14,571,15],[571,23,571,24],[577,9,577,12],[577,13,577,16],[577,18,577,21],[577,22,577,25],[602,0,602,7],[602,9,602,16],[602,18,602,25],[606,5,606,6],[606,14,606,15],[606,23,606,24],[596,6,596,7],[596,15,596,16],[596,24,596,25],[600,0,600,7],[600,9,600,16],[600,18,600,25],[589,0,589,7],[589,14,589,15],[589,23,589,24],[590,0,590,1],[595,0,595,3],[595,4,595,7],[595,9,595,12],[595,13,595,16],[595,18,595,21],[595,22,595,25],[620,9,620,16],[620,18,620,25],[621,0,621,7],[623,0,623,7],[624,14,624,15],[624,23,624,24],[614,15,614,16],[614,24,614,25],[615,0,615,7],[616,0,616,1],[617,0,617,7],[618,9,618,16],[618,18,618,25],[607,5,607,6],[607,14,607,15],[607,23,607,24],[613,9,613,12],[613,13,613,16],[613,18,613,21],[613,22,613,25],[638,0,638,7],[638,9,638,16],[638,18,638,25],[642,5,642,6],[642,14,642,15],[642,23,642,24],[632,6,632,7],[632,15,632,16],[632,24,632,25],[636,0,636,7],[636,9,636,16],[636,18,636,25],[625,0,625,7],[625,14,625,15],[625,23,625,24],[626,0,626,1],[631,0,631,3],[631,4,631,7],[631,9,631,12],[631,13,631,16],[631,18,631,21],[631,22,631,25],[656,9,656,16],[656,18,656,25],[657,0,657,7],[659,0,659,7],[660,14,660,15],[660,23,660,24],[650,15,650,16],[650,24,650,25],[651,0,651,7],[652,0,652,1],[653,0,653,7],[654,9,654,16],[654,18,654,25],[643,5,643,6],[643,14,643,15],[643,23,643,24],[649,9,649,12],[649,13,649,16],[649,18,649,21],[649,22,649,25],[674,0,674,7],[674,9,674,16],[674,18,674,25],[678,5,678,6],[678,14,678,15],[678,23,678,24],[668,6,668,7],[668,15,668,16],[668,24,668,25],[672,0,672,7],[672,9,672,16],[672,18,672,25],[661,0,661,7],[661,14,661,15],[661,23,661,24],[662,0,662,1],[667,0,667,3],[667,4,667,7],[667,9,667,12],[667,13,667,16],[667,18,667,21],[667,22,667,25],[692,9,692,16],[692,18,692,25],[693,0,693,7],[695,0,695,7],[696,14,696,15],[696,23,696,24],[686,15,686,16],[686,24,686,25],[687,0,687,7],[688,0,688,1],[689,0,689,7],[690,9,690,16],[690,18,690,25],[679,5,679,6],[679,14,679,15],[679,23,679,24],[685,9,685,12],[685,13,685,16],[685,18,685,21],[685,22,685,25],[710,0,710,7],[710,9,710,16],[710,18,710,25],[714,5,714,6],[714,14,714,15],[714,23,714,24],[704,6,704,7],[704,15,704,16],[704,24,704,25],[708,0,708,7],[708,9,708,16],[708,18,708,25],[697,0,697,7],[697,14,697,15],[697,23,697,24],[698,0,698,1],[703,0,703,3],[703,4,703,7],[703,9,703,12],[703,13,703,16],[703,18,703,21],[703,22,703,25],[728,9,728,16],[728,18,728,25],[729,0,729,7],[731,0,731,7],[732,14,732,15],[732,23,732,24],[722,15,722,16],[722,24,722,25],[723,0,723,7],[724,0,724,1],[725,0,725,7],[726,9,726,16],[726,18,726,25],[715,5,715,6],[715,14,715,15],[715,23,715,24],[721,9,721,12],[721,13,721,16],[721,18,721,21],[721,22,721,25],[746,0,746,7],[746,9,746,16],[746,18,746,25],[750,5,750,6],[750,14,750,15],[750,23,750,24],[740,6,740,7],[740,15,740,16],[740,24,740,25],[744,0,744,7],[744,9,744,16],[744,18,744,25],[733,0,733,7],[733,14,733,15],[733,23,733,24],[734,0,734,1],[739,0,739,3],[739,4,739,7]],"merged_total":2183,"flags":["merged_cut"]}
[]
[null,null,null,null,null,null,null,null,null,"1/24 Elimination",null,null,null,"Freilos",null,null,null,null,"1/12 Elimination",null,null,null,"Freilos"]
[null,null,null,null,null,null,null,null,null,null,1,2,3,"Summe","Punkte","Ges.",null,null,null,1,2,3,"Summe","Punkte","Ges."]
[{"$f":"Select!$C$12","v":"Demoturnier"},null,null,null,null,null,null,null,null,"Satz 1",null,null,null,null,null,null,null,null,"Satz 1"]
["Veranstaltung",null,null,null,null,null,null,null,null,"Satz 2",null,null,null,null,null,null,null,null,"Satz 2"]
[{"$f":"Select!$C$13","v":"1. April 2019"},null,null,null,null,null,null,null,null,"Satz 3",null,null,null,null,null,null,null,null,"Satz 3"]
["Datum",null,null,null,null,null,null,null,null,"wenn erforderlich",null,null,null,null,null,null,null,null,"wenn erforderlich"]
[null,null,null,null,null,null,null,null,null,"Satz 4",null,null,null,null,null,null,null,null,"Satz 4"]
[null,null,null,null,null,null,null,null,null,"wenn erforderlich",null,null,null,null,null,null,null,null,"wenn erforderlich"]
[{"$f":"'R52_Baum'!$D$3","v":"Url Günter"},null,null,null,null,null,null,null,null,"Satz 5",null,null,null,null,null,null,null,null,"Satz 5"]
["Name",null,null,null,null,null,null,null,null,"wenn erforderlich",null,null,null,null,null,null,null,null,"wenn erforderlich"]
[{"$f":"'R52_Baum'!$F$3","v":"BSC-Wolfspfeil Raab-Holzer"},null,null,null,null,null,null,null,null,"Stechen",null,null,null,null,null,null,null,null,"Stechen"]
["Verein",null,null,null,null,null,null,null,null,null,null,null,null,null,"gewonnen",null,null,null,null,null,null,null,null,"gewonnen"]
[{"$f":"Select!$C$18","v":"Recurve Herren"},null,null,null,null,null,null,null,null,"Schütze:",null,null,null,null,"verloren",null,null,null,"Schütze:",null,null,null,null,"verloren"]
["Bogenklasse"]
[null,null,null,null,null,null,null,null,null,"Gegner:",null,"Name:",null,null,null,null,null,null,"Gegner:",null,"Name:"]
[null,null,null,null,null,null,null,null,null,null,null,"Unterschrift:",null,null,null,null,null,null,null,null,"Unterschrift:"]
[]
[]
["1/8 Elimination",null,null,null,{"$f":"'R52_Baum'!$M$116","v":"Scheibe: 3A"},null,null,null,null,"1/4 Finale",null,null,null,{"$f":"'R52_Baum'!$Q$116","v":"Scheibe: 5"},null,null,null,null,"1/2 Finale",null,null,null,{"$f":"'R52_Baum'!$U$116","v":"Scheibe: 5"}]
[null,1,2,3,"Summe","Punkte","Ges.",null,null,null,1,2,3,"Summe","Punkte","Ges.",null,null,null,1,2,3,"Summe","Punkte","Ges."]
["Satz 1",null,null,null,null,null,null,null,null,"Satz 1",null,null,null,null,null,null,null,null,"Satz 1"]
["Satz 2",null,null,null,null,null,null,null,null,"Satz 2",null,null,null,null,null,null,null,null,"Satz 2"]
["Satz 3",null,null,null,null,null,null,null,null,"Satz 3",null,null,null,null,null,null,null,null,"Satz 3"]
["wenn erforderlich",null,null,null,null,null,null,null,null,"wenn erforderlich",null,null,null,null,null,null,null,null,"wenn erforderlich"]
["Satz 4",null,null,null,null,null,null,null,null,"Satz 4",null,null,null,null,null,null,null,null,"Satz 4"]
["wenn erforderlich",null,null,null,null,null,null,null,null,"wenn erforderlich",null,null,null,null,null,null,null,null,"wenn erforderlich"]
["Satz 5",null,null,null,null,null,null,null,null,"Satz 5",null,null,null,null,null,null,null,null,"Satz 5"]
["wenn erforderlich",null,null,null,null,null,null,null,null,"wenn erforderlich",null,null,null,null,null,null,null,null,"wenn erforderlich"]
["Stechen",null,null,null,null,null,null,null,null,"Stechen",null,null,null,null,null,null,null,null,"Stechen"]
[null,null,null,null,null,"gewonnen",null,null,null,null,null,null,null,null,"gewonnen",null,null,null,null,null,null,null,null,"gewonnen"]
["Schütze:",null,null,null,null,"verloren",null,null,null,"Schütze:",null,null,null,null,"verloren",null,null,null,"Schütze:",null,null,null,null,"verloren"]
[]
["Gegner:",null,"Name:",null,null,null,null,null,null,"Gegner:",null,"Name:",null,null,null,null,null,null,"Gegner:",null,"Name:"]
[null,null,"Unterschrift:",null,null,null,null,null,null,null,null,"Unterschrift:",null,null,null,null,null,null,null,null,"Unterschrift:"]
[]
[]
[null,null,null,null,null,null,null,null,null,"1/24 Elimination",null,null,null,{"$f":"'R52_Baum'!$D$116","v":"Scheibe: 3A"},null,null,null,null,"1/12 Elimination",null,null,null,{"$f":"'R52_Baum'!$I$116","v":"Scheibe: 3A"}]
[null,null,null,null,null,null,null,null,null,null,1,2,3,"Summe","Punkte","Ges.",null,null,null,1,2,3,"Summe","Punkte","Ges."]
[{"$f":"Select!$C$12","v":"Demoturnier"},null,null,null,null,null,null,null,null,"Satz 1",null,null,null,null,null,null,null,null,"Satz 1"]
["Veranstaltung",null,null,null,null,null,null,null,null,"Satz 2",null,null,null,null,null,null,null,null,"Satz 2"]
[{"$f":"Select!$C$13","v":"1. April 2019"},null,null,null,null,null,null,null,null,"Satz 3",null,null,null,null,null,null,null,null,"Satz 3"]
["Datum",null,null,null,null,null,null,null,null,"wenn erforderlich",null,null,null,null,null,null,null,null,"wenn erforderlich"]
[null,null,null,null,null,null,null,null,null,"Satz 4",null,null,null,null,null,null,null,null,"Satz 4"]
[null,null,null,null,null,null,null,null,null,"wenn erforderlich",null,null,null,null,null,null,null,null,"wenn erforderlich"]
[{"$f":"'R52_Baum'!$D$6","v":"Schweiger Peter"},null,null,null,null,null,null,null,null,"Satz 5",null,null,null,null,null,null,null,null,"Satz 5"]
["Name",null,null,null,null,null,null,null,null,"wenn erforderlich",null,null,null,null,null,null,null,null,"wenn erforderlich"]
[{"$f":"'R52_Baum'!$F$6","v":"BSV-Blumental"},null,null,null,null,null,null,null,null,"Stechen",null,null,null,null,null,null,null,null,"Stechen"]
["Verein",null,null,null,null,null,null,null,null,null,null,null,null,null,"gewonnen",null,null,null,null,null,null,null,null,"gewonnen"]
[{"$f":"Select!$C$18","v":"Recurve Herren"},null,null,null,null,null,null,null,null,"Schütze:",null,null,null,null,"verloren",null,null,null,"Schütze:",null,null,null,null,"verloren"]
["Bogenklasse"]
[null,null,null,null,null,null,null,null,null,"Gegner:",null,"Name:",null,null,null,null,null,null,"Gegner:",null,"Name:"]
[null,null,null,null,null,null,null,null,null,null,null,"Unterschrift:",null,null,null,null,null,null,null,null,"Unterschrift:"]
[]
[]
["1/8 Elimination",null,null,null,{"$f":"'R52_Baum'!$M$117","v":"Scheibe: 3B"},null,null,null,null,"1/4 Finale",null,null,null,{"$f":"'R52_Baum'!$Q$116","v":"Scheibe: 5"},null,null,null,null,"1/2 Finale",null,null,null,{"$f":"'R52_Baum'!$U$116","v":"Scheibe: 5"}]
[null,1,2,3,"Summe","Punkte","Ges.",null,null,null,1,2,3,"Summe","Punkte","Ges.",null,null,null,1,2,3,"Summe","Punkte","Ges."]
["Satz 1",null,null,null,null,null,null,null,null,"Satz 1",null,null,null,null,null,null,null,null,"Satz 1"]
["Satz 2",null,null,null,null,null,null,null,null,"Satz 2",null,null,null,null,null,null,null,null,"Satz 2"]
["Satz 3",null,null,null,null,null,null,null,null,"Satz 3",null,null,null,null,null,null,null,null,"Satz 3"]
["wenn erforderlich",null,null,null,null,null,null,null,null,"wenn erforderlich",null,null,null,null,null,null,null,null,"wenn erforderlich"]
["Satz 4",null,null,null,null,null,null,null,null,"Satz 4",null,null,null,null,null,null,null,null,"Satz 4"]
["wenn erforderlich",null,null,null,null,null,null,null,null,"wenn erforderlich",null,null,null,null,null,null,null,null,"wenn erforderlich"]
["Satz 5",null,null,null,null,null,null,null,null,"Satz 5",null,null,null,null,null,null,null,null,"Satz 5"]
["wenn erforderlich",null,null,null,null,null,null,null,null,"wenn erforderlich",null,null,null,null,null,null,null,null,"wenn erforderlich"]
["Stechen",null,null,null,null,null,null,null,null,"Stechen",null,null,null,null,null,null,null,null,"Stechen"]
[null,null,null,null,null,"gewonnen",null,null,null,null,null,null,null,null,"gewonnen",null,null,null,null,null,null,null,null,"gewonnen"]
["Schütze:",null,null,null,null,"verloren",null,null,null,"Schütze:",null,null,null,null,"verloren",null,null,null,"Schütze:",null,null,null,null,"verloren"]
[]
["Gegner:",null,"Name:",null,null,null,null,null,null,"Gegner:",null,"Name:",null,null,null,null,null,null,"Gegner:",null,"Name:"]
[null,null,"Unterschrift:",null,null,null,null,null,null,null,null,"Unterschrift:",null,null,null,null,null,null,null,null,"Unterschrift:"]
[]
[]
[null,null,null,null,null,null,null,null,null,"1/24 Elimination",null,null,null,{"$f":"'R52_Baum'!$D$117","v":"Scheibe: 3B"},null,null,null,null,"1/12 Elimination",null,null,null,{"$f":"'R52_Baum'!$I$116","v":"Scheibe: 3A"}]
[null,null,null,null,null,null,null,null,null,null,1,2,3,"Summe","Punkte","Ges.",null,null,null,1,2,3,"Summe","Punkte","Ges."]
[{"$f":"Select!$C$12","v":"Demoturnier"},null,null,null,null,null,null,null,null,"Satz 1",null,null,null,null,null,null,null,null,"Satz 1"]
["Veranstaltung",null,null,null,null,null,null,null,null,"Satz 2",null,null,null,null,null,null,null,null,"Satz 2"]
[{"$f":"Select!$C$13","v":"1. April 2019"},null,null,null,null,null,null,null,null,"Satz 3",null,null,null,null,null,null,null,null,"Satz 3"]
["Datum",null,null,null,null,null,null,null,null,"wenn erforderlich",null,null,null,null,null,null,null,null,"wenn erforderlich"]
[null,null,null,null,null,null,null,null,null,"Satz 4",null,null,null,null,null,null,null,null,"Satz 4"]
[null,null,null,null,null,null,null,null,null,"wenn erforderlich",null,null,null,null,null,null,null,null,"wenn erforderlich"]
[{"$f":"'R52_Baum'!$D$7","v":"Kramer Michael"},null,null,null,null,null,null,null,null,"Satz 5",null,null,null,null,null,null,null,null,"Satz 5"]
["Name",null,null,null,null,null,null,null,null,"wenn erforderlich",null,null,null,null,null,null,null,null,"wenn erforderlich"]
[{"$f":"'R52_Baum'!$F$7","v":"Union Ried in der Riedmark"},null,null,null,null,null,null,null,null,"Stechen",null,null,null,null,null,null,null,null,"Stechen"]
["Verein",null,null,null,null,null,null,null,null,null,null,null,null,null,"gewonnen",null,null,null,null,null,null,null,null,"gewonnen"]
[{"$f":"Select!$C$18","v":"Recurve Herren"},null,null,null,null,null,null,null,null,"Schütze:",null,null,null,null,"verloren",null,null,null,"Schütze:",null,null,null,null,"verloren"]
["Bogenklasse"]
[null,null,null,null,null,null,null,null,null,"Gegner:",null,"Name:",null,null,null,null,null,null,"Gegner:",null,"Name:"]
[null,null,null,null,null,null,null,null,null,null,null,"Unterschrift:",null,null,null,null,null,null,null,null,"Unterschrift:"]
[]
[]
["1/8 Elimination",null,null,null,{"$f":"'R52_Baum'!$M$117","v":"Scheibe: 3B"},null,null,null,null,"1/4 Finale",null,null,null,{"$f":"'R52_Baum'!$Q$116","v":"Scheibe: 5"},null,null,null,null,"1/2 Finale",null,null,null,{"$f":"'R52_Baum'!$U$116","v":"Scheibe: 5"}]
[null,1,2,3,"Summe","Punkte","Ges.",null,null,null,1,2,3,"Summe","Punkte","Ges.",null,null,null,1,2,3,"Summe","Punkte","Ges."]
["Satz 1",null,null,null,null,null,null,null,null,"Satz 1",null,null,null,null,null,null,null,null,"Satz 1"]
["Satz 2",null,null,null,null,null,null,null,null,"Satz 2",null,null,null,null,null,null,null,null,"Satz 2"]
["Satz 3",null,null,null,null,null,null,null,null,"Satz 3",null,null,null,null,null,null,null,null,"Satz 3"]
["wenn erforderlich",null,null,null,null,null,null,null,null,"wenn erforderlich",null,null,null,null,null,null,null,null,"wenn erforderlich"]
["Satz 4",null,null,null,null,null,null,null,null,"Satz 4",null,null,null,null,null,null,null,null,"Satz 4"]
["wenn erforderlich",null,null,null,null,null,null,null,null,"wenn erforderlich",null,null,null,null,null,null,null,null,"wenn erforderlich"]
["Satz 5",null,null,null,null,null,null,null,null,"Satz 5",null,null,null,null,null,null,null,null,"Satz 5"]
["wenn erforderlich",null,null,null,null,null,null,null,null,"wenn erforderlich",null,null,null,null,null,null,null,null,"wenn erforderlich"]
["Stechen",null,null,null,null,null,null,null,null,"Stechen",null,null,null,null,null,null,null,null,"Stechen"]
[null,null,null,null,null,"gewonnen",null,null,null,null,null,null,null,null,"gewonnen",null,null,null,null,null,null,null,null,"gewonnen"]
["Schütze:",null,null,null,null,"verloren",null,null,null,"Schütze:",null,null,null,null,"verloren",null,null,null,"Schütze:",null,null,null,null,"verloren"]
[]
["Gegner:",null,"Name:",null,null,null,null,null,null,"Gegner:",null,"Name:",null,null,null,null,null,null,"Gegner:",null,"Name:"]
[null,null,"Unterschrift:",null,null,null,null,null,null,null,null,"Unterschrift:",null,null,null,null,null,null,null,null,"Unterschrift:"]
[]
[]
[null,null,null,null,null,null,null,null,null,"1/24 Elimination",null,null,null,{"$f":"'R52_Baum'!$D$118","v":"Scheibe: 4A"},null,null,null,null,"1/12 Elimination",null,null,null,{"$f":"'R52_Baum'!$I$117","v":"Scheibe: 3B"}]
[null,null,null,null,null,null,null,null,null,null,1,2,3,"Summe","Punkte","Ges.",null,null,null,1,2,3,"Summe","Punkte","Ges."]
[{"$f":"Select!$C$12","v":"Demoturnier"},null,null,null,null,null,null,null,null,"Satz 1",null,null,null,null,null,null,null,null,"Satz 1"]
["Veranstaltung",null,null,null,null,null,null,null,null,"Satz 2",null,null,null,null,null,null,null,null,"Satz 2"]
[{"$f":"Select!$C$13","v":"1. April 2019"},null,null,null,null,null,null,null,null,"Satz 3",null,null,null,null,null,null,null,null,"Satz 3"]
["Datum",null,null,null,null,null,null,null,null,"wenn erforderlich",null,null,null,null,null,null,null,null,"wenn erforderlich"]
[null,null,null,null,null,null,null,null,null,"Satz 4",null,null,null,null,null,null,null,null,"Satz 4"]
[null,null,null,null,null,null,null,null,null,"wenn erforderlich",null,null,null,null,null,null,null,null,"wenn erforderlich"]
[{"$f":"'R52_Baum'!$D$10","v":"Thuswald Alfred"},null,null,null,null,null,null,null,null,"Satz 5",null,null,null,null,null,null,null,null,"Satz 5"]
["Name",null,null,null,null,null,null,null,null,"wenn erforderlich",null,null,null,null,null,null,null,null,"wenn erforderlich"]
[{"$f":"'R52_Baum'!$F$10","v":"ASKÖ Gunskirchen"},null,null,null,null,null,null,null,null,"Stechen",null,null,null,null,null,null,null,null,"Stechen"]
["Verein",null,null,null,null,null,null,null,null,null,null,null,null,null,"gewonnen",null,null,null,null,null,null,null,null,"gewonnen"]
[{"$f":"Select!$C$18","v":"Recurve Herren"},null,null,null,null,null,null,null,null,"Schütze:",null,null,null,null,"verloren",null,null,null,"Schütze:",null,null,null,null,"verloren"]
["Bogenklasse"]
[null,null,null,null,null,null,null,null,null,"Gegner:",null,"Name:",null,null,null,null,null,null,"Gegner:",null,"Name:"]
[null,null,null,null,null,null,null,null,null,null,null,"Unterschrift:",null,null,null,null,null,null,null,null,"Unterschrift:"]
[]
[]
["1/8 Elimination",null,null,null,{"$f":"'R52_Baum'!$M$117","v":"Scheibe: 3B"},null,null,null,null,"1/4 Finale",null,null,null,{"$f":"'R52_Baum'!$Q$116","v":"Scheibe: 5"},null,null,null,null,"1/2 Finale",null,null,null,{"$f":"'R52_Baum'!$U$116","v":"Scheibe: 5"}]
[null,1,2,3,"Summe","Punkte","Ges.",null,null,null,1,2,3,"Summe","Punkte","Ges.",null,null,null,1,2,3,"Summe","Punkte","Ges."]
["Satz 1",null,null,null,null,null,null,null,null,"Satz 1",null,null,null,null,null,null,null,null,"Satz 1"]
["Satz 2",null,null,null,null,null,null,null,null,"Satz 2",null,null,null,null,null,null,null,null,"Satz 2"]
["Satz 3",null,null,null,null,null,null,null,null,"Satz 3",null,null,null,null,null,null,null,null,"Satz 3"]
["wenn erforderlich",null,null,null,null,null,null,null,null,"wenn erforderlich",null,null,null,null,null,null,null,null,"wenn erforderlich"]
["Satz 4",null,null,null,null,null,null,null,null,"Satz 4",null,null,null,null,null,null,null,null,"Satz 4"]
["wenn erforderlich",null,null,null,null,null,null,null,null,"wenn erforderlich",null,null,null,null,null,null,null,null,"wenn erforderlich"]
["Satz 5",null,null,null,null,null,null,null,null,"Satz 5",null,null,null,null,null,null,null,null,"Satz 5"]
["wenn erforderlich",null,null,null,null,null,null,null,null,"wenn erforderlich",null,null,null,null,null,null,null,null,"wenn erforderlich"]
["Stechen",null,null,null,null,null,null,null,null,"Stechen",null,null,null,null,null,null,null,null,"Stechen"]
[null,null,null,null,null,"gewonnen",null,null,null,null,null,null,null,null,"gewonnen",null,null,null,null,null,null,null,null,"gewonnen"]
["Schütze:",null,null,null,null,"verloren",null,null,null,"Schütze:",null,null,null,null,"verloren",null,null,null,"Schütze:",null,null,null,null,"verloren"]
[]
["Gegner:",null,"Name:",null,null,null,null,null,null,"Gegner:",null,"Name:",null,null,null,null,null,null,"Gegner:",null,"Name:"]
[null,null,"Unterschrift:",null,null,null,null,null,null,null,null,"Unterschrift:",null,null,null,null,null,null,null,null,"Unterschrift:"]
[]
[]
[null,null,null,null,null,null,null,null,null,"1/24 Elimination",null,null,null,{"$f":"'R52_Baum'!$D$119","v":"Scheibe: 4B"},null,null,null,null,"1/12 Elimination",null,null,null,{"$f":"'R52_Baum'!$I$117","v":"Scheibe: 3B"}]
[null,null,null,null,null,null,null,null,null,null,1,2,3,"Summe","Punkte","Ges.",null,null,null,1,2,3,"Summe","Punkte","Ges."]
[{"$f":"Select!$C$12","v":"Demoturnier"},null,null,null,null,null,null,null,null,"Satz 1",null,null,null,null,null,null,null,null,"Satz 1"]
["Veranstaltung",null,null,null,null,null,null,null,null,"Satz 2",null,null,null,null,null,null,null,null,"Satz 2"]
[{"$f":"Select!$C$13","v":"1. April 2019"},null,null,null,null,null,null,null,null,"Satz 3",null,null,null,null,null,null,null,null,"Satz 3"]
["Datum",null,null,null,null,null,null,null,null,"wenn erforderlich",null,null,null,null,null,null,null,null,"wenn erforderlich"]
[null,null,null,null,null,null,null,null,null,"Satz 4",null,null,null,null,null,null,null,null,"Satz 4"]
[null,null,null,null,null,null,null,null,null,"wenn erforderlich",null,null,null,null,null,null,null,null,"wenn erforderlich"]
[{"$f":"'R52_Baum'!$D$11","v":"Lackner Uwe"},null,null,null,null,null,null,null,null,"Satz 5",null,null,null,null,null,null,null,null,"Satz 5"]
["Name",null,null,null,null,null,null,null,null,"wenn erforderlich",null,null,null,null,null,null,null,null,"wenn erforderlich"]
[{"$f":"'R52_Baum'!$F$11","v":"LH Graz"},null,null,null,null,null,null,null,null,"Stechen",null,null,null,null,null,null,null,null,"Stechen"]
["Verein",null,null,null,null,null,null,null,null,null,null,null,null,null,"gewonnen",null,null,null,null,null,null,null,null,"gewonnen"]
[{"$f":"Select!$C$18","v":"Recurve Herren"},null,null,null,null,null,null,null,null,"Schütze:",null,null,null,null,"verloren",null,null,null,"Schütze:",null,null,null,null,"verloren"]
["Bogenklasse"]
[null,null,null,null,null,null,null,null,null,"Gegner:",null,"Name:",null,null,null,null,null,null,"Gegner:",null,"Name:"]
[null,null,null,null,null,null,null,null,null,null,null,"Unterschrift:",null,null,null,null,null,null,null,null,"Unterschrift:"]
[]
[]
["1/8 Elimination",null,null,null,{"$f":"'R52_Baum'!$M$117","v":"Scheibe: 3B"},null,null,null,null,"1/4 Finale",null,null,null,{"$f":"'R52_Baum'!$Q$116","v":"Scheibe: 5"},null,null,null,null,"1/2 Finale",null,null,null,{"$f":"'R52_Baum'!$U$116","v":"Scheibe: 5"}]
[null,1,2,3,"Summe","Punkte","Ges.",null,null,null,1,2,3,"Summe","Punkte","Ges.",null,null,null,1,2,3,"Summe","Punkte","Ges."]
["Satz 1",null,null,null,null,null,null,null,null,"Satz 1",null,null,null,null,null,null,null,null,"Satz 1"]
["Satz 2",null,null,null,null,null,null,null,null,"Satz 2",null,null,null,null,null,null,null,null,"Satz 2"]
["Satz 3",null,null,null,null,null,null,null,null,"Satz 3",null,null,null,null,null,null,null,null,"Satz 3"]
["wenn erforderlich",null,null,null,null,null,null,null,null,"wenn erforderlich",null,null,null,null,null,null,null,null,"wenn erforderlich"]
["Satz 4",null,null,null,null,null,null,null,null,"Satz 4",null,null,null,null,null,null,null,null,"Satz 4"]
["wenn erforderlich",null,null,null,null,null,null,null,null,"wenn erforderlich",null,null,null,null,null,null,null,null,"wenn erforderlich"]
["Satz 5",null,null,null,null,null,null,null,null,"Satz 5",null,null,null,null,null,null,null,null,"Satz 5"]
["wenn erforderlich",null,null,null,null,null,null,null,null,"wenn erforderlich",null,null,null,null,null,null,null,null,"wenn erforderlich"]
["Stechen",null,null,null,null,null,null,null,null,"Stechen",null,null,null,null,null,null,null,null,"Stechen"]
[null,null,null,null,null,"gewonnen",null,null,null,null,null,null,null,null,"gewonnen",null,null,null,null,null,null,null,null,"gewonnen"]
["Schütze:",null,null,null,null,"verloren",null,null,null,"Schütze:",null,null,null,null,"verloren",null,null,null,"Schütze:",null,null,null,null,"verloren"]
[]
["Gegner:",null,"Name:",null,null,null,null,null,null,"Gegner:",null,"Name:",null,null,null,null,null,null,"Gegner:",null,"Name:"]
[null,null,"Unterschrift:",null,null,null,null,null,null,null,null,"Unterschrift:",null,null,null,null,null,null,null,null,"Unterschrift:"]
[]
[]
[null,null,null,null,null,null,null,null,null,"1/24 Elimination",null,null,null,{"$f":"'R52_Baum'!$D$120","v":"Scheibe: 5A"},null,null,null,null,"1/12 Elimination",null,null,null,{"$f":"'R52_Baum'!$I$118","v":"Scheibe: 4A"}]
[null,null,null,null,null,null,null,null,null,null,1,2,3,"Summe","Punkte","Ges.",null,null,null,1,2,3,"Summe","Punkte","Ges."]
[{"$f":"Select!$C$12","v":"Demoturnier"},null,null,null,null,null,null,null,null,"Satz 1",null,null,null,null,null,null,null,null,"Satz 1"]
["Veranstaltung",null,null,null,null,null,null,null,null,"Satz 2",null,null,null,null,null,null,null,null,"Satz 2"]
[{"$f":"Select!$C$13","v":"1. April 2019"},null,null,null,null,null,null,null,null,"Satz 3",null,null,null,null,null,null,null,null,"Satz 3"]
["Datum",null,null,null,null,null,null,null,null,"wenn erforderlich",null,null,null,null,null,null,null,null,"wenn erforderlich"]
[null,null,null,null,null,null,null,null,null,"Satz 4",null,null,null,null,null,null,null,null,"Satz 4"]
[null,null,null,null,null,null,null,null,null,"wenn erforderlich",null,null,null,null,null,null,null,null,"wenn erforderlich"]
[{"$f":"'R52_Baum'!$D$14","v":"Traxler Helmuth"},null,null,null,null,null,null,null,null,"Satz 5",null,null,null,null,null,null,null,null,"Satz 5"]
["Name",null,null,null,null,null,null,null,null,"wenn erforderlich",null,null,null,null,null,null,null,null,"wenn erforderlich"]
[{"$f":"'R52_Baum'!$F$14","v":"UBC Diana NÖ"},null,null,null,null,null,null,null,null,"Stechen",null,null,null,null,null,null,null,null,"Stechen"]
["Verein",null,null,null,null,null,null,null,null,null,null,null,null,null,"gewonnen",null,null,null,null,null,null,null,null,"gewonnen"]
[{"$f":"Select!$C$18","v":"Recurve Herren"},null,null,null,null,null,null,null,null,"Schütze:",null,null,null,null,"verloren",null,null,null,"Schütze:",null,null,null,null,"verloren"]
["Bogenklasse"]
[null,null,null,null,null,null,null,null,null,"Gegner:",null,"Name:",null,null,null,null,null,null,"Gegner:",null,"Name:"]
[null,null,null,null,null,null,null,null,null,null,null,"Unterschrift:",null,null,null,null,null,null,null,null,"Unterschrift:"]
[]
[]
["1/8 Elimination",null,null,null,{"$f":"'R52_Baum'!$M$118","v":"Scheibe: 4A"},null,null,null,null,"1/4 Finale",null,null,null,{"$f":"'R52_Baum'!$Q$117","v":"Scheibe: 6"},null,null,null,null,"1/2 Finale",null,null,null,{"$f":"'R52_Baum'!$U$116","v":"Scheibe: 5"}]
[null,1,2,3,"Summe","Punkte","Ges.",null,null,null,1,2,3,"Summe","Punkte","Ges.",null,null,null,1,2,3,"Summe","Punkte","Ges."]
["Satz 1",null,null,null,null,null,null,null,null,"Satz 1",null,null,null,null,null,null,null,null,"Satz 1"]
["Satz 2",null,null,null,null,null,null,null,null,"Satz 2",null,null,null,null,null,null,null,null,"Satz 2"]
["Satz 3",null,null,null,null,null,null,null,null,"Satz 3",null,null,null,null,null,null,null,null,"Satz 3"]
["wenn erforderlich",null,null,null,null,null,null,null,null,"wenn erforderlich",null,null,null,null,null,null,null,null,"wenn erforderlich"]
["Satz 4",null,null,null,null,null,null,null,null,"Satz 4",null,null,null,null,null,null,null,null,"Satz 4"]
["wenn erforderlich",null,null,null,null,null,null,null,null,"wenn erforderlich",null,null,null,null,null,null,null,null,"wenn erforderlich"]
["Satz 5",null,null,null,null,null,null,null,null,"Satz 5",null,null,null,null,null,null,null,null,"Satz 5"]
["wenn erforderlich",null,null,null,null,null,null,null,null,"wenn erforderlich",null,null,null,null,null,null,null,null,"wenn erforderlich"]
["Stechen",null,null,null,null,null,null,null,null,"Stechen",null,null,null,null,null,null,null,null,"Stechen"]
[null,null,null,null,null,"gewonnen",null,null,null,null,null,null,null,null,"gewonnen",null,null,null,null,null,null,null,null,"gewonnen"]
["Schütze:",null,null,null,null,"verloren",null,null,null,"Schütze:",null,null,null,null,"verloren",null,null,null,"Schütze:",null,null,null,null,"verloren"]
[]
["Gegner:",null,"Name:",null,null,null,null,null,null,"Gegner:",null,"Name:",null,null,null,null,null,null,"Gegner:",null,"Name:"]
[null,null,"Unterschrift:",null,null,null,null,null,null,null,null,"Unterschrift:",null,null,null,null,null,null,null,null,"Unterschrift:"]
[]
[]
[null,null,null,null,null,null,null,null,null,"1/24 Elimination",null,null,null,{"$f":"'R52_Baum'!$D$121","v":"Scheibe: 5B"},null,null,null,null,"1/12 Elimination",null,null,null,{"$f":"'R52_Baum'!$I$118","v":"Scheibe: 4A"}]
[null,null,null,null,null,null,null,null,null,null,1,2,3,"Summe","Punkte","Ges.",null,null,null,1,2,3,"Summe","Punkte","Ges."]
[{"$f":"Select!$C$12","v":"Demoturnier"},null,null,null,null,null,null,null,null,"Satz 1",null,null,null,null,null,null,null,null,"Satz 1"]
["Veranstaltung",null,null,null,null,null,null,null,null,"Satz 2",null,null,null,null,null,null,null,null,"Satz 2"]
[{"$f":"Select!$C$13","v":"1. April 2019"},null,null,null,null,null,null,null,null,"Satz 3",null,null,null,null,null,null,null,null,"Satz 3"]
["Datum",null,null,null,null,null,null,null,null,"wenn erforderlich",null,null,null,null,null,null,null,null,"wenn erforderlich"]
[null,null,null,null,null,null,null,null,null,"Satz 4",null,null,null,null,null,null,null,null,"Satz 4"]
[null,null,null,null,null,null,null,null,null,"wenn erforderlich",null,null,null,null,null,null,null,null,"wenn erforderlich"]
[{"$f":"'R52_Baum'!$D$15","v":"Schinko Bernhard"},null,null,null,null,null,null,null,null,"Satz 5",null,null,null,null,null,null,null,null,"Satz 5"]
["Name",null,null,null,null,null,null,null,null,"wenn erforderlich",null,null,null,null,null,null,null,null,"wenn erforderlich"]
[{"$f":"'R52_Baum'!$F$15","v":"BSV Offenhausen"},null,null,null,null,null,null,null,null,"Stechen",null,null,null,null,null,null,null,null,"Stechen"]
["Verein",null,null,null,null,null,null,null,null,null,null,null,null,null,"gewonnen",null,null,null,null,null,null,null,null,"gewonnen"]
[{"$f":"Select!$C$18","v":"Recurve Herren"},null,null,null,null,null,null,null,null,"Schütze:",null,null,null,null,"verloren",null,null,null,"Schütze:",null,null,null,null,"verloren"]
["Bogenklasse"]
[null,null,null,null,null,null,null,null,null,"Gegner:",null,"Name:",null,null,null,null,null,null,"Gegner:",null,"Name:"]
[null,null,null,null,null,null,null,null,null,null,null,"Unterschrift:",null,null,null,null,null,null,null,null,"Unterschrift:"]
[]
[]
["1/8 Elimination",null,null,null,{"$f":"'R52_Baum'!$M$118","v":"Scheibe: 4A"},null,null,null,null,"1/4 Finale",null,null,null,{"$f":"'R52_Baum'!$Q$117","v":"Scheibe: 6"},null,null,null,null,"1/2 Finale",null,null,null,{"$f":"'R52_Baum'!$U$116","v":"Scheibe: 5"}]
[null,1,2,3,"Summe","Punkte","Ges.",null,null,null,1,2,3,"Summe","Punkte","Ges.",null,null,null,1,2,3,"Summe","Punkte","Ges."]
["Satz 1",null,null,null,null,null,null,null,null,"Satz 1",null,null,null,null,null,null,null,null,"Satz 1"]
["Satz 2",null,null,null,null,null,null,null,null,"Satz 2",null,null,null,null,null,null,null,null,"Satz 2"]
["Satz 3",null,null,null,null,null,null,null,null,"Satz 3",null,null,null,null,null,null,null,null,"Satz 3"]
["wenn erforderlich",null,null,null,null,null,null,null,null,"wenn erforderlich",null,null,null,null,null,null,null,null,"wenn erforderlich"]
["Satz 4",null,null,null,null,null,null,null,null,"Satz 4",null,null,null,null,null,null,null,null,"Satz 4"]
["wenn erforderlich",null,null,null,null,null,null,null,null,"wenn erforderlich",null,null,null,null,null,null,null,null,"wenn erforderlich"]
["Satz 5",null,null,null,null,null,null,null,null,"Satz 5",null,null,null,null,null,null,null,null,"Satz 5"]
["wenn erforderlich",null,null,null,null,null,null,null,null,"wenn erforderlich",null,null,null,null,null,null,null,null,"wenn erforderlich"]
["Stechen",null,null,null,null,null,null,null,null,"Stechen",null,null,null,null,null,null,null,null,"Stechen"]
[null,null,null,null,null,"gewonnen",null,null,null,null,null,null,null,null,"gewonnen",null,null,null,null,null,null,null,null,"gewonnen"]
["Schütze:",null,null,null,null,"verloren",null,null,null,"Schütze:",null,null,null,null,"verloren",null,null,null,"Schütze:",null,null,null,null,"verloren"]
[]
["Gegner:",null,"Name:",null,null,null,null,null,null,"Gegner:",null,"Name:",null,null,null,null,null,null,"Gegner:",null,"Name:"]
[null,null,"Unterschrift:",null,null,null,null,null,null,null,null,"Unterschrift:",null,null,null,null,null,null,null,null,"Unterschrift:"]
[]
[]
[null,null,null,null,null,null,null,null,null,"1/24 Elimination",null,null,null,{"$f":"'R52_Baum'!$D$122","v":"Scheibe: 6A"},null,null,null,null,"1/12 Elimination",null,null,null,{"$f":"'R52_Baum'!$I$119","v":"Scheibe: 4B"}]
[null,null,null,null,null,null,null,null,null,null,1,2,3,"Summe","Punkte","Ges.",null,null,null,1,2,3,"Summe","Punkte","Ges."]
[{"$f":"Select!$C$12","v":"Demoturnier"},null,null,null,null,null,null,null,null,"Satz 1",null,null,null,null,null,null,null,null,"Satz 1"]
["Veranstaltung",null,null,null,null,null,null,null,null,"Satz 2",null,null,null,null,null,null,null,null,"Satz 2"]
[{"$f":"Select!$C$13","v":"1. April 2019"},null,null,null,null,null,null,null,null,"Satz 3",null,null,null,null,null,null,null,null,"Satz 3"]
["Datum",null,null,null,null,null,null,null,null,"wenn erforderlich",null,null,null,null,null,null,null,null,"wenn erforderlich"]
[null,null,null,null,null,null,null,null,null,"Satz 4",null,null,null,null,null,null,null,null,"Satz 4"]
[null,null,null,null,null,null,null,null,null,"wenn erforderlich",null,null,null,null,null,null,null,null,"wenn erforderlich"]
[{"$f":"'R52_Baum'!$D$18","v":"Werlitsch Ernst"},null,null,null,null,null,null,null,null,"Satz 5",null,null,null,null,null,null,null,null,"Satz 5"]
["Name",null,null,null,null,null,null,null,null,"wenn erforderlich",null,null,null,null,null,null,null,null,"wenn erforderlich"]
[{"$f":"'R52_Baum'!$F$18","v":"EAT-Bogensport"},null,null,null,null,null,null,null,null,"Stechen",null,null,null,null,null,null,null,null,"Stechen"]
["Verein",null,null,null,null,null,null,null,null,null,null,null,null,null,"gewonnen",null,null,null,null,null,null,null,null,"gewonnen"]
[{"$f":"Select!$C$18","v":"Recurve Herren"},null,null,null,null,null,null,null,null,"Schütze:",null,null,null,null,"verloren",null,null,null,"Schütze:",null,null,null,null,"verloren"]
["Bogenklasse"]
[null,null,null,null,null,null,null,null,null,"Gegner:",null,"Name:",null,null,null,null,null,null,"Gegner:",null,"Name:"]
[null,null,null,null,null,null,null,null,null,null,null,"Unterschrift:",null,null,null,null,null,null,null,null,"Unterschrift:"]
[]
[]
["1/8 Elimination",null,null,null,{"$f":"'R52_Baum'!$M$118","v":"Scheibe: 4A"},null,null,null,null,"1/4 Finale",null,null,null,{"$f":"'R52_Baum'!$Q$117","v":"Scheibe: 6"},null,null,null,null,"1/2 Finale",null,null,null,{"$f":"'R52_Baum'!$U$116","v":"Scheibe: 5"}]
[null,1,2,3,"Summe","Punkte","Ges.",null,null,null,1,2,3,"Summe","Punkte","Ges.",null,null,null,1,2,3,"Summe","Punkte","Ges."]
["Satz 1",null,null,null,null,null,null,null,null,"Satz 1",null,null,null,null,null,null,null,null,"Satz 1"]
["Satz 2",null,null,null,null,null,null,null,null,"Satz 2",null,null,null,null,null,null,null,null,"Satz 2"]
["Satz 3",null,null,null,null,null,null,null,null,"Satz 3",null,null,null,null,null,null,null,null,"Satz 3"]
["wenn erforderlich",null,null,null,null,null,null,null,null,"wenn erforderlich",null,null,null,null,null,null,null,null,"wenn erforderlich"]
["Satz 4",null,null,null,null,null,null,null,null,"Satz 4",null,null,null,null,null,null,null,null,"Satz 4"]
["wenn erforderlich",null,null,null,null,null,null,null,null,"wenn erforderlich",null,null,null,null,null,null,null,null,"wenn erforderlich"]
["Satz 5",null,null,null,null,null,null,null,null,"Satz 5",null,null,null,null,null,null,null,null,"Satz 5"]
["wenn erforderlich",null,null,null,null,null,null,null,null,"wenn erforderlich",null,null,null,null,null,null,null,null,"wenn erforderlich"]
["Stechen",null,null,null,null,null,null,null,null,"Stechen",null,null,null,null,null,null,null,null,"Stechen"]
[null,null,null,null,null,"gewonnen",null,null,null,null,null,null,null,null,"gewonnen",null,null,null,null,null,null,null,null,"gewonnen"]
["Schütze:",null,null,null,null,"verloren",null,null,null,"Schütze:",null,null,null,null,"verloren",null,null,null,"Schütze:",null,null,null,null,"verloren"]
[]
["Gegner:",null,"Name:",null,null,null,null,null,null,"Gegner:",null,"Name:",null,null,null,null,null,null,"Gegner:",null,"Name:"]
[null,null,"Unterschrift:",null,null,null,null,null,null,null,null,"Unterschrift:",null,null,null,null,null,null,null,null,"Unterschrift:"]
[]
[]
[null,null,null,null,null,null,null,null,null,"1/24 Elimination",null,null,null,{"$f":"'R52_Baum'!$D$123","v":"Scheibe: 6B"},null,null,null,null,"1/12 Elimination",null,null,null,{"$f":"'R52_Baum'!$I$119","v":"Scheibe: 4B"}]
[null,null,null,null,null,null,null,null,null,null,1,2,3,"Summe","Punkte","Ges.",null,null,null,1,2,3,"Summe","Punkte","Ges."]
[{"$f":"Select!$C$12","v":"Demoturnier"},null,null,null,null,null,null,null,null,"Satz 1",null,null,null,null,null,null,null,null,"Satz 1"]
["Veranstaltung",null,null,null,null,null,null,null,null,"Satz 2",null,null,null,null,null,null,null,null,"Satz 2"]
[{"$f":"Select!$C$13","v":"1. April 2019"},null,null,null,null,null,null,null,null,"Satz 3",null,null,null,null,null,null,null,null,"Satz 3"]
["Datum",null,null,null,null,null,null,null,null,"wenn erforderlich",null,null,null,null,null,null,null,null,"wenn erforderlich"]
[null,null,null,null,null,null,null,null,null,"Satz 4",null,null,null,null,null,null,null,null,"Satz 4"]
[null,null,null,null,null,null,null,null,null,"wenn erforderlich",null,null,null,null,null,null,null,null,"wenn erforderlich"]
[{"$f":"'R52_Baum'!$D$19","v":"Eidenberger Karl"},null,null,null,null,null,null,null,null,"Satz 5",null,null,null,null,null,null,null,null,"Satz 5"]
["Name",null,null,null,null,null,null,null,null,"wenn erforderlich",null,null,null,null,null,null,null,null,"wenn erforderlich"]
[{"$f":"'R52_Baum'!$F$19","v":"PSV Burgenland - Sektion Bogen"},null,null,null,null,null,null,null,null,"Stechen",null,null,null,null,null,null,null,null,"Stechen"]
["Verein",null,null,null,null,null,null,null,null,null,null,null,null,null,"gewonnen",null,null,null,null,null,null,null,null,"gewonnen"]
[{"$f":"Select!$C$18","v":"Recurve Herren"},null,null,null,null,null,null,null,null,"Schütze:",null,null,null,null,"verloren",null,null,null,"Schütze:",null,null,null,null,"verloren"]
["Bogenklasse"]
[null,null,null,null,null,null,null,null,null,"Gegner:",null,"Name:",null,null,null,null,null,null,"Gegner:",null,"Name:"]
[null,null,null,null,null,null,null,null,null,null,null,"Unterschrift:",null,null,null,null,null,null,null,null,"Unterschrift:"]
[]
[]
["1/8 Elimination",null,null,null,{"$f":"'R52_Baum'!$M$118","v":"Scheibe: 4A"},null,null,null,null,"1/4 Finale",null,null,null,{"$f":"'R52_Baum'!$Q$117","v":"Scheibe: 6"},null,null,null,null,"1/2 Finale",null,null,null,{"$f":"'R52_Baum'!$U$116","v":"Scheibe: 5"}]
[null,1,2,3,"Summe","Punkte","Ges.",null,null,null,1,2,3,"Summe","Punkte","Ges.",null,null,null,1,2,3,"Summe","Punkte","Ges."]
["Satz 1",null,null,null,null,null,null,null,null,"Satz 1",null,null,null,null,null,null,null,null,"Satz 1"]
["Satz 2",null,null,null,null,null,null,null,null,"Satz 2",null,null,null,null,null,null,null,null,"Satz 2"]
["Satz 3",null,null,null,null,null,null,null,null,"Satz 3",null,null,null,null,null,null,null,null,"Satz 3"]
["wenn erforderlich",null,null,null,null,null,null,null,null,"wenn erforderlich",null,null,null,null,null,null,null,null,"wenn erforderlich"]
["Satz 4",null,null,null,null,null,null,null,null,"Satz 4",null,null,null,null,null,null,null,null,"Satz 4"]
["wenn erforderlich",null,null,null,null,null,null,null,null,"wenn erforderlich",null,null,null,null,null,null,null,null,"wenn erforderlich"]
["Satz 5",null,null,null,null,null,null,null,null,"Satz 5",null,null,null,null,null,null,null,null,"Satz 5"]
["wenn erforderlich",null,null,null,null,null,null,null,null,"wenn erforderlich",null,null,null,null,null,null,null,null,"wenn erforderlich"]
["Stechen",null,null,null,null,null,null,null,null,"Stechen",null,null,null,null,null,null,null,null,"Stechen"]
[null,null,null,null,null,"gewonnen",null,null,null,null,null,null,null,null,"gewonnen",null,null,null,null,null,null,null,null,"gewonnen"]
["Schütze:",null,null,null,null,"verloren",null,null,null,"Schütze:",null,null,null,null,"verloren",null,null,null,"Schütze:",null,null,null,null,"verloren"]
[]
["Gegner:",null,"Name:",null,null,null,null,null,null,"Gegner:",null,"Name:",null,null,null,null,null,null,"Gegner:",null,"Name:"]
[null,null,"Unterschrift:",null,null,null,null,null,null,null,null,"Unterschrift:",null,null,null,null,null,null,null,null,"Unterschrift:"]
[]
[]
[null,null,null,null,null,null,null,null,null,"1/24 Elimination",null,null,null,{"$f":"'R52_Baum'!$D$124","v":"Scheibe: 7A"},null,null,null,null,"1/12 Elimination",null,null,null,{"$f":"'R52_Baum'!$I$120","v":"Scheibe: 5A"}]
[null,null,null,null,null,null,null,null,null,null,1,2,3,"Summe","Punkte","Ges.",null,null,null,1,2,3,"Summe","Punkte","Ges."]
[{"$f":"Select!$C$12","v":"Demoturnier"},null,null,null,null,null,null,null,null,"Satz 1",null,null,null,null,null,null,null,null,"Satz 1"]
["Veranstaltung",null,null,null,null,null,null,null,null,"Satz 2",null,null,null,null,null,null,null,null,"Satz 2"]
[{"$f":"Select!$C$13","v":"1. April 2019"},null,null,null,null,null,null,null,null,"Satz 3",null,null,null,null,null,null,null,null,"Satz 3"]
["Datum",null,null,null,null,null,null,null,null,"wenn erforderlich",null,null,null,null,null,null,null,null,"wenn erforderlich"]
[null,null,null,null,null,null,null,null,null,"Satz 4",null,null,null,null,null,null,null,null,"Satz 4"]
[null,null,null,null,null,null,null,null,null,"wenn erforderlich",null,null,null,null,null,null,null,null,"wenn erforderlich"]
[{"$f":"'R52_Baum'!$D$22","v":"Wallner Ewald"},null,null,null,null,null,null,null,null,"Satz 5",null,null,null,null,null,null,null,null,"Satz 5"]
["Name",null,null,null,null,null,null,null,null,"wenn erforderlich",null,null,null,null,null,null,null,null,"wenn erforderlich"]
[{"$f":"'R52_Baum'!$F$22","v":"BSC Sölkpass"},null,null,null,null,null,null,null,null,"Stechen",null,null,null,null,null,null,null,null,"Stechen"]
["Verein",null,null,null,null,null,null,null,null,null,null,null,null,null,"gewonnen",null,null,null,null,null,null,null,null,"gewonnen"]
[{"$f":"Select!$C$18","v":"Recurve Herren"},null,null,null,null,null,null,null,null,"Schütze:",null,null,null,null,"verloren",null,null,null,"Schütze:",null,null,null,null,"verloren"]
["Bogenklasse"]
[null,null,null,null,null,null,null,null,null,"Gegner:",null,"Name:",null,null,null,null,null,null,"Gegner:",null,"Name:"]
[null,null,null,null,null,null,null,null,null,null,null,"Unterschrift:",null,null,null,null,null,null,null,null,"Unterschrift:"]
[]
[]
["1/8 Elimination",null,null,null,{"$f":"'R52_Baum'!$M$119","v":"Scheibe: 4B"},null,null,null,null,"1/4 Finale",null,null,null,{"$f":"'R52_Baum'!$Q$117","v":"Scheibe: 6"},null,null,null,null,"1/2 Finale",null,null,null,{"$f":"'R52_Baum'!$U$116","v":"Scheibe: 5"}]
[null,1,2,3,"Summe","Punkte","Ges.",null,null,null,1,2,3,"Summe","Punkte","Ges.",null,null,null,1,2,3,"Summe","Punkte","Ges."]
["Satz 1",null,null,null,null,null,null,null,null,"Satz 1",null,null,null,null,null,null,null,null,"Satz 1"]
["Satz 2",null,null,null,null,null,null,null,null,"Satz 2",null,null,null,null,null,null,null,null,"Satz 2"]
["Satz 3",null,null,null,null,null,null,null,null,"Satz 3",null,null,null,null,null,null,null,null,"Satz 3"]
["wenn erforderlich",null,null,null,null,null,null,null,null,"wenn erforderlich",null,null,null,null,null,null,null,null,"wenn erforderlich"]
["Satz 4",null,null,null,null,null,null,null,null,"Satz 4",null,null,null,null,null,null,null,null,"Satz 4"]
["wenn erforderlich",null,null,null,null,null,null,null,null,"wenn erforderlich",null,null,null,null,null,null,null,null,"wenn erforderlich"]
["Satz 5",null,null,null,null,null,null,null,null,"Satz 5",null,null,null,null,null,null,null,null,"Satz 5"]
["wenn erforderlich",null,null,null,null,null,null,null,null,"wenn erforderlich",null,null,null,null,null,null,null,null,"wenn erforderlich"]
["Stechen",null,null,null,null,null,null,null,null,"Stechen",null,null,null,null,null,null,null,null,"Stechen"]
[null,null,null,null,null,"gewonnen",null,null,null,null,null,null,null,null,"gewonnen",null,null,null,null,null,null,null,null,"gewonnen"]
["Schütze:",null,null,null,null,"verloren",null,null,null,"Schütze:",null,null,null,null,"verloren",null,null,null,"Schütze:",null,null,null,null,"verloren"]
[]
["Gegner:",null,"Name:",null,null,null,null,null,null,"Gegner:",null,"Name:",null,null,null,null,null,null,"Gegner:",null,"Name:"]
[null,null,"Unterschrift:",null,null,null,null,null,null,null,null,"Unterschrift:",null,null,null,null,null,null,null,null,"Unterschrift:"]
[]
[]
[null,null,null,null,null,null,null,null,null,"1/24 Elimination",null,null,null,{"$f":"'R52_Baum'!$D$125","v":"Scheibe: 7B"},null,null,null,null,"1/12 Elimination",null,null,null,{"$f":"'R52_Baum'!$I$120","v":"Scheibe: 5A"}]
[null,null,null,null,null,null,null,null,null,null,1,2,3,"Summe","Punkte","Ges.",null,null,null,1,2,3,"Summe","Punkte","Ges."]
[{"$f":"Select!$C$12","v":"Demoturnier"},null,null,null,null,null,null,null,null,"Satz 1",null,null,null,null,null,null,null,null,"Satz 1"]
["Veranstaltung",null,null,null,null,null,null,null,null,"Satz 2",null,null,null,null,null,null,null,null,"Satz 2"]
[{"$f":"Select!$C$13","v":"1. April 2019"},null,null,null,null,null,null,null,null,"Satz 3",null,null,null,null,null,null,null,null,"Satz 3"]
["Datum",null,null,null,null,null,null,null,null,"wenn erforderlich",null,null,null,null,null,null,null,null,"wenn erforderlich"]
[null,null,null,null,null,null,null,null,null,"Satz 4",null,null,null,null,null,null,null,null,"Satz 4"]
[null,null,null,null,null,null,null,null,null,"wenn erforderlich",null,null,null,null,null,null,null,null,"wenn erforderlich"]
[{"$f":"'R52_Baum'!$D$23","v":"Klampfer Markus"},null,null,null,null,null,null,null,null,"Satz 5",null,null,null,null,null,null,null,null,"Satz 5"]
["Name",null,null,null,null,null,null,null,null,"wenn erforderlich",null,null,null,null,null,null,null,null,"wenn erforderlich"]
[{"$f":"'R52_Baum'!$F$23","v":"Club 3-D Austria Bogensport"},null,null,null,null,null,null,null,null,"Stechen",null,null,null,null,null,null,null,null,"Stechen"]
["Verein",null,null,null,null,null,null,null,null,null,null,null,null,null,"gewonnen",null,null,null,null,null,null,null,null,"gewonnen"]
[{"$f":"Select!$C$18","v":"Recurve Herren"},null,null,null,null,null,null,null,null,"Schütze:",null,null,null,null,"verloren",null,null,null,"Schütze:",null,null,null,null,"verloren"]
["Bogenklasse"]
[null,null,null,null,null,null,null,null,null,"Gegner:",null,"Name:",null,null,null,null,null,null,"Gegner:",null,"Name:"]
[null,null,null,null,null,null,null,null,null,null,null,"Unterschrift:",null,null,null,null,null,null,null,null,"Unterschrift:"]
[]
[]
["1/8 Elimination",null,null,null,{"$f":"'R52_Baum'!$M$119","v":"Scheibe: 4B"},null,null,null,null,"1/4 Finale",null,null,null,{"$f":"'R52_Baum'!$Q$117","v":"Scheibe: 6"},null,null,null,null,"1/2 Finale",null,null,null,{"$f":"'R52_Baum'!$U$116","v":"Scheibe: 5"}]
[null,1,2,3,"Summe","Punkte","Ges.",null,null,null,1,2,3,"Summe","Punkte","Ges.",null,null,null,1,2,3,"Summe","Punkte","Ges."]
["Satz 1",null,null,null,null,null,null,null,null,"Satz 1",null,null,null,null,null,null,null,null,"Satz 1"]
["Satz 2",null,null,null,null,null,null,null,null,"Satz 2",null,null,null,null,null,null,null,null,"Satz 2"]
["Satz 3",null,null,null,null,null,null,null,null,"Satz 3",null,null,null,null,null,null,null,null,"Satz 3"]
["wenn erforderlich",null,null,null,null,null,null,null,null,"wenn erforderlich",null,null,null,null,null,null,null,null,"wenn erforderlich"]
["Satz 4",null,null,null,null,null,null,null,null,"Satz 4",null,null,null,null,null,null,null,null,"Satz 4"]
["wenn erforderlich",null,null,null,null,null,null,null,null,"wenn erforderlich",null,null,null,null,null,null,null,null,"wenn erforderlich"]
["Satz 5",null,null,null,null,null,null,null,null,"Satz 5",null,null,null,null,null,null,null,null,"Satz 5"]
["wenn erforderlich",null,null,null,null,null,null,null,null,"wenn erforderlich",null,null,null,null,null,null,null,null,"wenn erforderlich"]
["Stechen",null,null,null,null,null,null,null,null,"Stechen",null,null,null,null,null,null,null,null,"Stechen"]
[null,null,null,null,null,"gewonnen",null,null,null,null,null,null,null,null,"gewonnen",null,null,null,null,null,null,null,null,"gewonnen"]
["Schütze:",null,null,null,null,"verloren",null,null,null,"Schütze:",null,null,null,null,"verloren",null,null,null,"Schütze:",null,null,null,null,"verloren"]
[]
["Gegner:",null,"Name:",null,null,null,null,null,null,"Gegner:",null,"Name:",null,null,null,null,null,null,"Gegner:",null,"Name:"]
[null,null,"Unterschrift:",null,null,null,null,null,null,null,null,"Unterschrift:",null,null,null,null,null,null,null,null,"Unterschrift:"]
[]
[]
[null,null,null,null,null,null,null,null,null,"1/24 Elimination",null,null,null,{"$f":"'R52_Baum'!$D$126","v":"Scheibe: 8A"},null,null,null,null,"1/12 Elimination",null,null,null,{"$f":"'R52_Baum'!$I$121","v":"Scheibe: 5B"}]
[null,null,null,null,null,null,null,null,null,null,1,2,3,"Summe","Punkte","Ges.",null,null,null,1,2,3,"Summe","Punkte","Ges."]
[{"$f":"Select!$C$12","v":"Demoturnier"},null,null,null,null,null,null,null,null,"Satz 1",null,null,null,null,null,null,null,null,"Satz 1"]
["Veranstaltung",null,null,null,null,null,null,null,null,"Satz 2",null,null,null,null,null,null,null,null,"Satz 2"]
[{"$f":"Select!$C$13","v":"1. April 2019"},null,null,null,null,null,null,null,null,"Satz 3",null,null,null,null,null,null,null,null,"Satz 3"]
["Datum",null,null,null,null,null,null,null,null,"wenn erforderlich",null,null,null,null,null,null,null,null,"wenn erforderlich"]
[null,null,null,null,null,null,null,null,null,"Satz 4",null,null,null,null,null,null,null,null,"Satz 4"]
[null,null,null,null,null,null,null,null,null,"wenn erforderlich",null,null,null,null,null,null,null,null,"wenn erforderlich"]
[{"$f":"'R52_Baum'!$D$26","v":"Linhart Christian"},null,null,null,null,null,null,null,null,"Satz 5",null,null,null,null,null,null,null,null,"Satz 5"]
["Name",null,null,null,null,null,null,null,null,"wenn erforderlich",null,null,null,null,null,null,null,null,"wenn erforderlich"]
[{"$f":"'R52_Baum'!$F$26","v":"BSV Stöttera"},null,null,null,null,null,null,null,null,"Stechen",null,null,null,null,null,null,null,null,"Stechen"]
["Verein",null,null,null,null,null,null,null,null,null,null,null,null,null,"gewonnen",null,null,null,null,null,null,null,null,"gewonnen"]
[{"$f":"Select!$C$18","v":"Recurve Herren"},null,null,null,null,null,null,null,null,"Schütze:",null,null,null,null,"verloren",null,null,null,"Schütze:",null,null,null,null,"verloren"]
["Bogenklasse"]
[null,null,null,null,null,null,null,null,null,"Gegner:",null,"Name:",null,null,null,null,null,null,"Gegner:",null,"Name:"]
[null,null,null,null,null,null,null,null,null,null,null,"Unterschrift:",null,null,null,null,null,null,null,null,"Unterschrift:"]
[]
[]
["1/8 Elimination",null,null,null,{"$f":"'R52_Baum'!$M$119","v":"Scheibe: 4B"},null,null,null,null,"1/4 Finale",null,null,null,{"$f":"'R52_Baum'!$Q$117","v":"Scheibe: 6"},null,null,null,null,"1/2 Finale",null,null,null,{"$f":"'R52_Baum'!$U$116","v":"Scheibe: 5"}]
[null,1,2,3,"Summe","Punkte","Ges.",null,null,null,1,2,3,"Summe","Punkte","Ges.",null,null,null,1,2,3,"Summe","Punkte","Ges."]
["Satz 1",null,null,null,null,null,null,null,null,"Satz 1",null,null,null,null,null,null,null,null,"Satz 1"]
["Satz 2",null,null,null,null,null,null,null,null,"Satz 2",null,null,null,null,null,null,null,null,"Satz 2"]
["Satz 3",null,null,null,null,null,null,null,null,"Satz 3",null,null,null,null,null,null,null,null,"Satz 3"]
["wenn erforderlich",null,null,null,null,null,null,null,null,"wenn erforderlich",null,null,null,null,null,null,null,null,"wenn erforderlich"]
["Satz 4",null,null,null,null,null,null,null,null,"Satz 4",null,null,null,null,null,null,null,null,"Satz 4"]
["wenn erforderlich",null,null,null,null,null,null,null,null,"wenn erforderlich",null,null,null,null,null,null,null,null,"wenn erforderlich"]
["Satz 5",null,null,null,null,null,null,null,null,"Satz 5",null,null,null,null,null,null,null,null,"Satz 5"]
["wenn erforderlich",null,null,null,null,null,null,null,null,"wenn erforderlich",null,null,null,null,null,null,null,null,"wenn erforderlich"]
["Stechen",null,null,null,null,null,null,null,null,"Stechen",null,null,null,null,null,null,null,null,"Stechen"]
[null,null,null,null,null,"gewonnen",null,null,null,null,null,null,null,null,"gewonnen",null,null,null,null,null,null,null,null,"gewonnen"]
["Schütze:",null,null,null,null,"verloren",null,null,null,"Schütze:",null,null,null,null,"verloren",null,null,null,"Schütze:",null,null,null,null,"verloren"]
[]
["Gegner:",null,"Name:",null,null,null,null,null,null,"Gegner:",null,"Name:",null,null,null,null,null,null,"Gegner:",null,"Name:"]
[null,null,"Unterschrift:",null,null,null,null,null,null,null,null,"Unterschrift:",null,null,null,null,null,null,null,null,"Unterschrift:"]
[]
[]
[null,null,null,null,null,null,null,null,null,"1/24 Elimination",null,null,null,{"$f":"'R52_Baum'!$D$127","v":"Scheibe: 8B"},null,null,null,null,"1/12 Elimination",null,null,null,{"$f":"'R52_Baum'!$I$121","v":"Scheibe: 5B"}]
[null,null,null,null,null,null,null,null,null,null,1,2,3,"Summe","Punkte","Ges.",null,null,null,1,2,3,"Summe","Punkte","Ges."]
[{"$f":"Select!$C$12","v":"Demoturnier"},null,null,null,null,null,null,null,null,"Satz 1",null,null,null,null,null,null,null,null,"Satz 1"]
["Veranstaltung",null,null,null,null,null,null,null,null,"Satz 2",null,null,null,null,null,null,null,null,"Satz 2"]
[{"$f":"Select!$C$13","v":"1. April 2019"},null,null,null,null,null,null,null,null,"Satz 3",null,null,null,null,null,null,null,null,"Satz 3"]
["Datum",null,null,null,null,null,null,null,null,"wenn erforderlich",null,null,null,null,null,null,null,null,"wenn erforderlich"]
[null,null,null,null,null,null,null,null,null,"Satz 4",null,null,null,null,null,null,null,null,"Satz 4"]
[null,null,null,null,null,null,null,null,null,"wenn erforderlich",null,null,null,null,null,null,null,null,"wenn erforderlich"]
[{"$f":"'R52_Baum'!$D$27","v":"Robl Ronald"},null,null,null,null,null,null,null,null,"Satz 5",null,null,null,null,null,null,null,null,"Satz 5"]
["Name",null,null,null,null,null,null,null,null,"wenn erforderlich",null,null,null,null,null,null,null,null,"wenn erforderlich"]
[{"$f":"'R52_Baum'!$F$27","v":"Austrian Free Archer"},null,null,null,null,null,null,null,null,"Stechen",null,null,null,null,null,null,null,null,"Stechen"]
["Verein",null,null,null,null,null,null,null,null,null,null,null,null,null,"gewonnen",null,null,null,null,null,null,null,null,"gewonnen"]
[{"$f":"Select!$C$18","v":"Recurve Herren"},null,null,null,null,null,null,null,null,"Schütze:",null,null,null,null,"verloren",null,null,null,"Schütze:",null,null,null,null,"verloren"]
["Bogenklasse"]
[null,null,null,null,null,null,null,null,null,"Gegner:",null,"Name:",null,null,null,null,null,null,"Gegner:",null,"Name:"]
[null,null,null,null,null,null,null,null,null,null,null,"Unterschrift:",null,null,null,null,null,null,null,null,"Unterschrift:"]
[]
[]
["1/8 Elimination",null,null,null,{"$f":"'R52_Baum'!$M$119","v":"Scheibe: 4B"},null,null,null,null,"1/4 Finale",null,null,null,{"$f":"'R52_Baum'!$Q$117","v":"Scheibe: 6"},null,null,null,null,"1/2 Finale",null,null,null,{"$f":"'R52_Baum'!$U$116","v":"Scheibe: 5"}]
[null,1,2,3,"Summe","Punkte","Ges.",null,null,null,1,2,3,"Summe","Punkte","Ges.",null,null,null,1,2,3,"Summe","Punkte","Ges."]
["Satz 1",null,null,null,null,null,null,null,null,"Satz 1",null,null,null,null,null,null,null,null,"Satz 1"]
["Satz 2",null,null,null,null,null,null,null,null,"Satz 2",null,null,null,null,null,null,null,null,"Satz 2"]
["Satz 3",null,null,null,null,null,null,null,null,"Satz 3",null,null,null,null,null,null,null,null,"Satz 3"]
["wenn erforderlich",null,null,null,null,null,null,null,null,"wenn erforderlich",null,null,null,null,null,null,null,null,"wenn erforderlich"]
["Satz 4",null,null,null,null,null,null,null,null,"Satz 4",null,null,null,null,null,null,null,null,"Satz 4"]
["wenn erforderlich",null,null,null,null,null,null,null,null,"wenn erforderlich",null,null,null,null,null,null,null,null,"wenn erforderlich"]
["Satz 5",null,null,null,null,null,null,null,null,"Satz 5",null,null,null,null,null,null,null,null,"Satz 5"]
["wenn erforderlich",null,null,null,null,null,null,null,null,"wenn erforderlich",null,null,null,null,null,null,null,null,"wenn erforderlich"]
["Stechen",null,null,null,null,null,null,null,null,"Stechen",null,null,null,null,null,null,null,null,"Stechen"]
[null,null,null,null,null,"gewonnen",null,null,null,null,null,null,null,null,"gewonnen",null,null,null,null,null,null,null,null,"gewonnen"]
["Schütze:",null,null,null,null,"verloren",null,null,null,"Schütze:",null,null,null,null,"verloren",null,null,null,"Schütze:",null,null,null,null,"verloren"]
[]
["Gegner:",null,"Name:",null,null,null,null,null,null,"Gegner:",null,"Name:",null,null,null,null,null,null,"Gegner:",null,"Name:"]
[null,null,"Unterschrift:",null,null,null,null,null,null,null,null,"Unterschrift:",null,null,null,null,null,null,null,null,"Unterschrift:"]
[]
[]
[null,null,null,null,null,null,null,null,null,"1/24 Elimination",null,null,null,{"$f":"'R52_Baum'!$D$128","v":"Scheibe: 9A"},null,null,null,null,"1/12 Elimination",null,null,null,{"$f":"'R52_Baum'!$I$122","v":"Scheibe: 6A"}]
[null,null,null,null,null,null,null,null,null,null,1,2,3,"Summe","Punkte","Ges.",null,null,null,1,2,3,"Summe","Punkte","Ges."]
[{"$f":"Select!$C$12","v":"Demoturnier"},null,null,null,null,null,null,null,null,"Satz 1",null,null,null,null,null,null,null,null,"Satz 1"]
["Veranstaltung",null,null,null,null,null,null,null,null,"Satz 2",null,null,null,null,null,null,null,null,"Satz 2"]
[{"$f":"Select!$C$13","v":"1. April 2019"},null,null,null,null,null,null,null,null,"Satz 3",null,null,null,null,null,null,null,null,"Satz 3"]
["Datum",null,null,null,null,null,null,null,null,"wenn erforderlich",null,null,null,null,null,null,null,null,"wenn erforderlich"]
[null,null,null,null,null,null,null,null,null,"Satz 4",null,null,null,null,null,null,null,null,"Satz 4"]
[null,null,null,null,null,null,null,null,null,"wenn erforderlich",null,null,null,null,null,null,null,null,"wenn erforderlich"]
[{"$f":"'R52_Baum'!$D$30","v":"Höllwirth Andreas"},null,null,null,null,null,null,null,null,"Satz 5",null,null,null,null,null,null,null,null,"Satz 5"]
["Name",null,null,null,null,null,null,null,null,"wenn erforderlich",null,null,null,null,null,null,null,null,"wenn erforderlich"]
[{"$f":"'R52_Baum'!$F$30","v":"ASKÖ-Luftenberg"},null,null,null,null,null,null,null,null,"Stechen",null,null,null,null,null,null,null,null,"Stechen"]
["Verein",null,null,null,null,null,null,null,null,null,null,null,null,null,"gewonnen",null,null,null,null,null,null,null,null,"gewonnen"]
[{"$f":"Select!$C$18","v":"Recurve Herren"},null,null,null,null,null,null,null,null,"Schütze:",null,null,null,null,"verloren",null,null,null,"Schütze:",null,null,null,null,"verloren"]
["Bogenklasse"]
[null,null,null,null,null,null,null,null,null,"Gegner:",null,"Name:",null,null,null,null,null,null,"Gegner:",null,"Name:"]
[null,null,null,null,null,null,null,null,null,null,null,"Unterschrift:",null,null,null,null,null,null,null,null,"Unterschrift:"]
[]
[]
["1/8 Elimination",null,null,null,{"$f":"'R52_Baum'!$M$120","v":"Scheibe: 5A"},null,null,null,null,"1/4 Finale",null,null,null,{"$f":"'R52_Baum'!$Q$118","v":"Scheibe: 7"},null,null,null,null,"1/2 Finale",null,null,null,{"$f":"'R52_Baum'!$U$117","v":"Scheibe: 6"}]
[null,1,2,3,"Summe","Punkte","Ges.",null,null,null,1,2,3,"Summe","Punkte","Ges.",null,null,null,1,2,3,"Summe","Punkte","Ges."]
["Satz 1",null,null,null,null,null,null,null,null,"Satz 1",null,null,null,null,null,null,null,null,"Satz 1"]
["Satz 2",null,null,null,null,null,null,null,null,"Satz 2",null,null,null,null,null,null,null,null,"Satz 2"]
["Satz 3",null,null,null,null,null,null,null,null,"Satz 3",null,null,null,null,null,null,null,null,"Satz 3"]
["wenn erforderlich",null,null,null,null,null,null,null,null,"wenn erforderlich",null,null,null,null,null,null,null,null,"wenn erforderlich"]
["Satz 4",null,null,null,null,null,null,null,null,"Satz 4",null,null,null,null,null,null,null,null,"Satz 4"]
["wenn erforderlich",null,null,null,null,null,null,null,null,"wenn erforderlich",null,null,null,null,null,null,null,null,"wenn erforderlich"]
["Satz 5",null,null,null,null,null,null,null,null,"Satz 5",null,null,null,null,null,null,null,null,"Satz 5"]
["wenn erforderlich",null,null,null,null,null,null,null,null,"wenn erforderlich",null,null,null,null,null,null,null,null,"wenn erforderlich"]
["Stechen",null,null,null,null,null,null,null,null,"Stechen",null,null,null,null,null,null,null,null,"Stechen"]
[null,null,null,null,null,"gewonnen",null,null,null,null,null,null,null,null,"gewonnen",null,null,null,null,null,null,null,null,"gewonnen"]
["Schütze:",null,null,null,null,"verloren",null,null,null,"Schütze:",null,null,null,null,"verloren",null,null,null,"Schütze:",null,null,null,null,"verloren"]
[]
["Gegner:",null,"Name:",null,null,null,null,null,null,"Gegner:",null,"Name:",null,null,null,null,null,null,"Gegner:",null,"Name:"]
[null,null,"Unterschrift:",null,null,null,null,null,null,null,null,"Unterschrift:",null,null,null,null,null,null,null,null,"Unterschrift:"]
[]
[]
[null,null,null,null,null,null,null,null,null,"1/24 Elimination",null,null,null,{"$f":"'R52_Baum'!$D$129","v":"Scheibe: 9B"},null,null,null,null,"1/12 Elimination",null,null,null,{"$f":"'R52_Baum'!$I$122","v":"Scheibe: 6A"}]
[null,null,null,null,null,null,null,null,null,null,1,2,3,"Summe","Punkte","Ges.",null,null,null,1,2,3,"Summe","Punkte","Ges."]
[{"$f":"Select!$C$12","v":"Demoturnier"},null,null,null,null,null,null,null,null,"Satz 1",null,null,null,null,null,null,null,null,"Satz 1"]
["Veranstaltung",null,null,null,null,null,null,null,null,"Satz 2",null,null,null,null,null,null,null,null,"Satz 2"]
[{"$f":"Select!$C$13","v":"1. April 2019"},null,null,null,null,null,null,null,null,"Satz 3",null,null,null,null,null,null,null,null,"Satz 3"]
["Datum",null,null,null,null,null,null,null,null,"wenn erforderlich",null,null,null,null,null,null,null,null,"wenn erforderlich"]
[null,null,null,null,null,null,null,null,null,"Satz 4",null,null,null,null,null,null,null,null,"Satz 4"]
[null,null,null,null,null,null,null,null,null,"wenn erforderlich",null,null,null,null,null,null,null,null,"wenn erforderlich"]
[{"$f":"'R52_Baum'!$D$31","v":"Thullner Erik"},null,null,null,null,null,null,null,null,"Satz 5",null,null,null,null,null,null,null,null,"Satz 5"]
["Name",null,null,null,null,null,null,null,null,"wenn erforderlich",null,null,null,null,null,null,null,null,"wenn erforderlich"]
[{"$f":"'R52_Baum'!$F$31","v":"BSV - Lassee"},null,null,null,null,null,null,null,null,"Stechen",null,null,null,null,null,null,null,null,"Stechen"]
["Verein",null,null,null,null,null,null,null,null,null,null,null,null,null,"gewonnen",null,null,null,null,null,null,null,null,"gewonnen"]
[{"$f":"Select!$C$18","v":"Recurve Herren"},null,null,null,null,null,null,null,null,"Schütze:",null,null,null,null,"verloren",null,null,null,"Schütze:",null,null,null,null,"verloren"]
["Bogenklasse"]
[null,null,null,null,null,null,null,null,null,"Gegner:",null,"Name:",null,null,null,null,null,null,"Gegner:",null,"Name:"]
[null,null,null,null,null,null,null,null,null,null,null,"Unterschrift:",null,null,null,null,null,null,null,null,"Unterschrift:"]
[]
[]
["1/8 Elimination",null,null,null,{"$f":"'R52_Baum'!$M$120","v":"Scheibe: 5A"},null,null,null,null,"1/4 Finale",null,null,null,{"$f":"'R52_Baum'!$Q$118","v":"Scheibe: 7"},null,null,null,null,"1/2 Finale",null,null,null,{"$f":"'R52_Baum'!$U$117","v":"Scheibe: 6"}]
[null,1,2,3,"Summe","Punkte","Ges.",null,null,null,1,2,3,"Summe","Punkte","Ges.",null,null,null,1,2,3,"Summe","Punkte","Ges."]
["Satz 1",null,null,null,null,null,null,null,null,"Satz 1",null,null,null,null,null,null,null,null,"Satz 1"]
["Satz 2",null,null,null,null,null,null,null,null,"Satz 2",null,null,null,null,null,null,null,null,"Satz 2"]
["Satz 3",null,null,null,null,null,null,null,null,"Satz 3",null,null,null,null,null,null,null,null,"Satz 3"]
["wenn erforderlich",null,null,null,null,null,null,null,null,"wenn erforderlich",null,null,null,null,null,null,null,null,"wenn erforderlich"]
["Satz 4",null,null,null,null,null,null,null,null,"Satz 4",null,null,null,null,null,null,null,null,"Satz 4"]
["wenn erforderlich",null,null,null,null,null,null,null,null,"wenn erforderlich",null,null,null,null,null,null,null,null,"wenn erforderlich"]
["Satz 5",null,null,null,null,null,null,null,null,"Satz 5",null,null,null,null,null,null,null,null,"Satz 5"]
["wenn erforderlich",null,null,null,null,null,null,null,null,"wenn erforderlich",null,null,null,null,null,null,null,null,"wenn erforderlich"]
["Stechen",null,null,null,null,null,null,null,null,"Stechen",null,null,null,null,null,null,null,null,"Stechen"]
[null,null,null,null,null,"gewonnen",null,null,null,null,null,null,null,null,"gewonnen",null,null,null,null,null,null,null,null,"gewonnen"]
["Schütze:",null,null,null,null,"verloren",null,null,null,"Schütze:",null,null,null,null,"verloren",null,null,null,"Schütze:",null,null,null,null,"verloren"]
[]
["Gegner:",null,"Name:",null,null,null,null,null,null,"Gegner:",null,"Name:",null,null,null,null,null,null,"Gegner:",null,"Name:"]
[null,null,"Unterschrift:",null,null,null,null,null,null,null,null,"Unterschrift:",null,null,null,null,null,null,null,null,"Unterschrift:"]
[]
[]
[null,null,null,null,null,null,null,null,null,"1/24 Elimination",null,null,null,{"$f":"'R52_Baum'!$D$130","v":"Scheibe: 10A"},null,null,null,null,"1/12 Elimination",null,null,null,{"$f":"'R52_Baum'!$I$123","v":"Scheibe: 6B"}]
[null,null,null,null,null,null,null,null,null,null,1,2,3,"Summe","Punkte","Ges.",null,null,null,1,2,3,"Summe","Punkte","Ges."]
[{"$f":"Select!$C$12","v":"Demoturnier"},null,null,null,null,null,null,null,null,"Satz 1",null,null,null,null,null,null,null,null,"Satz 1"]
["Veranstaltung",null,null,null,null,null,null,null,null,"Satz 2",null,null,null,null,null,null,null,null,"Satz 2"]
[{"$f":"Select!$C$13","v":"1. April 2019"},null,null,null,null,null,null,null,null,"Satz 3",null,null,null,null,null,null,null,null,"Satz 3"]
["Datum",null,null,null,null,null,null,null,null,"wenn erforderlich",null,null,null,null,null,null,null,null,"wenn erforderlich"]
[null,null,null,null,null,null,null,null,null,"Satz 4",null,null,null,null,null,null,null,null,"Satz 4"]
[null,null,null,null,null,null,null,null,null,"wenn erforderlich",null,null,null,null,null,null,null,null,"wenn erforderlich"]
[{"$f":"'R52_Baum'!$D$34","v":"Simmer Gerhard"},null,null,null,null,null,null,null,null,"Satz 5",null,null,null,null,null,null,null,null,"Satz 5"]
["Name",null,null,null,null,null,null,null,null,"wenn erforderlich",null,null,null,null,null,null,null,null,"wenn erforderlich"]
[{"$f":"'R52_Baum'!$F$34","v":"Union Bogensport Haag"},null,null,null,null,null,null,null,null,"Stechen",null,null,null,null,null,null,null,null,"Stechen"]
["Verein",null,null,null,null,null,null,null,null,null,null,null,null,null,"gewonnen",null,null,null,null,null,null,null,null,"gewonnen"]
[{"$f":"Select!$C$18","v":"Recurve Herren"},null,null,null,null,null,null,null,null,"Schütze:",null,null,null,null,"verloren",null,null,null,"Schütze:",null,null,null,null,"verloren"]
["Bogenklasse"]
[null,null,null,null,null,null,null,null,null,"Gegner:",null,"Name:",null,null,null,null,null,null,"Gegner:",null,"Name:"]
[null,null,null,null,null,null,null,null,null,null,null,"Unterschrift:",null,null,null,null,null,null,null,null,"Unterschrift:"]
[]
[]
["1/8 Elimination",null,null,null,{"$f":"'R52_Baum'!$M$120","v":"Scheibe: 5A"},null,null,null,null,"1/4 Finale",null,null,null,{"$f":"'R52_Baum'!$Q$118","v":"Scheibe: 7"},null,null,null,null,"1/2 Finale",null,null,null,{"$f":"'R52_Baum'!$U$117","v":"Scheibe: 6"}]
[null,1,2,3,"Summe","Punkte","Ges.",null,null,null,1,2,3,"Summe","Punkte","Ges.",null,null,null,1,2,3,"Summe","Punkte","Ges."]
["Satz 1",null,null,null,null,null,null,null,null,"Satz 1",null,null,null,null,null,null,null,null,"Satz 1"]
["Satz 2",null,null,null,null,null,null,null,null,"Satz 2",null,null,null,null,null,null,null,null,"Satz 2"]
["Satz 3",null,null,null,null,null,null,null,null,"Satz 3",null,null,null,null,null,null,null,null,"Satz 3"]
["wenn erforderlich",null,null,null,null,null,null,null,null,"wenn erforderlich",null,null,null,null,null,null,null,null,"wenn erforderlich"]
["Satz 4",null,null,null,null,null,null,null,null,"Satz 4",null,null,null,null,null,null,null,null,"Satz 4"]
["wenn erforderlich",null,null,null,null,null,null,null,null,"wenn erforderlich",null,null,null,null,null,null,null,null,"wenn erforderlich"]
["Satz 5",null,null,null,null,null,null,null,null,"Satz 5",null,null,null,null,null,null,null,null,"Satz 5"]
["wenn erforderlich",null,null,null,null,null,null,null,null,"wenn erforderlich",null,null,null,null,null,null,null,null,"wenn erforderlich"]
["Stechen",null,null,null,null,null,null,null,null,"Stechen",null,null,null,null,null,null,null,null,"Stechen"]
[null,null,null,null,null,"gewonnen",null,null,null,null,null,null,null,null,"gewonnen",null,null,null,null,null,null,null,null,"gewonnen"]
["Schütze:",null,null,null,null,"verloren",null,null,null,"Schütze:",null,null,null,null,"verloren",null,null,null,"Schütze:",null,null,null,null,"verloren"]
[]
["Gegner:",null,"Name:",null,null,null,null,null,null,"Gegner:",null,"Name:",null,null,null,null,null,null,"Gegner:",null,"Name:"]
[null,null,"Unterschrift:",null,null,null,null,null,null,null,null,"Unterschrift:",null,null,null,null,null,null,null,null,"Unterschrift:"]
[]
[]
[null,null,null,null,null,null,null,null,null,"1/24 Elimination",null,null,null,{"$f":"'R52_Baum'!$D$131","v":"Scheibe: 10B"},null,null,null,null,"1/12 Elimination",null,null,null,{"$f":"'R52_Baum'!$I$123","v":"Scheibe: 6B"}]
[null,null,null,null,null,null,null,null,null,null,1,2,3,"Summe","Punkte","Ges.",null,null,null,1,2,3,"Summe","Punkte","Ges."]
[{"$f":"Select!$C$12","v":"Demoturnier"},null,null,null,null,null,null,null,null,"Satz 1",null,null,null,null,null,null,null,null,"Satz 1"]
["Veranstaltung",null,null,null,null,null,null,null,null,"Satz 2",null,null,null,null,null,null,null,null,"Satz 2"]
[{"$f":"Select!$C$13","v":"1. April 2019"},null,null,null,null,null,null,null,null,"Satz 3",null,null,null,null,null,null,null,null,"Satz 3"]
["Datum",null,null,null,null,null,null,null,null,"wenn erforderlich",null,null,null,null,null,null,null,null,"wenn erforderlich"]
[null,null,null,null,null,null,null,null,null,"Satz 4",null,null,null,null,null,null,null,null,"Satz 4"]
[null,null,null,null,null,null,null,null,null,"wenn erforderlich",null,null,null,null,null,null,null,null,"wenn erforderlich"]
[{"$f":"'R52_Baum'!$D$35","v":"Eberle Roland"},null,null,null,null,null,null,null,null,"Satz 5",null,null,null,null,null,null,null,null,"Satz 5"]
["Name",null,null,null,null,null,null,null,null,"wenn erforderlich",null,null,null,null,null,null,null,null,"wenn erforderlich"]
[{"$f":"'R52_Baum'!$F$35","v":"Austrian Free Archer"},null,null,null,null,null,null,null,null,"Stechen",null,null,null,null,null,null,null,null,"Stechen"]
["Verein",null,null,null,null,null,null,null,null,null,null,null,null,null,"gewonnen",null,null,null,null,null,null,null,null,"gewonnen"]
[{"$f":"Select!$C$18","v":"Recurve Herren"},null,null,null,null,null,null,null,null,"Schütze:",null,null,null,null,"verloren",null,null,null,"Schütze:",null,null,null,null,"verloren"]
["Bogenklasse"]
[null,null,null,null,null,null,null,null,null,"Gegner:",null,"Name:",null,null,null,null,null,null,"Gegner:",null,"Name:"]
[null,null,null,null,null,null,null,null,null,null,null,"Unterschrift:",null,null,null,null,null,null,null,null,"Unterschrift:"]
[]
[]
["1/8 Elimination",null,null,null,{"$f":"'R52_Baum'!$M$120","v":"Scheibe: 5A"},null,null,null,null,"1/4 Finale",null,null,null,{"$f":"'R52_Baum'!$Q$118","v":"Scheibe: 7"},null,null,null,null,"1/2 Finale",null,null,null,{"$f":"'R52_Baum'!$U$117","v":"Scheibe: 6"}]
[null,1,2,3,"Summe","Punkte","Ges.",null,null,null,1,2,3,"Summe","Punkte","Ges.",null,null,null,1,2,3,"Summe","Punkte","Ges."]
["Satz 1",null,null,null,null,null,null,null,null,"Satz 1",null,null,null,null,null,null,null,null,"Satz 1"]
["Satz 2",null,null,null,null,null,null,null,null,"Satz 2",null,null,null,null,null,null,null,null,"Satz 2"]
["Satz 3",null,null,null,null,null,null,null,null,"Satz 3",null,null,null,null,null,null,null,null,"Satz 3"]
["wenn erforderlich",null,null,null,null,null,null,null,null,"wenn erforderlich",null,null,null,null,null,null,null,null,"wenn erforderlich"]
["Satz 4",null,null,null,null,null,null,null,null,"Satz 4",null,null,null,null,null,null,null,null,"Satz 4"]
["wenn erforderlich",null,null,null,null,null,null,null,null,"wenn erforderlich",null,null,null,null,null,null,null,null,"wenn erforderlich"]
["Satz 5",null,null,null,null,null,null,null,null,"Satz 5",null,null,null,null,null,null,null,null,"Satz 5"]
["wenn erforderlich",null,null,null,null,null,null,null,null,"wenn erforderlich",null,null,null,null,null,null,null,null,"wenn erforderlich"]
["Stechen",null,null,null,null,null,null,null,null,"Stechen",null,null,null,null,null,null,null,null,"Stechen"]
[null,null,null,null,null,"gewonnen",null,null,null,null,null,null,null,null,"gewonnen",null,null,null,null,null,null,null,null,"gewonnen"]
["Schütze:",null,null,null,null,"verloren",null,null,null,"Schütze:",null,null,null,null,"verloren",null,null,null,"Schütze:",null,null,null,null,"verloren"]
[]
["Gegner:",null,"Name:",null,null,null,null,null,null,"Gegner:",null,"Name:",null,null,null,null,null,null,"Gegner:",null,"Name:"]
[null,null,"Unterschrift:",null,null,null,null,null,null,null,null,"Unterschrift:",null,null,null,null,null,null,null,null,"Unterschrift:"]
[]
[]
[null,null,null,null,null,null,null,null,null,"1/24 Elimination",null,null,null,{"$f":"'R52_Baum'!$D$132","v":"Scheibe: 11A"},null,null,null,null,"1/12 Elimination",null,null,null,{"$f":"'R52_Baum'!$I$124","v":"Scheibe: 7A"}]
[null,null,null,null,null,null,null,null,null,null,1,2,3,"Summe","Punkte","Ges.",null,null,null,1,2,3,"Summe","Punkte","Ges."]
[{"$f":"Select!$C$12","v":"Demoturnier"},null,null,null,null,null,null,null,null,"Satz 1",null,null,null,null,null,null,null,null,"Satz 1"]
["Veranstaltung",null,null,null,null,null,null,null,null,"Satz 2",null,null,null,null,null,null,null,null,"Satz 2"]
[{"$f":"Select!$C$13","v":"1. April 2019"},null,null,null,null,null,null,null,null,"Satz 3",null,null,null,null,null,null,null,null,"Satz 3"]
["Datum",null,null,null,null,null,null,null,null,"wenn erforderlich",null,null,null,null,null,null,null,null,"wenn erforderlich"]
[null,null,null,null,null,null,null,null,null,"Satz 4",null,null,null,null,null,null,null,null,"Satz 4"]
[null,null,null,null,null,null,null,null,null,"wenn erforderlich",null,null,null,null,null,null,null,null,"wenn erforderlich"]
[{"$f":"'R52_Baum'!$D$38","v":"Pupetschek Manfred"},null,null,null,null,null,null,null,null,"Satz 5",null,null,null,null,null,null,null,null,"Satz 5"]
["Name",null,null,null,null,null,null,null,null,"wenn erforderlich",null,null,null,null,null,null,null,null,"wenn erforderlich"]
[{"$f":"'R52_Baum'!$F$38","v":"IHG Sektion Bogen"},null,null,null,null,null,null,null,null,"Stechen",null,null,null,null,null,null,null,null,"Stechen"]
["Verein",null,null,null,null,null,null,null,null,null,null,null,null,null,"gewonnen",null,null,null,null,null,null,null,null,"gewonnen"]
[{"$f":"Select!$C$18","v":"Recurve Herren"},null,null,null,null,null,null,null,null,"Schütze:",null,null,null,null,"verloren",null,null,null,"Schütze:",null,null,null,null,"verloren"]
["Bogenklasse"]
[null,null,null,null,null,null,null,null,null,"Gegner:",null,"Name:",null,null,null,null,null,null,"Gegner:",null,"Name:"]
[null,null,null,null,null,null,null,null,null,null,null,"Unterschrift:",null,null,null,null,null,null,null,null,"Unterschrift:"]
[]
[]
["1/8 Elimination",null,null,null,{"$f":"'R52_Baum'!$M$121","v":"Scheibe: 5B"},null,null,null,null,"1/4 Finale",null,null,null,{"$f":"'R52_Baum'!$Q$118","v":"Scheibe: 7"},null,null,null,null,"1/2 Finale",null,null,null,{"$f":"'R52_Baum'!$U$117","v":"Scheibe: 6"}]
[null,1,2,3,"Summe","Punkte","Ges.",null,null,null,1,2,3,"Summe","Punkte","Ges.",null,null,null,1,2,3,"Summe","Punkte","Ges."]
["Satz 1",null,null,null,null,null,null,null,null,"Satz 1",null,null,null,null,null,null,null,null,"Satz 1"]
["Satz 2",null,null,null,null,null,null,null,null,"Satz 2",null,null,null,null,null,null,null,null,"Satz 2"]
["Satz 3",null,null,null,null,null,null,null,null,"Satz 3",null,null,null,null,null,null,null,null,"Satz 3"]
["wenn erforderlich",null,null,null,null,null,null,null,null,"wenn erforderlich",null,null,null,null,null,null,null,null,"wenn erforderlich"]
["Satz 4",null,null,null,null,null,null,null,null,"Satz 4",null,null,null,null,null,null,null,null,"Satz 4"]
["wenn erforderlich",null,null,null,null,null,null,null,null,"wenn erforderlich",null,null,null,null,null,null,null,null,"wenn erforderlich"]
["Satz 5",null,null,null,null,null,null,null,null,"Satz 5",null,null,null,null,null,null,null,null,"Satz 5"]
["wenn erforderlich",null,null,null,null,null,null,null,null,"wenn erforderlich",null,null,null,null,null,null,null,null,"wenn erforderlich"]
["Stechen",null,null,null,null,null,null,null,null,"Stechen",null,null,null,null,null,null,null,null,"Stechen"]
[null,null,null,null,null,"gewonnen",null,null,null,null,null,null,null,null,"gewonnen",null,null,null,null,null,null,null,null,"gewonnen"]
["Schütze:",null,null,null,null,"verloren",null,null,null,"Schütze:",null,null,null,null,"verloren",null,null,null,"Schütze:",null,null,null,null,"verloren"]
[]
["Gegner:",null,"Name:",null,null,null,null,null,null,"Gegner:",null,"Name:",null,null,null,null,null,null,"Gegner:",null,"Name:"]
[null,null,"Unterschrift:",null,null,null,null,null,null,null,null,"Unterschrift:",null,null,null,null,null,null,null,null,"Unterschrift:"]
[]
[]
[null,null,null,null,null,null,null,null,null,"1/24 Elimination",null,null,null,{"$f":"'R52_Baum'!$D$133","v":"Scheibe: 11B"},null,null,null,null,"1/12 Elimination",null,null,null,{"$f":"'R52_Baum'!$I$124","v":"Scheibe: 7A"}]
[null,null,null,null,null,null,null,null,null,null,1,2,3,"Summe","Punkte","Ges.",null,null,null,1,2,3,"Summe","Punkte","Ges."]
[{"$f":"Select!$C$12","v":"Demoturnier"},null,null,null,null,null,null,null,null,"Satz 1",null,null,null,null,null,null,null,null,"Satz 1"]
["Veranstaltung",null,null,null,null,null,null,null,null,"Satz 2",null,null,null,null,null,null,null,null,"Satz 2"]
[{"$f":"Select!$C$13","v":"1. April 2019"},null,null,null,null,null,null,null,null,"Satz 3",null,null,null,null,null,null,null,null,"Satz 3"]
["Datum",null,null,null,null,null,null,null,null,"wenn erforderlich",null,null,null,null,null,null,null,null,"wenn erforderlich"]
[null,null,null,null,null,null,null,null,null,"Satz 4",null,null,null,null,null,null,null,null,"Satz 4"]
[null,null,null,null,null,null,null,null,null,"wenn erforderlich",null,null,null,null,null,null,null,null,"wenn erforderlich"]
[{"$f":"'R52_Baum'!$D$39","v":"Zorgovsky Peter"},null,null,null,null,null,null,null,null,"Satz 5",null,null,null,null,null,null,null,null,"Satz 5"]
["Name",null,null,null,null,null,null,null,null,"wenn erforderlich",null,null,null,null,null,null,null,null,"wenn erforderlich"]
[{"$f":"'R52_Baum'!$F$39","v":"BSV Schönbrunn"},null,null,null,null,null,null,null,null,"Stechen",null,null,null,null,null,null,null,null,"Stechen"]
["Verein",null,null,null,null,null,null,null,null,null,null,null,null,null,"gewonnen",null,null,null,null,null,null,null,null,"gewonnen"]
[{"$f":"Select!$C$18","v":"Recurve Herren"},null,null,null,null,null,null,null,null,"Schütze:",null,null,null,null,"verloren",null,null,null,"Schütze:",null,null,null,null,"verloren"]
["Bogenklasse"]
[null,null,null,null,null,null,null,null,null,"Gegner:",null,"Name:",null,null,null,null,null,null,"Gegner:",null,"Name:"]
[null,null,null,null,null,null,null,null,null,null,null,"Unterschrift:",null,null,null,null,null,null,null,null,"Unterschrift:"]
[]
[]
["1/8 Elimination",null,null,null,{"$f":"'R52_Baum'!$M$121","v":"Scheibe: 5B"},null,null,null,null,"1/4 Finale",null,null,null,{"$f":"'R52_Baum'!$Q$118","v":"Scheibe: 7"},null,null,null,null,"1/2 Finale",null,null,null,{"$f":"'R52_Baum'!$U$117","v":"Scheibe: 6"}]
[null,1,2,3,"Summe","Punkte","Ges.",null,null,null,1,2,3,"Summe","Punkte","Ges.",null,null,null,1,2,3,"Summe","Punkte","Ges."]
["Satz 1",null,null,null,null,null,null,null,null,"Satz 1",null,null,null,null,null,null,null,null,"Satz 1"]
["Satz 2",null,null,null,null,null,null,null,null,"Satz 2",null,null,null,null,null,null,null,null,"Satz 2"]
["Satz 3",null,null,null,null,null,null,null,null,"Satz 3",null,null,null,null,null,null,null,null,"Satz 3"]
["wenn erforderlich",null,null,null,null,null,null,null,null,"wenn erforderlich",null,null,null,null,null,null,null,null,"wenn erforderlich"]
["Satz 4",null,null,null,null,null,null,null,null,"Satz 4",null,null,null,null,null,null,null,null,"Satz 4"]
["wenn erforderlich",null,null,null,null,null,null,null,null,"wenn erforderlich",null,null,null,null,null,null,null,null,"wenn erforderlich"]
["Satz 5",null,null,null,null,null,null,null,null,"Satz 5",null,null,null,null,null,null,null,null,"Satz 5"]
["wenn erforderlich",null,null,null,null,null,null,null,null,"wenn erforderlich",null,null,null,null,null,null,null,null,"wenn erforderlich"]
["Stechen",null,null,null,null,null,null,null,null,"Stechen",null,null,null,null,null,null,null,null,"Stechen"]
[null,null,null,null,null,"gewonnen",null,null,null,null,null,null,null,null,"gewonnen",null,null,null,null,null,null,null,null,"gewonnen"]
["Schütze:",null,null,null,null,"verloren",null,null,null,"Schütze:",null,null,null,null,"verloren",null,null,null,"Schütze:",null,null,null,null,"verloren"]
[]
["Gegner:",null,"Name:",null,null,null,null,null,null,"Gegner:",null,"Name:",null,null,null,null,null,null,"Gegner:",null,"Name:"]
[null,null,"Unterschrift:",null,null,null,null,null,null,null,null,"Unterschrift:",null,null,null,null,null,null,null,null,"Unterschrift:"]
[]
[]
[null,null,null,null,null,null,null,null,null,"1/24 Elimination",null,null,null,{"$f":"'R52_Baum'!$D$134","v":"Scheibe: 12A"},null,null,null,null,"1/12 Elimination",null,null,null,{"$f":"'R52_Baum'!$I$125","v":"Scheibe: 7B"}]
[null,null,null,null,null,null,null,null,null,null,1,2,3,"Summe","Punkte","Ges.",null,null,null,1,2,3,"Summe","Punkte","Ges."]
[{"$f":"Select!$C$12","v":"Demoturnier"},null,null,null,null,null,null,null,null,"Satz 1",null,null,null,null,null,null,null,null,"Satz 1"]
["Veranstaltung",null,null,null,null,null,null,null,null,"Satz 2",null,null,null,null,null,null,null,null,"Satz 2"]
[{"$f":"Select!$C$13","v":"1. April 2019"},null,null,null,null,null,null,null,null,"Satz 3",null,null,null,null,null,null,null,null,"Satz 3"]
["Datum",null,null,null,null,null,null,null,null,"wenn erforderlich",null,null,null,null,null,null,null,null,"wenn erforderlich"]
[null,null,null,null,null,null,null,null,null,"Satz 4",null,null,null,null,null,null,null,null,"Satz 4"]
[null,null,null,null,null,null,null,null,null,"wenn erforderlich",null,null,null,null,null,null,null,null,"wenn erforderlich"]
[{"$f":"'R52_Baum'!$D$42","v":"Bouse Harald"},null,null,null,null,null,null,null,null,"Satz 5",null,null,null,null,null,null,null,null,"Satz 5"]
["Name",null,null,null,null,null,null,null,null,"wenn erforderlich",null,null,null,null,null,null,null,null,"wenn erforderlich"]
[{"$f":"'R52_Baum'!$F$42","v":"BSV Schönbrunn"},null,null,null,null,null,null,null,null,"Stechen",null,null,null,null,null,null,null,null,"Stechen"]
["Verein",null,null,null,null,null,null,null,null,null,null,null,null,null,"gewonnen",null,null,null,null,null,null,null,null,"gewonnen"]
[{"$f":"Select!$C$18","v":"Recurve Herren"},null,null,null,null,null,null,null,null,"Schütze:",null,null,null,null,"verloren",null,null,null,"Schütze:",null,null,null,null,"verloren"]
["Bogenklasse"]
[null,null,null,null,null,null,null,null,null,"Gegner:",null,"Name:",null,null,null,null,null,null,"Gegner:",null,"Name:"]
[null,null,null,null,null,null,null,null,null,null,null,"Unterschrift:",null,null,null,null,null,null,null,null,"Unterschrift:"]
[]
[]
["1/8 Elimination",null,null,null,{"$f":"'R52_Baum'!$M$121","v":"Scheibe: 5B"},null,null,null,null,"1/4 Finale",null,null,null,{"$f":"'R52_Baum'!$Q$118","v":"Scheibe: 7"},null,null,null,null,"1/2 Finale",null,null,null,{"$f":"'R52_Baum'!$U$117","v":"Scheibe: 6"}]
[null,1,2,3,"Summe","Punkte","Ges.",null,null,null,1,2,3,"Summe","Punkte","Ges.",null,null,null,1,2,3,"Summe","Punkte","Ges."]
["Satz 1",null,null,null,null,null,null,null,null,"Satz 1",null,null,null,null,null,null,null,null,"Satz 1"]
["Satz 2",null,null,null,null,null,null,null,null,"Satz 2",null,null,null,null,null,null,null,null,"Satz 2"]
["Satz 3",null,null,null,null,null,null,null,null,"Satz 3",null,null,null,null,null,null,null,null,"Satz 3"]
["wenn erforderlich",null,null,null,null,null,null,null,null,"wenn erforderlich",null,null,null,null,null,null,null,null,"wenn erforderlich"]
["Satz 4",null,null,null,null,null,null,null,null,"Satz 4",null,null,null,null,null,null,null,null,"Satz 4"]
["wenn erforderlich",null,null,null,null,null,null,null,null,"wenn erforderlich",null,null,null,null,null,null,null,null,"wenn erforderlich"]
["Satz 5",null,null,null,null,null,null,null,null,"Satz 5",null,null,null,null,null,null,null,null,"Satz 5"]
["wenn erforderlich",null,null,null,null,null,null,null,null,"wenn erforderlich",null,null,null,null,null,null,null,null,"wenn erforderlich"]
["Stechen",null,null,null,null,null,null,null,null,"Stechen",null,null,null,null,null,null,null,null,"Stechen"]
[null,null,null,null,null,"gewonnen",null,null,null,null,null,null,null,null,"gewonnen",null,null,null,null,null,null,null,null,"gewonnen"]
["Schütze:",null,null,null,null,"verloren",null,null,null,"Schütze:",null,null,null,null,"verloren",null,null,null,"Schütze:",null,null,null,null,"verloren"]
[]
["Gegner:",null,"Name:",null,null,null,null,null,null,"Gegner:",null,"Name:",null,null,null,null,null,null,"Gegner:",null,"Name:"]
[null,null,"Unterschrift:",null,null,null,null,null,null,null,null,"Unterschrift:",null,null,null,null,null,null,null,null,"Unterschrift:"]
[]
[]
[null,null,null,null,null,null,null,null,null,"1/24 Elimination",null,null,null,{"$f":"'R52_Baum'!$D$135","v":"Scheibe: 12B"},null,null,null,null,"1/12 Elimination",null,null,null,{"$f":"'R52_Baum'!$I$125","v":"Scheibe: 7B"}]
[null,null,null,null,null,null,null,null,null,null,1,2,3,"Summe","Punkte","Ges.",null,null,null,1,2,3,"Summe","Punkte","Ges."]
[{"$f":"Select!$C$12","v":"Demoturnier"},null,null,null,null,null,null,null,null,"Satz 1",null,null,null,null,null,null,null,null,"Satz 1"]
["Veranstaltung",null,null,null,null,null,null,null,null,"Satz 2",null,null,null,null,null,null,null,null,"Satz 2"]
[{"$f":"Select!$C$13","v":"1. April 2019"},null,null,null,null,null,null,null,null,"Satz 3",null,null,null,null,null,null,null,null,"Satz 3"]
["Datum",null,null,null,null,null,null,null,null,"wenn erforderlich",null,null,null,null,null,null,null,null,"wenn erforderlich"]
[null,null,null,null,null,null,null,null,null,"Satz 4",null,null,null,null,null,null,null,null,"Satz 4"]
[null,null,null,null,null,null,null,null,null,"wenn erforderlich",null,null,null,null,null,null,null,null,"wenn erforderlich"]
[{"$f":"'R52_Baum'!$D$43","v":"Bauer Helfried"},null,null,null,null,null,null,null,null,"Satz 5",null,null,null,null,null,null,null,null,"Satz 5"]
["Name",null,null,null,null,null,null,null,null,"wenn erforderlich",null,null,null,null,null,null,null,null,"wenn erforderlich"]
[{"$f":"'R52_Baum'!$F$43","v":"Austrian Free Archer"},null,null,null,null,null,null,null,null,"Stechen",null,null,null,null,null,null,null,null,"Stechen"]
["Verein",null,null,null,null,null,null,null,null,null,null,null,null,null,"gewonnen",null,null,null,null,null,null,null,null,"gewonnen"]
[{"$f":"Select!$C$18","v":"Recurve Herren"},null,null,null,null,null,null,null,null,"Schütze:",null,null,null,null,"verloren",null,null,null,"Schütze:",null,null,null,null,"verloren"]
["Bogenklasse"]
[null,null,null,null,null,null,null,null,null,"Gegner:",null,"Name:",null,null,null,null,null,null,"Gegner:",null,"Name:"]
[null,null,null,null,null,null,null,null,null,null,null,"Unterschrift:",null,null,null,null,null,null,null,null,"Unterschrift:"]
[]
[]
["1/8 Elimination",null,null,null,{"$f":"'R52_Baum'!$M$121","v":"Scheibe: 5B"},null,null,null,null,"1/4 Finale",null,null,null,{"$f":"'R52_Baum'!$Q$118","v":"Scheibe: 7"},null,null,null,null,"1/2 Finale",null,null,null,{"$f":"'R52_Baum'!$U$117","v":"Scheibe: 6"}]
[null,1,2,3,"Summe","Punkte","Ges.",null,null,null,1,2,3,"Summe","Punkte","Ges.",null,null,null,1,2,3,"Summe","Punkte","Ges."]
["Satz 1",null,null,null,null,null,null,null,null,"Satz 1",null,null,null,null,null,null,null,null,"Satz 1"]
["Satz 2",null,null,null,null,null,null,null,null,"Satz 2",null,null,null,null,null,null,null,null,"Satz 2"]
["Satz 3",null,null,null,null,null,null,null,null,"Satz 3",null,null,null,null,null,null,null,null,"Satz 3"]
["wenn erforderlich",null,null,null,null,null,null,null,null,"wenn erforderlich",null,null,null,null,null,null,null,null,"wenn erforderlich"]
["Satz 4",null,null,null,null,null,null,null,null,"Satz 4",null,null,null,null,null,null,null,null,"Satz 4"]
["wenn erforderlich",null,null,null,null,null,null,null,null,"wenn erforderlich",null,null,null,null,null,null,null,null,"wenn erforderlich"]
["Satz 5",null,null,null,null,null,null,null,null,"Satz 5",null,null,null,null,null,null,null,null,"Satz 5"]
["wenn erforderlich",null,null,null,null,null,null,null,null,"wenn erforderlich",null,null,null,null,null,null,null,null,"wenn erforderlich"]
["Stechen",null,null,null,null,null,null,null,null,"Stechen",null,null,null,null,null,null,null,null,"Stechen"]
[null,null,null,null,null,"gewonnen",null,null,null,null,null,null,null,null,"gewonnen",null,null,null,null,null,null,null,null,"gewonnen"]
["Schütze:",null,null,null,null,"verloren",null,null,null,"Schütze:",null,null,null,null,"verloren",null,null,null,"Schütze:",null,null,null,null,"verloren"]
[]
["Gegner:",null,"Name:",null,null,null,null,null,null,"Gegner:",null,"Name:",null,null,null,null,null,null,"Gegner:",null,"Name:"]
[null,null,"Unterschrift:",null,null,null,null,null,null,null,null,"Unterschrift:",null,null,null,null,null,null,null,null,"Unterschrift:"]
[]
[]
[null,null,null,null,null,null,null,null,null,"1/24 Elimination",null,null,null,{"$f":"'R52_Baum'!$D$136","v":"Scheibe: 13A"},null,null,null,null,"1/12 Elimination",null,null,null,{"$f":"'R52_Baum'!$I$126","v":"Scheibe: 8A"}]
[null,null,null,null,null,null,null,null,null,null,1,2,3,"Summe","Punkte","Ges.",null,null,null,1,2,3,"Summe","Punkte","Ges."]
[{"$f":"Select!$C$12","v":"Demoturnier"},null,null,null,null,null,null,null,null,"Satz 1",null,null,null,null,null,null,null,null,"Satz 1"]
["Veranstaltung",null,null,null,null,null,null,null,null,"Satz 2",null,null,null,null,null,null,null,null,"Satz 2"]
[{"$f":"Select!$C$13","v":"1. April 2019"},null,null,null,null,null,null,null,null,"Satz 3",null,null,null,null,null,null,null,null,"Satz 3"]
["Datum",null,null,null,null,null,null,null,null,"wenn erforderlich",null,null,null,null,null,null,null,null,"wenn erforderlich"]
[null,null,null,null,null,null,null,null,null,"Satz 4",null,null,null,null,null,null,null,null,"Satz 4"]
[null,null,null,null,null,null,null,null,null,"wenn erforderlich",null,null,null,null,null,null,null,null,"wenn erforderlich"]
[{"$f":"'R52_Baum'!$D$46","v":"Jandl Ernst"},null,null,null,null,null,null,null,null,"Satz 5",null,null,null,null,null,null,null,null,"Satz 5"]
["Name",null,null,null,null,null,null,null,null,"wenn erforderlich",null,null,null,null,null,null,null,null,"wenn erforderlich"]
[{"$f":"'R52_Baum'!$F$46","v":"PSV Burgenland - Sektion Bogen"},null,null,null,null,null,null,null,null,"Stechen",null,null,null,null,null,null,null,null,"Stechen"]
["Verein",null,null,null,null,null,null,null,null,null,null,null,null,null,"gewonnen",null,null,null,null,null,null,null,null,"gewonnen"]
[{"$f":"Select!$C$18","v":"Recurve Herren"},null,null,null,null,null,null,null,null,"Schütze:",null,null,null,null,"verloren",null,null,null,"Schütze:",null,null,null,null,"verloren"]
["Bogenklasse"]
[null,null,null,null,null,null,null,null,null,"Gegner:",null,"Name:",null,null,null,null,null,null,"Gegner:",null,"Name:"]
[null,null,null,null,null,null,null,null,null,null,null,"Unterschrift:",null,null,null,null,null,null,null,null,"Unterschrift:"]
[]
[]
["1/8 Elimination",null,null,null,{"$f":"'R52_Baum'!$M$122","v":"Scheibe: 6A"},null,null,null,null,"1/4 Finale",null,null,null,{"$f":"'R52_Baum'!$Q$119","v":"Scheibe: 8"},null,null,null,null,"1/2 Finale",null,null,null,{"$f":"'R52_Baum'!$U$117","v":"Scheibe: 6"}]
[null,1,2,3,"Summe","Punkte","Ges.",null,null,null,1,2,3,"Summe","Punkte","Ges.",null,null,null,1,2,3,"Summe","Punkte","Ges."]
["Satz 1",null,null,null,null,null,null,null,null,"Satz 1",null,null,null,null,null,null,null,null,"Satz 1"]
["Satz 2",null,null,null,null,null,null,null,null,"Satz 2",null,null,null,null,null,null,null,null,"Satz 2"]
["Satz 3",null,null,null,null,null,null,null,null,"Satz 3",null,null,null,null,null,null,null,null,"Satz 3"]
["wenn erforderlich",null,null,null,null,null,null,null,null,"wenn erforderlich",null,null,null,null,null,null,null,null,"wenn erforderlich"]
["Satz 4",null,null,null,null,null,null,null,null,"Satz 4",null,null,null,null,null,null,null,null,"Satz 4"]
["wenn erforderlich",null,null,null,null,null,null,null,null,"wenn erforderlich",null,null,null,null,null,null,null,null,"wenn erforderlich"]
["Satz 5",null,null,null,null,null,null,null,null,"Satz 5",null,null,null,null,null,null,null,null,"Satz 5"]
["wenn erforderlich",null,null,null,null,null,null,null,null,"wenn erforderlich",null,null,null,null,null,null,null,null,"wenn erforderlich"]
["Stechen",null,null,null,null,null,null,null,null,"Stechen",null,null,null,null,null,null,null,null,"Stechen"]
[null,null,null,null,null,"gewonnen",null,null,null,null,null,null,null,null,"gewonnen",null,null,null,null,null,null,null,null,"gewonnen"]
["Schütze:",null,null,null,null,"verloren",null,null,null,"Schütze:",null,null,null,null,"verloren",null,null,null,"Schütze:",null,null,null,null,"verloren"]
[]
["Gegner:",null,"Name:",null,null,null,null,null,null,"Gegner:",null,"Name:",null,null,null,null,null,null,"Gegner:",null,"Name:"]
[null,null,"Unterschrift:",null,null,null,null,null,null,null,null,"Unterschrift:",null,null,null,null,null,null,null,null,"Unterschrift:"]
[]
[]
[null,null,null,null,null,null,null,null,null,"1/24 Elimination",null,null,null,{"$f":"'R52_Baum'!$D$137","v":"Scheibe: 13B"},null,null,null,null,"1/12 Elimination",null,null,null,{"$f":"'R52_Baum'!$I$126","v":"Scheibe: 8A"}]
[null,null,null,null,null,null,null,null,null,null,1,2,3,"Summe","Punkte","Ges.",null,null,null,1,2,3,"Summe","Punkte","Ges."]
[{"$f":"Select!$C$12","v":"Demoturnier"},null,null,null,null,null,null,null,null,"Satz 1",null,null,null,null,null,null,null,null,"Satz 1"]
["Veranstaltung",null,null,null,null,null,null,null,null,"Satz 2",null,null,null,null,null,null,null,null,"Satz 2"]
[{"$f":"Select!$C$13","v":"1. April 2019"},null,null,null,null,null,null,null,null,"Satz 3",null,null,null,null,null,null,null,null,"Satz 3"]
["Datum",null,null,null,null,null,null,null,null,"wenn erforderlich",null,null,null,null,null,null,null,null,"wenn erforderlich"]
[null,null,null,null,null,null,null,null,null,"Satz 4",null,null,null,null,null,null,null,null,"Satz 4"]
[null,null,null,null,null,null,null,null,null,"wenn erforderlich",null,null,null,null,null,null,null,null,"wenn erforderlich"]
[{"$f":"'R52_Baum'!$D$47","v":"Schauer Bernhard"},null,null,null,null,null,null,null,null,"Satz 5",null,null,null,null,null,null,null,null,"Satz 5"]
["Name",null,null,null,null,null,null,null,null,"wenn erforderlich",null,null,null,null,null,null,null,null,"wenn erforderlich"]
[{"$f":"'R52_Baum'!$F$47","v":"SVM Sportverein Magistrat Linz"},null,null,null,null,null,null,null,null,"Stechen",null,null,null,null,null,null,null,null,"Stechen"]
["Verein",null,null,null,null,null,null,null,null,null,null,null,null,null,"gewonnen",null,null,null,null,null,null,null,null,"gewonnen"]
[{"$f":"Select!$C$18","v":"Recurve Herren"},null,null,null,null,null,null,null,null,"Schütze:",null,null,null,null,"verloren",null,null,null,"Schütze:",null,null,null,null,"verloren"]
["Bogenklasse"]
[null,null,null,null,null,null,null,null,null,"Gegner:",null,"Name:",null,null,null,null,null,null,"Gegner:",null,"Name:"]
[null,null,null,null,null,null,null,null,null,null,null,"Unterschrift:",null,null,null,null,null,null,null,null,"Unterschrift:"]
[]
[]
["1/8 Elimination",null,null,null,{"$f":"'R52_Baum'!$M$122","v":"Scheibe: 6A"},null,null,null,null,"1/4 Finale",null,null,null,{"$f":"'R52_Baum'!$Q$119","v":"Scheibe: 8"},null,null,null,null,"1/2 Finale",null,null,null,{"$f":"'R52_Baum'!$U$117","v":"Scheibe: 6"}]
[null,1,2,3,"Summe","Punkte","Ges.",null,null,null,1,2,3,"Summe","Punkte","Ges.",null,null,null,1,2,3,"Summe","Punkte","Ges."]
["Satz 1",null,null,null,null,null,null,null,null,"Satz 1",null,null,null,null,null,null,null,null,"Satz 1"]
["Satz 2",null,null,null,null,null,null,null,null,"Satz 2",null,null,null,null,null,null,null,null,"Satz 2"]
["Satz 3",null,null,null,null,null,null,null,null,"Satz 3",null,null,null,null,null,null,null,null,"Satz 3"]
["wenn erforderlich",null,null,null,null,null,null,null,null,"wenn erforderlich",null,null,null,null,null,null,null,null,"wenn erforderlich"]
["Satz 4",null,null,null,null,null,null,null,null,"Satz 4",null,null,null,null,null,null,null,null,"Satz 4"]
["wenn erforderlich",null,null,null,null,null,null,null,null,"wenn erforderlich",null,null,null,null,null,null,null,null,"wenn erforderlich"]
["Satz 5",null,null,null,null,null,null,null,null,"Satz 5",null,null,null,null,null,null,null,null,"Satz 5"]
["wenn erforderlich",null,null,null,null,null,null,null,null,"wenn erforderlich",null,null,null,null,null,null,null,null,"wenn erforderlich"]
["Stechen",null,null,null,null,null,null,null,null,"Stechen",null,null,null,null,null,null,null,null,"Stechen"]
[null,null,null,null,null,"gewonnen",null,null,null,null,null,null,null,null,"gewonnen",null,null,null,null,null,null,null,null,"gewonnen"]
["Schütze:",null,null,null,null,"verloren",null,null,null,"Schütze:",null,null,null,null,"verloren",null,null,null,"Schütze:",null,null,null,null,"verloren"]
[]
["Gegner:",null,"Name:",null,null,null,null,null,null,"Gegner:",null,"Name:",null,null,null,null,null,null,"Gegner:",null,"Name:"]
[null,null,"Unterschrift:",null,null,null,null,null,null,null,null,"Unterschrift:",null,null,null,null,null,null,null,null,"Unterschrift:"]
[]
[]
[null,null,null,null,null,null,null,null,null,"1/24 Elimination",null,null,null,{"$f":"'R52_Baum'!$D$138","v":"Scheibe: 14A"},null,null,null,null,"1/12 Elimination",null,null,null,{"$f":"'R52_Baum'!$I$127","v":"Scheibe: 8B"}]
[null,null,null,null,null,null,null,null,null,null,1,2,3,"Summe","Punkte","Ges.",null,null,null,1,2,3,"Summe","Punkte","Ges."]
[{"$f":"Select!$C$12","v":"Demoturnier"},null,null,null,null,null,null,null,null,"Satz 1",null,null,null,null,null,null,null,null,"Satz 1"]
["Veranstaltung",null,null,null,null,null,null,null,null,"Satz 2",null,null,null,null,null,null,null,null,"Satz 2"]
[{"$f":"Select!$C$13","v":"1. April 2019"},null,null,null,null,null,null,null,null,"Satz 3",null,null,null,null,null,null,null,null,"Satz 3"]
["Datum",null,null,null,null,null,null,null,null,"wenn erforderlich",null,null,null,null,null,null,null,null,"wenn erforderlich"]
[null,null,null,null,null,null,null,null,null,"Satz 4",null,null,null,null,null,null,null,null,"Satz 4"]
[null,null,null,null,null,null,null,null,null,"wenn erforderlich",null,null,null,null,null,null,null,null,"wenn erforderlich"]
[{"$f":"'R52_Baum'!$D$50","v":"Mühlgassner Wolfgang"},null,null,null,null,null,null,null,null,"Satz 5",null,null,null,null,null,null,null,null,"Satz 5"]
["Name",null,null,null,null,null,null,null,null,"wenn erforderlich",null,null,null,null,null,null,null,null,"wenn erforderlich"]
[{"$f":"'R52_Baum'!$F$50","v":"UBSC Artemis Wien"},null,null,null,null,null,null,null,null,"Stechen",null,null,null,null,null,null,null,null,"Stechen"]
["Verein",null,null,null,null,null,null,null,null,null,null,null,null,null,"gewonnen",null,null,null,null,null,null,null,null,"gewonnen"]
[{"$f":"Select!$C$18","v":"Recurve Herren"},null,null,null,null,null,null,null,null,"Schütze:",null,null,null,null,"verloren",null,null,null,"Schütze:",null,null,null,null,"verloren"]
["Bogenklasse"]
[null,null,null,null,null,null,null,null,null,"Gegner:",null,"Name:",null,null,null,null,null,null,"Gegner:",null,"Name:"]
[null,null,null,null,null,null,null,null,null,null,null,"Unterschrift:",null,null,null,null,null,null,null,null,"Unterschrift:"]
[]
[]
["1/8 Elimination",null,null,null,{"$f":"'R52_Baum'!$M$122","v":"Scheibe: 6A"},null,null,null,null,"1/4 Finale",null,null,null,{"$f":"'R52_Baum'!$Q$119","v":"Scheibe: 8"},null,null,null,null,"1/2 Finale",null,null,null,{"$f":"'R52_Baum'!$U$117","v":"Scheibe: 6"}]
[null,1,2,3,"Summe","Punkte","Ges.",null,null,null,1,2,3,"Summe","Punkte","Ges.",null,null,null,1,2,3,"Summe","Punkte","Ges."]
["Satz 1",null,null,null,null,null,null,null,null,"Satz 1",null,null,null,null,null,null,null,null,"Satz 1"]
["Satz 2",null,null,null,null,null,null,null,null,"Satz 2",null,null,null,null,null,null,null,null,"Satz 2"]
["Satz 3",null,null,null,null,null,null,null,null,"Satz 3",null,null,null,null,null,null,null,null,"Satz 3"]
["wenn erforderlich",null,null,null,null,null,null,null,null,"wenn erforderlich",null,null,null,null,null,null,null,null,"wenn erforderlich"]
["Satz 4",null,null,null,null,null,null,null,null,"Satz 4",null,null,null,null,null,null,null,null,"Satz 4"]
["wenn erforderlich",null,null,null,null,null,null,null,null,"wenn erforderlich",null,null,null,null,null,null,null,null,"wenn erforderlich"]
["Satz 5",null,null,null,null,null,null,null,null,"Satz 5",null,null,null,null,null,null,null,null,"Satz 5"]
["wenn erforderlich",null,null,null,null,null,null,null,null,"wenn erforderlich",null,null,null,null,null,null,null,null,"wenn erforderlich"]
["Stechen",null,null,null,null,null,null,null,null,"Stechen",null,null,null,null,null,null,null,null,"Stechen"]
[null,null,null,null,null,"gewonnen",null,null,null,null,null,null,null,null,"gewonnen",null,null,null,null,null,null,null,null,"gewonnen"]
["Schütze:",null,null,null,null,"verloren",null,null,null,"Schütze:",null,null,null,null,"verloren",null,null,null,"Schütze:",null,null,null,null,"verloren"]
[]
["Gegner:",null,"Name:",null,null,null,null,null,null,"Gegner:",null,"Name:",null,null,null,null,null,null,"Gegner:",null,"Name:"]
[null,null,"Unterschrift:",null,null,null,null,null,null,null,null,"Unterschrift:",null,null,null,null,null,null,null,null,"Unterschrift:"]
[]
[]
[null,null,null,null,null,null,null,null,null,"1/24 Elimination",null,null,null,{"$f":"'R52_Baum'!$D$139","v":"Scheibe: 14B"},null,null,null,null,"1/12 Elimination",null,null,null,{"$f":"'R52_Baum'!$I$127","v":"Scheibe: 8B"}]
[null,null,null,null,null,null,null,null,null,null,1,2,3,"Summe","Punkte","Ges.",null,null,null,1,2,3,"Summe","Punkte","Ges."]
[{"$f":"Select!$C$12","v":"Demoturnier"},null,null,null,null,null,null,null,null,"Satz 1",null,null,null,null,null,null,null,null,"Satz 1"]
["Veranstaltung",null,null,null,null,null,null,null,null,"Satz 2",null,null,null,null,null,null,null,null,"Satz 2"]
[{"$f":"Select!$C$13","v":"1. April 2019"},null,null,null,null,null,null,null,null,"Satz 3",null,null,null,null,null,null,null,null,"Satz 3"]
["Datum",null,null,null,null,null,null,null,null,"wenn erforderlich",null,null,null,null,null,null,null,null,"wenn erforderlich"]
[null,null,null,null,null,null,null,null,null,"Satz 4",null,null,null,null,null,null,null,null,"Satz 4"]
[null,null,null,null,null,null,null,null,null,"wenn erforderlich",null,null,null,null,null,null,null,null,"wenn erforderlich"]
[{"$f":"'R52_Baum'!$D$51","v":"Stiftner Alfred"},null,null,null,null,null,null,null,null,"Satz 5",null,null,null,null,null,null,null,null,"Satz 5"]
["Name",null,null,null,null,null,null,null,null,"wenn erforderlich",null,null,null,null,null,null,null,null,"wenn erforderlich"]
[{"$f":"'R52_Baum'!$F$51","v":"BC Kronstorf"},null,null,null,null,null,null,null,null,"Stechen",null,null,null,null,null,null,null,null,"Stechen"]
["Verein",null,null,null,null,null,null,null,null,null,null,null,null,null,"gewonnen",null,null,null,null,null,null,null,null,"gewonnen"]
[{"$f":"Select!$C$18","v":"Recurve Herren"},null,null,null,null,null,null,null,null,"Schütze:",null,null,null,null,"verloren",null,null,null,"Schütze:",null,null,null,null,"verloren"]
["Bogenklasse"]
[null,null,null,null,null,null,null,null,null,"Gegner:",null,"Name:",null,null,null,null,null,null,"Gegner:",null,"Name:"]
[null,null,null,null,null,null,null,null,null,null,null,"Unterschrift:",null,null,null,null,null,null,null,null,"Unterschrift:"]
[]
[]
["1/8 Elimination",null,null,null,{"$f":"'R52_Baum'!$M$122","v":"Scheibe: 6A"},null,null,null,null,"1/4 Finale",null,null,null,{"$f":"'R52_Baum'!$Q$119","v":"Scheibe: 8"},null,null,null,null,"1/2 Finale",null,null,null,{"$f":"'R52_Baum'!$U$117","v":"Scheibe: 6"}]
[null,1,2,3,"Summe","Punkte","Ges.",null,null,null,1,2,3,"Summe","Punkte","Ges.",null,null,null,1,2,3,"Summe","Punkte","Ges."]
["Satz 1",null,null,null,null,null,null,null,null,"Satz 1",null,null,null,null,null,null,null,null,"Satz 1"]
["Satz 2",null,null,null,null,null,null,null,null,"Satz 2",null,null,null,null,null,null,null,null,"Satz 2"]
["Satz 3",null,null,null,null,null,null,null,null,"Satz 3",null,null,null,null,null,null,null,null,"Satz 3"]
["wenn erforderlich",null,null,null,null,null,null,null,null,"wenn erforderlich",null,null,null,null,null,null,null,null,"wenn erforderlich"]
["Satz 4",null,null,null,null,null,null,null,null,"Satz 4",null,null,null,null,null,null,null,null,"Satz 4"]
["wenn erforderlich",null,null,null,null,null,null,null,null,"wenn erforderlich",null,null,null,null,null,null,null,null,"wenn erforderlich"]
["Satz 5",null,null,null,null,null,null,null,null,"Satz 5",null,null,null,null,null,null,null,null,"Satz 5"]
["wenn erforderlich",null,null,null,null,null,null,null,null,"wenn erforderlich",null,null,null,null,null,null,null,null,"wenn erforderlich"]
["Stechen",null,null,null,null,null,null,null,null,"Stechen",null,null,null,null,null,null,null,null,"Stechen"]
[null,null,null,null,null,"gewonnen",null,null,null,null,null,null,null,null,"gewonnen",null,null,null,null,null,null,null,null,"gewonnen"]
["Schütze:",null,null,null,null,"verloren",null,null,null,"Schütze:",null,null,null,null,"verloren",null,null,null,"Schütze:",null,null,null,null,"verloren"]
[]
["Gegner:",null,"Name:",null,null,null,null,null,null,"Gegner:",null,"Name:",null,null,null,null,null,null,"Gegner:",null,"Name:"]
[null,null,"Unterschrift:",null,null,null,null,null,null,null,null,"Unterschrift:",null,null,null,null,null,null,null,null,"Unterschrift:"]
[]
[]
[null,null,null,null,null,null,null,null,null,"1/24 Elimination",null,null,null,"Freilos",null,null,null,null,"1/12 Elimination",null,null,null,"Freilos"]
[null,null,null,null,null,null,null,null,null,null,1,2,3,"Summe","Punkte","Ges.",null,null,null,1,2,3,"Summe","Punkte","Ges."]
[{"$f":"Select!$C$12","v":"Demoturnier"},null,null,null,null,null,null,null,null,"Satz 1",null,null,null,null,null,null,null,null,"Satz 1"]
["Veranstaltung",null,null,null,null,null,null,null,null,"Satz 2",null,null,null,null,null,null,null,null,"Satz 2"]
[{"$f":"Select!$C$13","v":"1. April 2019"},null,null,null,null,null,null,null,null,"Satz 3",null,null,null,null,null,null,null,null,"Satz 3"]
["Datum",null,null,null,null,null,null,null,null,"wenn erforderlich",null,null,null,null,null,null,null,null,"wenn erforderlich"]
[null,null,null,null,null,null,null,null,null,"Satz 4",null,null,null,null,null,null,null,null,"Satz 4"]
[null,null,null,null,null,null,null,null,null,"wenn erforderlich",null,null,null,null,null,null,null,null,"wenn erforderlich"]
[{"$f":"'R52_Baum'!$D$54","v":"Krempl Werner"},null,null,null,null,null,null,null,null,"Satz 5",null,null,null,null,null,null,null,null,"Satz 5"]
["Name",null,null,null,null,null,null,null,null,"wenn erforderlich",null,null,null,null,null,null,null,null,"wenn erforderlich"]
[{"$f":"'R52_Baum'!$F$54","v":"BSC Semriach"},null,null,null,null,null,null,null,null,"Stechen",null,null,null,null,null,null,null,null,"Stechen"]
["Verein",null,null,null,null,null,null,null,null,null,null,null,null,null,"gewonnen",null,null,null,null,null,null,null,null,"gewonnen"]
[{"$f":"Select!$C$18","v":"Recurve Herren"},null,null,null,null,null,null,null,null,"Schütze:",null,null,null,null,"verloren",null,null,null,"Schütze:",null,null,null,null,"verloren"]
["Bogenklasse"]
[null,null,null,null,null,null,null,null,null,"Gegner:",null,"Name:",null,null,null,null,null,null,"Gegner:",null,"Name:"]
[null,null,null,null,null,null,null,null,null,null,null,"Unterschrift:",null,null,null,null,null,null,null,null,"Unterschrift:"]
[]
[]
["1/8 Elimination",null,null,null,{"$f":"'R52_Baum'!$M$123","v":"Scheibe: 6B"},null,null,null,null,"1/4 Finale",null,null,null,{"$f":"'R52_Baum'!$Q$119","v":"Scheibe: 8"},null,null,null,null,"1/2 Finale",null,null,null,{"$f":"'R52_Baum'!$U$117","v":"Scheibe: 6"}]
[null,1,2,3,"Summe","Punkte","Ges.",null,null,null,1,2,3,"Summe","Punkte","Ges.",null,null,null,1,2,3,"Summe","Punkte","Ges."]
["Satz 1",null,null,null,null,null,null,null,null,"Satz 1",null,null,null,null,null,null,null,null,"Satz 1"]
["Satz 2",null,null,null,null,null,null,null,null,"Satz 2",null,null,null,null,null,null,null,null,"Satz 2"]
["Satz 3",null,null,null,null,null,null,null,null,"Satz 3",null,null,null,null,null,null,null,null,"Satz 3"]
["wenn erforderlich",null,null,null,null,null,null,null,null,"wenn erforderlich",null,null,null,null,null,null,null,null,"wenn erforderlich"]
["Satz 4",null,null,null,null,null,null,null,null,"Satz 4",null,null,null,null,null,null,null,null,"Satz 4"]
["wenn erforderlich",null,null,null,null,null,null,null,null,"wenn erforderlich",null,null,null,null,null,null,null,null,"wenn erforderlich"]
["Satz 5",null,null,null,null,null,null,null,null,"Satz 5",null,null,null,null,null,null,null,null,"Satz 5"]
["wenn erforderlich",null,null,null,null,null,null,null,null,"wenn erforderlich",null,null,null,null,null,null,null,null,"wenn erforderlich"]
["Stechen",null,null,null,null,null,null,null,null,"Stechen",null,null,null,null,null,null,null,null,"Stechen"]
[null,null,null,null,null,"gewonnen",null,null,null,null,null,null,null,null,"gewonnen",null,null,null,null,null,null,null,null,"gewonnen"]
["Schütze:",null,null,null,null,"verloren",null,null,null,"Schütze:",null,null,null,null,"verloren",null,null,null,"Schütze:",null,null,null,null,"verloren"]
[]
["Gegner:",null,"Name:",null,null,null,null,null,null,"Gegner:",null,"Name:",null,null,null,null,null,null,"Gegner:",null,"Name:"]
[null,null,"Unterschrift:",null,null,null,null,null,null,null,null,"Unterschrift:",null,null,null,null,null,null,null,null,"Unterschrift:"]
[]
[]
[null,null,null,null,null,null,null,null,null,"1/24 Elimination",null,null,null,"Freilos",null,null,null,null,"1/12 Elimination",null,null,null,"Freilos"]
[null,null,null,null,null,null,null,null,null,null,1,2,3,"Summe","Punkte","Ges.",null,null,null,1,2,3,"Summe","Punkte","Ges."]
[{"$f":"Select!$C$12","v":"Demoturnier"},null,null,null,null,null,null,null,null,"Satz 1",null,null,null,null,null,null,null,null,"Satz 1"]
["Veranstaltung",null,null,null,null,null,null,null,null,"Satz 2",null,null,null,null,null,null,null,null,"Satz 2"]
[{"$f":"Select!$C$13","v":"1. April 2019"},null,null,null,null,null,null,null,null,"Satz 3",null,null,null,null,null,null,null,null,"Satz 3"]
["Datum",null,null,null,null,null,null,null,null,"wenn erforderlich",null,null,null,null,null,null,null,null,"wenn erforderlich"]
[null,null,null,null,null,null,null,null,null,"Satz 4",null,null,null,null,null,null,null,null,"Satz 4"]
[null,null,null,null,null,null,null,null,null,"wenn erforderlich",null,null,null,null,null,null,null,null,"wenn erforderlich"]
[{"$f":"'R52_Baum'!$D$57","v":"Strohmaier Joachim"},null,null,null,null,null,null,null,null,"Satz 5",null,null,null,null,null,null,null,null,"Satz 5"]
["Name",null,null,null,null,null,null,null,null,"wenn erforderlich",null,null,null,null,null,null,null,null,"wenn erforderlich"]
[{"$f":"'R52_Baum'!$F$57","v":"BSC Kumberg"},null,null,null,null,null,null,null,null,"Stechen",null,null,null,null,null,null,null,null,"Stechen"]
["Verein",null,null,null,null,null,null,null,null,null,null,null,null,null,"gewonnen",null,null,null,null,null,null,null,null,"gewonnen"]
[{"$f":"Select!$C$18","v":"Recurve Herren"},null,null,null,null,null,null,null,null,"Schütze:",null,null,null,null,"verloren",null,null,null,"Schütze:",null,null,null,null,"verloren"]
["Bogenklasse"]
[null,null,null,null,null,null,null,null,null,"Gegner:",null,"Name:",null,null,null,null,null,null,"Gegner:",null,"Name:"]
[null,null,null,null,null,null,null,null,null,null,null,"Unterschrift:",null,null,null,null,null,null,null,null,"Unterschrift:"]
[]
[]
["1/8 Elimination",null,null,null,{"$f":"'R52_Baum'!$M$124","v":"Scheibe: 7A"},null,null,null,null,"1/4 Finale",null,null,null,{"$f":"'R52_Baum'!$Q$120","v":"Scheibe: 9"},null,null,null,null,"1/2 Finale",null,null,null,{"$f":"'R52_Baum'!$U$118","v":"Scheibe: 7"}]
[null,1,2,3,"Summe","Punkte","Ges.",null,null,null,1,2,3,"Summe","Punkte","Ges.",null,null,null,1,2,3,"Summe","Punkte","Ges."]
["Satz 1",null,null,null,null,null,null,null,null,"Satz 1",null,null,null,null,null,null,null,null,"Satz 1"]
["Satz 2",null,null,null,null,null,null,null,null,"Satz 2",null,null,null,null,null,null,null,null,"Satz 2"]
["Satz 3",null,null,null,null,null,null,null,null,"Satz 3",null,null,null,null,null,null,null,null,"Satz 3"]
["wenn erforderlich",null,null,null,null,null,null,null,null,"wenn erforderlich",null,null,null,null,null,null,null,null,"wenn erforderlich"]
["Satz 4",null,null,null,null,null,null,null,null,"Satz 4",null,null,null,null,null,null,null,null,"Satz 4"]
["wenn erforderlich",null,null,null,null,null,null,null,null,"wenn erforderlich",null,null,null,null,null,null,null,null,"wenn erforderlich"]
["Satz 5",null,null,null,null,null,null,null,null,"Satz 5",null,null,null,null,null,null,null,null,"Satz 5"]
["wenn erforderlich",null,null,null,null,null,null,null,null,"wenn erforderlich",null,null,null,null,null,null,null,null,"wenn erforderlich"]
["Stechen",null,null,null,null,null,null,null,null,"Stechen",null,null,null,null,null,null,null,null,"Stechen"]
[null,null,null,null,null,"gewonnen",null,null,null,null,null,null,null,null,"gewonnen",null,null,null,null,null,null,null,null,"gewonnen"]
["Schütze:",null,null,null,null,"verloren",null,null,null,"Schütze:",null,null,null,null,"verloren",null,null,null,"Schütze:",null,null,null,null,"verloren"]
[]
["Gegner:",null,"Name:",null,null,null,null,null,null,"Gegner:",null,"Name:",null,null,null,null,null,null,"Gegner:",null,"Name:"]
[null,null,"Unterschrift:",null,null,null,null,null,null,null,null,"Unterschrift:",null,null,null,null,null,null,null,null,"Unterschrift:"]
[]
[]
[null,null,null,null,null,null,null,null,null,"1/24 Elimination",null,null,null,{"$f":"'R52_Baum'!$D$140","v":"Scheibe: 15A"},null,null,null,null,"1/12 Elimination",null,null,null,{"$f":"'R52_Baum'!$I$128","v":"Scheibe: 9A"}]
[null,null,null,null,null,null,null,null,null,null,1,2,3,"Summe","Punkte","Ges.",null,null,null,1,2,3,"Summe","Punkte","Ges."]
[{"$f":"Select!$C$12","v":"Demoturnier"},null,null,null,null,null,null,null,null,"Satz 1",null,null,null,null,null,null,null,null,"Satz 1"]
["Veranstaltung",null,null,null,null,null,null,null,null,"Satz 2",null,null,null,null,null,null,null,null,"Satz 2"]
[{"$f":"Select!$C$13","v":"1. April 2019"},null,null,null,null,null,null,null,null,"Satz 3",null,null,null,null,null,null,null,null,"Satz 3"]
["Datum",null,null,null,null,null,null,null,null,"wenn erforderlich",null,null,null,null,null,null,null,null,"wenn erforderlich"]
[null,null,null,null,null,null,null,null,null,"Satz 4",null,null,null,null,null,null,null,null,"Satz 4"]
[null,null,null,null,null,null,null,null,null,"wenn erforderlich",null,null,null,null,null,null,null,null,"wenn erforderlich"]
[{"$f":"'R52_Baum'!$D$60","v":"Winkler Klaus"},null,null,null,null,null,null,null,null,"Satz 5",null,null,null,null,null,null,null,null,"Satz 5"]
["Name",null,null,null,null,null,null,null,null,"wenn erforderlich",null,null,null,null,null,null,null,null,"wenn erforderlich"]
[{"$f":"'R52_Baum'!$F$60","v":"BSC Enzenreith"},null,null,null,null,null,null,null,null,"Stechen",null,null,null,null,null,null,null,null,"Stechen"]
["Verein",null,null,null,null,null,null,null,null,null,null,null,null,null,"gewonnen",null,null,null,null,null,null,null,null,"gewonnen"]
[{"$f":"Select!$C$18","v":"Recurve Herren"},null,null,null,null,null,null,null,null,"Schütze:",null,null,null,null,"verloren",null,null,null,"Schütze:",null,null,null,null,"verloren"]
["Bogenklasse"]
[null,null,null,null,null,null,null,null,null,"Gegner:",null,"Name:",null,null,null,null,null,null,"Gegner:",null,"Name:"]
[null,null,null,null,null,null,null,null,null,null,null,"Unterschrift:",null,null,null,null,null,null,null,null,"Unterschrift:"]
[]
[]
["1/8 Elimination",null,null,null,{"$f":"'R52_Baum'!$M$125","v":"Scheibe: 7B"},null,null,null,null,"1/4 Finale",null,null,null,{"$f":"'R52_Baum'!$Q$120","v":"Scheibe: 9"},null,null,null,null,"1/2 Finale",null,null,null,{"$f":"'R52_Baum'!$U$118","v":"Scheibe: 7"}]
[null,1,2,3,"Summe","Punkte","Ges.",null,null,null,1,2,3,"Summe","Punkte","Ges.",null,null,null,1,2,3,"Summe","Punkte","Ges."]
["Satz 1",null,null,null,null,null,null,null,null,"Satz 1",null,null,null,null,null,null,null,null,"Satz 1"]
["Satz 2",null,null,null,null,null,null,null,null,"Satz 2",null,null,null,null,null,null,null,null,"Satz 2"]
["Satz 3",null,null,null,null,null,null,null,null,"Satz 3",null,null,null,null,null,null,null,null,"Satz 3"]
["wenn erforderlich",null,null,null,null,null,null,null,null,"wenn erforderlich",null,null,null,null,null,null,null,null,"wenn erforderlich"]
["Satz 4",null,null,null,null,null,null,null,null,"Satz 4",null,null,null,null,null,null,null,null,"Satz 4"]
["wenn erforderlich",null,null,null,null,null,null,null,null,"wenn erforderlich",null,null,null,null,null,null,null,null,"wenn erforderlich"]
["Satz 5",null,null,null,null,null,null,null,null,"Satz 5",null,null,null,null,null,null,null,null,"Satz 5"]
["wenn erforderlich",null,null,null,null,null,null,null,null,"wenn erforderlich",null,null,null,null,null,null,null,null,"wenn erforderlich"]
["Stechen",null,null,null,null,null,null,null,null,"Stechen",null,null,null,null,null,null,null,null,"Stechen"]
[null,null,null,null,null,"gewonnen",null,null,null,null,null,null,null,null,"gewonnen",null,null,null,null,null,null,null,null,"gewonnen"]
["Schütze:",null,null,null,null,"verloren",null,null,null,"Schütze:",null,null,null,null,"verloren",null,null,null,"Schütze:",null,null,null,null,"verloren"]
[]
["Gegner:",null,"Name:",null,null,null,null,null,null,"Gegner:",null,"Name:",null,null,null,null,null,null,"Gegner:",null,"Name:"]
[null,null,"Unterschrift:",null,null,null,null,null,null,null,null,"Unterschrift:",null,null,null,null,null,null,null,null,"Unterschrift:"]
[]
[]
[null,null,null,null,null,null,null,null,null,"1/24 Elimination",null,null,null,{"$f":"'R52_Baum'!$D$141","v":"Scheibe: 15B"},null,null,null,null,"1/12 Elimination",null,null,null,{"$f":"'R52_Baum'!$I$128","v":"Scheibe: 9A"}]
[null,null,null,null,null,null,null,null,null,null,1,2,3,"Summe","Punkte","Ges.",null,null,null,1,2,3,"Summe","Punkte","Ges."]
[{"$f":"Select!$C$12","v":"Demoturnier"},null,null,null,null,null,null,null,null,"Satz 1",null,null,null,null,null,null,null,null,"Satz 1"]
["Veranstaltung",null,null,null,null,null,null,null,null,"Satz 2",null,null,null,null,null,null,null,null,"Satz 2"]
[{"$f":"Select!$C$13","v":"1. April 2019"},null,null,null,null,null,null,null,null,"Satz 3",null,null,null,null,null,null,null,null,"Satz 3"]
["Datum",null,null,null,null,null,null,null,null,"wenn erforderlich",null,null,null,null,null,null,null,null,"wenn erforderlich"]
[null,null,null,null,null,null,null,null,null,"Satz 4",null,null,null,null,null,null,null,null,"Satz 4"]
[null,null,null,null,null,null,null,null,null,"wenn erforderlich",null,null,null,null,null,null,null,null,"wenn erforderlich"]
[{"$f":"'R52_Baum'!$D$61","v":"Greis Christian"},null,null,null,null,null,null,null,null,"Satz 5",null,null,null,null,null,null,null,null,"Satz 5"]
["Name",null,null,null,null,null,null,null,null,"wenn erforderlich",null,null,null,null,null,null,null,null,"wenn erforderlich"]
[{"$f":"'R52_Baum'!$F$61","v":"BSV Spannberg"},null,null,null,null,null,null,null,null,"Stechen",null,null,null,null,null,null,null,null,"Stechen"]
["Verein",null,null,null,null,null,null,null,null,null,null,null,null,null,"gewonnen",null,null,null,null,null,null,null,null,"gewonnen"]
[{"$f":"Select!$C$18","v":"Recurve Herren"},null,null,null,null,null,null,null,null,"Schütze:",null,null,null,null,"verloren",null,null,null,"Schütze:",null,null,null,null,"verloren"]
["Bogenklasse"]
[null,null,null,null,null,null,null,null,null,"Gegner:",null,"Name:",null,null,null,null,null,null,"Gegner:",null,"Name:"]
[null,null,null,null,null,null,null,null,null,null,null,"Unterschrift:",null,null,null,null,null,null,null,null,"Unterschrift:"]
[]
[]
["1/8 Elimination",null,null,null,{"$f":"'R52_Baum'!$M$125","v":"Scheibe: 7B"},null,null,null,null,"1/4 Finale",null,null,null,{"$f":"'R52_Baum'!$Q$120","v":"Scheibe: 9"},null,null,null,null,"1/2 Finale",null,null,null,{"$f":"'R52_Baum'!$U$118","v":"Scheibe: 7"}]
[null,1,2,3,"Summe","Punkte","Ges.",null,null,null,1,2,3,"Summe","Punkte","Ges.",null,null,null,1,2,3,"Summe","Punkte","Ges."]
["Satz 1",null,null,null,null,null,null,null,null,"Satz 1",null,null,null,null,null,null,null,null,"Satz 1"]
["Satz 2",null,null,null,null,null,null,null,null,"Satz 2",null,null,null,null,null,null,null,null,"Satz 2"]
["Satz 3",null,null,null,null,null,null,null,null,"Satz 3",null,null,null,null,null,null,null,null,"Satz 3"]
["wenn erforderlich",null,null,null,null,null,null,null,null,"wenn erforderlich",null,null,null,null,null,null,null,null,"wenn erforderlich"]
["Satz 4",null,null,null,null,null,null,null,null,"Satz 4",null,null,null,null,null,null,null,null,"Satz 4"]
["wenn erforderlich",null,null,null,null,null,null,null,null,"wenn erforderlich",null,null,null,null,null,null,null,null,"wenn erforderlich"]
["Satz 5",null,null,null,null,null,null,null,null,"Satz 5",null,null,null,null,null,null,null,null,"Satz 5"]
["wenn erforderlich",null,null,null,null,null,null,null,null,"wenn erforderlich",null,null,null,null,null,null,null,null,"wenn erforderlich"]
["Stechen",null,null,null,null,null,null,null,null,"Stechen",null,null,null,null,null,null,null,null,"Stechen"]
[null,null,null,null,null,"gewonnen",null,null,null,null,null,null,null,null,"gewonnen",null,null,null,null,null,null,null,null,"gewonnen"]
["Schütze:",null,null,null,null,"verloren",null,null,null,"Schütze:",null,null,null,null,"verloren",null,null,null,"Schütze:",null,null,null,null,"verloren"]
[]
["Gegner:",null,"Name:",null,null,null,null,null,null,"Gegner:",null,"Name:",null,null,null,null,null,null,"Gegner:",null,"Name:"]
[null,null,"Unterschrift:",null,null,null,null,null,null,null,null,"Unterschrift:",null,null,null,null,null,null,null,null,"Unterschrift:"]
[]
[]
[null,null,null,null,null,null,null,null,null,"1/24 Elimination",null,null,null,{"$f":"'R52_Baum'!$D$142","v":"Scheibe: 16A"},null,null,null,null,"1/12 Elimination",null,null,null,{"$f":"'R52_Baum'!$I$129","v":"Scheibe: 9B"}]
[null,null,null,null,null,null,null,null,null,null,1,2,3,"Summe","Punkte","Ges.",null,null,null,1,2,3,"Summe","Punkte","Ges."]
[{"$f":"Select!$C$12","v":"Demoturnier"},null,null,null,null,null,null,null,null,"Satz 1",null,null,null,null,null,null,null,null,"Satz 1"]
["Veranstaltung",null,null,null,null,null,null,null,null,"Satz 2",null,null,null,null,null,null,null,null,"Satz 2"]
[{"$f":"Select!$C$13","v":"1. April 2019"},null,null,null,null,null,null,null,null,"Satz 3",null,null,null,null,null,null,null,null,"Satz 3"]
["Datum",null,null,null,null,null,null,null,null,"wenn erforderlich",null,null,null,null,null,null,null,null,"wenn erforderlich"]
[null,null,null,null,null,null,null,null,null,"Satz 4",null,null,null,null,null,null,null,null,"Satz 4"]
[null,null,null,null,null,null,null,null,null,"wenn erforderlich",null,null,null,null,null,null,null,null,"wenn erforderlich"]
[{"$f":"'R52_Baum'!$D$64","v":"Galler Joachim"},null,null,null,null,null,null,null,null,"Satz 5",null,null,null,null,null,null,null,null,"Satz 5"]
["Name",null,null,null,null,null,null,null,null,"wenn erforderlich",null,null,null,null,null,null,null,null,"wenn erforderlich"]
[{"$f":"'R52_Baum'!$F$64","v":"BSV Mattersburg"},null,null,null,null,null,null,null,null,"Stechen",null,null,null,null,null,null,null,null,"Stechen"]
["Verein",null,null,null,null,null,null,null,null,null,null,null,null,null,"gewonnen",null,null,null,null,null,null,null,null,"gewonnen"]
[{"$f":"Select!$C$18","v":"Recurve Herren"},null,null,null,null,null,null,null,null,"Schütze:",null,null,null,null,"verloren",null,null,null,"Schütze:",null,null,null,null,"verloren"]
["Bogenklasse"]
[null,null,null,null,null,null,null,null,null,"Gegner:",null,"Name:",null,null,null,null,null,null,"Gegner:",null,"Name:"]
[null,null,null,null,null,null,null,null,null,null,null,"Unterschrift:",null,null,null,null,null,null,null,null,"Unterschrift:"]
[]
[]
["1/8 Elimination",null,null,null,{"$f":"'R52_Baum'!$M$125","v":"Scheibe: 7B"},null,null,null,null,"1/4 Finale",null,null,null,{"$f":"'R52_Baum'!$Q$120","v":"Scheibe: 9"},null,null,null,null,"1/2 Finale",null,null,null,{"$f":"'R52_Baum'!$U$118","v":"Scheibe: 7"}]
[null,1,2,3,"Summe","Punkte","Ges.",null,null,null,1,2,3,"Summe","Punkte","Ges.",null,null,null,1,2,3,"Summe","Punkte","Ges."]
["Satz 1",null,null,null,null,null,null,null,null,"Satz 1",null,null,null,null,null,null,null,null,"Satz 1"]
["Satz 2",null,null,null,null,null,null,null,null,"Satz 2",null,null,null,null,null,null,null,null,"Satz 2"]
["Satz 3",null,null,null,null,null,null,null,null,"Satz 3",null,null,null,null,null,null,null,null,"Satz 3"]
["wenn erforderlich",null,null,null,null,null,null,null,null,"wenn erforderlich",null,null,null,null,null,null,null,null,"wenn erforderlich"]
["Satz 4",null,null,null,null,null,null,null,null,"Satz 4",null,null,null,null,null,null,null,null,"Satz 4"]
["wenn erforderlich",null,null,null,null,null,null,null,null,"wenn erforderlich",null,null,null,null,null,null,null,null,"wenn erforderlich"]
["Satz 5",null,null,null,null,null,null,null,null,"Satz 5",null,null,null,null,null,null,null,null,"Satz 5"]
["wenn erforderlich",null,null,null,null,null,null,null,null,"wenn erforderlich",null,null,null,null,null,null,null,null,"wenn erforderlich"]
["Stechen",null,null,null,null,null,null,null,null,"Stechen",null,null,null,null,null,null,null,null,"Stechen"]
[null,null,null,null,null,"gewonnen",null,null,null,null,null,null,null,null,"gewonnen",null,null,null,null,null,null,null,null,"gewonnen"]
["Schütze:",null,null,null,null,"verloren",null,null,null,"Schütze:",null,null,null,null,"verloren",null,null,null,"Schütze:",null,null,null,null,"verloren"]
[]
["Gegner:",null,"Name:",null,null,null,null,null,null,"Gegner:",null,"Name:",null,null,null,null,null,null,"Gegner:",null,"Name:"]
[null,null,"Unterschrift:",null,null,null,null,null,null,null,null,"Unterschrift:",null,null,null,null,null,null,null,null,"Unterschrift:"]
[]
[]
[null,null,null,null,null,null,null,null,null,"1/24 Elimination",null,null,null,{"$f":"'R52_Baum'!$D$143","v":"Scheibe: 16B"},null,null,null,null,"1/12 Elimination",null,null,null,{"$f":"'R52_Baum'!$I$129","v":"Scheibe: 9B"}]
[null,null,null,null,null,null,null,null,null,null,1,2,3,"Summe","Punkte","Ges.",null,null,null,1,2,3,"Summe","Punkte","Ges."]
[{"$f":"Select!$C$12","v":"Demoturnier"},null,null,null,null,null,null,null,null,"Satz 1",null,null,null,null,null,null,null,null,"Satz 1"]
["Veranstaltung",null,null,null,null,null,null,null,null,"Satz 2",null,null,null,null,null,null,null,null,"Satz 2"]
[{"$f":"Select!$C$13","v":"1. April 2019"},null,null,null,null,null,null,null,null,"Satz 3",null,null,null,null,null,null,null,null,"Satz 3"]
["Datum",null,null,null,null,null,null,null,null,"wenn erforderlich",null,null,null,null,null,null,null,null,"wenn erforderlich"]
[null,null,null,null,null,null,null,null,null,"Satz 4",null,null,null,null,null,null,null,null,"Satz 4"]
[null,null,null,null,null,null,null,null,null,"wenn erforderlich",null,null,null,null,null,null,null,null,"wenn erforderlich"]
[{"$f":"'R52_Baum'!$D$65","v":"Schramm Wolfgang"},null,null,null,null,null,null,null,null,"Satz 5",null,null,null,null,null,null,null,null,"Satz 5"]
["Name",null,null,null,null,null,null,null,null,"wenn erforderlich",null,null,null,null,null,null,null,null,"wenn erforderlich"]
[{"$f":"'R52_Baum'!$F$65","v":"LINZ AG Sport - Sektion Bogen"},null,null,null,null,null,null,null,null,"Stechen",null,null,null,null,null,null,null,null,"Stechen"]
["Verein",null,null,null,null,null,null,null,null,null,null,null,null,null,"gewonnen",null,null,null,null,null,null,null,null,"gewonnen"]
[{"$f":"Select!$C$18","v":"Recurve Herren"},null,null,null,null,null,null,null,null,"Schütze:",null,null,null,null,"verloren",null,null,null,"Schütze:",null,null,null,null,"verloren"]
["Bogenklasse"]
[null,null,null,null,null,null,null,null,null,"Gegner:",null,"Name:",null,null,null,null,null,null,"Gegner:",null,"Name:"]
[null,null,null,null,null,null,null,null,null,null,null,"Unterschrift:",null,null,null,null,null,null,null,null,"Unterschrift:"]
[]
[]
["1/8 Elimination",null,null,null,{"$f":"'R52_Baum'!$M$125","v":"Scheibe: 7B"},null,null,null,null,"1/4 Finale",null,null,null,{"$f":"'R52_Baum'!$Q$120","v":"Scheibe: 9"},null,null,null,null,"1/2 Finale",null,null,null,{"$f":"'R52_Baum'!$U$118","v":"Scheibe: 7"}]
[null,1,2,3,"Summe","Punkte","Ges.",null,null,null,1,2,3,"Summe","Punkte","Ges.",null,null,null,1,2,3,"Summe","Punkte","Ges."]
["Satz 1",null,null,null,null,null,null,null,null,"Satz 1",null,null,null,null,null,null,null,null,"Satz 1"]
["Satz 2",null,null,null,null,null,null,null,null,"Satz 2",null,null,null,null,null,null,null,null,"Satz 2"]
["Satz 3",null,null,null,null,null,null,null,null,"Satz 3",null,null,null,null,null,null,null,null,"Satz 3"]
["wenn erforderlich",null,null,null,null,null,null,null,null,"wenn erforderlich",null,null,null,null,null,null,null,null,"wenn erforderlich"]
["Satz 4",null,null,null,null,null,null,null,null,"Satz 4",null,null,null,null,null,null,null,null,"Satz 4"]
["wenn erforderlich",null,null,null,null,null,null,null,null,"wenn erforderlich",null,null,null,null,null,null,null,null,"wenn erforderlich"]
["Satz 5",null,null,null,null,null,null,null,null,"Satz 5",null,null,null,null,null,null,null,null,"Satz 5"]
["wenn erforderlich",null,null,null,null,null,null,null,null,"wenn erforderlich",null,null,null,null,null,null,null,null,"wenn erforderlich"]
["Stechen",null,null,null,null,null,null,null,null,"Stechen",null,null,null,null,null,null,null,null,"Stechen"]
[null,null,null,null,null,"gewonnen",null,null,null,null,null,null,null,null,"gewonnen",null,null,null,null,null,null,null,null,"gewonnen"]
["Schütze:",null,null,null,null,"verloren",null,null,null,"Schütze:",null,null,null,null,"verloren",null,null,null,"Schütze:",null,null,null,null,"verloren"]
[]
["Gegner:",null,"Name:",null,null,null,null,null,null,"Gegner:",null,"Name:",null,null,null,null,null,null,"Gegner:",null,"Name:"]
[null,null,"Unterschrift:",null,null,null,null,null,null,null,null,"Unterschrift:",null,null,null,null,null,null,null,null,"Unterschrift:"]
[]
[]
[null,null,null,null,null,null,null,null,null,"1/24 Elimination",null,null,null,{"$f":"'R52_Baum'!$D$144","v":"Scheibe: 17A"},null,null,null,null,"1/12 Elimination",null,null,null,{"$f":"'R52_Baum'!$I$130","v":"Scheibe: 10A"}]
[null,null,null,null,null,null,null,null,null,null,1,2,3,"Summe","Punkte","Ges.",null,null,null,1,2,3,"Summe","Punkte","Ges."]
[{"$f":"Select!$C$12","v":"Demoturnier"},null,null,null,null,null,null,null,null,"Satz 1",null,null,null,null,null,null,null,null,"Satz 1"]
["Veranstaltung",null,null,null,null,null,null,null,null,"Satz 2",null,null,null,null,null,null,null,null,"Satz 2"]
[{"$f":"Select!$C$13","v":"1. April 2019"},null,null,null,null,null,null,null,null,"Satz 3",null,null,null,null,null,null,null,null,"Satz 3"]
["Datum",null,null,null,null,null,null,null,null,"wenn erforderlich",null,null,null,null,null,null,null,null,"wenn erforderlich"]
[null,null,null,null,null,null,null,null,null,"Satz 4",null,null,null,null,null,null,null,null,"Satz 4"]
[null,null,null,null,null,null,null,null,null,"wenn erforderlich",null,null,null,null,null,null,null,null,"wenn erforderlich"]
[{"$f":"'R52_Baum'!$D$68","v":"Reicher Ernst"},null,null,null,null,null,null,null,null,"Satz 5",null,null,null,null,null,null,null,null,"Satz 5"]
["Name",null,null,null,null,null,null,null,null,"wenn erforderlich",null,null,null,null,null,null,null,null,"wenn erforderlich"]
[{"$f":"'R52_Baum'!$F$68","v":"BSC Wörthersee"},null,null,null,null,null,null,null,null,"Stechen",null,null,null,null,null,null,null,null,"Stechen"]
["Verein",null,null,null,null,null,null,null,null,null,null,null,null,null,"gewonnen",null,null,null,null,null,null,null,null,"gewonnen"]
[{"$f":"Select!$C$18","v":"Recurve Herren"},null,null,null,null,null,null,null,null,"Schütze:",null,null,null,null,"verloren",null,null,null,"Schütze:",null,null,null,null,"verloren"]
["Bogenklasse"]
[null,null,null,null,null,null,null,null,null,"Gegner:",null,"Name:",null,null,null,null,null,null,"Gegner:",null,"Name:"]
[null,null,null,null,null,null,null,null,null,null,null,"Unterschrift:",null,null,null,null,null,null,null,null,"Unterschrift:"]
[]
[]
["1/8 Elimination",null,null,null,{"$f":"'R52_Baum'!$M$126","v":"Scheibe: 8A"},null,null,null,null,"1/4 Finale",null,null,null,{"$f":"'R52_Baum'!$Q$121","v":"Scheibe: 10"},null,null,null,null,"1/2 Finale",null,null,null,{"$f":"'R52_Baum'!$U$118","v":"Scheibe: 7"}]
[null,1,2,3,"Summe","Punkte","Ges.",null,null,null,1,2,3,"Summe","Punkte","Ges.",null,null,null,1,2,3,"Summe","Punkte","Ges."]
["Satz 1",null,null,null,null,null,null,null,null,"Satz 1",null,null,null,null,null,null,null,null,"Satz 1"]
["Satz 2",null,null,null,null,null,null,null,null,"Satz 2",null,null,null,null,null,null,null,null,"Satz 2"]
["Satz 3",null,null,null,null,null,null,null,null,"Satz 3",null,null,null,null,null,null,null,null,"Satz 3"]
["wenn erforderlich",null,null,null,null,null,null,null,null,"wenn erforderlich",null,null,null,null,null,null,null,null,"wenn erforderlich"]
["Satz 4",null,null,null,null,null,null,null,null,"Satz 4",null,null,null,null,null,null,null,null,"Satz 4"]
["wenn erforderlich",null,null,null,null,null,null,null,null,"wenn erforderlich",null,null,null,null,null,null,null,null,"wenn erforderlich"]
["Satz 5",null,null,null,null,null,null,null,null,"Satz 5",null,null,null,null,null,null,null,null,"Satz 5"]
["wenn erforderlich",null,null,null,null,null,null,null,null,"wenn erforderlich",null,null,null,null,null,null,null,null,"wenn erforderlich"]
["Stechen",null,null,null,null,null,null,null,null,"Stechen",null,null,null,null,null,null,null,null,"Stechen"]
[null,null,null,null,null,"gewonnen",null,null,null,null,null,null,null,null,"gewonnen",null,null,null,null,null,null,null,null,"gewonnen"]
["Schütze:",null,null,null,null,"verloren",null,null,null,"Schütze:",null,null,null,null,"verloren",null,null,null,"Schütze:",null,null,null,null,"verloren"]
[]
["Gegner:",null,"Name:",null,null,null,null,null,null,"Gegner:",null,"Name:",null,null,null,null,null,null,"Gegner:",null,"Name:"]
[null,null,"Unterschrift:",null,null,null,null,null,null,null,null,"Unterschrift:",null,null,null,null,null,null,null,null,"Unterschrift:"]
[]
[]
[null,null,null,null,null,null,null,null,null,"1/24 Elimination",null,null,null,{"$f":"'R52_Baum'!$D$145","v":"Scheibe: 17B"},null,null,null,null,"1/12 Elimination",null,null,null,{"$f":"'R52_Baum'!$I$130","v":"Scheibe: 10A"}]
[null,null,null,null,null,null,null,null,null,null,1,2,3,"Summe","Punkte","Ges.",null,null,null,1,2,3,"Summe","Punkte","Ges."]
[{"$f":"Select!$C$12","v":"Demoturnier"},null,null,null,null,null,null,null,null,"Satz 1",null,null,null,null,null,null,null,null,"Satz 1"]
["Veranstaltung",null,null,null,null,null,null,null,null,"Satz 2",null,null,null,null,null,null,null,null,"Satz 2"]
[{"$f":"Select!$C$13","v":"1. April 2019"},null,null,null,null,null,null,null,null,"Satz 3",null,null,null,null,null,null,null,null,"Satz 3"]
["Datum",null,null,null,null,null,null,null,null,"wenn erforderlich",null,null,null,null,null,null,null,null,"wenn erforderlich"]
[null,null,null,null,null,null,null,null,null,"Satz 4",null,null,null,null,null,null,null,null,"Satz 4"]
[null,null,null,null,null,null,null,null,null,"wenn erforderlich",null,null,null,null,null,null,null,null,"wenn erforderlich"]
[{"$f":"'R52_Baum'!$D$69","v":"Doppler Wolfgang"},null,null,null,null,null,null,null,null,"Satz 5",null,null,null,null,null,null,null,null,"Satz 5"]
["Name",null,null,null,null,null,null,null,null,"wenn erforderlich",null,null,null,null,null,null,null,null,"wenn erforderlich"]
[{"$f":"'R52_Baum'!$F$69","v":"Union BSC Ried"},null,null,null,null,null,null,null,null,"Stechen",null,null,null,null,null,null,null,null,"Stechen"]
["Verein",null,null,null,null,null,null,null,null,null,null,null,null,null,"gewonnen",null,null,null,null,null,null,null,null,"gewonnen"]
[{"$f":"Select!$C$18","v":"Recurve Herren"},null,null,null,null,null,null,null,null,"Schütze:",null,null,null,null,"verloren",null,null,null,"Schütze:",null,null,null,null,"verloren"]
["Bogenklasse"]
[null,null,null,null,null,null,null,null,null,"Gegner:",null,"Name:",null,null,null,null,null,null,"Gegner:",null,"Name:"]
[null,null,null,null,null,null,null,null,null,null,null,"Unterschrift:",null,null,null,null,null,null,null,null,"Unterschrift:"]
[]
[]
["1/8 Elimination",null,null,null,{"$f":"'R52_Baum'!$M$126","v":"Scheibe: 8A"},null,null,null,null,"1/4 Finale",null,null,null,{"$f":"'R52_Baum'!$Q$121","v":"Scheibe: 10"},null,null,null,null,"1/2 Finale",null,null,null,{"$f":"'R52_Baum'!$U$118","v":"Scheibe: 7"}]
[null,1,2,3,"Summe","Punkte","Ges.",null,null,null,1,2,3,"Summe","Punkte","Ges.",null,null,null,1,2,3,"Summe","Punkte","Ges."]
["Satz 1",null,null,null,null,null,null,null,null,"Satz 1",null,null,null,null,null,null,null,null,"Satz 1"]
["Satz 2",null,null,null,null,null,null,null,null,"Satz 2",null,null,null,null,null,null,null,null,"Satz 2"]
["Satz 3",null,null,null,null,null,null,null,null,"Satz 3",null,null,null,null,null,null,null,null,"Satz 3"]
["wenn erforderlich",null,null,null,null,null,null,null,null,"wenn erforderlich",null,null,null,null,null,null,null,null,"wenn erforderlich"]
["Satz 4",null,null,null,null,null,null,null,null,"Satz 4",null,null,null,null,null,null,null,null,"Satz 4"]
["wenn erforderlich",null,null,null,null,null,null,null,null,"wenn erforderlich",null,null,null,null,null,null,null,null,"wenn erforderlich"]
["Satz 5",null,null,null,null,null,null,null,null,"Satz 5",null,null,null,null,null,null,null,null,"Satz 5"]
["wenn erforderlich",null,null,null,null,null,null,null,null,"wenn erforderlich",null,null,null,null,null,null,null,null,"wenn erforderlich"]
["Stechen",null,null,null,null,null,null,null,null,"Stechen",null,null,null,null,null,null,null,null,"Stechen"]
[null,null,null,null,null,"gewonnen",null,null,null,null,null,null,null,null,"gewonnen",null,null,null,null,null,null,null,null,"gewonnen"]
["Schütze:",null,null,null,null,"verloren",null,null,null,"Schütze:",null,null,null,null,"verloren",null,null,null,"Schütze:",null,null,null,null,"verloren"]
[]
["Gegner:",null,"Name:",null,null,null,null,null,null,"Gegner:",null,"Name:",null,null,null,null,null,null,"Gegner:",null,"Name:"]
[null,null,"Unterschrift:",null,null,null,null,null,null,null,null,"Unterschrift:",null,null,null,null,null,null,null,null,"Unterschrift:"]
[]
[]
[null,null,null,null,null,null,null,null,null,"1/24 Elimination",null,null,null,{"$f":"'R52_Baum'!$D$146","v":"Scheibe: 18A"},null,null,null,null,"1/12 Elimination",null,null,null,{"$f":"'R52_Baum'!$I$131","v":"Scheibe: 10B"}]
[null,null,null,null,null,null,null,null,null,null,1,2,3,"Summe","Punkte","Ges.",null,null,null,1,2,3,"Summe","Punkte","Ges."]
[{"$f":"Select!$C$12","v":"Demoturnier"},null,null,null,null,null,null,null,null,"Satz 1",null,null,null,null,null,null,null,null,"Satz 1"]
["Veranstaltung",null,null,null,null,null,null,null,null,"Satz 2",null,null,null,null,null,null,null,null,"Satz 2"]
[{"$f":"Select!$C$13","v":"1. April 2019"},null,null,null,null,null,null,null,null,"Satz 3",null,null,null,null,null,null,null,null,"Satz 3"]
["Datum",null,null,null,null,null,null,null,null,"wenn erforderlich",null,null,null,null,null,null,null,null,"wenn erforderlich"]
[null,null,null,null,null,null,null,null,null,"Satz 4",null,null,null,null,null,null,null,null,"Satz 4"]
[null,null,null,null,null,null,null,null,null,"wenn erforderlich",null,null,null,null,null,null,null,null,"wenn erforderlich"]
[{"$f":"'R52_Baum'!$D$72","v":"Hochbaumer Thomas"},null,null,null,null,null,null,null,null,"Satz 5",null,null,null,null,null,null,null,null,"Satz 5"]
["Name",null,null,null,null,null,null,null,null,"wenn erforderlich",null,null,null,null,null,null,null,null,"wenn erforderlich"]
[{"$f":"'R52_Baum'!$F$72","v":"Austrian Free Archer"},null,null,null,null,null,null,null,null,"Stechen",null,null,null,null,null,null,null,null,"Stechen"]
["Verein",null,null,null,null,null,null,null,null,null,null,null,null,null,"gewonnen",null,null,null,null,null,null,null,null,"gewonnen"]
[{"$f":"Select!$C$18","v":"Recurve Herren"},null,null,null,null,null,null,null,null,"Schütze:",null,null,null,null,"verloren",null,null,null,"Schütze:",null,null,null,null,"verloren"]
["Bogenklasse"]
[null,null,null,null,null,null,null,null,null,"Gegner:",null,"Name:",null,null,null,null,null,null,"Gegner:",null,"Name:"]
[null,null,null,null,null,null,null,null,null,null,null,"Unterschrift:",null,null,null,null,null,null,null,null,"Unterschrift:"]
[]
[]
["1/8 Elimination",null,null,null,{"$f":"'R52_Baum'!$M$126","v":"Scheibe: 8A"},null,null,null,null,"1/4 Finale",null,null,null,{"$f":"'R52_Baum'!$Q$121","v":"Scheibe: 10"},null,null,null,null,"1/2 Finale",null,null,null,{"$f":"'R52_Baum'!$U$118","v":"Scheibe: 7"}]
[null,1,2,3,"Summe","Punkte","Ges.",null,null,null,1,2,3,"Summe","Punkte","Ges.",null,null,null,1,2,3,"Summe","Punkte","Ges."]
["Satz 1",null,null,null,null,null,null,null,null,"Satz 1",null,null,null,null,null,null,null,null,"Satz 1"]
["Satz 2",null,null,null,null,null,null,null,null,"Satz 2",null,null,null,null,null,null,null,null,"Satz 2"]
["Satz 3",null,null,null,null,null,null,null,null,"Satz 3",null,null,null,null,null,null,null,null,"Satz 3"]
["wenn erforderlich",null,null,null,null,null,null,null,null,"wenn erforderlich",null,null,null,null,null,null,null,null,"wenn erforderlich"]
["Satz 4",null,null,null,null,null,null,null,null,"Satz 4",null,null,null,null,null,null,null,null,"Satz 4"]
["wenn erforderlich",null,null,null,null,null,null,null,null,"wenn erforderlich",null,null,null,null,null,null,null,null,"wenn erforderlich"]
["Satz 5",null,null,null,null,null,null,null,null,"Satz 5",null,null,null,null,null,null,null,null,"Satz 5"]
["wenn erforderlich",null,null,null,null,null,null,null,null,"wenn erforderlich",null,null,null,null,null,null,null,null,"wenn erforderlich"]
["Stechen",null,null,null,null,null,null,null,null,"Stechen",null,null,null,null,null,null,null,null,"Stechen"]
[null,null,null,null,null,"gewonnen",null,null,null,null,null,null,null,null,"gewonnen",null,null,null,null,null,null,null,null,"gewonnen"]
["Schütze:",null,null,null,null,"verloren",null,null,null,"Schütze:",null,null,null,null,"verloren",null,null,null,"Schütze:",null,null,null,null,"verloren"]
[]
["Gegner:",null,"Name:",null,null,null,null,null,null,"Gegner:",null,"Name:",null,null,null,null,null,null,"Gegner:",null,"Name:"]
[null,null,"Unterschrift:",null,null,null,null,null,null,null,null,"Unterschrift:",null,null,null,null,null,null,null,null,"Unterschrift:"]
[]
[]
[null,null,null,null,null,null,null,null,null,"1/24 Elimination",null,null,null,{"$f":"'R52_Baum'!$D$147","v":"Scheibe: 18B"},null,null,null,null,"1/12 Elimination",null,null,null,{"$f":"'R52_Baum'!$I$131","v":"Scheibe: 10B"}]
[null,null,null,null,null,null,null,null,null,null,1,2,3,"Summe","Punkte","Ges.",null,null,null,1,2,3,"Summe","Punkte","Ges."]
[{"$f":"Select!$C$12","v":"Demoturnier"},null,null,null,null,null,null,null,null,"Satz 1",null,null,null,null,null,null,null,null,"Satz 1"]
["Veranstaltung",null,null,null,null,null,null,null,null,"Satz 2",null,null,null,null,null,null,null,null,"Satz 2"]
[{"$f":"Select!$C$13","v":"1. April 2019"},null,null,null,null,null,null,null,null,"Satz 3",null,null,null,null,null,null,null,null,"Satz 3"]
["Datum",null,null,null,null,null,null,null,null,"wenn erforderlich",null,null,null,null,null,null,null,null,"wenn erforderlich"]
[null,null,null,null,null,null,null,null,null,"Satz 4",null,null,null,null,null,null,null,null,"Satz 4"]
[null,null,null,null,null,null,null,null,null,"wenn erforderlich",null,null,null,null,null,null,null,null,"wenn erforderlich"]
[{"$f":"'R52_Baum'!$D$73","v":"Schütz Raimund"},null,null,null,null,null,null,null,null,"Satz 5",null,null,null,null,null,null,null,null,"Satz 5"]
["Name",null,null,null,null,null,null,null,null,"wenn erforderlich",null,null,null,null,null,null,null,null,"wenn erforderlich"]
[{"$f":"'R52_Baum'!$F$73","v":"TBs Weinviertel"},null,null,null,null,null,null,null,null,"Stechen",null,null,null,null,null,null,null,null,"Stechen"]
["Verein",null,null,null,null,null,null,null,null,null,null,null,null,null,"gewonnen",null,null,null,null,null,null,null,null,"gewonnen"]
[{"$f":"Select!$C$18","v":"Recurve Herren"},null,null,null,null,null,null,null,null,"Schütze:",null,null,null,null,"verloren",null,null,null,"Schütze:",null,null,null,null,"verloren"]
["Bogenklasse"]
[null,null,null,null,null,null,null,null,null,"Gegner:",null,"Name:",null,null,null,null,null,null,"Gegner:",null,"Name:"]
[null,null,null,null,null,null,null,null,null,null,null,"Unterschrift:",null,null,null,null,null,null,null,null,"Unterschrift:"]
[]
[]
["1/8 Elimination",null,null,null,{"$f":"'R52_Baum'!$M$126","v":"Scheibe: 8A"},null,null,null,null,"1/4 Finale",null,null,null,{"$f":"'R52_Baum'!$Q$121","v":"Scheibe: 10"},null,null,null,null,"1/2 Finale",null,null,null,{"$f":"'R52_Baum'!$U$118","v":"Scheibe: 7"}]
[null,1,2,3,"Summe","Punkte","Ges.",null,null,null,1,2,3,"Summe","Punkte","Ges.",null,null,null,1,2,3,"Summe","Punkte","Ges."]
["Satz 1",null,null,null,null,null,null,null,null,"Satz 1",null,null,null,null,null,null,null,null,"Satz 1"]
["Satz 2",null,null,null,null,null,null,null,null,"Satz 2",null,null,null,null,null,null,null,null,"Satz 2"]
["Satz 3",null,null,null,null,null,null,null,null,"Satz 3",null,null,null,null,null,null,null,null,"Satz 3"]
["wenn erforderlich",null,null,null,null,null,null,null,null,"wenn erforderlich",null,null,null,null,null,null,null,null,"wenn erforderlich"]
["Satz 4",null,null,null,null,null,null,null,null,"Satz 4",null,null,null,null,null,null,null,null,"Satz 4"]
["wenn erforderlich",null,null,null,null,null,null,null,null,"wenn erforderlich",null,null,null,null,null,null,null,null,"wenn erforderlich"]
["Satz 5",null,null,null,null,null,null,null,null,"Satz 5",null,null,null,null,null,null,null,null,"Satz 5"]
["wenn erforderlich",null,null,null,null,null,null,null,null,"wenn erforderlich",null,null,null,null,null,null,null,null,"wenn erforderlich"]
["Stechen",null,null,null,null,null,null,null,null,"Stechen",null,null,null,null,null,null,null,null,"Stechen"]
[null,null,null,null,null,"gewonnen",null,null,null,null,null,null,null,null,"gewonnen",null,null,null,null,null,null,null,null,"gewonnen"]
["Schütze:",null,null,null,null,"verloren",null,null,null,"Schütze:",null,null,null,null,"verloren",null,null,null,"Schütze:",null,null,null,null,"verloren"]
[]
["Gegner:",null,"Name:",null,null,null,null,null,null,"Gegner:",null,"Name:",null,null,null,null,null,null,"Gegner:",null,"Name:"]
[null,null,"Unterschrift:",null,null,null,null,null,null,null,null,"Unterschrift:",null,null,null,null,null,null,null,null,"Unterschrift:"]
[]
[]
[null,null,null,null,null,null,null,null,null,"1/24 Elimination",null,null,null,{"$f":"'R52_Baum'!$D$148","v":"Scheibe: 19A"},null,null,null,null,"1/12 Elimination",null,null,null,{"$f":"'R52_Baum'!$I$132","v":"Scheibe: 11A"}]
[null,null,null,null,null,null,null,null,null,null,1,2,3,"Summe","Punkte","Ges.",null,null,null,1,2,3,"Summe","Punkte","Ges."]
[{"$f":"Select!$C$12","v":"Demoturnier"},null,null,null,null,null,null,null,null,"Satz 1",null,null,null,null,null,null,null,null,"Satz 1"]
["Veranstaltung",null,null,null,null,null,null,null,null,"Satz 2",null,null,null,null,null,null,null,null,"Satz 2"]
[{"$f":"Select!$C$13","v":"1. April 2019"},null,null,null,null,null,null,null,null,"Satz 3",null,null,null,null,null,null,null,null,"Satz 3"]
["Datum",null,null,null,null,null,null,null,null,"wenn erforderlich",null,null,null,null,null,null,null,null,"wenn erforderlich"]
[null,null,null,null,null,null,null,null,null,"Satz 4",null,null,null,null,null,null,null,null,"Satz 4"]
[null,null,null,null,null,null,null,null,null,"wenn erforderlich",null,null,null,null,null,null,null,null,"wenn erforderlich"]
[{"$f":"'R52_Baum'!$D$76","v":"Radauer Helmuth"},null,null,null,null,null,null,null,null,"Satz 5",null,null,null,null,null,null,null,null,"Satz 5"]
["Name",null,null,null,null,null,null,null,null,"wenn erforderlich",null,null,null,null,null,null,null,null,"wenn erforderlich"]
[{"$f":"'R52_Baum'!$F$76","v":"BSC Ennstal"},null,null,null,null,null,null,null,null,"Stechen",null,null,null,null,null,null,null,null,"Stechen"]
["Verein",null,null,null,null,null,null,null,null,null,null,null,null,null,"gewonnen",null,null,null,null,null,null,null,null,"gewonnen"]
[{"$f":"Select!$C$18","v":"Recurve Herren"},null,null,null,null,null,null,null,null,"Schütze:",null,null,null,null,"verloren",null,null,null,"Schütze:",null,null,null,null,"verloren"]
["Bogenklasse"]
[null,null,null,null,null,null,null,null,null,"Gegner:",null,"Name:",null,null,null,null,null,null,"Gegner:",null,"Name:"]
[null,null,null,null,null,null,null,null,null,null,null,"Unterschrift:",null,null,null,null,null,null,null,null,"Unterschrift:"]
[]
[]
["1/8 Elimination",null,null,null,{"$f":"'R52_Baum'!$M$127","v":"Scheibe: 8B"},null,null,null,null,"1/4 Finale",null,null,null,{"$f":"'R52_Baum'!$Q$121","v":"Scheibe: 10"},null,null,null,null,"1/2 Finale",null,null,null,{"$f":"'R52_Baum'!$U$118","v":"Scheibe: 7"}]
[null,1,2,3,"Summe","Punkte","Ges.",null,null,null,1,2,3,"Summe","Punkte","Ges.",null,null,null,1,2,3,"Summe","Punkte","Ges."]
["Satz 1",null,null,null,null,null,null,null,null,"Satz 1",null,null,null,null,null,null,null,null,"Satz 1"]
["Satz 2",null,null,null,null,null,null,null,null,"Satz 2",null,null,null,null,null,null,null,null,"Satz 2"]
["Satz 3",null,null,null,null,null,null,null,null,"Satz 3",null,null,null,null,null,null,null,null,"Satz 3"]
["wenn erforderlich",null,null,null,null,null,null,null,null,"wenn erforderlich",null,null,null,null,null,null,null,null,"wenn erforderlich"]
["Satz 4",null,null,null,null,null,null,null,null,"Satz 4",null,null,null,null,null,null,null,null,"Satz 4"]
["wenn erforderlich",null,null,null,null,null,null,null,null,"wenn erforderlich",null,null,null,null,null,null,null,null,"wenn erforderlich"]
["Satz 5",null,null,null,null,null,null,null,null,"Satz 5",null,null,null,null,null,null,null,null,"Satz 5"]
["wenn erforderlich",null,null,null,null,null,null,null,null,"wenn erforderlich",null,null,null,null,null,null,null,null,"wenn erforderlich"]
["Stechen",null,null,null,null,null,null,null,null,"Stechen",null,null,null,null,null,null,null,null,"Stechen"]
[null,null,null,null,null,"gewonnen",null,null,null,null,null,null,null,null,"gewonnen",null,null,null,null,null,null,null,null,"gewonnen"]
["Schütze:",null,null,null,null,"verloren",null,null,null,"Schütze:",null,null,null,null,"verloren",null,null,null,"Schütze:",null,null,null,null,"verloren"]
[]
["Gegner:",null,"Name:",null,null,null,null,null,null,"Gegner:",null,"Name:",null,null,null,null,null,null,"Gegner:",null,"Name:"]
[null,null,"Unterschrift:",null,null,null,null,null,null,null,null,"Unterschrift:",null,null,null,null,null,null,null,null,"Unterschrift:"]
[]
[]
[null,null,null,null,null,null,null,null,null,"1/24 Elimination",null,null,null,{"$f":"'R52_Baum'!$D$149","v":"Scheibe: 19B"},null,null,null,null,"1/12 Elimination",null,null,null,{"$f":"'R52_Baum'!$I$132","v":"Scheibe: 11A"}]
[null,null,null,null,null,null,null,null,null,null,1,2,3,"Summe","Punkte","Ges.",null,null,null,1,2,3,"Summe","Punkte","Ges."]
[{"$f":"Select!$C$12","v":"Demoturnier"},null,null,null,null,null,null,null,null,"Satz 1",null,null,null,null,null,null,null,null,"Satz 1"]
["Veranstaltung",null,null,null,null,null,null,null,null,"Satz 2",null,null,null,null,null,null,null,null,"Satz 2"]
[{"$f":"Select!$C$13","v":"1. April 2019"},null,null,null,null,null,null,null,null,"Satz 3",null,null,null,null,null,null,null,null,"Satz 3"]
["Datum",null,null,null,null,null,null,null,null,"wenn erforderlich",null,null,null,null,null,null,null,null,"wenn erforderlich"]
[null,null,null,null,null,null,null,null,null,"Satz 4",null,null,null,null,null,null,null,null,"Satz 4"]
[null,null,null,null,null,null,null,null,null,"wenn erforderlich",null,null,null,null,null,null,null,null,"wenn erforderlich"]
[{"$f":"'R52_Baum'!$D$77","v":"Lein Karl"},null,null,null,null,null,null,null,null,"Satz 5",null,null,null,null,null,null,null,null,"Satz 5"]
["Name",null,null,null,null,null,null,null,null,"wenn erforderlich",null,null,null,null,null,null,null,null,"wenn erforderlich"]
[{"$f":"'R52_Baum'!$F$77","v":"BSV Mattersburg"},null,null,null,null,null,null,null,null,"Stechen",null,null,null,null,null,null,null,null,"Stechen"]
["Verein",null,null,null,null,null,null,null,null,null,null,null,null,null,"gewonnen",null,null,null,null,null,null,null,null,"gewonnen"]
[{"$f":"Select!$C$18","v":"Recurve Herren"},null,null,null,null,null,null,null,null,"Schütze:",null,null,null,null,"verloren",null,null,null,"Schütze:",null,null,null,null,"verloren"]
["Bogenklasse"]
[null,null,null,null,null,null,null,null,null,"Gegner:",null,"Name:",null,null,null,null,null,null,"Gegner:",null,"Name:"]
[null,null,null,null,null,null,null,null,null,null,null,"Unterschrift:",null,null,null,null,null,null,null,null,"Unterschrift:"]
[]
[]
["1/8 Elimination",null,null,null,{"$f":"'R52_Baum'!$M$127","v":"Scheibe: 8B"},null,null,null,null,"1/4 Finale",null,null,null,{"$f":"'R52_Baum'!$Q$121","v":"Scheibe: 10"},null,null,null,null,"1/2 Finale",null,null,null,{"$f":"'R52_Baum'!$U$118","v":"Scheibe: 7"}]
[null,1,2,3,"Summe","Punkte","Ges.",null,null,null,1,2,3,"Summe","Punkte","Ges.",null,null,null,1,2,3,"Summe","Punkte","Ges."]
["Satz 1",null,null,null,null,null,null,null,null,"Satz 1",null,null,null,null,null,null,null,null,"Satz 1"]
["Satz 2",null,null,null,null,null,null,null,null,"Satz 2",null,null,null,null,null,null,null,null,"Satz 2"]
["Satz 3",null,null,null,null,null,null,null,null,"Satz 3",null,null,null,null,null,null,null,null,"Satz 3"]
["wenn erforderlich",null,null,null,null,null,null,null,null,"wenn erforderlich",null,null,null,null,null,null,null,null,"wenn erforderlich"]
["Satz 4",null,null,null,null,null,null,null,null,"Satz 4",null,null,null,null,null,null,null,null,"Satz 4"]
["wenn erforderlich",null,null,null,null,null,null,null,null,"wenn erforderlich",null,null,null,null,null,null,null,null,"wenn erforderlich"]
["Satz 5",null,null,null,null,null,null,null,null,"Satz 5",null,null,null,null,null,null,null,null,"Satz 5"]
["wenn erforderlich",null,null,null,null,null,null,null,null,"wenn erforderlich",null,null,null,null,null,null,null,null,"wenn erforderlich"]
["Stechen",null,null,null,null,null,null,null,null,"Stechen",null,null,null,null,null,null,null,null,"Stechen"]
[null,null,null,null,null,"gewonnen",null,null,null,null,null,null,null,null,"gewonnen",null,null,null,null,null,null,null,null,"gewonnen"]
["Schütze:",null,null,null,null,"verloren",null,null,null,"Schütze:",null,null,null,null,"verloren",null,null,null,"Schütze:",null,null,null,null,"verloren"]
[]
["Gegner:",null,"Name:",null,null,null,null,null,null,"Gegner:",null,"Name:",null,null,null,null,null,null,"Gegner:",null,"Name:"]
[null,null,"Unterschrift:",null,null,null,null,null,null,null,null,"Unterschrift:",null,null,null,null,null,null,null,null,"Unterschrift:"]
[]
[]
[null,null,null,null,null,null,null,null,null,"1/24 Elimination",null,null,null,{"$f":"'R52_Baum'!$D$150","v":"Scheibe: 20A"},null,null,null,null,"1/12 Elimination",null,null,null,{"$f":"'R52_Baum'!$I$133","v":"Scheibe: 11B"}]
[null,null,null,null,null,null,null,null,null,null,1,2,3,"Summe","Punkte","Ges.",null,null,null,1,2,3,"Summe","Punkte","Ges."]
[{"$f":"Select!$C$12","v":"Demoturnier"},null,null,null,null,null,null,null,null,"Satz 1",null,null,null,null,null,null,null,null,"Satz 1"]
["Veranstaltung",null,null,null,null,null,null,null,null,"Satz 2",null,null,null,null,null,null,null,null,"Satz 2"]
[{"$f":"Select!$C$13","v":"1. April 2019"},null,null,null,null,null,null,null,null,"Satz 3",null,null,null,null,null,null,null,null,"Satz 3"]
["Datum",null,null,null,null,null,null,null,null,"wenn erforderlich",null,null,null,null,null,null,null,null,"wenn erforderlich"]
[null,null,null,null,null,null,null,null,null,"Satz 4",null,null,null,null,null,null,null,null,"Satz 4"]
[null,null,null,null,null,null,null,null,null,"wenn erforderlich",null,null,null,null,null,null,null,null,"wenn erforderlich"]
[{"$f":"'R52_Baum'!$D$80","v":"Vorauer Helmut"},null,null,null,null,null,null,null,null,"Satz 5",null,null,null,null,null,null,null,null,"Satz 5"]
["Name",null,null,null,null,null,null,null,null,"wenn erforderlich",null,null,null,null,null,null,null,null,"wenn erforderlich"]
[{"$f":"'R52_Baum'!$F$80","v":"HSV Absam Bogensport"},null,null,null,null,null,null,null,null,"Stechen",null,null,null,null,null,null,null,null,"Stechen"]
["Verein",null,null,null,null,null,null,null,null,null,null,null,null,null,"gewonnen",null,null,null,null,null,null,null,null,"gewonnen"]
[{"$f":"Select!$C$18","v":"Recurve Herren"},null,null,null,null,null,null,null,null,"Schütze:",null,null,null,null,"verloren",null,null,null,"Schütze:",null,null,null,null,"verloren"]
["Bogenklasse"]
[null,null,null,null,null,null,null,null,null,"Gegner:",null,"Name:",null,null,null,null,null,null,"Gegner:",null,"Name:"]
[null,null,null,null,null,null,null,null,null,null,null,"Unterschrift:",null,null,null,null,null,null,null,null,"Unterschrift:"]
[]
[]
["1/8 Elimination",null,null,null,{"$f":"'R52_Baum'!$M$127","v":"Scheibe: 8B"},null,null,null,null,"1/4 Finale",null,null,null,{"$f":"'R52_Baum'!$Q$121","v":"Scheibe: 10"},null,null,null,null,"1/2 Finale",null,null,null,{"$f":"'R52_Baum'!$U$118","v":"Scheibe: 7"}]
[null,1,2,3,"Summe","Punkte","Ges.",null,null,null,1,2,3,"Summe","Punkte","Ges.",null,null,null,1,2,3,"Summe","Punkte","Ges."]
["Satz 1",null,null,null,null,null,null,null,null,"Satz 1",null,null,null,null,null,null,null,null,"Satz 1"]
["Satz 2",null,null,null,null,null,null,null,null,"Satz 2",null,null,null,null,null,null,null,null,"Satz 2"]
["Satz 3",null,null,null,null,null,null,null,null,"Satz 3",null,null,null,null,null,null,null,null,"Satz 3"]
["wenn erforderlich",null,null,null,null,null,null,null,null,"wenn erforderlich",null,null,null,null,null,null,null,null,"wenn erforderlich"]
["Satz 4",null,null,null,null,null,null,null,null,"Satz 4",null,null,null,null,null,null,null,null,"Satz 4"]
["wenn erforderlich",null,null,null,null,null,null,null,null,"wenn erforderlich",null,null,null,null,null,null,null,null,"wenn erforderlich"]
["Satz 5",null,null,null,null,null,null,null,null,"Satz 5",null,null,null,null,null,null,null,null,"Satz 5"]
["wenn erforderlich",null,null,null,null,null,null,null,null,"wenn erforderlich",null,null,null,null,null,null,null,null,"wenn erforderlich"]
["Stechen",null,null,null,null,null,null,null,null,"Stechen",null,null,null,null,null,null,null,null,"Stechen"]
[null,null,null,null,null,"gewonnen",null,null,null,null,null,null,null,null,"gewonnen",null,null,null,null,null,null,null,null,"gewonnen"]
["Schütze:",null,null,null,null,"verloren",null,null,null,"Schütze:",null,null,null,null,"verloren",null,null,null,"Schütze:",null,null,null,null,"verloren"]
[]
["Gegner:",null,"Name:",null,null,null,null,null,null,"Gegner:",null,"Name:",null,null,null,null,null,null,"Gegner:",null,"Name:"]
[null,null,"Unterschrift:",null,null,null,null,null,null,null,null,"Unterschrift:",null,null,null,null,null,null,null,null,"Unterschrift:"]
[]
[]
[null,null,null,null,null,null,null,null,null,"1/24 Elimination",null,null,null,{"$f":"'R52_Baum'!$D$151","v":"Scheibe: 20B"},null,null,null,null,"1/12 Elimination",null,null,null,{"$f":"'R52_Baum'!$I$133","v":"Scheibe: 11B"}]
[null,null,null,null,null,null,null,null,null,null,1,2,3,"Summe","Punkte","Ges.",null,null,null,1,2,3,"Summe","Punkte","Ges."]
[{"$f":"Select!$C$12","v":"Demoturnier"},null,null,null,null,null,null,null,null,"Satz 1",null,null,null,null,null,null,null,null,"Satz 1"]
["Veranstaltung",null,null,null,null,null,null,null,null,"Satz 2",null,null,null,null,null,null,null,null,"Satz 2"]
[{"$f":"Select!$C$13","v":"1. April 2019"},null,null,null,null,null,null,null,null,"Satz 3",null,null,null,null,null,null,null,null,"Satz 3"]
["Datum",null,null,null,null,null,null,null,null,"wenn erforderlich",null,null,null,null,null,null,null,null,"wenn erforderlich"]
[null,null,null,null,null,null,null,null,null,"Satz 4",null,null,null,null,null,null,null,null,"Satz 4"]
[null,null,null,null,null,null,null,null,null,"wenn erforderlich",null,null,null,null,null,null,null,null,"wenn erforderlich"]
[{"$f":"'R52_Baum'!$D$81","v":"Parschisek Alexander"},null,null,null,null,null,null,null,null,"Satz 5",null,null,null,null,null,null,null,null,"Satz 5"]
["Name",null,null,null,null,null,null,null,null,"wenn erforderlich",null,null,null,null,null,null,null,null,"wenn erforderlich"]
[{"$f":"'R52_Baum'!$F$81","v":"BC-Oberschützen"},null,null,null,null,null,null,null,null,"Stechen",null,null,null,null,null,null,null,null,"Stechen"]
["Verein",null,null,null,null,null,null,null,null,null,null,null,null,null,"gewonnen",null,null,null,null,null,null,null,null,"gewonnen"]
[{"$f":"Select!$C$18","v":"Recurve Herren"},null,null,null,null,null,null,null,null,"Schütze:",null,null,null,null,"verloren",null,null,null,"Schütze:",null,null,null,null,"verloren"]
["Bogenklasse"]
[null,null,null,null,null,null,null,null,null,"Gegner:",null,"Name:",null,null,null,null,null,null,"Gegner:",null,"Name:"]
[null,null,null,null,null,null,null,null,null,null,null,"Unterschrift:",null,null,null,null,null,null,null,null,"Unterschrift:"]
[]
[]
["1/8 Elimination",null,null,null,{"$f":"'R52_Baum'!$M$127","v":"Scheibe: 8B"},null,null,null,null,"1/4 Finale",null,null,null,{"$f":"'R52_Baum'!$Q$121","v":"Scheibe: 10"},null,null,null,null,"1/2 Finale",null,null,null,{"$f":"'R52_Baum'!$U$118","v":"Scheibe: 7"}]
[null,1,2,3,"Summe","Punkte","Ges.",null,null,null,1,2,3,"Summe","Punkte","Ges.",null,null,null,1,2,3,"Summe","Punkte","Ges."]
["Satz 1",null,null,null,null,null,null,null,null,"Satz 1",null,null,null,null,null,null,null,null,"Satz 1"]
["Satz 2",null,null,null,null,null,null,null,null,"Satz 2",null,null,null,null,null,null,null,null,"Satz 2"]
["Satz 3",null,null,null,null,null,null,null,null,"Satz 3",null,null,null,null,null,null,null,null,"Satz 3"]
["wenn erforderlich",null,null,null,null,null,null,null,null,"wenn erforderlich",null,null,null,null,null,null,null,null,"wenn erforderlich"]
["Satz 4",null,null,null,null,null,null,null,null,"Satz 4",null,null,null,null,null,null,null,null,"Satz 4"]
["wenn erforderlich",null,null,null,null,null,null,null,null,"wenn erforderlich",null,null,null,null,null,null,null,null,"wenn erforderlich"]
["Satz 5",null,null,null,null,null,null,null,null,"Satz 5",null,null,null,null,null,null,null,null,"Satz 5"]
["wenn erforderlich",null,null,null,null,null,null,null,null,"wenn erforderlich",null,null,null,null,null,null,null,null,"wenn erforderlich"]
["Stechen",null,null,null,null,null,null,null,null,"Stechen",null,null,null,null,null,null,null,null,"Stechen"]
[null,null,null,null,null,"gewonnen",null,null,null,null,null,null,null,null,"gewonnen",null,null,null,null,null,null,null,null,"gewonnen"]
["Schütze:",null,null,null,null,"verloren",null,null,null,"Schütze:",null,null,null,null,"verloren",null,null,null,"Schütze:",null,null,null,null,"verloren"]
[]
["Gegner:",null,"Name:",null,null,null,null,null,null,"Gegner:",null,"Name:",null,null,null,null,null,null,"Gegner:",null,"Name:"]
[null,null,"Unterschrift:",null,null,null,null,null,null,null,null,"Unterschrift:",null,null,null,null,null,null,null,null,"Unterschrift:"]
[]
[]
[null,null,null,null,null,null,null,null,null,"1/24 Elimination",null,null,null,{"$f":"'R52_Baum'!$D$152","v":"Scheibe: 21A"},null,null,null,null,"1/12 Elimination",null,null,null,{"$f":"'R52_Baum'!$I$134","v":"Scheibe: 12A"}]
[null,null,null,null,null,null,null,null,null,null,1,2,3,"Summe","Punkte","Ges.",null,null,null,1,2,3,"Summe","Punkte","Ges."]
[{"$f":"Select!$C$12","v":"Demoturnier"},null,null,null,null,null,null,null,null,"Satz 1",null,null,null,null,null,null,null,null,"Satz 1"]
["Veranstaltung",null,null,null,null,null,null,null,null,"Satz 2",null,null,null,null,null,null,null,null,"Satz 2"]
[{"$f":"Select!$C$13","v":"1. April 2019"},null,null,null,null,null,null,null,null,"Satz 3",null,null,null,null,null,null,null,null,"Satz 3"]
["Datum",null,null,null,null,null,null,null,null,"wenn erforderlich",null,null,null,null,null,null,null,null,"wenn erforderlich"]
[null,null,null,null,null,null,null,null,null,"Satz 4",null,null,null,null,null,null,null,null,"Satz 4"]
[null,null,null,null,null,null,null,null,null,"wenn erforderlich",null,null,null,null,null,null,null,null,"wenn erforderlich"]
[{"$f":"'R52_Baum'!$D$84","v":"Bucher Martin"},null,null,null,null,null,null,null,null,"Satz 5",null,null,null,null,null,null,null,null,"Satz 5"]
["Name",null,null,null,null,null,null,null,null,"wenn erforderlich",null,null,null,null,null,null,null,null,"wenn erforderlich"]
[{"$f":"'R52_Baum'!$F$84","v":"LH Graz"},null,null,null,null,null,null,null,null,"Stechen",null,null,null,null,null,null,null,null,"Stechen"]
["Verein",null,null,null,null,null,null,null,null,null,null,null,null,null,"gewonnen",null,null,null,null,null,null,null,null,"gewonnen"]
[{"$f":"Select!$C$18","v":"Recurve Herren"},null,null,null,null,null,null,null,null,"Schütze:",null,null,null,null,"verloren",null,null,null,"Schütze:",null,null,null,null,"verloren"]
["Bogenklasse"]
[null,null,null,null,null,null,null,null,null,"Gegner:",null,"Name:",null,null,null,null,null,null,"Gegner:",null,"Name:"]
[null,null,null,null,null,null,null,null,null,null,null,"Unterschrift:",null,null,null,null,null,null,null,null,"Unterschrift:"]
[]
[]
["1/8 Elimination",null,null,null,{"$f":"'R52_Baum'!$M$128","v":"Scheibe: 9A"},null,null,null,null,"1/4 Finale",null,null,null,{"$f":"'R52_Baum'!$Q$122","v":"Scheibe: 11"},null,null,null,null,"1/2 Finale",null,null,null,{"$f":"'R52_Baum'!$U$119","v":"Scheibe: 8"}]
[null,1,2,3,"Summe","Punkte","Ges.",null,null,null,1,2,3,"Summe","Punkte","Ges.",null,null,null,1,2,3,"Summe","Punkte","Ges."]
["Satz 1",null,null,null,null,null,null,null,null,"Satz 1",null,null,null,null,null,null,null,null,"Satz 1"]
["Satz 2",null,null,null,null,null,null,null,null,"Satz 2",null,null,null,null,null,null,null,null,"Satz 2"]
["Satz 3",null,null,null,null,null,null,null,null,"Satz 3",null,null,null,null,null,null,null,null,"Satz 3"]
["wenn erforderlich",null,null,null,null,null,null,null,null,"wenn erforderlich",null,null,null,null,null,null,null,null,"wenn erforderlich"]
["Satz 4",null,null,null,null,null,null,null,null,"Satz 4",null,null,null,null,null,null,null,null,"Satz 4"]
["wenn erforderlich",null,null,null,null,null,null,null,null,"wenn erforderlich",null,null,null,null,null,null,null,null,"wenn erforderlich"]
["Satz 5",null,null,null,null,null,null,null,null,"Satz 5",null,null,null,null,null,null,null,null,"Satz 5"]
["wenn erforderlich",null,null,null,null,null,null,null,null,"wenn erforderlich",null,null,null,null,null,null,null,null,"wenn erforderlich"]
["Stechen",null,null,null,null,null,null,null,null,"Stechen",null,null,null,null,null,null,null,null,"Stechen"]
[null,null,null,null,null,"gewonnen",null,null,null,null,null,null,null,null,"gewonnen",null,null,null,null,null,null,null,null,"gewonnen"]
["Schütze:",null,null,null,null,"verloren",null,null,null,"Schütze:",null,null,null,null,"verloren",null,null,null,"Schütze:",null,null,null,null,"verloren"]
[]
["Gegner:",null,"Name:",null,null,null,null,null,null,"Gegner:",null,"Name:",null,null,null,null,null,null,"Gegner:",null,"Name:"]
[null,null,"Unterschrift:",null,null,null,null,null,null,null,null,"Unterschrift:",null,null,null,null,null,null,null,null,"Unterschrift:"]
[]
[]
[null,null,null,null,null,null,null,null,null,"1/24 Elimination",null,null,null,{"$f":"'R52_Baum'!$D$153","v":"Scheibe: 21B"},null,null,null,null,"1/12 Elimination",null,null,null,{"$f":"'R52_Baum'!$I$134","v":"Scheibe: 12A"}]
[null,null,null,null,null,null,null,null,null,null,1,2,3,"Summe","Punkte","Ges.",null,null,null,1,2,3,"Summe","Punkte","Ges."]
[{"$f":"Select!$C$12","v":"Demoturnier"},null,null,null,null,null,null,null,null,"Satz 1",null,null,null,null,null,null,null,null,"Satz 1"]
["Veranstaltung",null,null,null,null,null,null,null,null,"Satz 2",null,null,null,null,null,null,null,null,"Satz 2"]
[{"$f":"Select!$C$13","v":"1. April 2019"},null,null,null,null,null,null,null,null,"Satz 3",null,null,null,null,null,null,null,null,"Satz 3"]
["Datum",null,null,null,null,null,null,null,null,"wenn erforderlich",null,null,null,null,null,null,null,null,"wenn erforderlich"]
[null,null,null,null,null,null,null,null,null,"Satz 4",null,null,null,null,null,null,null,null,"Satz 4"]
[null,null,null,null,null,null,null,null,null,"wenn erforderlich",null,null,null,null,null,null,null,null,"wenn erforderlich"]
[{"$f":"'R52_Baum'!$D$85","v":"Hahn Gottfried"},null,null,null,null,null,null,null,null,"Satz 5",null,null,null,null,null,null,null,null,"Satz 5"]
["Name",null,null,null,null,null,null,null,null,"wenn erforderlich",null,null,null,null,null,null,null,null,"wenn erforderlich"]
[{"$f":"'R52_Baum'!$F$85","v":"BSV Spannberg"},null,null,null,null,null,null,null,null,"Stechen",null,null,null,null,null,null,null,null,"Stechen"]
["Verein",null,null,null,null,null,null,null,null,null,null,null,null,null,"gewonnen",null,null,null,null,null,null,null,null,"gewonnen"]
[{"$f":"Select!$C$18","v":"Recurve Herren"},null,null,null,null,null,null,null,null,"Schütze:",null,null,null,null,"verloren",null,null,null,"Schütze:",null,null,null,null,"verloren"]
["Bogenklasse"]
[null,null,null,null,null,null,null,null,null,"Gegner:",null,"Name:",null,null,null,null,null,null,"Gegner:",null,"Name:"]
[null,null,null,null,null,null,null,null,null,null,null,"Unterschrift:",null,null,null,null,null,null,null,null,"Unterschrift:"]
[]
[]
["1/8 Elimination",null,null,null,{"$f":"'R52_Baum'!$M$128","v":"Scheibe: 9A"},null,null,null,null,"1/4 Finale",null,null,null,{"$f":"'R52_Baum'!$Q$122","v":"Scheibe: 11"},null,null,null,null,"1/2 Finale",null,null,null,{"$f":"'R52_Baum'!$U$119","v":"Scheibe: 8"}]
[null,1,2,3,"Summe","Punkte","Ges.",null,null,null,1,2,3,"Summe","Punkte","Ges.",null,null,null,1,2,3,"Summe","Punkte","Ges."]
["Satz 1",null,null,null,null,null,null,null,null,"Satz 1",null,null,null,null,null,null,null,null,"Satz 1"]
["Satz 2",null,null,null,null,null,null,null,null,"Satz 2",null,null,null,null,null,null,null,null,"Satz 2"]
["Satz 3",null,null,null,null,null,null,null,null,"Satz 3",null,null,null,null,null,null,null,null,"Satz 3"]
["wenn erforderlich",null,null,null,null,null,null,null,null,"wenn erforderlich",null,null,null,null,null,null,null,null,"wenn erforderlich"]
["Satz 4",null,null,null,null,null,null,null,null,"Satz 4",null,null,null,null,null,null,null,null,"Satz 4"]
["wenn erforderlich",null,null,null,null,null,null,null,null,"wenn erforderlich",null,null,null,null,null,null,null,null,"wenn erforderlich"]
["Satz 5",null,null,null,null,null,null,null,null,"Satz 5",null,null,null,null,null,null,null,null,"Satz 5"]
["wenn erforderlich",null,null,null,null,null,null,null,null,"wenn erforderlich",null,null,null,null,null,null,null,null,"wenn erforderlich"]
["Stechen",null,null,null,null,null,null,null,null,"Stechen",null,null,null,null,null,null,null,null,"Stechen"]
[null,null,null,null,null,"gewonnen",null,null,null,null,null,null,null,null,"gewonnen",null,null,null,null,null,null,null,null,"gewonnen"]
["Schütze:",null,null,null,null,"verloren",null,null,null,"Schütze:",null,null,null,null,"verloren",null,null,null,"Schütze:",null,null,null,null,"verloren"]
[]
["Gegner:",null,"Name:",null,null,null,null,null,null,"Gegner:",null,"Name:",null,null,null,null,null,null,"Gegner:",null,"Name:"]
[null,null,"Unterschrift:",null,null,null,null,null,null,null,null,"Unterschrift:",null,null,null,null,null,null,null,null,"Unterschrift:"]
[]
[]
[null,null,null,null,null,null,null,null,null,"1/24 Elimination",null,null,null,{"$f":"'R52_Baum'!$D$154","v":"Scheibe: 22A"},null,null,null,null,"1/12 Elimination",null,null,null,{"$f":"'R52_Baum'!$I$135","v":"Scheibe: 12B"}]
[null,null,null,null,null,null,null,null,null,null,1,2,3,"Summe","Punkte","Ges.",null,null,null,1,2,3,"Summe","Punkte","Ges."]
[{"$f":"Select!$C$12","v":"Demoturnier"},null,null,null,null,null,null,null,null,"Satz 1",null,null,null,null,null,null,null,null,"Satz 1"]
["Veranstaltung",null,null,null,null,null,null,null,null,"Satz 2",null,null,null,null,null,null,null,null,"Satz 2"]
[{"$f":"Select!$C$13","v":"1. April 2019"},null,null,null,null,null,null,null,null,"Satz 3",null,null,null,null,null,null,null,null,"Satz 3"]
["Datum",null,null,null,null,null,null,null,null,"wenn erforderlich",null,null,null,null,null,null,null,null,"wenn erforderlich"]
[null,null,null,null,null,null,null,null,null,"Satz 4",null,null,null,null,null,null,null,null,"Satz 4"]
[null,null,null,null,null,null,null,null,null,"wenn erforderlich",null,null,null,null,null,null,null,null,"wenn erforderlich"]
[{"$f":"'R52_Baum'!$D$88","v":"Klemke Harald"},null,null,null,null,null,null,null,null,"Satz 5",null,null,null,null,null,null,null,null,"Satz 5"]
["Name",null,null,null,null,null,null,null,null,"wenn erforderlich",null,null,null,null,null,null,null,null,"wenn erforderlich"]
[{"$f":"'R52_Baum'!$F$88","v":"BSV Mattersburg"},null,null,null,null,null,null,null,null,"Stechen",null,null,null,null,null,null,null,null,"Stechen"]
["Verein",null,null,null,null,null,null,null,null,null,null,null,null,null,"gewonnen",null,null,null,null,null,null,null,null,"gewonnen"]
[{"$f":"Select!$C$18","v":"Recurve Herren"},null,null,null,null,null,null,null,null,"Schütze:",null,null,null,null,"verloren",null,null,null,"Schütze:",null,null,null,null,"verloren"]
["Bogenklasse"]
[null,null,null,null,null,null,null,null,null,"Gegner:",null,"Name:",null,null,null,null,null,null,"Gegner:",null,"Name:"]
[null,null,null,null,null,null,null,null,null,null,null,"Unterschrift:",null,null,null,null,null,null,null,null,"Unterschrift:"]
[]
[]
["1/8 Elimination",null,null,null,{"$f":"'R52_Baum'!$M$128","v":"Scheibe: 9A"},null,null,null,null,"1/4 Finale",null,null,null,{"$f":"'R52_Baum'!$Q$122","v":"Scheibe: 11"},null,null,null,null,"1/2 Finale",null,null,null,{"$f":"'R52_Baum'!$U$119","v":"Scheibe: 8"}]
[null,1,2,3,"Summe","Punkte","Ges.",null,null,null,1,2,3,"Summe","Punkte","Ges.",null,null,null,1,2,3,"Summe","Punkte","Ges."]
["Satz 1",null,null,null,null,null,null,null,null,"Satz 1",null,null,null,null,null,null,null,null,"Satz 1"]
["Satz 2",null,null,null,null,null,null,null,null,"Satz 2",null,null,null,null,null,null,null,null,"Satz 2"]
["Satz 3",null,null,null,null,null,null,null,null,"Satz 3",null,null,null,null,null,null,null,null,"Satz 3"]
["wenn erforderlich",null,null,null,null,null,null,null,null,"wenn erforderlich",null,null,null,null,null,null,null,null,"wenn erforderlich"]
["Satz 4",null,null,null,null,null,null,null,null,"Satz 4",null,null,null,null,null,null,null,null,"Satz 4"]
["wenn erforderlich",null,null,null,null,null,null,null,null,"wenn erforderlich",null,null,null,null,null,null,null,null,"wenn erforderlich"]
["Satz 5",null,null,null,null,null,null,null,null,"Satz 5",null,null,null,null,null,null,null,null,"Satz 5"]
["wenn erforderlich",null,null,null,null,null,null,null,null,"wenn erforderlich",null,null,null,null,null,null,null,null,"wenn erforderlich"]
["Stechen",null,null,null,null,null,null,null,null,"Stechen",null,null,null,null,null,null,null,null,"Stechen"]
[null,null,null,null,null,"gewonnen",null,null,null,null,null,null,null,null,"gewonnen",null,null,null,null,null,null,null,null,"gewonnen"]
["Schütze:",null,null,null,null,"verloren",null,null,null,"Schütze:",null,null,null,null,"verloren",null,null,null,"Schütze:",null,null,null,null,"verloren"]
[]
["Gegner:",null,"Name:",null,null,null,null,null,null,"Gegner:",null,"Name:",null,null,null,null,null,null,"Gegner:",null,"Name:"]
[null,null,"Unterschrift:",null,null,null,null,null,null,null,null,"Unterschrift:",null,null,null,null,null,null,null,null,"Unterschrift:"]
[]
[]
[null,null,null,null,null,null,null,null,null,"1/24 Elimination",null,null,null,{"$f":"'R52_Baum'!$D$155","v":"Scheibe: 22B"},null,null,null,null,"1/12 Elimination",null,null,null,{"$f":"'R52_Baum'!$I$135","v":"Scheibe: 12B"}]
[null,null,null,null,null,null,null,null,null,null,1,2,3,"Summe","Punkte","Ges.",null,null,null,1,2,3,"Summe","Punkte","Ges."]
[{"$f":"Select!$C$12","v":"Demoturnier"},null,null,null,null,null,null,null,null,"Satz 1",null,null,null,null,null,null,null,null,"Satz 1"]
["Veranstaltung",null,null,null,null,null,null,null,null,"Satz 2",null,null,null,null,null,null,null,null,"Satz 2"]
[{"$f":"Select!$C$13","v":"1. April 2019"},null,null,null,null,null,null,null,null,"Satz 3",null,null,null,null,null,null,null,null,"Satz 3"]
["Datum",null,null,null,null,null,null,null,null,"wenn erforderlich",null,null,null,null,null,null,null,null,"wenn erforderlich"]
[null,null,null,null,null,null,null,null,null,"Satz 4",null,null,null,null,null,null,null,null,"Satz 4"]
[null,null,null,null,null,null,null,null,null,"wenn erforderlich",null,null,null,null,null,null,null,null,"wenn erforderlich"]
[{"$f":"'R52_Baum'!$D$89","v":"Kossek Heinz"},null,null,null,null,null,null,null,null,"Satz 5",null,null,null,null,null,null,null,null,"Satz 5"]
["Name",null,null,null,null,null,null,null,null,"wenn erforderlich",null,null,null,null,null,null,null,null,"wenn erforderlich"]
[{"$f":"'R52_Baum'!$F$89","v":"BC Wildon Weitendorf"},null,null,null,null,null,null,null,null,"Stechen",null,null,null,null,null,null,null,null,"Stechen"]
["Verein",null,null,null,null,null,null,null,null,null,null,null,null,null,"gewonnen",null,null,null,null,null,null,null,null,"gewonnen"]
[{"$f":"Select!$C$18","v":"Recurve Herren"},null,null,null,null,null,null,null,null,"Schütze:",null,null,null,null,"verloren",null,null,null,"Schütze:",null,null,null,null,"verloren"]
["Bogenklasse"]
[null,null,null,null,null,null,null,null,null,"Gegner:",null,"Name:",null,null,null,null,null,null,"Gegner:",null,"Name:"]
[null,null,null,null,null,null,null,null,null,null,null,"Unterschrift:",null,null,null,null,null,null,null,null,"Unterschrift:"]
[]
[]
["1/8 Elimination",null,null,null,{"$f":"'R52_Baum'!$M$128","v":"Scheibe: 9A"},null,null,null,null,"1/4 Finale",null,null,null,{"$f":"'R52_Baum'!$Q$122","v":"Scheibe: 11"},null,null,null,null,"1/2 Finale",null,null,null,{"$f":"'R52_Baum'!$U$119","v":"Scheibe: 8"}]
[null,1,2,3,"Summe","Punkte","Ges.",null,null,null,1,2,3,"Summe","Punkte","Ges.",null,null,null,1,2,3,"Summe","Punkte","Ges."]
["Satz 1",null,null,null,null,null,null,null,null,"Satz 1",null,null,null,null,null,null,null,null,"Satz 1"]
["Satz 2",null,null,null,null,null,null,null,null,"Satz 2",null,null,null,null,null,null,null,null,"Satz 2"]
["Satz 3",null,null,null,null,null,null,null,null,"Satz 3",null,null,null,null,null,null,null,null,"Satz 3"]
["wenn erforderlich",null,null,null,null,null,null,null,null,"wenn erforderlich",null,null,null,null,null,null,null,null,"wenn erforderlich"]
["Satz 4",null,null,null,null,null,null,null,null,"Satz 4",null,null,null,null,null,null,null,null,"Satz 4"]
["wenn erforderlich",null,null,null,null,null,null,null,null,"wenn erforderlich",null,null,null,null,null,null,null,null,"wenn erforderlich"]
["Satz 5",null,null,null,null,null,null,null,null,"Satz 5",null,null,null,null,null,null,null,null,"Satz 5"]
["wenn erforderlich",null,null,null,null,null,null,null,null,"wenn erforderlich",null,null,null,null,null,null,null,null,"wenn erforderlich"]
["Stechen",null,null,null,null,null,null,null,null,"Stechen",null,null,null,null,null,null,null,null,"Stechen"]
[null,null,null,null,null,"gewonnen",null,null,null,null,null,null,null,null,"gewonnen",null,null,null,null,null,null,null,null,"gewonnen"]
["Schütze:",null,null,null,null,"verloren",null,null,null,"Schütze:",null,null,null,null,"verloren",null,null,null,"Schütze:",null,null,null,null,"verloren"]
[]
["Gegner:",null,"Name:",null,null,null,null,null,null,"Gegner:",null,"Name:",null,null,null,null,null,null,"Gegner:",null,"Name:"]
[null,null,"Unterschrift:",null,null,null,null,null,null,null,null,"Unterschrift:",null,null,null,null,null,null,null,null,"Unterschrift:"]
[]
[]
[null,null,null,null,null,null,null,null,null,"1/24 Elimination",null,null,null,{"$f":"'R52_Baum'!$D$156","v":"Scheibe: 23A"},null,null,null,null,"1/12 Elimination",null,null,null,{"$f":"'R52_Baum'!$I$136","v":"Scheibe: 13A"}]
[null,null,null,null,null,null,null,null,null,null,1,2,3,"Summe","Punkte","Ges.",null,null,null,1,2,3,"Summe","Punkte","Ges."]
[{"$f":"Select!$C$12","v":"Demoturnier"},null,null,null,null,null,null,null,null,"Satz 1",null,null,null,null,null,null,null,null,"Satz 1"]
["Veranstaltung",null,null,null,null,null,null,null,null,"Satz 2",null,null,null,null,null,null,null,null,"Satz 2"]
[{"$f":"Select!$C$13","v":"1. April 2019"},null,null,null,null,null,null,null,null,"Satz 3",null,null,null,null,null,null,null,null,"Satz 3"]
["Datum",null,null,null,null,null,null,null,null,"wenn erforderlich",null,null,null,null,null,null,null,null,"wenn erforderlich"]
[null,null,null,null,null,null,null,null,null,"Satz 4",null,null,null,null,null,null,null,null,"Satz 4"]
[null,null,null,null,null,null,null,null,null,"wenn erforderlich",null,null,null,null,null,null,null,null,"wenn erforderlich"]
[{"$f":"'R52_Baum'!$D$92","v":"Kutmon Wilhelm"},null,null,null,null,null,null,null,null,"Satz 5",null,null,null,null,null,null,null,null,"Satz 5"]
["Name",null,null,null,null,null,null,null,null,"wenn erforderlich",null,null,null,null,null,null,null,null,"wenn erforderlich"]
[{"$f":"'R52_Baum'!$F$92","v":"BS Ligist - Archery Freaks"},null,null,null,null,null,null,null,null,"Stechen",null,null,null,null,null,null,null,null,"Stechen"]
["Verein",null,null,null,null,null,null,null,null,null,null,null,null,null,"gewonnen",null,null,null,null,null,null,null,null,"gewonnen"]
[{"$f":"Select!$C$18","v":"Recurve Herren"},null,null,null,null,null,null,null,null,"Schütze:",null,null,null,null,"verloren",null,null,null,"Schütze:",null,null,null,null,"verloren"]
["Bogenklasse"]
[null,null,null,null,null,null,null,null,null,"Gegner:",null,"Name:",null,null,null,null,null,null,"Gegner:",null,"Name:"]
[null,null,null,null,null,null,null,null,null,null,null,"Unterschrift:",null,null,null,null,null,null,null,null,"Unterschrift:"]
[]
[]
["1/8 Elimination",null,null,null,{"$f":"'R52_Baum'!$M$129","v":"Scheibe: 9B"},null,null,null,null,"1/4 Finale",null,null,null,{"$f":"'R52_Baum'!$Q$122","v":"Scheibe: 11"},null,null,null,null,"1/2 Finale",null,null,null,{"$f":"'R52_Baum'!$U$119","v":"Scheibe: 8"}]
[null,1,2,3,"Summe","Punkte","Ges.",null,null,null,1,2,3,"Summe","Punkte","Ges.",null,null,null,1,2,3,"Summe","Punkte","Ges."]
["Satz 1",null,null,null,null,null,null,null,null,"Satz 1",null,null,null,null,null,null,null,null,"Satz 1"]
["Satz 2",null,null,null,null,null,null,null,null,"Satz 2",null,null,null,null,null,null,null,null,"Satz 2"]
["Satz 3",null,null,null,null,null,null,null,null,"Satz 3",null,null,null,null,null,null,null,null,"Satz 3"]
["wenn erforderlich",null,null,null,null,null,null,null,null,"wenn erforderlich",null,null,null,null,null,null,null,null,"wenn erforderlich"]
["Satz 4",null,null,null,null,null,null,null,null,"Satz 4",null,null,null,null,null,null,null,null,"Satz 4"]
["wenn erforderlich",null,null,null,null,null,null,null,null,"wenn erforderlich",null,null,null,null,null,null,null,null,"wenn erforderlich"]
["Satz 5",null,null,null,null,null,null,null,null,"Satz 5",null,null,null,null,null,null,null,null,"Satz 5"]
["wenn erforderlich",null,null,null,null,null,null,null,null,"wenn erforderlich",null,null,null,null,null,null,null,null,"wenn erforderlich"]
["Stechen",null,null,null,null,null,null,null,null,"Stechen",null,null,null,null,null,null,null,null,"Stechen"]
[null,null,null,null,null,"gewonnen",null,null,null,null,null,null,null,null,"gewonnen",null,null,null,null,null,null,null,null,"gewonnen"]
["Schütze:",null,null,null,null,"verloren",null,null,null,"Schütze:",null,null,null,null,"verloren",null,null,null,"Schütze:",null,null,null,null,"verloren"]
[]
["Gegner:",null,"Name:",null,null,null,null,null,null,"Gegner:",null,"Name:",null,null,null,null,null,null,"Gegner:",null,"Name:"]
[null,null,"Unterschrift:",null,null,null,null,null,null,null,null,"Unterschrift:",null,null,null,null,null,null,null,null,"Unterschrift:"]
[]
[]
[null,null,null,null,null,null,null,null,null,"1/24 Elimination",null,null,null,{"$f":"'R52_Baum'!$D$157","v":"Scheibe: 23B"},null,null,null,null,"1/12 Elimination",null,null,null,{"$f":"'R52_Baum'!$I$136","v":"Scheibe: 13A"}]
[null,null,null,null,null,null,null,null,null,null,1,2,3,"Summe","Punkte","Ges.",null,null,null,1,2,3,"Summe","Punkte","Ges."]
[{"$f":"Select!$C$12","v":"Demoturnier"},null,null,null,null,null,null,null,null,"Satz 1",null,null,null,null,null,null,null,null,"Satz 1"]
["Veranstaltung",null,null,null,null,null,null,null,null,"Satz 2",null,null,null,null,null,null,null,null,"Satz 2"]
[{"$f":"Select!$C$13","v":"1. April 2019"},null,null,null,null,null,null,null,null,"Satz 3",null,null,null,null,null,null,null,null,"Satz 3"]
["Datum",null,null,null,null,null,null,null,null,"wenn erforderlich",null,null,null,null,null,null,null,null,"wenn erforderlich"]
[null,null,null,null,null,null,null,null,null,"Satz 4",null,null,null,null,null,null,null,null,"Satz 4"]
[null,null,null,null,null,null,null,null,null,"wenn erforderlich",null,null,null,null,null,null,null,null,"wenn erforderlich"]
[{"$f":"'R52_Baum'!$D$93","v":"Grünsteidl Klaus"},null,null,null,null,null,null,null,null,"Satz 5",null,null,null,null,null,null,null,null,"Satz 5"]
["Name",null,null,null,null,null,null,null,null,"wenn erforderlich",null,null,null,null,null,null,null,null,"wenn erforderlich"]
[{"$f":"'R52_Baum'!$F$93","v":"BSV Stoneface - Archery"},null,null,null,null,null,null,null,null,"Stechen",null,null,null,null,null,null,null,null,"Stechen"]
["Verein",null,null,null,null,null,null,null,null,null,null,null,null,null,"gewonnen",null,null,null,null,null,null,null,null,"gewonnen"]
[{"$f":"Select!$C$18","v":"Recurve Herren"},null,null,null,null,null,null,null,null,"Schütze:",null,null,null,null,"verloren",null,null,null,"Schütze:",null,null,null,null,"verloren"]
["Bogenklasse"]
[null,null,null,null,null,null,null,null,null,"Gegner:",null,"Name:",null,null,null,null,null,null,"Gegner:",null,"Name:"]
[null,null,null,null,null,null,null,null,null,null,null,"Unterschrift:",null,null,null,null,null,null,null,null,"Unterschrift:"]
[]
[]
["1/8 Elimination",null,null,null,{"$f":"'R52_Baum'!$M$129","v":"Scheibe: 9B"},null,null,null,null,"1/4 Finale",null,null,null,{"$f":"'R52_Baum'!$Q$122","v":"Scheibe: 11"},null,null,null,null,"1/2 Finale",null,null,null,{"$f":"'R52_Baum'!$U$119","v":"Scheibe: 8"}]
[null,1,2,3,"Summe","Punkte","Ges.",null,null,null,1,2,3,"Summe","Punkte","Ges.",null,null,null,1,2,3,"Summe","Punkte","Ges."]
["Satz 1",null,null,null,null,null,null,null,null,"Satz 1",null,null,null,null,null,null,null,null,"Satz 1"]
["Satz 2",null,null,null,null,null,null,null,null,"Satz 2",null,null,null,null,null,null,null,null,"Satz 2"]
["Satz 3",null,null,null,null,null,null,null,null,"Satz 3",null,null,null,null,null,null,null,null,"Satz 3"]
["wenn erforderlich",null,null,null,null,null,null,null,null,"wenn erforderlich",null,null,null,null,null,null,null,null,"wenn erforderlich"]
["Satz 4",null,null,null,null,null,null,null,null,"Satz 4",null,null,null,null,null,null,null,null,"Satz 4"]
["wenn erforderlich",null,null,null,null,null,null,null,null,"wenn erforderlich",null,null,null,null,null,null,null,null,"wenn erforderlich"]
["Satz 5",null,null,null,null,null,null,null,null,"Satz 5",null,null,null,null,null,null,null,null,"Satz 5"]
["wenn erforderlich",null,null,null,null,null,null,null,null,"wenn erforderlich",null,null,null,null,null,null,null,null,"wenn erforderlich"]
["Stechen",null,null,null,null,null,null,null,null,"Stechen",null,null,null,null,null,null,null,null,"Stechen"]
[null,null,null,null,null,"gewonnen",null,null,null,null,null,null,null,null,"gewonnen",null,null,null,null,null,null,null,null,"gewonnen"]
["Schütze:",null,null,null,null,"verloren",null,null,null,"Schütze:",null,null,null,null,"verloren",null,null,null,"Schütze:",null,null,null,null,"verloren"]
[]
["Gegner:",null,"Name:",null,null,null,null,null,null,"Gegner:",null,"Name:",null,null,null,null,null,null,"Gegner:",null,"Name:"]
[null,null,"Unterschrift:",null,null,null,null,null,null,null,null,"Unterschrift:",null,null,null,null,null,null,null,null,"Unterschrift:"]
[]
[]
[null,null,null,null,null,null,null,null,null,"1/24 Elimination",null,null,null,{"$f":"'R52_Baum'!$D$158","v":"Scheibe: 24A"},null,null,null,null,"1/12 Elimination",null,null,null,{"$f":"'R52_Baum'!$I$137","v":"Scheibe: 13B"}]
[null,null,null,null,null,null,null,null,null,null,1,2,3,"Summe","Punkte","Ges.",null,null,null,1,2,3,"Summe","Punkte","Ges."]
[{"$f":"Select!$C$12","v":"Demoturnier"},null,null,null,null,null,null,null,null,"Satz 1",null,null,null,null,null,null,null,null,"Satz 1"]
["Veranstaltung",null,null,null,null,null,null,null,null,"Satz 2",null,null,null,null,null,null,null,null,"Satz 2"]
[{"$f":"Select!$C$13","v":"1. April 2019"},null,null,null,null,null,null,null,null,"Satz 3",null,null,null,null,null,null,null,null,"Satz 3"]
["Datum",null,null,null,null,null,null,null,null,"wenn erforderlich",null,null,null,null,null,null,null,null,"wenn erforderlich"]
[null,null,null,null,null,null,null,null,null,"Satz 4",null,null,null,null,null,null,null,null,"Satz 4"]
[null,null,null,null,null,null,null,null,null,"wenn erforderlich",null,null,null,null,null,null,null,null,"wenn erforderlich"]
[{"$f":"'R52_Baum'!$D$96","v":"Feizlmair Andreas"},null,null,null,null,null,null,null,null,"Satz 5",null,null,null,null,null,null,null,null,"Satz 5"]
["Name",null,null,null,null,null,null,null,null,"wenn erforderlich",null,null,null,null,null,null,null,null,"wenn erforderlich"]
[{"$f":"'R52_Baum'!$F$96","v":"Union Bogensport Haag"},null,null,null,null,null,null,null,null,"Stechen",null,null,null,null,null,null,null,null,"Stechen"]
["Verein",null,null,null,null,null,null,null,null,null,null,null,null,null,"gewonnen",null,null,null,null,null,null,null,null,"gewonnen"]
[{"$f":"Select!$C$18","v":"Recurve Herren"},null,null,null,null,null,null,null,null,"Schütze:",null,null,null,null,"verloren",null,null,null,"Schütze:",null,null,null,null,"verloren"]
["Bogenklasse"]
[null,null,null,null,null,null,null,null,null,"Gegner:",null,"Name:",null,null,null,null,null,null,"Gegner:",null,"Name:"]
[null,null,null,null,null,null,null,null,null,null,null,"Unterschrift:",null,null,null,null,null,null,null,null,"Unterschrift:"]
[]
[]
["1/8 Elimination",null,null,null,{"$f":"'R52_Baum'!$M$129","v":"Scheibe: 9B"},null,null,null,null,"1/4 Finale",null,null,null,{"$f":"'R52_Baum'!$Q$122","v":"Scheibe: 11"},null,null,null,null,"1/2 Finale",null,null,null,{"$f":"'R52_Baum'!$U$119","v":"Scheibe: 8"}]
[null,1,2,3,"Summe","Punkte","Ges.",null,null,null,1,2,3,"Summe","Punkte","Ges.",null,null,null,1,2,3,"Summe","Punkte","Ges."]
["Satz 1",null,null,null,null,null,null,null,null,"Satz 1",null,null,null,null,null,null,null,null,"Satz 1"]
["Satz 2",null,null,null,null,null,null,null,null,"Satz 2",null,null,null,null,null,null,null,null,"Satz 2"]
["Satz 3",null,null,null,null,null,null,null,null,"Satz 3",null,null,null,null,null,null,null,null,"Satz 3"]
["wenn erforderlich",null,null,null,null,null,null,null,null,"wenn erforderlich",null,null,null,null,null,null,null,null,"wenn erforderlich"]
["Satz 4",null,null,null,null,null,null,null,null,"Satz 4",null,null,null,null,null,null,null,null,"Satz 4"]
["wenn erforderlich",null,null,null,null,null,null,null,null,"wenn erforderlich",null,null,null,null,null,null,null,null,"wenn erforderlich"]
["Satz 5",null,null,null,null,null,null,null,null,"Satz 5",null,null,null,null,null,null,null,null,"Satz 5"]
["wenn erforderlich",null,null,null,null,null,null,null,null,"wenn erforderlich",null,null,null,null,null,null,null,null,"wenn erforderlich"]
["Stechen",null,null,null,null,null,null,null,null,"Stechen",null,null,null,null,null,null,null,null,"Stechen"]
[null,null,null,null,null,"gewonnen",null,null,null,null,null,null,null,null,"gewonnen",null,null,null,null,null,null,null,null,"gewonnen"]
["Schütze:",null,null,null,null,"verloren",null,null,null,"Schütze:",null,null,null,null,"verloren",null,null,null,"Schütze:",null,null,null,null,"verloren"]
[]
["Gegner:",null,"Name:",null,null,null,null,null,null,"Gegner:",null,"Name:",null,null,null,null,null,null,"Gegner:",null,"Name:"]
[null,null,"Unterschrift:",null,null,null,null,null,null,null,null,"Unterschrift:",null,null,null,null,null,null,null,null,"Unterschrift:"]
[]
[]
[null,null,null,null,null,null,null,null,null,"1/24 Elimination",null,null,null,{"$f":"'R52_Baum'!$D$159","v":"Scheibe: 24B"},null,null,null,null,"1/12 Elimination",null,null,null,{"$f":"'R52_Baum'!$I$137","v":"Scheibe: 13B"}]
[null,null,null,null,null,null,null,null,null,null,1,2,3,"Summe","Punkte","Ges.",null,null,null,1,2,3,"Summe","Punkte","Ges."]
[{"$f":"Select!$C$12","v":"Demoturnier"},null,null,null,null,null,null,null,null,"Satz 1",null,null,null,null,null,null,null,null,"Satz 1"]
["Veranstaltung",null,null,null,null,null,null,null,null,"Satz 2",null,null,null,null,null,null,null,null,"Satz 2"]
[{"$f":"Select!$C$13","v":"1. April 2019"},null,null,null,null,null,null,null,null,"Satz 3",null,null,null,null,null,null,null,null,"Satz 3"]
["Datum",null,null,null,null,null,null,null,null,"wenn erforderlich",null,null,null,null,null,null,null,null,"wenn erforderlich"]
[null,null,null,null,null,null,null,null,null,"Satz 4",null,null,null,null,null,null,null,null,"Satz 4"]
[null,null,null,null,null,null,null,null,null,"wenn erforderlich",null,null,null,null,null,null,null,null,"wenn erforderlich"]
[{"$f":"'R52_Baum'!$D$97","v":"Navratil Christoph"},null,null,null,null,null,null,null,null,"Satz 5",null,null,null,null,null,null,null,null,"Satz 5"]
["Name",null,null,null,null,null,null,null,null,"wenn erforderlich",null,null,null,null,null,null,null,null,"wenn erforderlich"]
[{"$f":"'R52_Baum'!$F$97","v":"BSV Schönbrunn"},null,null,null,null,null,null,null,null,"Stechen",null,null,null,null,null,null,null,null,"Stechen"]
["Verein",null,null,null,null,null,null,null,null,null,null,null,null,null,"gewonnen",null,null,null,null,null,null,null,null,"gewonnen"]
[{"$f":"Select!$C$18","v":"Recurve Herren"},null,null,null,null,null,null,null,null,"Schütze:",null,null,null,null,"verloren",null,null,null,"Schütze:",null,null,null,null,"verloren"]
["Bogenklasse"]
[null,null,null,null,null,null,null,null,null,"Gegner:",null,"Name:",null,null,null,null,null,null,"Gegner:",null,"Name:"]
[null,null,null,null,null,null,null,null,null,null,null,"Unterschrift:",null,null,null,null,null,null,null,null,"Unterschrift:"]
[]
[]
["1/8 Elimination",null,null,null,{"$f":"'R52_Baum'!$M$129","v":"Scheibe: 9B"},null,null,null,null,"1/4 Finale",null,null,null,{"$f":"'R52_Baum'!$Q$122","v":"Scheibe: 11"},null,null,null,null,"1/2 Finale",null,null,null,{"$f":"'R52_Baum'!$U$119","v":"Scheibe: 8"}]
[null,1,2,3,"Summe","Punkte","Ges.",null,null,null,1,2,3,"Summe","Punkte","Ges.",null,null,null,1,2,3,"Summe","Punkte","Ges."]
["Satz 1",null,null,null,null,null,null,null,null,"Satz 1",null,null,null,null,null,null,null,null,"Satz 1"]
["Satz 2",null,null,null,null,null,null,null,null,"Satz 2",null,null,null,null,null,null,null,null,"Satz 2"]
["Satz 3",null,null,null,null,null,null,null,null,"Satz 3",null,null,null,null,null,null,null,null,"Satz 3"]
["wenn erforderlich",null,null,null,null,null,null,null,null,"wenn erforderlich",null,null,null,null,null,null,null,null,"wenn erforderlich"]
["Satz 4",null,null,null,null,null,null,null,null,"Satz 4",null,null,null,null,null,null,null,null,"Satz 4"]
["wenn erforderlich",null,null,null,null,null,null,null,null,"wenn erforderlich",null,null,null,null,null,null,null,null,"wenn erforderlich"]
["Satz 5",null,null,null,null,null,null,null,null,"Satz 5",null,null,null,null,null,null,null,null,"Satz 5"]
["wenn erforderlich",null,null,null,null,null,null,null,null,"wenn erforderlich",null,null,null,null,null,null,null,null,"wenn erforderlich"]
["Stechen",null,null,null,null,null,null,null,null,"Stechen",null,null,null,null,null,null,null,null,"Stechen"]
[null,null,null,null,null,"gewonnen",null,null,null,null,null,null,null,null,"gewonnen",null,null,null,null,null,null,null,null,"gewonnen"]
["Schütze:",null,null,null,null,"verloren",null,null,null,"Schütze:",null,null,null,null,"verloren",null,null,null,"Schütze:",null,null,null,null,"verloren"]
[]
["Gegner:",null,"Name:",null,null,null,null,null,null,"Gegner:",null,"Name:",null,null,null,null,null,null,"Gegner:",null,"Name:"]
[null,null,"Unterschrift:",null,null,null,null,null,null,null,null,"Unterschrift:",null,null,null,null,null,null,null,null,"Unterschrift:"]
[]
[]
[null,null,null,null,null,null,null,null,null,"1/24 Elimination",null,null,null,{"$f":"'R52_Baum'!$D$160","v":"Scheibe: 25A"},null,null,null,null,"1/12 Elimination",null,null,null,{"$f":"'R52_Baum'!$I$138","v":"Scheibe: 14A"}]
[null,null,null,null,null,null,null,null,null,null,1,2,3,"Summe","Punkte","Ges.",null,null,null,1,2,3,"Summe","Punkte","Ges."]
[{"$f":"Select!$C$12","v":"Demoturnier"},null,null,null,null,null,null,null,null,"Satz 1",null,null,null,null,null,null,null,null,"Satz 1"]
["Veranstaltung",null,null,null,null,null,null,null,null,"Satz 2",null,null,null,null,null,null,null,null,"Satz 2"]
[{"$f":"Select!$C$13","v":"1. April 2019"},null,null,null,null,null,null,null,null,"Satz 3",null,null,null,null,null,null,null,null,"Satz 3"]
["Datum",null,null,null,null,null,null,null,null,"wenn erforderlich",null,null,null,null,null,null,null,null,"wenn erforderlich"]
[null,null,null,null,null,null,null,null,null,"Satz 4",null,null,null,null,null,null,null,null,"Satz 4"]
[null,null,null,null,null,null,null,null,null,"wenn erforderlich",null,null,null,null,null,null,null,null,"wenn erforderlich"]
[{"$f":"'R52_Baum'!$D$100","v":"Markl Mario"},null,null,null,null,null,null,null,null,"Satz 5",null,null,null,null,null,null,null,null,"Satz 5"]
["Name",null,null,null,null,null,null,null,null,"wenn erforderlich",null,null,null,null,null,null,null,null,"wenn erforderlich"]
[{"$f":"'R52_Baum'!$F$100","v":"BSV Dakota"},null,null,null,null,null,null,null,null,"Stechen",null,null,null,null,null,null,null,null,"Stechen"]
["Verein",null,null,null,null,null,null,null,null,null,null,null,null,null,"gewonnen",null,null,null,null,null,null,null,null,"gewonnen"]
[{"$f":"Select!$C$18","v":"Recurve Herren"},null,null,null,null,null,null,null,null,"Schütze:",null,null,null,null,"verloren",null,null,null,"Schütze:",null,null,null,null,"verloren"]
["Bogenklasse"]
[null,null,null,null,null,null,null,null,null,"Gegner:",null,"Name:",null,null,null,null,null,null,"Gegner:",null,"Name:"]
[null,null,null,null,null,null,null,null,null,null,null,"Unterschrift:",null,null,null,null,null,null,null,null,"Unterschrift:"]
[]
[]
["1/8 Elimination",null,null,null,{"$f":"'R52_Baum'!$M$130","v":"Scheibe: 10A"},null,null,null,null,"1/4 Finale",null,null,null,{"$f":"'R52_Baum'!$Q$123","v":"Scheibe: 12"},null,null,null,null,"1/2 Finale",null,null,null,{"$f":"'R52_Baum'!$U$119","v":"Scheibe: 8"}]
[null,1,2,3,"Summe","Punkte","Ges.",null,null,null,1,2,3,"Summe","Punkte","Ges.",null,null,null,1,2,3,"Summe","Punkte","Ges."]
["Satz 1",null,null,null,null,null,null,null,null,"Satz 1",null,null,null,null,null,null,null,null,"Satz 1"]
["Satz 2",null,null,null,null,null,null,null,null,"Satz 2",null,null,null,null,null,null,null,null,"Satz 2"]
["Satz 3",null,null,null,null,null,null,null,null,"Satz 3",null,null,null,null,null,null,null,null,"Satz 3"]
["wenn erforderlich",null,null,null,null,null,null,null,null,"wenn erforderlich",null,null,null,null,null,null,null,null,"wenn erforderlich"]
["Satz 4",null,null,null,null,null,null,null,null,"Satz 4",null,null,null,null,null,null,null,null,"Satz 4"]
["wenn erforderlich",null,null,null,null,null,null,null,null,"wenn erforderlich",null,null,null,null,null,null,null,null,"wenn erforderlich"]
["Satz 5",null,null,null,null,null,null,null,null,"Satz 5",null,null,null,null,null,null,null,null,"Satz 5"]
["wenn erforderlich",null,null,null,null,null,null,null,null,"wenn erforderlich",null,null,null,null,null,null,null,null,"wenn erforderlich"]
["Stechen",null,null,null,null,null,null,null,null,"Stechen",null,null,null,null,null,null,null,null,"Stechen"]
[null,null,null,null,null,"gewonnen",null,null,null,null,null,null,null,null,"gewonnen",null,null,null,null,null,null,null,null,"gewonnen"]
["Schütze:",null,null,null,null,"verloren",null,null,null,"Schütze:",null,null,null,null,"verloren",null,null,null,"Schütze:",null,null,null,null,"verloren"]
[]
["Gegner:",null,"Name:",null,null,null,null,null,null,"Gegner:",null,"Name:",null,null,null,null,null,null,"Gegner:",null,"Name:"]
[null,null,"Unterschrift:",null,null,null,null,null,null,null,null,"Unterschrift:",null,null,null,null,null,null,null,null,"Unterschrift:"]
[]
[]
[null,null,null,null,null,null,null,null,null,"1/24 Elimination",null,null,null,{"$f":"'R52_Baum'!$D$161","v":"Scheibe: 25B"},null,null,null,null,"1/12 Elimination",null,null,null,{"$f":"'R52_Baum'!$I$138","v":"Scheibe: 14A"}]
[null,null,null,null,null,null,null,null,null,null,1,2,3,"Summe","Punkte","Ges.",null,null,null,1,2,3,"Summe","Punkte","Ges."]
[{"$f":"Select!$C$12","v":"Demoturnier"},null,null,null,null,null,null,null,null,"Satz 1",null,null,null,null,null,null,null,null,"Satz 1"]
["Veranstaltung",null,null,null,null,null,null,null,null,"Satz 2",null,null,null,null,null,null,null,null,"Satz 2"]
[{"$f":"Select!$C$13","v":"1. April 2019"},null,null,null,null,null,null,null,null,"Satz 3",null,null,null,null,null,null,null,null,"Satz 3"]
["Datum",null,null,null,null,null,null,null,null,"wenn erforderlich",null,null,null,null,null,null,null,null,"wenn erforderlich"]
[null,null,null,null,null,null,null,null,null,"Satz 4",null,null,null,null,null,null,null,null,"Satz 4"]
[null,null,null,null,null,null,null,null,null,"wenn erforderlich",null,null,null,null,null,null,null,null,"wenn erforderlich"]
[{"$f":"'R52_Baum'!$D$101","v":"Hoyer Wolfgang"},null,null,null,null,null,null,null,null,"Satz 5",null,null,null,null,null,null,null,null,"Satz 5"]
["Name",null,null,null,null,null,null,null,null,"wenn erforderlich",null,null,null,null,null,null,null,null,"wenn erforderlich"]
[{"$f":"'R52_Baum'!$F$101","v":"UBSC Artemis Wien"},null,null,null,null,null,null,null,null,"Stechen",null,null,null,null,null,null,null,null,"Stechen"]
["Verein",null,null,null,null,null,null,null,null,null,null,null,null,null,"gewonnen",null,null,null,null,null,null,null,null,"gewonnen"]
[{"$f":"Select!$C$18","v":"Recurve Herren"},null,null,null,null,null,null,null,null,"Schütze:",null,null,null,null,"verloren",null,null,null,"Schütze:",null,null,null,null,"verloren"]
["Bogenklasse"]
[null,null,null,null,null,null,null,null,null,"Gegner:",null,"Name:",null,null,null,null,null,null,"Gegner:",null,"Name:"]
[null,null,null,null,null,null,null,null,null,null,null,"Unterschrift:",null,null,null,null,null,null,null,null,"Unterschrift:"]
[]
[]
["1/8 Elimination",null,null,null,{"$f":"'R52_Baum'!$M$130","v":"Scheibe: 10A"},null,null,null,null,"1/4 Finale",null,null,null,{"$f":"'R52_Baum'!$Q$123","v":"Scheibe: 12"},null,null,null,null,"1/2 Finale",null,null,null,{"$f":"'R52_Baum'!$U$119","v":"Scheibe: 8"}]
[null,1,2,3,"Summe","Punkte","Ges.",null,null,null,1,2,3,"Summe","Punkte","Ges.",null,null,null,1,2,3,"Summe","Punkte","Ges."]
["Satz 1",null,null,null,null,null,null,null,null,"Satz 1",null,null,null,null,null,null,null,null,"Satz 1"]
["Satz 2",null,null,null,null,null,null,null,null,"Satz 2",null,null,null,null,null,null,null,null,"Satz 2"]
["Satz 3",null,null,null,null,null,null,null,null,"Satz 3",null,null,null,null,null,null,null,null,"Satz 3"]
["wenn erforderlich",null,null,null,null,null,null,null,null,"wenn erforderlich",null,null,null,null,null,null,null,null,"wenn erforderlich"]
["Satz 4",null,null,null,null,null,null,null,null,"Satz 4",null,null,null,null,null,null,null,null,"Satz 4"]
["wenn erforderlich",null,null,null,null,null,null,null,null,"wenn erforderlich",null,null,null,null,null,null,null,null,"wenn erforderlich"]
["Satz 5",null,null,null,null,null,null,null,null,"Satz 5",null,null,null,null,null,null,null,null,"Satz 5"]
["wenn erforderlich",null,null,null,null,null,null,null,null,"wenn erforderlich",null,null,null,null,null,null,null,null,"wenn erforderlich"]
["Stechen",null,null,null,null,null,null,null,null,"Stechen",null,null,null,null,null,null,null,null,"Stechen"]
[null,null,null,null,null,"gewonnen",null,null,null,null,null,null,null,null,"gewonnen",null,null,null,null,null,null,null,null,"gewonnen"]
["Schütze:",null,null,null,null,"verloren",null,null,null,"Schütze:",null,null,null,null,"verloren",null,null,null,"Schütze:",null,null,null,null,"verloren"]
[]
["Gegner:",null,"Name:",null,null,null,null,null,null,"Gegner:",null,"Name:",null,null,null,null,null,null,"Gegner:",null,"Name:"]
[null,null,"Unterschrift:",null,null,null,null,null,null,null,null,"Unterschrift:",null,null,null,null,null,null,null,null,"Unterschrift:"]
[]
[]
[null,null,null,null,null,null,null,null,null,"1/24 Elimination",null,null,null,{"$f":"'R52_Baum'!$D$162","v":"Scheibe: 26A"},null,null,null,null,"1/12 Elimination",null,null,null,{"$f":"'R52_Baum'!$I$139","v":"Scheibe: 14B"}]
[null,null,null,null,null,null,null,null,null,null,1,2,3,"Summe","Punkte","Ges.",null,null,null,1,2,3,"Summe","Punkte","Ges."]
[{"$f":"Select!$C$12","v":"Demoturnier"},null,null,null,null,null,null,null,null,"Satz 1",null,null,null,null,null,null,null,null,"Satz 1"]
["Veranstaltung",null,null,null,null,null,null,null,null,"Satz 2",null,null,null,null,null,null,null,null,"Satz 2"]
[{"$f":"Select!$C$13","v":"1. April 2019"},null,null,null,null,null,null,null,null,"Satz 3",null,null,null,null,null,null,null,null,"Satz 3"]
["Datum",null,null,null,null,null,null,null,null,"wenn erforderlich",null,null,null,null,null,null,null,null,"wenn erforderlich"]
[null,null,null,null,null,null,null,null,null,"Satz 4",null,null,null,null,null,null,null,null,"Satz 4"]
[null,null,null,null,null,null,null,null,null,"wenn erforderlich",null,null,null,null,null,null,null,null,"wenn erforderlich"]
[{"$f":"'R52_Baum'!$D$104","v":"Arfsten Sven"},null,null,null,null,null,null,null,null,"Satz 5",null,null,null,null,null,null,null,null,"Satz 5"]
["Name",null,null,null,null,null,null,null,null,"wenn erforderlich",null,null,null,null,null,null,null,null,"wenn erforderlich"]
[{"$f":"'R52_Baum'!$F$104","v":"BC Golden Arrows"},null,null,null,null,null,null,null,null,"Stechen",null,null,null,null,null,null,null,null,"Stechen"]
["Verein",null,null,null,null,null,null,null,null,null,null,null,null,null,"gewonnen",null,null,null,null,null,null,null,null,"gewonnen"]
[{"$f":"Select!$C$18","v":"Recurve Herren"},null,null,null,null,null,null,null,null,"Schütze:",null,null,null,null,"verloren",null,null,null,"Schütze:",null,null,null,null,"verloren"]
["Bogenklasse"]
[null,null,null,null,null,null,null,null,null,"Gegner:",null,"Name:",null,null,null,null,null,null,"Gegner:",null,"Name:"]
[null,null,null,null,null,null,null,null,null,null,null,"Unterschrift:",null,null,null,null,null,null,null,null,"Unterschrift:"]
[]
[]
["1/8 Elimination",null,null,null,{"$f":"'R52_Baum'!$M$130","v":"Scheibe: 10A"},null,null,null,null,"1/4 Finale",null,null,null,{"$f":"'R52_Baum'!$Q$123","v":"Scheibe: 12"},null,null,null,null,"1/2 Finale",null,null,null,{"$f":"'R52_Baum'!$U$119","v":"Scheibe: 8"}]
[null,1,2,3,"Summe","Punkte","Ges.",null,null,null,1,2,3,"Summe","Punkte","Ges.",null,null,null,1,2,3,"Summe","Punkte","Ges."]
["Satz 1",null,null,null,null,null,null,null,null,"Satz 1",null,null,null,null,null,null,null,null,"Satz 1"]
["Satz 2",null,null,null,null,null,null,null,null,"Satz 2",null,null,null,null,null,null,null,null,"Satz 2"]
["Satz 3",null,null,null,null,null,null,null,null,"Satz 3",null,null,null,null,null,null,null,null,"Satz 3"]
["wenn erforderlich",null,null,null,null,null,null,null,null,"wenn erforderlich",null,null,null,null,null,null,null,null,"wenn erforderlich"]
["Satz 4",null,null,null,null,null,null,null,null,"Satz 4",null,null,null,null,null,null,null,null,"Satz 4"]
["wenn erforderlich",null,null,null,null,null,null,null,null,"wenn erforderlich",null,null,null,null,null,null,null,null,"wenn erforderlich"]
["Satz 5",null,null,null,null,null,null,null,null,"Satz 5",null,null,null,null,null,null,null,null,"Satz 5"]
["wenn erforderlich",null,null,null,null,null,null,null,null,"wenn erforderlich",null,null,null,null,null,null,null,null,"wenn erforderlich"]
["Stechen",null,null,null,null,null,null,null,null,"Stechen",null,null,null,null,null,null,null,null,"Stechen"]
[null,null,null,null,null,"gewonnen",null,null,null,null,null,null,null,null,"gewonnen",null,null,null,null,null,null,null,null,"gewonnen"]
["Schütze:",null,null,null,null,"verloren",null,null,null,"Schütze:",null,null,null,null,"verloren",null,null,null,"Schütze:",null,null,null,null,"verloren"]
[]
["Gegner:",null,"Name:",null,null,null,null,null,null,"Gegner:",null,"Name:",null,null,null,null,null,null,"Gegner:",null,"Name:"]
[null,null,"Unterschrift:",null,null,null,null,null,null,null,null,"Unterschrift:",null,null,null,null,null,null,null,null,"Unterschrift:"]
[]
[]
[null,null,null,null,null,null,null,null,null,"1/24 Elimination",null,null,null,{"$f":"'R52_Baum'!$D$163","v":"Scheibe: 26B"},null,null,null,null,"1/12 Elimination",null,null,null,{"$f":"'R52_Baum'!$I$139","v":"Scheibe: 14B"}]
[null,null,null,null,null,null,null,null,null,null,1,2,3,"Summe","Punkte","Ges.",null,null,null,1,2,3,"Summe","Punkte","Ges."]
[{"$f":"Select!$C$12","v":"Demoturnier"},null,null,null,null,null,null,null,null,"Satz 1",null,null,null,null,null,null,null,null,"Satz 1"]
["Veranstaltung",null,null,null,null,null,null,null,null,"Satz 2",null,null,null,null,null,null,null,null,"Satz 2"]
[{"$f":"Select!$C$13","v":"1. April 2019"},null,null,null,null,null,null,null,null,"Satz 3",null,null,null,null,null,null,null,null,"Satz 3"]
["Datum",null,null,null,null,null,null,null,null,"wenn erforderlich",null,null,null,null,null,null,null,null,"wenn erforderlich"]
[null,null,null,null,null,null,null,null,null,"Satz 4",null,null,null,null,null,null,null,null,"Satz 4"]
[null,null,null,null,null,null,null,null,null,"wenn erforderlich",null,null,null,null,null,null,null,null,"wenn erforderlich"]
[{"$f":"'R52_Baum'!$D$105","v":"Hamedl Wolfgang"},null,null,null,null,null,null,null,null,"Satz 5",null,null,null,null,null,null,null,null,"Satz 5"]
["Name",null,null,null,null,null,null,null,null,"wenn erforderlich",null,null,null,null,null,null,null,null,"wenn erforderlich"]
[{"$f":"'R52_Baum'!$F$105","v":"PSV Burgenland - Sektion Bogen"},null,null,null,null,null,null,null,null,"Stechen",null,null,null,null,null,null,null,null,"Stechen"]
["Verein",null,null,null,null,null,null,null,null,null,null,null,null,null,"gewonnen",null,null,null,null,null,null,null,null,"gewonnen"]
[{"$f":"Select!$C$18","v":"Recurve Herren"},null,null,null,null,null,null,null,null,"Schütze:",null,null,null,null,"verloren",null,null,null,"Schütze:",null,null,null,null,"verloren"]
["Bogenklasse"]
[null,null,null,null,null,null,null,null,null,"Gegner:",null,"Name:",null,null,null,null,null,null,"Gegner:",null,"Name:"]
[null,null,null,null,null,null,null,null,null,null,null,"Unterschrift:",null,null,null,null,null,null,null,null,"Unterschrift:"]
[]
[]
["1/8 Elimination",null,null,null,{"$f":"'R52_Baum'!$M$130","v":"Scheibe: 10A"},null,null,null,null,"1/4 Finale",null,null,null,{"$f":"'R52_Baum'!$Q$123","v":"Scheibe: 12"},null,null,null,null,"1/2 Finale",null,null,null,{"$f":"'R52_Baum'!$U$119","v":"Scheibe: 8"}]
[null,1,2,3,"Summe","Punkte","Ges.",null,null,null,1,2,3,"Summe","Punkte","Ges.",null,null,null,1,2,3,"Summe","Punkte","Ges."]
["Satz 1",null,null,null,null,null,null,null,null,"Satz 1",null,null,null,null,null,null,null,null,"Satz 1"]
["Satz 2",null,null,null,null,null,null,null,null,"Satz 2",null,null,null,null,null,null,null,null,"Satz 2"]
["Satz 3",null,null,null,null,null,null,null,null,"Satz 3",null,null,null,null,null,null,null,null,"Satz 3"]
["wenn erforderlich",null,null,null,null,null,null,null,null,"wenn erforderlich",null,null,null,null,null,null,null,null,"wenn erforderlich"]
["Satz 4",null,null,null,null,null,null,null,null,"Satz 4",null,null,null,null,null,null,null,null,"Satz 4"]
["wenn erforderlich",null,null,null,null,null,null,null,null,"wenn erforderlich",null,null,null,null,null,null,null,null,"wenn erforderlich"]
["Satz 5",null,null,null,null,null,null,null,null,"Satz 5",null,null,null,null,null,null,null,null,"Satz 5"]
["wenn erforderlich",null,null,null,null,null,null,null,null,"wenn erforderlich",null,null,null,null,null,null,null,null,"wenn erforderlich"]
["Stechen",null,null,null,null,null,null,null,null,"Stechen",null,null,null,null,null,null,null,null,"Stechen"]
[null,null,null,null,null,"gewonnen",null,null,null,null,null,null,null,null,"gewonnen",null,null,null,null,null,null,null,null,"gewonnen"]
["Schütze:",null,null,null,null,"verloren",null,null,null,"Schütze:",null,null,null,null,"verloren",null,null,null,"Schütze:",null,null,null,null,"verloren"]
[]
["Gegner:",null,"Name:",null,null,null,null,null,null,"Gegner:",null,"Name:",null,null,null,null,null,null,"Gegner:",null,"Name:"]
[null,null,"Unterschrift:",null,null,null,null,null,null,null,null,"Unterschrift:",null,null,null,null,null,null,null,null,"Unterschrift:"]
[]
[]
[null,null,null,null,null,null,null,null,null,"1/24 Elimination",null,null,null,"Freilos",null,null,null,null,"1/12 Elimination",null,null,null,"Freilos"]
[null,null,null,null,null,null,null,null,null,null,1,2,3,"Summe","Punkte","Ges.",null,null,null,1,2,3,"Summe","Punkte","Ges."]
[{"$f":"Select!$C$12","v":"Demoturnier"},null,null,null,null,null,null,null,null,"Satz 1",null,null,null,null,null,null,null,null,"Satz 1"]
["Veranstaltung",null,null,null,null,null,null,null,null,"Satz 2",null,null,null,null,null,null,null,null,"Satz 2"]
[{"$f":"Select!$C$13","v":"1. April 2019"},null,null,null,null,null,null,null,null,"Satz 3",null,null,null,null,null,null,null,null,"Satz 3"]
["Datum",null,null,null,null,null,null,null,null,"wenn erforderlich",null,null,null,null,null,null,null,null,"wenn erforderlich"]
[null,null,null,null,null,null,null,null,null,"Satz 4",null,null,null,null,null,null,null,null,"Satz 4"]
[null,null,null,null,null,null,null,null,null,"wenn erforderlich",null,null,null,null,null,null,null,null,"wenn erforderlich"]
[{"$f":"'R52_Baum'!$D$108","v":"Berger Hermann"},null,null,null,null,null,null,null,null,"Satz 5",null,null,null,null,null,null,null,null,"Satz 5"]
["Name",null,null,null,null,null,null,null,null,"wenn erforderlich",null,null,null,null,null,null,null,null,"wenn erforderlich"]
[{"$f":"'R52_Baum'!$F$108","v":"BSV Glemmerhof"},null,null,null,null,null,null,null,null,"Stechen",null,null,null,null,null,null,null,null,"Stechen"]
["Verein",null,null,null,null,null,null,null,null,null,null,null,null,null,"gewonnen",null,null,null,null,null,null,null,null,"gewonnen"]
[{"$f":"Select!$C$18","v":"Recurve Herren"},null,null,null,null,null,null,null,null,"Schütze:",null,null,null,null,"verloren",null,null,null,"Schütze:",null,null,null,null,"verloren"]
["Bogenklasse"]
[null,null,null,null,null,null,null,null,null,"Gegner:",null,"Name:",null,null,null,null,null,null,"Gegner:",null,"Name:"]
[null,null,null,null,null,null,null,null,null,null,null,"Unterschrift:",null,null,null,null,null,null,null,null,"Unterschrift:"]
[]
[]
["1/8 Elimination",null,null,null,{"$f":"'R52_Baum'!$M$131","v":"Scheibe: 10B"},null,null,null,null,"1/4 Finale",null,null,null,{"$f":"'R52_Baum'!$Q$123","v":"Scheibe: 12"},null,null,null,null,"1/2 Finale",null,null,null,{"$f":"'R52_Baum'!$U$119","v":"Scheibe: 8"}]
[null,1,2,3,"Summe","Punkte","Ges.",null,null,null,1,2,3,"Summe","Punkte","Ges.",null,null,null,1,2,3,"Summe","Punkte","Ges."]
["Satz 1",null,null,null,null,null,null,null,null,"Satz 1",null,null,null,null,null,null,null,null,"Satz 1"]
["Satz 2",null,null,null,null,null,null,null,null,"Satz 2",null,null,null,null,null,null,null,null,"Satz 2"]
["Satz 3",null,null,null,null,null,null,null,null,"Satz 3",null,null,null,null,null,null,null,null,"Satz 3"]
["wenn erforderlich",null,null,null,null,null,null,null,null,"wenn erforderlich",null,null,null,null,null,null,null,null,"wenn erforderlich"]
["Satz 4",null,null,null,null,null,null,null,null,"Satz 4",null,null,null,null,null,null,null,null,"Satz 4"]
["wenn erforderlich",null,null,null,null,null,null,null,null,"wenn erforderlich",null,null,null,null,null,null,null,null,"wenn erforderlich"]
["Satz 5",null,null,null,null,null,null,null,null,"Satz 5",null,null,null,null,null,null,null,null,"Satz 5"]
["wenn erforderlich",null,null,null,null,null,null,null,null,"wenn erforderlich",null,null,null,null,null,null,null,null,"wenn erforderlich"]
["Stechen",null,null,null,null,null,null,null,null,"Stechen",null,null,null,null,null,null,null,null,"Stechen"]
[null,null,null,null,null,"gewonnen",null,null,null,null,null,null,null,null,"gewonnen",null,null,null,null,null,null,null,null,"gewonnen"]
["Schütze:",null,null,null,null,"verloren",null,null,null,"Schütze:",null,null,null,null,"verloren",null,null,null,"Schütze:",null,null,null,null,"verloren"]
[]
["Gegner:",null,"Name:",null,null,null,null,null,null,"Gegner:",null,"Name:",null,null,null,null,null,null,"Gegner:",null,"Name:"]
[null,null,"Unterschrift:",null,null,null,null,null,null,null,null,"Unterschrift:",null,null,null,null,null,null,null,null,"Unterschrift:"]

{"sheet":"R52_Ergebnis","index":11,"n_rows":61,"n_cols":21,"rows_kept":61,"cut":false,"hidden":true,"merged":[[6,12,6,20],[1,0,1,3],[1,4,1,10],[2,0,2,3],[4,0,4,10],[6,0,6,3]]}
[]
[{"$f":"Select!$C$12","v":"Demoturnier"},null,null,null,{"$f":"Select!C14","v":"WA-Outdoor"}]
[{"$f":"Select!C13","v":"1. April 2019"}]
[]
["Ergebnisliste"]
[]
[{"$f":"Select!C18","v":"Recurve Herren"},null,null,null,null,null,null,null,null,null,null,null,"!!!!!!!!!!!!!!!!!!!!!!!!!!  SORTIERBEREICH - NICHT ENTFERNEN !!!!!!!!!!!!!!!!!!!!!!!!!!"]
[]
["Pl.",null,"Name","Verein","Quali.","1/24","1/12","1/8","1/4","1/2","Finale",null,"SortName","SortVerein","SortQuali","Sort 1/24","Sort 1/12","Sort1/8","Sort1/4","Sort1/2","SortFinale"]
[{"$f":"IF(C10<>\"\",1,\"\")","v":""},null,null,null,null,null,null,null,null,null,null,null,{"$f":"'R52_Baum'!Y8","v":""},{"$f":"VLOOKUP(M10,R_Quali!$C$10:$H$100,2,FALSE)","v":{"$error":"#N/A"}},{"$f":"VLOOKUP(M10,R_Quali!$C$10:$H$100,6,FALSE)","v":{"$error":"#N/A"}},{"$f":"VLOOKUP(M10,'R52_Baum'!$D$3:$G$108,4,FALSE)","v":{"$error":"#N/A"}},{"$f":"VLOOKUP(M10,'R52_Baum'!$I$3:$K$108,3,FALSE)","v":0},{"$f":"VLOOKUP(M10,'R52_Baum'!$M$3:$O$108,3,FALSE)","v":0},{"$f":"VLOOKUP(M10,'R52_Baum'!$Q$9:$S$100,3,FALSE)","v":0},{"$f":"VLOOKUP(M10,'R52_Baum'!$U$17:$W$84,3,FALSE)","v":0},{"$f":"VLOOKUP(M10,'R52_Baum'!$Y$24:$AA$68,3,FALSE)","v":0}]
[{"$f":"IF(C11<>\"\",A10+1,\"\")","v":""},null,null,null,null,null,null,null,null,null,null,null,{"$f":"'R52_Baum'!Y10","v":""},{"$f":"VLOOKUP(M11,R_Quali!$C$10:$H$100,2,FALSE)","v":{"$error":"#N/A"}},{"$f":"VLOOKUP(M11,R_Quali!$C$10:$H$100,6,FALSE)","v":{"$error":"#N/A"}},{"$f":"VLOOKUP(M11,'R52_Baum'!$D$3:$G$108,4,FALSE)","v":{"$error":"#N/A"}},{"$f":"VLOOKUP(M11,'R52_Baum'!$I$3:$K$108,3,FALSE)","v":0},{"$f":"VLOOKUP(M11,'R52_Baum'!$M$3:$O$108,3,FALSE)","v":0},{"$f":"VLOOKUP(M11,'R52_Baum'!$Q$9:$S$100,3,FALSE)","v":0},{"$f":"VLOOKUP(M11,'R52_Baum'!$U$17:$W$84,3,FALSE)","v":0},{"$f":"VLOOKUP(M11,'R52_Baum'!$Y$24:$AA$68,3,FALSE)","v":0}]
["",null,null,null,null,null,null,null,null,null,null,null,{"$f":"'R52_Baum'!Y12","v":""},{"$f":"VLOOKUP(M12,R_Quali!$C$10:$H$100,2,FALSE)","v":{"$error":"#N/A"}},{"$f":"VLOOKUP(M12,R_Quali!$C$10:$H$100,6,FALSE)","v":{"$error":"#N/A"}},{"$f":"VLOOKUP(M12,'R52_Baum'!$D$3:$G$108,4,FALSE)","v":{"$error":"#N/A"}},{"$f":"VLOOKUP(M12,'R52_Baum'!$I$3:$K$108,3,FALSE)","v":0},{"$f":"VLOOKUP(M12,'R52_Baum'!$M$3:$O$108,3,FALSE)","v":0},{"$f":"VLOOKUP(M12,'R52_Baum'!$Q$9:$S$100,3,FALSE)","v":0},{"$f":"VLOOKUP(M12,'R52_Baum'!$U$17:$W$84,3,FALSE)","v":0},{"$f":"VLOOKUP(M12,'R52_Baum'!$Y$24:$AA$68,3,FALSE)","v":0}]
["",null,null,null,null,null,null,null,null,null,null,null,{"$f":"IF('R52_Baum'!Y12='R52_Baum'!Y66,'R28_Baum'!Y67,'R52_Baum'!Y66)","v":0},{"$f":"VLOOKUP(M13,R_Quali!$C$10:$H$100,2,FALSE)","v":{"$error":"#N/A"}},{"$f":"VLOOKUP(M13,R_Quali!$C$10:$H$100,6,FALSE)","v":{"$error":"#N/A"}},{"$f":"VLOOKUP(M13,'R52_Baum'!$D$3:$G$108,4,FALSE)","v":{"$error":"#N/A"}},{"$f":"VLOOKUP(M13,'R52_Baum'!$I$3:$K$108,3,FALSE)","v":{"$error":"#N/A"}},{"$f":"VLOOKUP(M13,'R52_Baum'!$M$3:$O$108,3,FALSE)","v":{"$error":"#N/A"}},{"$f":"VLOOKUP(M13,'R52_Baum'!$Q$9:$S$100,3,FALSE)","v":{"$error":"#N/A"}},{"$f":"VLOOKUP(M13,'R52_Baum'!$U$17:$W$84,3,FALSE)","v":{"$error":"#N/A"}},{"$f":"VLOOKUP(M13,'R52_Baum'!$Y$24:$AA$68,3,FALSE)","v":{"$error":"#N/A"}}]
["",null,null,null,null,null,null,null,null,null,null,null,{"$f":"IF('R52_Baum'!U30='R52_Baum'!Q12,'R52_Baum'!Q13,'R52_Baum'!Q12)","v":""},{"$f":"VLOOKUP(M14,R_Quali!$C$10:$H$100,2,FALSE)","v":{"$error":"#N/A"}},{"$f":"VLOOKUP(M14,R_Quali!$C$10:$H$100,6,FALSE)","v":{"$error":"#N/A"}},{"$f":"VLOOKUP(M14,'R52_Baum'!$D$3:$G$108,4,FALSE)","v":{"$error":"#N/A"}},{"$f":"VLOOKUP(M14,'R52_Baum'!$I$3:$K$108,3,FALSE)","v":0},{"$f":"VLOOKUP(M14,'R52_Baum'!$M$3:$O$108,3,FALSE)","v":0},{"$f":"VLOOKUP(M14,'R52_Baum'!$Q$9:$S$100,3,FALSE)","v":0}]
["",null,null,null,null,null,null,null,null,null,null,null,{"$f":"IF('R52_Baum'!U31='R52_Baum'!Q44,'R52_Baum'!Q45,'R52_Baum'!Q44)","v":""},{"$f":"VLOOKUP(M15,R_Quali!$C$10:$H$100,2,FALSE)","v":{"$error":"#N/A"}},{"$f":"VLOOKUP(M15,R_Quali!$C$10:$H$100,6,FALSE)","v":{"$error":"#N/A"}},{"$f":"VLOOKUP(M15,'R52_Baum'!$D$3:$G$108,4,FALSE)","v":{"$error":"#N/A"}},{"$f":"VLOOKUP(M15,'R52_Baum'!$I$3:$K$108,3,FALSE)","v":0},{"$f":"VLOOKUP(M15,'R52_Baum'!$M$3:$O$108,3,FALSE)","v":0},{"$f":"VLOOKUP(M15,'R52_Baum'!$Q$9:$S$100,3,FALSE)","v":0}]
["",null,null,null,null,null,null,null,null,null,null,null,{"$f":"IF('R52_Baum'!U82='R52_Baum'!Q66,'R52_Baum'!Q67,'R52_Baum'!Q66)","v":""},{"$f":"VLOOKUP(M16,R_Quali!$C$10:$H$100,2,FALSE)","v":{"$error":"#N/A"}},{"$f":"VLOOKUP(M16,R_Quali!$C$10:$H$100,6,FALSE)","v":{"$error":"#N/A"}},{"$f":"VLOOKUP(M16,'R52_Baum'!$D$3:$G$108,4,FALSE)","v":{"$error":"#N/A"}},{"$f":"VLOOKUP(M16,'R52_Baum'!$I$3:$K$108,3,FALSE)","v":0},{"$f":"VLOOKUP(M16,'R52_Baum'!$M$3:$O$108,3,FALSE)","v":0},{"$f":"VLOOKUP(M16,'R52_Baum'!$Q$9:$S$100,3,FALSE)","v":0}]
["",null,null,null,null,null,null,null,null,null,null,null,{"$f":"IF('R52_Baum'!U83='R52_Baum'!Q98,'R52_Baum'!Q99,'R52_Baum'!Q98)","v":""},{"$f":"VLOOKUP(M17,R_Quali!$C$10:$H$100,2,FALSE)","v":{"$error":"#N/A"}},{"$f":"VLOOKUP(M17,R_Quali!$C$10:$H$100,6,FALSE)","v":{"$error":"#N/A"}},{"$f":"VLOOKUP(M17,'R52_Baum'!$D$3:$G$108,4,FALSE)","v":{"$error":"#N/A"}},{"$f":"VLOOKUP(M17,'R52_Baum'!$I$3:$K$108,3,FALSE)","v":0},{"$f":"VLOOKUP(M17,'R52_Baum'!$M$3:$O$108,3,FALSE)","v":0},{"$f":"VLOOKUP(M17,'R52_Baum'!$Q$9:$S$100,3,FALSE)","v":0}]
["",null,null,null,null,null,null,null,null,null,null,null,{"$f":"IF('R52_Baum'!Q12='R52_Baum'!M6,'R52_Baum'!M7,'R52_Baum'!M6)","v":"Url Günter"},{"$f":"VLOOKUP(M18,R_Quali!$C$10:$H$100,2,FALSE)","v":"BSC-Wolfspfeil Raab-Holzer"},{"$f":"VLOOKUP(M18,R_Quali!$C$10:$H$100,6,FALSE)","v":532},{"$f":"VLOOKUP(M18,'R52_Baum'!$D$3:$G$108,4,FALSE)","v":0},{"$f":"VLOOKUP(M18,'R52_Baum'!$I$3:$K$108,3,FALSE)","v":0},{"$f":"VLOOKUP(M18,'R52_Baum'!$M$3:$O$108,3,FALSE)","v":0}]
["",null,null,null,null,null,null,null,null,null,null,null,{"$f":"IF('R52_Baum'!Q13='R52_Baum'!M20,'R52_Baum'!M21,'R52_Baum'!M20)","v":""},{"$f":"VLOOKUP(M19,R_Quali!$C$10:$H$100,2,FALSE)","v":{"$error":"#N/A"}},{"$f":"VLOOKUP(M19,R_Quali!$C$10:$H$100,6,FALSE)","v":{"$error":"#N/A"}},{"$f":"VLOOKUP(M19,'R52_Baum'!$D$3:$G$108,4,FALSE)","v":{"$error":"#N/A"}},{"$f":"VLOOKUP(M19,'R52_Baum'!$I$3:$K$108,3,FALSE)","v":0},{"$f":"VLOOKUP(M19,'R52_Baum'!$M$3:$O$108,3,FALSE)","v":0}]
["",null,null,null,null,null,null,null,null,null,null,null,{"$f":"IF('R52_Baum'!Q44='R52_Baum'!M36,'R52_Baum'!M37,'R52_Baum'!M36)","v":""},{"$f":"VLOOKUP(M20,R_Quali!$C$10:$H$100,2,FALSE)","v":{"$error":"#N/A"}},{"$f":"VLOOKUP(M20,R_Quali!$C$10:$H$100,6,FALSE)","v":{"$error":"#N/A"}},{"$f":"VLOOKUP(M20,'R52_Baum'!$D$3:$G$108,4,FALSE)","v":{"$error":"#N/A"}},{"$f":"VLOOKUP(M20,'R52_Baum'!$I$3:$K$108,3,FALSE)","v":0},{"$f":"VLOOKUP(M20,'R52_Baum'!$M$3:$O$108,3,FALSE)","v":0}]
["",null,null,null,null,null,null,null,null,null,null,null,{"$f":"IF('R52_Baum'!Q45='R52_Baum'!M50,'R52_Baum'!M51,'R52_Baum'!M50)","v":"Krempl Werner"},{"$f":"VLOOKUP(M21,R_Quali!$C$10:$H$100,2,FALSE)","v":"BSC Semriach"},{"$f":"VLOOKUP(M21,R_Quali!$C$10:$H$100,6,FALSE)","v":529},{"$f":"VLOOKUP(M21,'R52_Baum'!$D$3:$G$108,4,FALSE)","v":0},{"$f":"VLOOKUP(M21,'R52_Baum'!$I$3:$K$108,3,FALSE)","v":0},{"$f":"VLOOKUP(M21,'R52_Baum'!$M$3:$O$108,3,FALSE)","v":0}]
["",null,null,null,null,null,null,null,null,null,null,null,{"$f":"IF('R52_Baum'!Q66='R52_Baum'!M60,'R52_Baum'!M61,'R52_Baum'!M60)","v":"Strohmaier Joachim"},{"$f":"VLOOKUP(M22,R_Quali!$C$10:$H$100,2,FALSE)","v":"BSC Kumberg"},{"$f":"VLOOKUP(M22,R_Quali!$C$10:$H$100,6,FALSE)","v":530},{"$f":"VLOOKUP(M22,'R52_Baum'!$D$3:$G$108,4,FALSE)","v":0},{"$f":"VLOOKUP(M22,'R52_Baum'!$I$3:$K$108,3,FALSE)","v":0},{"$f":"VLOOKUP(M22,'R52_Baum'!$M$3:$O$108,3,FALSE)","v":0}]
["",null,null,null,null,null,null,null,null,null,null,null,{"$f":"IF('R52_Baum'!Q67='R52_Baum'!M74,'R52_Baum'!M75,'R52_Baum'!M74)","v":""},{"$f":"VLOOKUP(M23,R_Quali!$C$10:$H$100,2,FALSE)","v":{"$error":"#N/A"}},{"$f":"VLOOKUP(M23,R_Quali!$C$10:$H$100,6,FALSE)","v":{"$error":"#N/A"}},{"$f":"VLOOKUP(M23,'R52_Baum'!$D$3:$G$108,4,FALSE)","v":{"$error":"#N/A"}},{"$f":"VLOOKUP(M23,'R52_Baum'!$I$3:$K$108,3,FALSE)","v":0},{"$f":"VLOOKUP(M23,'R52_Baum'!$M$3:$O$108,3,FALSE)","v":0}]
["",null,null,null,null,null,null,null,null,null,null,null,{"$f":"IF('R52_Baum'!Q98='R52_Baum'!M90,'R52_Baum'!M91,'R52_Baum'!M90)","v":""},{"$f":"VLOOKUP(M24,R_Quali!$C$10:$H$100,2,FALSE)","v":{"$error":"#N/A"}},{"$f":"VLOOKUP(M24,R_Quali!$C$10:$H$100,6,FALSE)","v":{"$error":"#N/A"}},{"$f":"VLOOKUP(M24,'R52_Baum'!$D$3:$G$108,4,FALSE)","v":{"$error":"#N/A"}},{"$f":"VLOOKUP(M24,'R52_Baum'!$I$3:$K$108,3,FALSE)","v":0},{"$f":"VLOOKUP(M24,'R52_Baum'!$M$3:$O$108,3,FALSE)","v":0}]
["",null,null,null,null,null,null,null,null,null,null,null,{"$f":"IF('R52_Baum'!Q99='R52_Baum'!M104,'R52_Baum'!M105,'R52_Baum'!M104)","v":"Berger Hermann"},{"$f":"VLOOKUP(M25,R_Quali!$C$10:$H$100,2,FALSE)","v":"BSV Glemmerhof"},{"$f":"VLOOKUP(M25,R_Quali!$C$10:$H$100,6,FALSE)","v":531},{"$f":"VLOOKUP(M25,'R52_Baum'!$D$3:$G$108,4,FALSE)","v":0},{"$f":"VLOOKUP(M25,'R52_Baum'!$I$3:$K$108,3,FALSE)","v":0},{"$f":"VLOOKUP(M25,'R52_Baum'!$M$3:$O$108,3,FALSE)","v":0}]
["",null,null,null,null,null,null,null,null,null,null,null,{"$f":"IF('R52_Baum'!M7='R52_Baum'!I8,'R52_Baum'!I9,'R52_Baum'!I8)","v":""},{"$f":"VLOOKUP(M26,R_Quali!$C$10:$H$100,2,FALSE)","v":{"$error":"#N/A"}},{"$f":"VLOOKUP(M26,R_Quali!$C$10:$H$100,6,FALSE)","v":{"$error":"#N/A"}},{"$f":"VLOOKUP(M26,'R52_Baum'!$D$3:$G$108,4,FALSE)","v":{"$error":"#N/A"}},{"$f":"VLOOKUP(M26,'R52_Baum'!$I$3:$K$108,3,FALSE)","v":0}]
["",null,null,null,null,null,null,null,null,null,null,null,{"$f":"IF('R52_Baum'!M20='R52_Baum'!I16,'R52_Baum'!I17,'R52_Baum'!I16)","v":""},{"$f":"VLOOKUP(M27,R_Quali!$C$10:$H$100,2,FALSE)","v":{"$error":"#N/A"}},{"$f":"VLOOKUP(M27,R_Quali!$C$10:$H$100,6,FALSE)","v":{"$error":"#N/A"}},{"$f":"VLOOKUP(M27,'R52_Baum'!$D$3:$G$108,4,FALSE)","v":{"$error":"#N/A"}},{"$f":"VLOOKUP(M27,'R52_Baum'!$I$3:$K$108,3,FALSE)","v":0}]
["",null,null,null,null,null,null,null,null,null,null,null,{"$f":"IF('R52_Baum'!M21='R52_Baum'!I24,'R52_Baum'!I25,'R52_Baum'!I24)","v":""},{"$f":"VLOOKUP(M28,R_Quali!$C$10:$H$100,2,FALSE)","v":{"$error":"#N/A"}},{"$f":"VLOOKUP(M28,R_Quali!$C$10:$H$100,6,FALSE)","v":{"$error":"#N/A"}},{"$f":"VLOOKUP(M28,'R52_Baum'!$D$3:$G$108,4,FALSE)","v":{"$error":"#N/A"}},{"$f":"VLOOKUP(M28,'R52_Baum'!$I$3:$K$108,3,FALSE)","v":0}]
["",null,null,null,null,null,null,null,null,null,null,null,{"$f":"IF('R52_Baum'!M36='R52_Baum'!I32,'R52_Baum'!I33,'R52_Baum'!I32)","v":""},{"$f":"VLOOKUP(M29,R_Quali!$C$10:$H$100,2,FALSE)","v":{"$error":"#N/A"}},{"$f":"VLOOKUP(M29,R_Quali!$C$10:$H$100,6,FALSE)","v":{"$error":"#N/A"}},{"$f":"VLOOKUP(M29,'R52_Baum'!$D$3:$G$108,4,FALSE)","v":{"$error":"#N/A"}},{"$f":"VLOOKUP(M29,'R52_Baum'!$I$3:$K$108,3,FALSE)","v":0}]
["",null,null,null,null,null,null,null,null,null,null,null,{"$f":"IF('R52_Baum'!M37='R52_Baum'!I40,'R52_Baum'!I41,'R52_Baum'!I40)","v":""},{"$f":"VLOOKUP(M30,R_Quali!$C$10:$H$100,2,FALSE)","v":{"$error":"#N/A"}},{"$f":"VLOOKUP(M30,R_Quali!$C$10:$H$100,6,FALSE)","v":{"$error":"#N/A"}},{"$f":"VLOOKUP(M30,'R52_Baum'!$D$3:$G$108,4,FALSE)","v":{"$error":"#N/A"}},{"$f":"VLOOKUP(M30,'R52_Baum'!$I$3:$K$108,3,FALSE)","v":0}]
["",null,null,null,null,null,null,null,null,null,null,null,{"$f":"IF('R52_Baum'!M50='R52_Baum'!I48,'R52_Baum'!I49,'R52_Baum'!I48)","v":""},{"$f":"VLOOKUP(M31,R_Quali!$C$10:$H$100,2,FALSE)","v":{"$error":"#N/A"}},{"$f":"VLOOKUP(M31,R_Quali!$C$10:$H$100,6,FALSE)","v":{"$error":"#N/A"}},{"$f":"VLOOKUP(M31,'R52_Baum'!$D$3:$G$108,4,FALSE)","v":{"$error":"#N/A"}},{"$f":"VLOOKUP(M31,'R52_Baum'!$I$3:$K$108,3,FALSE)","v":0}]
["",null,null,null,null,null,null,null,null,null,null,null,{"$f":"IF('R52_Baum'!M61='R52_Baum'!I62,'R52_Baum'!I63,'R52_Baum'!I62)","v":""},{"$f":"VLOOKUP(M32,R_Quali!$C$10:$H$100,2,FALSE)","v":{"$error":"#N/A"}},{"$f":"VLOOKUP(M32,R_Quali!$C$10:$H$100,6,FALSE)","v":{"$error":"#N/A"}},{"$f":"VLOOKUP(M32,'R52_Baum'!$D$3:$G$108,4,FALSE)","v":{"$error":"#N/A"}},{"$f":"VLOOKUP(M32,'R52_Baum'!$I$3:$K$108,3,FALSE)","v":0}]
["",null,null,null,null,null,null,null,null,null,null,null,{"$f":"IF('R52_Baum'!M74='R52_Baum'!I70,'R52_Baum'!I71,'R52_Baum'!I70)","v":""},{"$f":"VLOOKUP(M33,R_Quali!$C$10:$H$100,2,FALSE)","v":{"$error":"#N/A"}},{"$f":"VLOOKUP(M33,R_Quali!$C$10:$H$100,6,FALSE)","v":{"$error":"#N/A"}},{"$f":"VLOOKUP(M33,'R52_Baum'!$D$3:$G$108,4,FALSE)","v":{"$error":"#N/A"}},{"$f":"VLOOKUP(M33,'R52_Baum'!$I$3:$K$108,3,FALSE)","v":0}]
[{"$f":"IF(C34<>\"\",A33+1,\"\")","v":""},null,null,null,null,null,null,null,null,null,null,null,{"$f":"IF('R52_Baum'!M75='R52_Baum'!I78,'R52_Baum'!I79,'R52_Baum'!I78)","v":""},{"$f":"VLOOKUP(M34,R_Quali!$C$10:$H$100,2,FALSE)","v":{"$error":"#N/A"}},{"$f":"VLOOKUP(M34,R_Quali!$C$10:$H$100,6,FALSE)","v":{"$error":"#N/A"}},{"$f":"VLOOKUP(M34,'R52_Baum'!$D$3:$G$108,4,FALSE)","v":{"$error":"#N/A"}},{"$f":"VLOOKUP(M34,'R52_Baum'!$I$3:$K$108,3,FALSE)","v":0}]
["",null,null,null,null,null,null,null,null,null,null,null,{"$f":"IF('R52_Baum'!M90='R52_Baum'!I86,'R52_Baum'!I87,'R52_Baum'!I86)","v":""},{"$f":"VLOOKUP(M35,R_Quali!$C$10:$H$100,2,FALSE)","v":{"$error":"#N/A"}},{"$f":"VLOOKUP(M35,R_Quali!$C$10:$H$100,6,FALSE)","v":{"$error":"#N/A"}},{"$f":"VLOOKUP(M35,'R52_Baum'!$D$3:$G$108,4,FALSE)","v":{"$error":"#N/A"}},{"$f":"VLOOKUP(M35,'R52_Baum'!$I$3:$K$108,3,FALSE)","v":0}]
["",null,null,null,null,null,null,null,null,null,null,null,{"$f":"IF('R52_Baum'!M91='R52_Baum'!I94,'R52_Baum'!I95,'R52_Baum'!I94)","v":""},{"$f":"VLOOKUP(M36,R_Quali!$C$10:$H$100,2,FALSE)","v":{"$error":"#N/A"}},{"$f":"VLOOKUP(M36,R_Quali!$C$10:$H$100,6,FALSE)","v":{"$error":"#N/A"}},{"$f":"VLOOKUP(M36,'R52_Baum'!$D$3:$G$108,4,FALSE)","v":{"$error":"#N/A"}},{"$f":"VLOOKUP(M36,'R52_Baum'!$I$3:$K$108,3,FALSE)","v":0}]
["",null,null,null,null,null,null,null,null,null,null,null,{"$f":"IF('R52_Baum'!M104='R52_Baum'!I102,'R52_Baum'!I103,'R52_Baum'!I102)","v":""},{"$f":"VLOOKUP(M37,R_Quali!$C$10:$H$100,2,FALSE)","v":{"$error":"#N/A"}},{"$f":"VLOOKUP(M37,R_Quali!$C$10:$H$100,6,FALSE)","v":{"$error":"#N/A"}},{"$f":"VLOOKUP(M37,'R52_Baum'!$D$3:$G$108,4,FALSE)","v":{"$error":"#N/A"}},{"$f":"VLOOKUP(M37,'R52_Baum'!$I$3:$K$108,3,FALSE)","v":0}]
["",null,null,null,null,null,null,null,null,null,null,null,{"$f":"IF('R52_Baum'!I8='R52_Baum'!D6,'R52_Baum'!D7,'R52_Baum'!D6)","v":"Schweiger Peter"},{"$f":"VLOOKUP(M38,R_Quali!$C$10:$H$100,2,FALSE)","v":"BSV-Blumental"},{"$f":"VLOOKUP(M38,R_Quali!$C$10:$H$100,6,FALSE)","v":516},{"$f":"VLOOKUP(M38,'R52_Baum'!$D$3:$G$108,4,FALSE)","v":0}]
["",null,null,null,null,null,null,null,null,null,null,null,{"$f":"IF('R52_Baum'!I9='R52_Baum'!D10,'R52_Baum'!D11,'R52_Baum'!D10)","v":"Thuswald Alfred"},{"$f":"VLOOKUP(M39,R_Quali!$C$10:$H$100,2,FALSE)","v":"ASKÖ Gunskirchen"},{"$f":"VLOOKUP(M39,R_Quali!$C$10:$H$100,6,FALSE)","v":479},{"$f":"VLOOKUP(M39,'R52_Baum'!$D$3:$G$108,4,FALSE)","v":0}]
["",null,null,null,null,null,null,null,null,null,null,null,{"$f":"IF('R52_Baum'!I16='R52_Baum'!D14,'R52_Baum'!D15,'R52_Baum'!D14)","v":"Traxler Helmuth"},{"$f":"VLOOKUP(M40,R_Quali!$C$10:$H$100,2,FALSE)","v":"UBC Diana NÖ"},{"$f":"VLOOKUP(M40,R_Quali!$C$10:$H$100,6,FALSE)","v":524},{"$f":"VLOOKUP(M40,'R52_Baum'!$D$3:$G$108,4,FALSE)","v":0}]
["",null,null,null,null,null,null,null,null,null,null,null,{"$f":"IF('R52_Baum'!I17='R52_Baum'!D18,'R52_Baum'!D19,'R52_Baum'!D18)","v":"Werlitsch Ernst"},{"$f":"VLOOKUP(M41,R_Quali!$C$10:$H$100,2,FALSE)","v":"EAT-Bogensport"},{"$f":"VLOOKUP(M41,R_Quali!$C$10:$H$100,6,FALSE)","v":500},{"$f":"VLOOKUP(M41,'R52_Baum'!$D$3:$G$108,4,FALSE)","v":0}]
["",null,null,null,null,null,null,null,null,null,null,null,{"$f":"IF('R52_Baum'!I24='R52_Baum'!D22,'R52_Baum'!D23,'R52_Baum'!D22)","v":"Wallner Ewald"},{"$f":"VLOOKUP(M42,R_Quali!$C$10:$H$100,2,FALSE)","v":"BSC Sölkpass"},{"$f":"VLOOKUP(M42,R_Quali!$C$10:$H$100,6,FALSE)","v":508},{"$f":"VLOOKUP(M42,'R52_Baum'!$D$3:$G$108,4,FALSE)","v":0}]
["",null,null,null,null,null,null,null,null,null,null,null,{"$f":"IF('R52_Baum'!I25='R52_Baum'!D26,'R52_Baum'!D27,'R52_Baum'!D26)","v":"Linhart Christian"},{"$f":"VLOOKUP(M43,R_Quali!$C$10:$H$100,2,FALSE)","v":"BSV Stöttera"},{"$f":"VLOOKUP(M43,R_Quali!$C$10:$H$100,6,FALSE)","v":472},{"$f":"VLOOKUP(M43,'R52_Baum'!$D$3:$G$108,4,FALSE)","v":0}]
["",null,null,null,null,null,null,null,null,null,null,null,{"$f":"IF('R52_Baum'!I32='R52_Baum'!D30,'R52_Baum'!D31,'R52_Baum'!D30)","v":"Höllwirth Andreas"},{"$f":"VLOOKUP(M44,R_Quali!$C$10:$H$100,2,FALSE)","v":"ASKÖ-Luftenberg"},{"$f":"VLOOKUP(M44,R_Quali!$C$10:$H$100,6,FALSE)","v":528},{"$f":"VLOOKUP(M44,'R52_Baum'!$D$3:$G$108,4,FALSE)","v":0}]
["",null,null,null,null,null,null,null,null,null,null,null,{"$f":"IF('R52_Baum'!I33='R52_Baum'!D34,'R52_Baum'!D35,'R52_Baum'!D34)","v":"Simmer Gerhard"},{"$f":"VLOOKUP(M45,R_Quali!$C$10:$H$100,2,FALSE)","v":"Union Bogensport Haag"},{"$f":"VLOOKUP(M45,R_Quali!$C$10:$H$100,6,FALSE)","v":504},{"$f":"VLOOKUP(M45,'R52_Baum'!$D$3:$G$108,4,FALSE)","v":0}]
["",null,null,null,null,null,null,null,null,null,null,null,{"$f":"IF('R52_Baum'!I40='R52_Baum'!D38,'R52_Baum'!D39,'R52_Baum'!D38)","v":"Pupetschek Manfred"},{"$f":"VLOOKUP(M46,R_Quali!$C$10:$H$100,2,FALSE)","v":"IHG Sektion Bogen"},{"$f":"VLOOKUP(M46,R_Quali!$C$10:$H$100,6,FALSE)","v":512},{"$f":"VLOOKUP(M46,'R52_Baum'!$D$3:$G$108,4,FALSE)","v":0}]
["",null,null,null,null,null,null,null,null,null,null,null,{"$f":"IF('R52_Baum'!I41='R52_Baum'!D42,'R52_Baum'!D43,'R52_Baum'!D42)","v":"Bouse Harald"},{"$f":"VLOOKUP(M47,R_Quali!$C$10:$H$100,2,FALSE)","v":"BSV Schönbrunn"},{"$f":"VLOOKUP(M47,R_Quali!$C$10:$H$100,6,FALSE)","v":475},{"$f":"VLOOKUP(M47,'R52_Baum'!$D$3:$G$108,4,FALSE)","v":0}]
["",null,null,null,null,null,null,null,null,null,null,null,{"$f":"IF('R52_Baum'!I48='R52_Baum'!D46,'R52_Baum'!D47,'R52_Baum'!D46)","v":"Jandl Ernst"},{"$f":"VLOOKUP(M48,R_Quali!$C$10:$H$100,2,FALSE)","v":"PSV Burgenland - Sektion Bogen"},{"$f":"VLOOKUP(M48,R_Quali!$C$10:$H$100,6,FALSE)","v":520},{"$f":"VLOOKUP(M48,'R52_Baum'!$D$3:$G$108,4,FALSE)","v":0}]
["",null,null,null,null,null,null,null,null,null,null,null,{"$f":"IF('R52_Baum'!I49='R52_Baum'!D50,'R52_Baum'!D51,'R52_Baum'!D50)","v":"Mühlgassner Wolfgang"},{"$f":"VLOOKUP(M49,R_Quali!$C$10:$H$100,2,FALSE)","v":"UBSC Artemis Wien"},{"$f":"VLOOKUP(M49,R_Quali!$C$10:$H$100,6,FALSE)","v":487},{"$f":"VLOOKUP(M49,'R52_Baum'!$D$3:$G$108,4,FALSE)","v":0}]
["",null,null,null,null,null,null,null,null,null,null,null,{"$f":"IF('R52_Baum'!I62='R52_Baum'!D60,'R52_Baum'!D61,'R52_Baum'!D60)","v":"Winkler Klaus"},{"$f":"VLOOKUP(M50,R_Quali!$C$10:$H$100,2,FALSE)","v":"BSC Enzenreith"},{"$f":"VLOOKUP(M50,R_Quali!$C$10:$H$100,6,FALSE)","v":514},{"$f":"VLOOKUP(M50,'R52_Baum'!$D$3:$G$108,4,FALSE)","v":0}]
["",null,null,null,null,null,null,null,null,null,null,null,{"$f":"IF('R52_Baum'!I63='R52_Baum'!D64,'R52_Baum'!D65,'R52_Baum'!D64)","v":"Galler Joachim"},{"$f":"VLOOKUP(M51,R_Quali!$C$10:$H$100,2,FALSE)","v":"BSV Mattersburg"},{"$f":"VLOOKUP(M51,R_Quali!$C$10:$H$100,6,FALSE)","v":476},{"$f":"VLOOKUP(M51,'R52_Baum'!$D$3:$G$108,4,FALSE)","v":0}]
["",null,null,null,null,null,null,null,null,null,null,null,{"$f":"IF('R52_Baum'!I70='R52_Baum'!D68,'R52_Baum'!D69,'R52_Baum'!D68)","v":"Reicher Ernst"},{"$f":"VLOOKUP(M52,R_Quali!$C$10:$H$100,2,FALSE)","v":"BSC Wörthersee"},{"$f":"VLOOKUP(M52,R_Quali!$C$10:$H$100,6,FALSE)","v":522},{"$f":"VLOOKUP(M52,'R52_Baum'!$D$3:$G$108,4,FALSE)","v":0}]
["",null,null,null,null,null,null,null,null,null,null,null,{"$f":"IF('R52_Baum'!I71='R52_Baum'!D72,'R52_Baum'!D73,'R52_Baum'!D72)","v":"Hochbaumer Thomas"},{"$f":"VLOOKUP(M53,R_Quali!$C$10:$H$100,2,FALSE)","v":"Austrian Free Archer"},{"$f":"VLOOKUP(M53,R_Quali!$C$10:$H$100,6,FALSE)","v":487},{"$f":"VLOOKUP(M53,'R52_Baum'!$D$3:$G$108,4,FALSE)","v":0}]
["",null,null,null,null,null,null,null,null,null,null,null,{"$f":"IF('R52_Baum'!I78='R52_Baum'!D76,'R52_Baum'!D77,'R52_Baum'!D76)","v":"Radauer Helmuth"},{"$f":"VLOOKUP(M54,R_Quali!$C$10:$H$100,2,FALSE)","v":"BSC Ennstal"},{"$f":"VLOOKUP(M54,R_Quali!$C$10:$H$100,6,FALSE)","v":506},{"$f":"VLOOKUP(M54,'R52_Baum'!$D$3:$G$108,4,FALSE)","v":0}]
["",null,null,null,null,null,null,null,null,null,null,null,{"$f":"IF('R52_Baum'!I79='R52_Baum'!D80,'R52_Baum'!D81,'R52_Baum'!D80)","v":"Vorauer Helmut"},{"$f":"VLOOKUP(M55,R_Quali!$C$10:$H$100,2,FALSE)","v":"HSV Absam Bogensport"},{"$f":"VLOOKUP(M55,R_Quali!$C$10:$H$100,6,FALSE)","v":468},{"$f":"VLOOKUP(M55,'R52_Baum'!$D$3:$G$108,4,FALSE)","v":0}]
["",null,null,null,null,null,null,null,null,null,null,null,{"$f":"IF('R52_Baum'!I86='R52_Baum'!D84,'R52_Baum'!D85,'R52_Baum'!D84)","v":"Bucher Martin"},{"$f":"VLOOKUP(M56,R_Quali!$C$10:$H$100,2,FALSE)","v":"LH Graz"},{"$f":"VLOOKUP(M56,R_Quali!$C$10:$H$100,6,FALSE)","v":526},{"$f":"VLOOKUP(M56,'R52_Baum'!$D$3:$G$108,4,FALSE)","v":0}]
["",null,null,null,null,null,null,null,null,null,null,null,{"$f":"IF('R52_Baum'!I87='R52_Baum'!D88,'R52_Baum'!D89,'R52_Baum'!D88)","v":"Klemke Harald"},{"$f":"VLOOKUP(M57,R_Quali!$C$10:$H$100,2,FALSE)","v":"BSV Mattersburg"},{"$f":"VLOOKUP(M57,R_Quali!$C$10:$H$100,6,FALSE)","v":502},{"$f":"VLOOKUP(M57,'R52_Baum'!$D$3:$G$108,4,FALSE)","v":0}]
["",null,null,null,null,null,null,null,null,null,null,null,{"$f":"IF('R52_Baum'!I94='R52_Baum'!D92,'R52_Baum'!D93,'R52_Baum'!D92)","v":"Kutmon Wilhelm"},{"$f":"VLOOKUP(M58,R_Quali!$C$10:$H$100,2,FALSE)","v":"BS Ligist - Archery Freaks"},{"$f":"VLOOKUP(M58,R_Quali!$C$10:$H$100,6,FALSE)","v":510},{"$f":"VLOOKUP(M58,'R52_Baum'!$D$3:$G$108,4,FALSE)","v":0}]
["",null,null,null,null,null,null,null,null,null,null,null,{"$f":"IF('R52_Baum'!I95='R52_Baum'!D96,'R52_Baum'!D97,'R52_Baum'!D96)","v":"Feizlmair Andreas"},{"$f":"VLOOKUP(M59,R_Quali!$C$10:$H$100,2,FALSE)","v":"Union Bogensport Haag"},{"$f":"VLOOKUP(M59,R_Quali!$C$10:$H$100,6,FALSE)","v":474},{"$f":"VLOOKUP(M59,'R52_Baum'!$D$3:$G$108,4,FALSE)","v":0}]
["",null,null,null,null,null,null,null,null,null,null,null,{"$f":"IF('R52_Baum'!I102='R52_Baum'!D100,'R52_Baum'!D101,'R52_Baum'!D100)","v":"Markl Mario"},{"$f":"VLOOKUP(M60,R_Quali!$C$10:$H$100,2,FALSE)","v":"BSV Dakota"},{"$f":"VLOOKUP(M60,R_Quali!$C$10:$H$100,6,FALSE)","v":518},{"$f":"VLOOKUP(M60,'R52_Baum'!$D$3:$G$108,4,FALSE)","v":0}]
["",null,null,null,null,null,null,null,null,null,null,null,{"$f":"IF('R52_Baum'!I103='R52_Baum'!D104,'R52_Baum'!D105,'R52_Baum'!D104)","v":"Arfsten Sven"},{"$f":"VLOOKUP(M61,R_Quali!$C$10:$H$100,2,FALSE)","v":"BC Golden Arrows"},{"$f":"VLOOKUP(M61,R_Quali!$C$10:$H$100,6,FALSE)","v":483},{"$f":"VLOOKUP(M61,'R52_Baum'!$D$3:$G$108,4,FALSE)","v":0}]

{"sheet":"R16_Baum","index":12,"n_rows":70,"n_cols":16,"rows_kept":70,"cut":false,"hidden":true,"merged":[[10,14,10,15],[11,14,11,15],[47,6,48,7],[49,2,50,3],[29,5,30,5],[31,5,32,5],[41,5,42,5],[43,5,44,5],[11,9,12,9],[13,9,14,9],[35,9,36,9],[37,9,38,9],[1,10,2,15],[3,10,4,15],[41,10,42,11],[45,14,46,15],[20,13,21,13],[22,13,23,13],[26,13,27,13],[28,13,29,13],[38,14,39,15],[6,13,7,13],[8,13,9,13],[10,13,11,13],[6,14,6,15],[7,14,7,15],[8,14,8,15],[9,14,9,15],[2,1,3,1],[4,1,5,1],[8,1,9,1],[10,1,11,1],[14,1,15,1],[44,1,45,1],[46,1,47,1],[5,5,6,5],[7,5,8,5],[17,5,18,5],[19,5,20,5],[20,1,21,1],[22,1,23,1],[26,1,27,1],[28,1,29,1],[40,1,41,1],[38,1,39,1],[32,1,33,1],[34,1,35,1],[16,1,17,1]]}
[]
[null,"Schb","Name","Erg.",null,null,null,null,null,null,{"$f":"Select!C12","v":"Demoturnier"}]
[null,{"$f":"D55","v":"1A"},{"$f":"R_Quali!C10","v":"Url Günter"}]
[1,null,{"$f":"R_Quali!D10","v":"BSC-Wolfspfeil Raab-Holzer"},{"$f":"R_Quali!H10","v":532},"Quali.",null,null,null,null,null,{"$f":"Select!C13","v":"1. April 2019"}]
[16,{"$f":"D56","v":"1B"},{"$f":"R_Quali!C25","v":"Lackner Uwe"},null,null,"Schb","Name","Erg."]
[null,null,{"$f":"R_Quali!D25","v":"LH Graz"},{"$f":"R_Quali!H25","v":517},"Quali.",{"$f":"H55","v":"6A"},{"$f":"IF($D3>$D5,$C3,IF($D5>$D3,$C5,IF(RIGHT($D3,1)=\"*\",$C3,IF(RIGHT($D5,1)=\"*\",$C5,\"\"))))","v":""}]
[null,null,null,null,null,null,{"$f":"IF($D3>$D5,$C4,IF($D5>$D3,$C6,IF(RIGHT($D3,1)=\"*\",$C4,IF(RIGHT($D5,1)=\"*\",$C6,\"\"))))","v":""},null,null,null,null,null,null,"1.",{"$f":"IF($P$21>$P$23,$O$21,IF($P$23>$P$21,$O$23,IF(RIGHT($P$21,1)=\"*\",$O$21,IF(RIGHT($P$23,1)=\"*\",$O$23,\"\"))))","v":""}]
[null,null,null,null,null,{"$f":"H56","v":"6B"},{"$f":"IF($D9>$D11,$C9,IF($D11>$D9,$C11,IF(RIGHT($D9,1)=\"*\",$C9,IF(RIGHT($D11,1)=\"*\",$C11,\"\"))))","v":""},null,null,null,null,null,null,null,{"$f":"IF($P$21>$P$23,$O$22,IF($P$23>$P$21,$O$24,IF(RIGHT($P$21,1)=\"*\",$O$22,IF(RIGHT($P$23,1)=\"*\",$O$24,\"\"))))","v":""}]
[null,{"$f":"D57","v":"2A"},{"$f":"R_Quali!C18","v":"Traxler Helmuth"},null,null,null,{"$f":"IF($D9>$D11,$C10,IF($D11>$D9,$C12,IF(RIGHT($D9,1)=\"*\",$C10,IF(RIGHT($D11,1)=\"*\",$C12,\"\"))))","v":""},null,null,null,null,null,null,"2.",{"$f":"IF($P$21<$P$23,$O$21,IF($P$23<$P$21,$O$23,IF(RIGHT($P$23,1)=\"*\",$O$21,IF(RIGHT($P$21,1)=\"*\",$O$23,\"\"))))","v":""}]
[9,null,{"$f":"R_Quali!D18","v":"UBC Diana NÖ"},{"$f":"R_Quali!H18","v":524},"Quali.",null,null,null,null,null,null,null,null,null,{"$f":"IF($P$21<$P$23,$O$22,IF($P$23<$P$21,$O$24,IF(RIGHT($P$23,1)=\"*\",$O$22,IF(RIGHT($P$21,1)=\"*\",$O$24,\"\"))))","v":""}]
[8,{"$f":"D58","v":"2B"},{"$f":"R_Quali!C17","v":"Robl Ronald"},null,null,null,null,null,null,"Schb","Name","Erg.",null,"3.",{"$f":"IF($P$27>$P$29,$O$27,IF($P$29>$P$27,$O$29,IF(RIGHT($P$27,1)=\"*\",$O$27,IF(RIGHT($P$29,1)=\"*\",$O$29,\"\"))))","v":""}]
[null,null,{"$f":"R_Quali!D17","v":"Austrian Free Archer"},{"$f":"R_Quali!H17","v":525},"Quali.",null,null,null,null,{"$f":"L55","v":6},{"$f":"IF($H6>$H8,$G6,IF($H8>$H6,$G8,IF(RIGHT($H6,1)=\"*\",$G6,IF(RIGHT($H8,1)=\"*\",$G8,\"\"))))","v":""},null,null,null,{"$f":"IF($P$27>$P$29,$O$28,IF($P$29>$P$27,$O$30,IF(RIGHT($P$27,1)=\"*\",$O$28,IF(RIGHT($P$29,1)=\"*\",$O$30,\"\"))))","v":""}]
[null,null,null,null,null,null,null,null,null,null,{"$f":"IF($H6>$H8,$G7,IF($H8>$H6,$G9,IF(RIGHT($H6,1)=\"*\",$G7,IF(RIGHT($H8,1)=\"*\",$G9,\"\"))))","v":""}]
[null,null,null,null,null,null,null,null,null,{"$f":"L56","v":7},{"$f":"IF($H18>$H20,$G18,IF($H20>$H18,$G20,IF(RIGHT($H18,1)=\"*\",$G18,IF(RIGHT($H20,1)=\"*\",$G20,\"\"))))","v":""}]
[null,{"$f":"D59","v":"3A"},{"$f":"R_Quali!C14","v":"Höllwirth Andreas"},null,null,null,null,null,null,null,{"$f":"IF($H18>$H20,$G19,IF($H20>$H18,$G21,IF(RIGHT($H18,1)=\"*\",$G19,IF(RIGHT($H20,1)=\"*\",$G21,\"\"))))","v":""}]
[5,null,{"$f":"R_Quali!D14","v":"ASKÖ-Luftenberg"},{"$f":"R_Quali!H14","v":528},"Quali."]
[12,{"$f":"D60","v":"3B"},{"$f":"R_Quali!C21","v":"Bauer Helfried"}]
[null,null,{"$f":"R_Quali!D21","v":"Austrian Free Archer"},{"$f":"R_Quali!H21","v":521},"Quali.",{"$f":"H57","v":"7A"},{"$f":"IF($D15>$D17,$C15,IF($D17>$D15,$C17,IF(RIGHT($D15,1)=\"*\",$C15,IF(RIGHT($D17,1)=\"*\",$C17,\"\"))))","v":""},null,null,null,null,null,null,null,""]
[null,null,null,null,null,null,{"$f":"IF($D15>$D17,$C16,IF($D17>$D15,$C18,IF(RIGHT($D15,1)=\"*\",$C16,IF(RIGHT($D17,1)=\"*\",$C18,\"\"))))","v":""},null,null,null,null,null,null,null,""]
[null,null,null,null,null,{"$f":"H58","v":"7B"},{"$f":"IF($D21>$D23,$C21,IF($D23>$D21,$C23,IF(RIGHT($D21,1)=\"*\",$C21,IF(RIGHT($D23,1)=\"*\",$C23,\"\"))))","v":""},null,null,null,null,null,null,"Schb","Name","Erg."]
[null,{"$f":"D61","v":"4A"},{"$f":"R_Quali!C22","v":"Jandl Ernst"},null,null,null,{"$f":"IF($D21>$D23,$C22,IF($D23>$D21,$C24,IF(RIGHT($D21,1)=\"*\",$C22,IF(RIGHT($D23,1)=\"*\",$C24,\"\"))))","v":""},null,null,null,null,null,null,{"$f":"P55","v":1},{"$f":"IF($L12>$L14,$K12,IF($L14>$L12,$K14,IF(RIGHT($L12,1)=\"*\",$K12,IF(RIGHT($L14,1)=\"*\",$K14,\"\"))))","v":""}]
[13,null,{"$f":"R_Quali!D22","v":"PSV Burgenland - Sektion Bogen"},{"$f":"R_Quali!H22","v":520},"Quali.",null,null,null,null,null,null,"Finale",null,null,{"$f":"IF($L12>$L14,$K13,IF($L14>$L12,$K15,IF(RIGHT($L12,1)=\"*\",$K13,IF(RIGHT($L14,1)=\"*\",$K15,\"\"))))","v":""}]
[4,{"$f":"D62","v":"4B"},{"$f":"R_Quali!C13","v":"Krempl Werner"},null,null,null,null,null,null,null,null,"1. und 2. Platz",null,{"$f":"P56","v":2},{"$f":"IF($L36>$L38,$K36,IF($L38>$L36,$K38,IF(RIGHT($L36,1)=\"*\",$K36,IF(RIGHT($L38,1)=\"*\",$K38,\"\"))))","v":""}]
[null,null,{"$f":"R_Quali!D13","v":"BSC Semriach"},{"$f":"R_Quali!H13","v":529},"Quali.",null,null,null,null,null,null,null,null,null,{"$f":"IF($L36>$L38,$K37,IF($L38>$L36,$K39,IF(RIGHT($L36,1)=\"*\",$K37,IF(RIGHT($L38,1)=\"*\",$K39,\"\"))))","v":""}]
[]
[]
[null,{"$f":"D63","v":"5A"},{"$f":"R_Quali!C12","v":"Strohmaier Joachim"},null,null,null,null,null,null,null,null,null,null,{"$f":"P57","v":1},{"$f":"IF($L12<$L14,$K12,IF($L14<$L12,$K14,IF(RIGHT($L12,1)=\"*\",$K14,IF(RIGHT($L14,1)=\"*\",$K12,\"\"))))","v":""}]
[3,null,{"$f":"R_Quali!D12","v":"BSC Kumberg"},{"$f":"R_Quali!H12","v":530},"Quali.",null,null,null,null,null,null,"Finale",null,null,{"$f":"IF($L12<$L14,$K13,IF($L14<$L12,$K15,IF(RIGHT($L12,1)=\"*\",$K12,IF(RIGHT($L14,1)=\"*\",$K14,\"\"))))","v":""}]
[14,{"$f":"D64","v":"5B"},{"$f":"R_Quali!C23","v":"Schramm Wolfgang"},null,null,null,null,null,null,null,null,"3. und 4. Platz",null,{"$f":"P58","v":2},{"$f":"IF($L36<$L38,$K36,IF($L38<$L36,$K38,IF(RIGHT($L36,1)=\"*\",$K38,IF(RIGHT($L38,1)=\"*\",$K36,\"\"))))","v":""}]
[null,null,{"$f":"R_Quali!D23","v":"LINZ AG Sport - Sektion Bogen"},{"$f":"R_Quali!H23","v":519},"Quali.",{"$f":"H59","v":"8A"},{"$f":"IF($D27>$D29,$C27,IF($D29>$D27,$C29,IF(RIGHT($D27,1)=\"*\",$C27,IF(RIGHT($D29,1)=\"*\",$C29,\"\"))))","v":""},null,null,null,null,null,null,null,{"$f":"IF($L36<$L38,$K37,IF($L38<$L36,$K39,IF(RIGHT($L36,1)=\"*\",$K39,IF(RIGHT($L38,1)=\"*\",$K37,\"\"))))","v":""}]
[null,null,null,null,null,null,{"$f":"IF($D27>$D29,$C28,IF($D29>$D27,$C30,IF(RIGHT($D27,1)=\"*\",$C28,IF(RIGHT($D29,1)=\"*\",$C30,\"\"))))","v":""}]
[null,null,null,null,null,{"$f":"H60","v":"8B"},{"$f":"IF($D33>$D35,$C33,IF($D35>$D33,$C35,IF(RIGHT($D33,1)=\"*\",$C33,IF(RIGHT($D35,1)=\"*\",$C35,\"\"))))","v":""}]
[null,{"$f":"D65","v":"6A"},{"$f":"R_Quali!C20","v":"Reicher Ernst"},null,null,null,{"$f":"IF($D33>$D35,$C34,IF($D35>$D33,$C36,IF(RIGHT($D33,1)=\"*\",$C34,IF(RIGHT($D35,1)=\"*\",$C36,\"\"))))","v":""}]
[11,null,{"$f":"R_Quali!D20","v":"BSC Wörthersee"},{"$f":"R_Quali!H20","v":522},"Quali."]
[6,{"$f":"D66","v":"6B"},{"$f":"R_Quali!C15","v":"Parschisek Alexander"}]
[null,null,{"$f":"R_Quali!D15","v":"BC-Oberschützen"},{"$f":"R_Quali!H15","v":527},"Quali.",null,null,null,null,{"$f":"L57","v":8},{"$f":"IF($H30>$H32,$G30,IF($H32>$H30,$G32,IF(RIGHT($H30,1)=\"*\",$G30,IF(RIGHT($H32,1)=\"*\",$G32,\"\"))))","v":""}]
[null,null,null,null,null,null,null,null,null,null,{"$f":"IF($H30>$H32,$G31,IF($H32>$H30,$G33,IF(RIGHT($H30,1)=\"*\",$G31,IF(RIGHT($H32,1)=\"*\",$G33,\"\"))))","v":""}]
[null,null,null,null,null,null,null,null,null,{"$f":"L58","v":9},{"$f":"IF($H42>$H44,$G42,IF($H44>$H42,$G44,IF(RIGHT($H42,1)=\"*\",$G42,IF(RIGHT($H44,1)=\"*\",$G44,\"\"))))","v":""}]
[null,{"$f":"D67","v":"7A"},{"$f":"R_Quali!C16","v":"Bucher Martin"},null,null,null,null,null,null,null,{"$f":"IF($H42>$H44,$G43,IF($H44>$H42,$G45,IF(RIGHT($H42,1)=\"*\",$G43,IF(RIGHT($H44,1)=\"*\",$G45,\"\"))))","v":""},null,null,null,"Finale"]
[7,null,{"$f":"R_Quali!D16","v":"LH Graz"},{"$f":"R_Quali!H16","v":526},"Quali."]
[10,{"$f":"D68","v":"7B"},{"$f":"R_Quali!C19","v":"Navratil Christoph"}]
[null,null,{"$f":"R_Quali!D19","v":"BSV Schönbrunn"},{"$f":"R_Quali!H19","v":523},"Quali.",{"$f":"H61","v":"9A"},{"$f":"IF($D39>$D41,$C39,IF($D41>$D39,$C41,IF(RIGHT($D39,1)=\"*\",$C39,IF(RIGHT($D41,1)=\"*\",$C41,\"\"))))","v":""},null,null,null,"1/2 Finale"]
[null,null,null,null,null,null,{"$f":"IF($D39>$D41,$C40,IF($D41>$D39,$C42,IF(RIGHT($D39,1)=\"*\",$C40,IF(RIGHT($D41,1)=\"*\",$C42,\"\"))))","v":""}]
[null,null,null,null,null,{"$f":"H62","v":"9B"},{"$f":"IF($D45>$D47,$C45,IF($D47>$D45,$C47,IF(RIGHT($D45,1)=\"*\",$C45,IF(RIGHT($D47,1)=\"*\",$C47,\"\"))))","v":""}]
[null,{"$f":"D69","v":"8A"},{"$f":"R_Quali!C24","v":"Markl Mario"},null,null,null,{"$f":"IF($D45>$D47,$C46,IF($D47>$D45,$C48,IF(RIGHT($D45,1)=\"*\",$C46,IF(RIGHT($D47,1)=\"*\",$C48,\"\"))))","v":""}]
[15,null,{"$f":"R_Quali!D24","v":"BSV Dakota"},{"$f":"R_Quali!H24","v":518},"Quali.",null,null,null,null,null,null,null,null,null,{"$f":"Select!C18","v":"Recurve Herren"}]
[2,{"$f":"D70","v":"8B"},{"$f":"R_Quali!C11","v":"Berger Hermann"}]
[null,null,{"$f":"R_Quali!D11","v":"BSV Glemmerhof"},{"$f":"R_Quali!H11","v":531},"Quali.",null,"1/4 Finale"]
[]
[null,null,"1/8 Elimination"]
[]
[]
[]
[null,null,"Scheibe:"]
[null,1,{"$f":"CONCATENATE($C$54,\" \",D55)","v":"Scheibe: 1A"},"1A",null,1,{"$f":"CONCATENATE($C$54,\" \",H55)","v":"Scheibe: 6A"},"6A",null,1,{"$f":"CONCATENATE($C$54,\" \",L55)","v":"Scheibe: 6"},6,null,1,{"$f":"CONCATENATE($C$54,\" \",P55)","v":"Scheibe: 1"},1]
[null,null,"Scheibe: 1B",{"$f":"IF(RIGHT(D55,1)=\"A\",CONCATENATE(LEFT(D55,LEN(D55)-1),\"B\"),D55+1)","v":"1B"},null,null,"Scheibe: 6B",{"$f":"IF(RIGHT(H55,1)=\"A\",CONCATENATE(LEFT(H55,LEN(H55)-1),\"B\"),H55+1)","v":"6B"},null,null,{"$f":"CONCATENATE($C$54,\" \",L56)","v":"Scheibe: 7"},{"$f":"IF(RIGHT(L55,1)=\"A\",CONCATENATE(LEFT(L55,LEN(L55)-1),\"B\"),L55+1)","v":7},null,null,{"$f":"CONCATENATE($C$54,\" \",P56)","v":"Scheibe: 2"},{"$f":"IF(RIGHT(P55,1)=\"A\",CONCATENATE(LEFT(P55,LEN(P55)-1),\"B\"),P55+1)","v":2}]
[null,{"$f":"B55+1","v":2},"Scheibe: 2A",{"$f":"IF(RIGHT(D56,1)=\"B\",CONCATENATE(LEFT(D56,LEN(D56)-1)+1,\"A\"),D56+1)","v":"2A"},null,{"$f":"F55+1","v":2},"Scheibe: 7A",{"$f":"IF(RIGHT(H56,1)=\"B\",CONCATENATE(LEFT(H56,LEN(H56)-1)+1,\"A\"),H56+1)","v":"7A"},null,{"$f":"J55+1","v":2},{"$f":"CONCATENATE($C$54,\" \",L57)","v":"Scheibe: 8"},{"$f":"IF(RIGHT(L56,1)=\"B\",CONCATENATE(LEFT(L56,LEN(L56)-1)+1,\"A\"),L56+1)","v":8},null,{"$f":"N55+1","v":2},{"$f":"CONCATENATE($C$54,\" \",P57)","v":"Scheibe: 1"},1]
[null,null,"Scheibe: 2B",{"$f":"IF(RIGHT(D57,1)=\"A\",CONCATENATE(LEFT(D57,LEN(D57)-1),\"B\"),D57+1)","v":"2B"},null,null,"Scheibe: 7B",{"$f":"IF(RIGHT(H57,1)=\"A\",CONCATENATE(LEFT(H57,LEN(H57)-1),\"B\"),H57+1)","v":"7B"},null,null,{"$f":"CONCATENATE($C$54,\" \",L58)","v":"Scheibe: 9"},{"$f":"IF(RIGHT(L57,1)=\"A\",CONCATENATE(LEFT(L57,LEN(L57)-1),\"B\"),L57+1)","v":9},null,null,{"$f":"CONCATENATE($C$54,\" \",P58)","v":"Scheibe: 2"},{"$f":"IF(RIGHT(P57,1)=\"A\",CONCATENATE(LEFT(P57,LEN(P57)-1),\"B\"),P57+1)","v":2}]
[null,{"$f":"B57+1","v":3},"Scheibe: 3A",{"$f":"IF(RIGHT(D58,1)=\"B\",CONCATENATE(LEFT(D58,LEN(D58)-1)+1,\"A\"),D58+1)","v":"3A"},null,{"$f":"F57+1","v":3},"Scheibe: 8A",{"$f":"IF(RIGHT(H58,1)=\"B\",CONCATENATE(LEFT(H58,LEN(H58)-1)+1,\"A\"),H58+1)","v":"8A"}]
[null,null,"Scheibe: 3B",{"$f":"IF(RIGHT(D59,1)=\"A\",CONCATENATE(LEFT(D59,LEN(D59)-1),\"B\"),D59+1)","v":"3B"},null,null,"Scheibe: 8B",{"$f":"IF(RIGHT(H59,1)=\"A\",CONCATENATE(LEFT(H59,LEN(H59)-1),\"B\"),H59+1)","v":"8B"}]
[null,{"$f":"B59+1","v":4},"Scheibe: 4A",{"$f":"IF(RIGHT(D60,1)=\"B\",CONCATENATE(LEFT(D60,LEN(D60)-1)+1,\"A\"),D60+1)","v":"4A"},null,{"$f":"F59+1","v":4},"Scheibe: 9A",{"$f":"IF(RIGHT(H60,1)=\"B\",CONCATENATE(LEFT(H60,LEN(H60)-1)+1,\"A\"),H60+1)","v":"9A"}]
[null,null,"Scheibe: 4B",{"$f":"IF(RIGHT(D61,1)=\"A\",CONCATENATE(LEFT(D61,LEN(D61)-1),\"B\"),D61+1)","v":"4B"},null,null,"Scheibe: 9B",{"$f":"IF(RIGHT(H61,1)=\"A\",CONCATENATE(LEFT(H61,LEN(H61)-1),\"B\"),H61+1)","v":"9B"}]
[null,{"$f":"B61+1","v":5},"Scheibe: 5A",{"$f":"IF(RIGHT(D62,1)=\"B\",CONCATENATE(LEFT(D62,LEN(D62)-1)+1,\"A\"),D62+1)","v":"5A"},null,null," "]
[null,null,"Scheibe: 5B",{"$f":"IF(RIGHT(D63,1)=\"A\",CONCATENATE(LEFT(D63,LEN(D63)-1),\"B\"),D63+1)","v":"5B"},null,null," "]
[null,{"$f":"B63+1","v":6},"Scheibe: 6A",{"$f":"IF(RIGHT(D64,1)=\"B\",CONCATENATE(LEFT(D64,LEN(D64)-1)+1,\"A\"),D64+1)","v":"6A"},null,null," "]
[null,null,"Scheibe: 6B",{"$f":"IF(RIGHT(D65,1)=\"A\",CONCATENATE(LEFT(D65,LEN(D65)-1),\"B\"),D65+1)","v":"6B"},null,null," "]
[null,{"$f":"B65+1","v":7},"Scheibe: 7A",{"$f":"IF(RIGHT(D66,1)=\"B\",CONCATENATE(LEFT(D66,LEN(D66)-1)+1,\"A\"),D66+1)","v":"7A"},null,null," "]
[null,null,"Scheibe: 7B",{"$f":"IF(RIGHT(D67,1)=\"A\",CONCATENATE(LEFT(D67,LEN(D67)-1),\"B\"),D67+1)","v":"7B"},null,null," "]
[null,{"$f":"B67+1","v":8},"Scheibe: 8A",{"$f":"IF(RIGHT(D68,1)=\"B\",CONCATENATE(LEFT(D68,LEN(D68)-1)+1,\"A\"),D68+1)","v":"8A"},null,null," "]
[null,null,"Scheibe: 8B",{"$f":"IF(RIGHT(D69,1)=\"A\",CONCATENATE(LEFT(D69,LEN(D69)-1),\"B\"),D69+1)","v":"8B"},null,null," "]

{"sheet":"R16","index":13,"n_rows":575,"n_cols":25,"rows_kept":575,"cut":false,"hidden":true,"merged":[[570,5,570,6],[570,14,570,15],[570,23,570,24],[571,5,571,6],[571,14,571,15],[571,23,571,24],[564,0,564,7],[564,9,564,16],[564,18,564,25],[566,0,566,7],[566,9,566,16],[566,18,566,25],[559,18,559,21],[559,22,559,25],[560,6,560,7],[560,15,560,16],[560,24,560,25],[559,0,559,3],[559,4,559,7],[559,9,559,12],[559,13,559,16],[553,0,553,7],[553,14,553,15],[553,23,553,24],[554,0,554,1],[549,0,549,7],[551,0,551,7],[552,14,552,15],[552,23,552,24],[545,0,545,7],[546,9,546,16],[546,18,546,25],[548,9,548,16],[548,18,548,25],[542,15,542,16],[542,24,542,25],[543,0,543,7],[544,0,544,1],[541,9,541,12],[541,13,541,16],[541,18,541,21],[541,22,541,25],[534,5,534,6],[534,14,534,15],[534,23,534,24],[535,5,535,6],[535,14,535,15],[535,23,535,24],[528,0,528,7],[528,9,528,16],[528,18,528,25],[530,0,530,7],[530,9,530,16],[530,18,530,25],[523,18,523,21],[523,22,523,25],[524,6,524,7],[524,15,524,16],[524,24,524,25],[523,0,523,3],[523,4,523,7],[523,9,523,12],[523,13,523,16],[517,0,517,7],[517,14,517,15],[517,23,517,24],[518,0,518,1],[513,0,513,7],[515,0,515,7],[516,14,516,15],[516,23,516,24],[509,0,509,7],[510,9,510,16],[510,18,510,25],[512,9,512,16],[512,18,512,25],[506,15,506,16],[506,24,506,25],[507,0,507,7],[508,0,508,1],[505,9,505,12],[505,13,505,16],[505,18,505,21],[505,22,505,25],[498,5,498,6],[498,14,498,15],[498,23,498,24],[499,5,499,6],[499,14,499,15],[499,23,499,24],[492,0,492,7],[492,9,492,16],[492,18,492,25],[494,0,494,7],[494,9,494,16],[494,18,494,25],[487,18,487,21],[487,22,487,25],[488,6,488,7],[488,15,488,16],[488,24,488,25],[487,0,487,3],[487,4,487,7],[487,9,487,12],[487,13,487,16],[481,0,481,7],[481,14,481,15],[481,23,481,24],[482,0,482,1],[477,0,477,7],[479,0,479,7],[480,14,480,15],[480,23,480,24],[473,0,473,7],[474,9,474,16],[474,18,474,25],[476,9,476,16],[476,18,476,25],[470,15,470,16],[470,24,470,25],[471,0,471,7],[472,0,472,1],[469,9,469,12],[469,13,469,16],[469,18,469,21],[469,22,469,25],[462,5,462,6],[462,14,462,15],[462,23,462,24],[463,5,463,6],[463,14,463,15],[463,23,463,24],[456,0,456,7],[456,9,456,16],[456,18,456,25],[458,0,458,7],[458,9,458,16],[458,18,458,25],[451,18,451,21],[451,22,451,25],[452,6,452,7],[452,15,452,16],[452,24,452,25],[451,0,451,3],[451,4,451,7],[451,9,451,12],[451,13,451,16],[445,0,445,7],[445,14,445,15],[445,23,445,24],[446,0,446,1],[441,0,441,7],[443,0,443,7],[444,14,444,15],[444,23,444,24],[437,0,437,7],[438,9,438,16],[438,18,438,25],[440,9,440,16],[440,18,440,25],[434,15,434,16],[434,24,434,25],[435,0,435,7],[436,0,436,1],[433,9,433,12],[433,13,433,16],[433,18,433,21],[433,22,433,25],[426,5,426,6],[426,14,426,15],[426,23,426,24],[427,5,427,6],[427,14,427,15],[427,23,427,24],[420,0,420,7],[420,9,420,16],[420,18,420,25],[422,0,422,7],[422,9,422,16],[422,18,422,25],[415,18,415,21],[415,22,415,25],[416,6,416,7],[416,15,416,16],[416,24,416,25],[415,0,415,3],[415,4,415,7],[415,9,415,12],[415,13,415,16],[409,0,409,7],[409,14,409,15],[409,23,409,24],[410,0,410,1],[405,0,405,7],[407,0,407,7],[408,14,408,15],[408,23,408,24],[401,0,401,7],[402,9,402,16],[402,18,402,25],[404,9,404,16],[404,18,404,25],[398,15,398,16],[398,24,398,25],[399,0,399,7],[400,0,400,1],[397,9,397,12],[397,13,397,16],[397,18,397,21],[397,22,397,25],[390,5,390,6],[390,14,390,15],[390,23,390,24],[391,5,391,6],[391,14,391,15],[391,23,391,24],[384,0,384,7],[384,9,384,16],[384,18,384,25],[386,0,386,7],[386,9,386,16],[386,18,386,25],[379,18,379,21],[379,22,379,25],[380,6,380,7],[380,15,380,16],[380,24,380,25],[379,0,379,3],[379,4,379,7],[379,9,379,12],[379,13,379,16],[373,0,373,7],[373,14,373,15],[373,23,373,24],[374,0,374,1],[369,0,369,7],[371,0,371,7],[372,14,372,15],[372,23,372,24],[365,0,365,7],[366,9,366,16],[366,18,366,25],[368,9,368,16],[368,18,368,25],[362,15,362,16],[362,24,362,25],[363,0,363,7],[364,0,364,1],[361,9,361,12],[361,13,361,16],[361,18,361,21],[361,22,361,25],[354,5,354,6],[354,14,354,15],[354,23,354,24],[355,5,355,6],[355,14,355,15],[355,23,355,24],[348,0,348,7],[348,9,348,16],[348,18,348,25],[350,0,350,7],[350,9,350,16],[350,18,350,25],[343,18,343,21],[343,22,343,25],[344,6,344,7],[344,15,344,16],[344,24,344,25],[343,0,343,3],[343,4,343,7],[343,9,343,12],[343,13,343,16],[337,0,337,7],[337,14,337,15],[337,23,337,24],[338,0,338,1],[333,0,333,7],[335,0,335,7],[336,14,336,15],[336,23,336,24],[329,0,329,7],[330,9,330,16],[330,18,330,25],[332,9,332,16],[332,18,332,25],[326,15,326,16],[326,24,326,25],[327,0,327,7],[328,0,328,1],[319,5,319,6],[319,14,319,15],[319,23,319,24],[325,9,325,12],[325,13,325,16],[325,18,325,21],[325,22,325,25],[314,0,314,7],[314,9,314,16],[314,18,314,25],[318,5,318,6],[318,14,318,15],[318,23,318,24],[308,6,308,7],[308,15,308,16],[308,24,308,25],[312,0,312,7],[312,9,312,16],[312,18,312,25],[301,0,301,7],[301,14,301,15],[301,23,301,24],[307,0,307,3],[307,4,307,7],[307,9,307,12],[307,13,307,16],[307,18,307,21],[307,22,307,25],[297,0,297,7],[299,0,299,7],[300,14,300,15],[300,23,300,24],[293,0,293,7],[294,9,294,16],[294,18,294,25],[296,9,296,16],[296,18,296,25],[290,24,290,25],[291,0,291,7],[292,0,292,1],[289,9,289,12],[289,13,289,16],[289,18,289,21],[289,22,289,25],[263,0,263,7],[265,0,265,7],[266,0,266,1],[283,23,283,24],[278,18,278,25],[282,23,282,24],[272,24,272,25],[276,18,276,25],[265,23,265,24],[271,18,271,21],[271,22,271,25],[283,5,283,6],[283,14,283,15],[265,14,265,15],[282,5,282,6],[282,14,282,15],[278,0,278,7],[103,5,103,6],[290,15,290,16],[112,0,112,1],[148,0,148,1],[184,0,184,1],[255,0,255,7],[256,0,256,1],[257,0,257,7],[147,0,147,7],[149,0,149,7],[153,0,153,7],[155,0,155,7],[175,5,175,6],[170,0,170,7],[261,0,261,7],[219,0,219,7],[221,0,221,7],[247,5,247,6],[242,0,242,7],[183,0,183,7],[185,0,185,7],[189,0,189,7],[191,0,191,7],[111,0,111,7],[113,0,113,7],[117,0,117,7],[119,0,119,7],[278,9,278,16],[272,6,272,7],[272,15,272,16],[276,0,276,7],[276,9,276,16],[271,0,271,3],[271,4,271,7],[271,9,271,12],[271,13,271,16],[260,18,260,25],[264,14,264,15],[264,23,264,24],[254,15,254,16],[254,24,254,25],[258,9,258,16],[258,18,258,25],[247,23,247,24],[253,9,253,12],[253,13,253,16],[253,18,253,21],[253,22,253,25],[260,9,260,16],[247,14,247,15],[242,18,242,25],[246,14,246,15],[246,23,246,24],[236,6,236,7],[236,15,236,16],[236,24,236,25],[240,0,240,7],[240,9,240,16],[240,18,240,25],[242,9,242,16],[246,5,246,6],[229,23,229,24],[235,0,235,3],[235,4,235,7],[235,9,235,12],[235,13,235,16],[235,18,235,21],[235,22,235,25],[229,0,229,7],[230,0,230,1],[229,14,229,15],[224,18,224,25],[228,14,228,15],[228,23,228,24],[218,15,218,16],[218,24,218,25],[222,9,222,16],[222,18,222,25],[211,5,211,6],[211,14,211,15],[211,23,211,24],[217,9,217,12],[217,13,217,16],[217,18,217,21],[217,22,217,25],[224,9,224,16],[225,0,225,7],[227,0,227,7],[220,0,220,1],[206,18,206,25],[210,5,210,6],[210,14,210,15],[210,23,210,24],[200,6,200,7],[200,15,200,16],[200,24,200,25],[204,0,204,7],[204,9,204,16],[204,18,204,25],[206,0,206,7],[206,9,206,16],[193,23,193,24],[199,0,199,3],[199,4,199,7],[199,9,199,12],[199,13,199,16],[199,18,199,21],[199,22,199,25],[193,0,193,7],[194,0,194,1],[193,14,193,15],[188,18,188,25],[192,14,192,15],[192,23,192,24],[182,15,182,16],[182,24,182,25],[186,9,186,16],[186,18,186,25],[175,14,175,15],[175,23,175,24],[181,9,181,12],[181,13,181,16],[181,18,181,21],[181,22,181,25],[188,9,188,16],[170,18,170,25],[174,5,174,6],[174,14,174,15],[174,23,174,24],[164,6,164,7],[164,15,164,16],[164,24,164,25],[168,0,168,7],[168,9,168,16],[168,18,168,25],[170,9,170,16],[157,23,157,24],[163,0,163,3],[163,4,163,7],[163,9,163,12],[163,13,163,16],[163,18,163,21],[163,22,163,25],[157,0,157,7],[158,0,158,1],[157,14,157,15],[152,18,152,25],[156,14,156,15],[156,23,156,24],[146,15,146,16],[146,24,146,25],[150,9,150,16],[150,18,150,25],[139,5,139,6],[139,14,139,15],[139,23,139,24],[145,9,145,12],[145,13,145,16],[145,18,145,21],[145,22,145,25],[152,9,152,16],[134,18,134,25],[138,5,138,6],[138,14,138,15],[138,23,138,24],[128,6,128,7],[128,15,128,16],[128,24,128,25],[132,0,132,7],[132,9,132,16],[132,18,132,25],[134,0,134,7],[134,9,134,16],[121,23,121,24],[127,0,127,3],[127,4,127,7],[127,9,127,12],[127,13,127,16],[127,18,127,21],[127,22,127,25],[121,0,121,7],[122,0,122,1],[121,14,121,15],[116,18,116,25],[120,14,120,15],[120,23,120,24],[110,15,110,16],[110,24,110,25],[114,9,114,16],[114,18,114,25],[103,14,103,15],[103,23,103,24],[109,9,109,12],[109,13,109,16],[109,18,109,21],[109,22,109,25],[116,9,116,16],[98,18,98,25],[102,5,102,6],[102,14,102,15],[102,23,102,24],[92,6,92,7],[92,15,92,16],[92,24,92,25],[96,0,96,7],[96,9,96,16],[96,18,96,25],[98,9,98,16],[98,0,98,7],[85,23,85,24],[91,0,91,3],[91,4,91,7],[91,9,91,12],[91,13,91,16],[91,18,91,21],[91,22,91,25],[85,0,85,7],[86,0,86,1],[85,14,85,15],[80,18,80,25],[84,14,84,15],[84,23,84,24],[74,15,74,16],[74,24,74,25],[78,9,78,16],[78,18,78,25],[67,5,67,6],[67,14,67,15],[67,23,67,24],[73,9,73,12],[73,13,73,16],[73,18,73,21],[73,22,73,25],[80,9,80,16],[75,0,75,7],[76,0,76,1],[77,0,77,7],[81,0,81,7],[83,0,83,7],[62,9,62,16],[62,18,62,25],[66,5,66,6],[66,14,66,15],[66,23,66,24],[56,6,56,7],[56,15,56,16],[56,24,56,25],[60,0,60,7],[60,9,60,16],[60,18,60,25],[62,0,62,7],[49,14,49,15],[49,23,49,24],[55,0,55,3],[55,4,55,7],[55,9,55,12],[55,13,55,16],[55,18,55,21],[55,22,55,25],[44,9,44,16],[44,18,44,25],[48,14,48,15],[48,23,48,24],[47,0,47,7],[49,0,49,7],[50,0,50,1],[45,0,45,7],[38,15,38,16],[38,24,38,25],[42,9,42,16],[42,18,42,25],[37,9,37,12],[37,13,37,16],[37,18,37,21],[37,22,37,25],[26,0,26,7],[30,23,30,24],[31,23,31,24],[30,5,30,6],[31,5,31,6],[30,14,30,15],[31,14,31,15],[26,9,26,16],[26,18,26,25],[39,0,39,7],[41,0,41,7],[40,0,40,1],[1,9,1,12],[1,13,1,16],[6,9,6,16],[12,14,12,15],[13,14,13,15],[1,18,1,21],[1,22,1,25],[2,15,2,16],[12,23,12,24],[2,24,2,25],[24,0,24,7],[19,18,19,21],[19,22,19,25],[20,6,20,7],[19,0,19,3],[19,4,19,7],[19,9,19,12],[3,0,3,7],[5,0,5,7],[19,13,19,16],[20,15,20,16],[20,24,20,25],[6,18,6,25],[8,9,8,16],[8,18,8,25],[13,23,13,24],[24,9,24,16],[24,18,24,25],[9,0,9,7],[11,0,11,7],[13,0,13,7],[4,0,4,1]]}
[]
[null,null,null,null,null,null,null,null,null,"1/16 Elimination",null,null,null,null,null,null,null,null,"1/8 Elimination",null,null,null,{"$f":"'R16_Baum'!C55","v":"Scheibe: 1A"}]
[null,null,null,null,null,null,null,null,null,null,1,2,3,"Summe","Punkte","Ges.",null,null,null,1,2,3,"Summe","Punkte","Ges."]
[{"$f":"Select!$C$12","v":"Demoturnier"},null,null,null,null,null,null,null,null,"Satz 1",null,null,null,null,null,null,null,null,"Satz 1"]
["Veranstaltung",null,null,null,null,null,null,null,null,"Satz 2",null,null,null,null,null,null,null,null,"Satz 2"]
[{"$f":"Select!$C$13","v":"1. April 2019"},null,null,null,null,null,null,null,null,"Satz 3",null,null,null,null,null,null,null,null,"Satz 3"]
["Datum",null,null,null,null,null,null,null,null,"wenn erforderlich",null,null,null,null,null,null,null,null,"wenn erforderlich"]
[null,null,null,null,null,null,null,null,null,"Satz 4",null,null,null,null,null,null,null,null,"Satz 4"]
[null,null,null,null,null,null,null,null,null,"wenn erforderlich",null,null,null,null,null,null,null,null,"wenn erforderlich"]
[{"$f":"'R16_Baum'!C3","v":"Url Günter"},null,null,null,null,null,null,null,null,"Satz 5",null,null,null,null,null,null,null,null,"Satz 5"]
["Name",null,null,null,null,null,null,null,null,"wenn erforderlich",null,null,null,null,null,null,null,null,"wenn erforderlich"]
[{"$f":"'R16_Baum'!C4","v":"BSC-Wolfspfeil Raab-Holzer"},null,null,null,null,null,null,null,null,"Stechen",null,null,null,null,null,null,null,null,"Stechen"]
["Verein",null,null,null,null,null,null,null,null,null,null,null,null,null,"gewonnen",null,null,null,null,null,null,null,null,"gewonnen"]
[{"$f":"Select!$C$18","v":"Recurve Herren"},null,null,null,null,null,null,null,null,"Schütze:",null,null,null,null,"verloren",null,null,null,"Schütze:",null,null,null,null,"verloren"]
["Bogenklasse"]
[null,null,null,null,null,null,null,null,null,"Gegner:",null,"Name:",null,null,null,null,null,null,"Gegner:",null,"Name:",{"$f":"'R16_Baum'!C5","v":"Lackner Uwe"}]
[null,null,null,null,null,null,null,null,null,null,null,"Unterschrift:",null,null,null,null,null,null,null,null,"Unterschrift:"]
[]
[]
["1/4 Finale",null,null,null,{"$f":"'R16_Baum'!G55","v":"Scheibe: 6A"},null,null,null,null,"1/2 Finale",null,null,null,{"$f":"'R16_Baum'!K55","v":"Scheibe: 6"},null,null,null,null,"1./2. od. 3./4. Platz",null,null,null,"Scheibe:"]
[null,1,2,3,"Summe","Punkte","Ges.",null,null,null,1,2,3,"Summe","Punkte","Ges.",null,null,null,1,2,3,"Summe","Punkte","Ges."]
["Satz 1",null,null,null,null,null,null,null,null,"Satz 1",null,null,null,null,null,null,null,null,"Satz 1"]
["Satz 2",null,null,null,null,null,null,null,null,"Satz 2",null,null,null,null,null,null,null,null,"Satz 2"]
["Satz 3",null,null,null,null,null,null,null,null,"Satz 3",null,null,null,null,null,null,null,null,"Satz 3"]
["wenn erforderlich",null,null,null,null,null,null,null,null,"wenn erforderlich",null,null,null,null,null,null,null,null,"wenn erforderlich"]
["Satz 4",null,null,null,null,null,null,null,null,"Satz 4",null,null,null,null,null,null,null,null,"Satz 4"]
["wenn erforderlich",null,null,null,null,null,null,null,null,"wenn erforderlich",null,null,null,null,null,null,null,null,"wenn erforderlich"]
["Satz 5",null,null,null,null,null,null,null,null,"Satz 5",null,null,null,null,null,null,null,null,"Satz 5"]
["wenn erforderlich",null,null,null,null,null,null,null,null,"wenn erforderlich",null,null,null,null,null,null,null,null,"wenn erforderlich"]
["Stechen",null,null,null,null,null,null,null,null,"Stechen",null,null,null,null,null,null,null,null,"Stechen"]
[null,null,null,null,null,"gewonnen",null,null,null,null,null,null,null,null,"gewonnen",null,null,null,null,null,null,null,null,"gewonnen"]
["Schütze:",null,null,null,null,"verloren",null,null,null,"Schütze:",null,null,null,null,"verloren",null,null,null,"Schütze:",null,null,null,null,"verloren"]
[]
["Gegner:",null,"Name:",null,null,null,null,null,null,"Gegner:",null,"Name:",null,null,null,null,null,null,"Gegner:",null,"Name:"]
[null,null,"Unterschrift:",null,null,null,null,null,null,null,null,"Unterschrift:",null,null,null,null,null,null,null,null,"Unterschrift:"]
[]
[]
[null,null,null,null,null,null,null,null,null,"1/16 Elimination",null,null,null,null,null,null,null,null,"1/8 Elimination",null,null,null,{"$f":"'R16_Baum'!C56","v":"Scheibe: 1B"}]
[null,null,null,null,null,null,null,null,null,null,1,2,3,"Summe","Punkte","Ges.",null,null,null,1,2,3,"Summe","Punkte","Ges."]
[{"$f":"Select!$C$12","v":"Demoturnier"},null,null,null,null,null,null,null,null,"Satz 1",null,null,null,null,null,null,null,null,"Satz 1"]
["Veranstaltung",null,null,null,null,null,null,null,null,"Satz 2",null,null,null,null,null,null,null,null,"Satz 2"]
[{"$f":"Select!$C$13","v":"1. April 2019"},null,null,null,null,null,null,null,null,"Satz 3",null,null,null,null,null,null,null,null,"Satz 3"]
["Datum",null,null,null,null,null,null,null,null,"wenn erforderlich",null,null,null,null,null,null,null,null,"wenn erforderlich"]
[null,null,null,null,null,null,null,null,null,"Satz 4",null,null,null,null,null,null,null,null,"Satz 4"]
[null,null,null,null,null,null,null,null,null,"wenn erforderlich",null,null,null,null,null,null,null,null,"wenn erforderlich"]
[{"$f":"'R16_Baum'!C5","v":"Lackner Uwe"},null,null,null,null,null,null,null,null,"Satz 5",null,null,null,null,null,null,null,null,"Satz 5"]
["Name",null,null,null,null,null,null,null,null,"wenn erforderlich",null,null,null,null,null,null,null,null,"wenn erforderlich"]
[{"$f":"'R16_Baum'!C6","v":"LH Graz"},null,null,null,null,null,null,null,null,"Stechen",null,null,null,null,null,null,null,null,"Stechen"]
["Verein",null,null,null,null,null,null,null,null,null,null,null,null,null,"gewonnen",null,null,null,null,null,null,null,null,"gewonnen"]
[{"$f":"Select!$C$18","v":"Recurve Herren"},null,null,null,null,null,null,null,null,"Schütze:",null,null,null,null,"verloren",null,null,null,"Schütze:",null,null,null,null,"verloren"]
["Bogenklasse"]
[null,null,null,null,null,null,null,null,null,"Gegner:",null,"Name:",null,null,null,null,null,null,"Gegner:",null,"Name:",{"$f":"'R16_Baum'!C3","v":"Url Günter"}]
[null,null,null,null,null,null,null,null,null,null,null,"Unterschrift:",null,null,null,null,null,null,null,null,"Unterschrift:"]
[]
[]
["1/4 Finale",null,null,null,{"$f":"'R16_Baum'!G55","v":"Scheibe: 6A"},null,null,null,null,"1/2 Finale",null,null,null,{"$f":"'R16_Baum'!K55","v":"Scheibe: 6"},null,null,null,null,"1./2. od. 3./4. Platz",null,null,null,"Scheibe:"]
[null,1,2,3,"Summe","Punkte","Ges.",null,null,null,1,2,3,"Summe","Punkte","Ges.",null,null,null,1,2,3,"Summe","Punkte","Ges."]
["Satz 1",null,null,null,null,null,null,null,null,"Satz 1",null,null,null,null,null,null,null,null,"Satz 1"]
["Satz 2",null,null,null,null,null,null,null,null,"Satz 2",null,null,null,null,null,null,null,null,"Satz 2"]
["Satz 3",null,null,null,null,null,null,null,null,"Satz 3",null,null,null,null,null,null,null,null,"Satz 3"]
["wenn erforderlich",null,null,null,null,null,null,null,null,"wenn erforderlich",null,null,null,null,null,null,null,null,"wenn erforderlich"]
["Satz 4",null,null,null,null,null,null,null,null,"Satz 4",null,null,null,null,null,null,null,null,"Satz 4"]
["wenn erforderlich",null,null,null,null,null,null,null,null,"wenn erforderlich",null,null,null,null,null,null,null,null,"wenn erforderlich"]
["Satz 5",null,null,null,null,null,null,null,null,"Satz 5",null,null,null,null,null,null,null,null,"Satz 5"]
["wenn erforderlich",null,null,null,null,null,null,null,null,"wenn erforderlich",null,null,null,null,null,null,null,null,"wenn erforderlich"]
["Stechen",null,null,null,null,null,null,null,null,"Stechen",null,null,null,null,null,null,null,null,"Stechen"]
[null,null,null,null,null,"gewonnen",null,null,null,null,null,null,null,null,"gewonnen",null,null,null,null,null,null,null,null,"gewonnen"]
["Schütze:",null,null,null,null,"verloren",null,null,null,"Schütze:",null,null,null,null,"verloren",null,null,null,"Schütze:",null,null,null,null,"verloren"]
[]
["Gegner:",null,"Name:",null,null,null,null,null,null,"Gegner:",null,"Name:",null,null,null,null,null,null,"Gegner:",null,"Name:"]
[null,null,"Unterschrift:",null,null,null,null,null,null,null,null,"Unterschrift:",null,null,null,null,null,null,null,null,"Unterschrift:"]
[]
[]
[null,null,null,null,null,null,null,null,null,"1/16 Elimination",null,null,null,null,null,null,null,null,"1/8 Elimination",null,null,null,{"$f":"'R16_Baum'!C57","v":"Scheibe: 2A"}]
[null,null,null,null,null,null,null,null,null,null,1,2,3,"Summe","Punkte","Ges.",null,null,null,1,2,3,"Summe","Punkte","Ges."]
[{"$f":"Select!$C$12","v":"Demoturnier"},null,null,null,null,null,null,null,null,"Satz 1",null,null,null,null,null,null,null,null,"Satz 1"]
["Veranstaltung",null,null,null,null,null,null,null,null,"Satz 2",null,null,null,null,null,null,null,null,"Satz 2"]
[{"$f":"Select!$C$13","v":"1. April 2019"},null,null,null,null,null,null,null,null,"Satz 3",null,null,null,null,null,null,null,null,"Satz 3"]
["Datum",null,null,null,null,null,null,null,null,"wenn erforderlich",null,null,null,null,null,null,null,null,"wenn erforderlich"]
[null,null,null,null,null,null,null,null,null,"Satz 4",null,null,null,null,null,null,null,null,"Satz 4"]
[null,null,null,null,null,null,null,null,null,"wenn erforderlich",null,null,null,null,null,null,null,null,"wenn erforderlich"]
[{"$f":"'R16_Baum'!C9","v":"Traxler Helmuth"},null,null,null,null,null,null,null,null,"Satz 5",null,null,null,null,null,null,null,null,"Satz 5"]
["Name",null,null,null,null,null,null,null,null,"wenn erforderlich",null,null,null,null,null,null,null,null,"wenn erforderlich"]
[{"$f":"'R16_Baum'!C10","v":"UBC Diana NÖ"},null,null,null,null,null,null,null,null,"Stechen",null,null,null,null,null,null,null,null,"Stechen"]
["Verein",null,null,null,null,null,null,null,null,null,null,null,null,null,"gewonnen",null,null,null,null,null,null,null,null,"gewonnen"]
[{"$f":"Select!$C$18","v":"Recurve Herren"},null,null,null,null,null,null,null,null,"Schütze:",null,null,null,null,"verloren",null,null,null,"Schütze:",null,null,null,null,"verloren"]
["Bogenklasse"]
[null,null,null,null,null,null,null,null,null,"Gegner:",null,"Name:",null,null,null,null,null,null,"Gegner:",null,"Name:",{"$f":"'R16_Baum'!C11","v":"Robl Ronald"}]
[null,null,null,null,null,null,null,null,null,null,null,"Unterschrift:",null,null,null,null,null,null,null,null,"Unterschrift:"]
[]
[]
["1/4 Finale",null,null,null,{"$f":"'R16_Baum'!G56","v":"Scheibe: 6B"},null,null,null,null,"1/2 Finale",null,null,null,{"$f":"'R16_Baum'!K55","v":"Scheibe: 6"},null,null,null,null,"1./2. od. 3./4. Platz",null,null,null,"Scheibe:"]
[null,1,2,3,"Summe","Punkte","Ges.",null,null,null,1,2,3,"Summe","Punkte","Ges.",null,null,null,1,2,3,"Summe","Punkte","Ges."]
["Satz 1",null,null,null,null,null,null,null,null,"Satz 1",null,null,null,null,null,null,null,null,"Satz 1"]
["Satz 2",null,null,null,null,null,null,null,null,"Satz 2",null,null,null,null,null,null,null,null,"Satz 2"]
["Satz 3",null,null,null,null,null,null,null,null,"Satz 3",null,null,null,null,null,null,null,null,"Satz 3"]
["wenn erforderlich",null,null,null,null,null,null,null,null,"wenn erforderlich",null,null,null,null,null,null,null,null,"wenn erforderlich"]
["Satz 4",null,null,null,null,null,null,null,null,"Satz 4",null,null,null,null,null,null,null,null,"Satz 4"]
["wenn erforderlich",null,null,null,null,null,null,null,null,"wenn erforderlich",null,null,null,null,null,null,null,null,"wenn erforderlich"]
["Satz 5",null,null,null,null,null,null,null,null,"Satz 5",null,null,null,null,null,null,null,null,"Satz 5"]
["wenn erforderlich",null,null,null,null,null,null,null,null,"wenn erforderlich",null,null,null,null,null,null,null,null,"wenn erforderlich"]
["Stechen",null,null,null,null,null,null,null,null,"Stechen",null,null,null,null,null,null,null,null,"Stechen"]
[null,null,null,null,null,"gewonnen",null,null,null,null,null,null,null,null,"gewonnen",null,null,null,null,null,null,null,null,"gewonnen"]
["Schütze:",null,null,null,null,"verloren",null,null,null,"Schütze:",null,null,null,null,"verloren",null,null,null,"Schütze:",null,null,null,null,"verloren"]
[]
["Gegner:",null,"Name:",null,null,null,null,null,null,"Gegner:",null,"Name:",null,null,null,null,null,null,"Gegner:",null,"Name:"]
[null,null,"Unterschrift:",null,null,null,null,null,null,null,null,"Unterschrift:",null,null,null,null,null,null,null,null,"Unterschrift:"]
[]
[]
[null,null,null,null,null,null,null,null,null,"1/16 Elimination",null,null,null,null,null,null,null,null,"1/8 Elimination",null,null,null,{"$f":"'R16_Baum'!C58","v":"Scheibe: 2B"}]
[null,null,null,null,null,null,null,null,null,null,1,2,3,"Summe","Punkte","Ges.",null,null,null,1,2,3,"Summe","Punkte","Ges."]
[{"$f":"Select!$C$12","v":"Demoturnier"},null,null,null,null,null,null,null,null,"Satz 1",null,null,null,null,null,null,null,null,"Satz 1"]
["Veranstaltung",null,null,null,null,null,null,null,null,"Satz 2",null,null,null,null,null,null,null,null,"Satz 2"]
[{"$f":"Select!$C$13","v":"1. April 2019"},null,null,null,null,null,null,null,null,"Satz 3",null,null,null,null,null,null,null,null,"Satz 3"]
["Datum",null,null,null,null,null,null,null,null,"wenn erforderlich",null,null,null,null,null,null,null,null,"wenn erforderlich"]
[null,null,null,null,null,null,null,null,null,"Satz 4",null,null,null,null,null,null,null,null,"Satz 4"]
[null,null,null,null,null,null,null,null,null,"wenn erforderlich",null,null,null,null,null,null,null,null,"wenn erforderlich"]
[{"$f":"'R16_Baum'!C11","v":"Robl Ronald"},null,null,null,null,null,null,null,null,"Satz 5",null,null,null,null,null,null,null,null,"Satz 5"]
["Name",null,null,null,null,null,null,null,null,"wenn erforderlich",null,null,null,null,null,null,null,null,"wenn erforderlich"]
[{"$f":"'R16_Baum'!C12","v":"Austrian Free Archer"},null,null,null,null,null,null,null,null,"Stechen",null,null,null,null,null,null,null,null,"Stechen"]
["Verein",null,null,null,null,null,null,null,null,null,null,null,null,null,"gewonnen",null,null,null,null,null,null,null,null,"gewonnen"]
[{"$f":"Select!$C$18","v":"Recurve Herren"},null,null,null,null,null,null,null,null,"Schütze:",null,null,null,null,"verloren",null,null,null,"Schütze:",null,null,null,null,"verloren"]
["Bogenklasse"]
[null,null,null,null,null,null,null,null,null,"Gegner:",null,"Name:",null,null,null,null,null,null,"Gegner:",null,"Name:",{"$f":"'R16_Baum'!C9","v":"Traxler Helmuth"}]
[null,null,null,null,null,null,null,null,null,null,null,"Unterschrift:",null,null,null,null,null,null,null,null,"Unterschrift:"]
[]
[]
["1/4 Finale",null,null,null,{"$f":"'R16_Baum'!G56","v":"Scheibe: 6B"},null,null,null,null,"1/2 Finale",null,null,null,{"$f":"'R16_Baum'!K55","v":"Scheibe: 6"},null,null,null,null,"1./2. od. 3./4. Platz",null,null,null,"Scheibe:"]
[null,1,2,3,"Summe","Punkte","Ges.",null,null,null,1,2,3,"Summe","Punkte","Ges.",null,null,null,1,2,3,"Summe","Punkte","Ges."]
["Satz 1",null,null,null,null,null,null,null,null,"Satz 1",null,null,null,null,null,null,null,null,"Satz 1"]
["Satz 2",null,null,null,null,null,null,null,null,"Satz 2",null,null,null,null,null,null,null,null,"Satz 2"]
["Satz 3",null,null,null,null,null,null,null,null,"Satz 3",null,null,null,null,null,null,null,null,"Satz 3"]
["wenn erforderlich",null,null,null,null,null,null,null,null,"wenn erforderlich",null,null,null,null,null,null,null,null,"wenn erforderlich"]
["Satz 4",null,null,null,null,null,null,null,null,"Satz 4",null,null,null,null,null,null,null,null,"Satz 4"]
["wenn erforderlich",null,null,null,null,null,null,null,null,"wenn erforderlich",null,null,null,null,null,null,null,null,"wenn erforderlich"]
["Satz 5",null,null,null,null,null,null,null,null,"Satz 5",null,null,null,null,null,null,null,null,"Satz 5"]
["wenn erforderlich",null,null,null,null,null,null,null,null,"wenn erforderlich",null,null,null,null,null,null,null,null,"wenn erforderlich"]
["Stechen",null,null,null,null,null,null,null,null,"Stechen",null,null,null,null,null,null,null,null,"Stechen"]
[null,null,null,null,null,"gewonnen",null,null,null,null,null,null,null,null,"gewonnen",null,null,null,null,null,null,null,null,"gewonnen"]
["Schütze:",null,null,null,null,"verloren",null,null,null,"Schütze:",null,null,null,null,"verloren",null,null,null,"Schütze:",null,null,null,null,"verloren"]
[]
["Gegner:",null,"Name:",null,null,null,null,null,null,"Gegner:",null,"Name:",null,null,null,null,null,null,"Gegner:",null,"Name:"]
[null,null,"Unterschrift:",null,null,null,null,null,null,null,null,"Unterschrift:",null,null,null,null,null,null,null,null,"Unterschrift:"]
[]
[]
[null,null,null,null,null,null,null,null,null,"1/16 Elimination",null,null,null,null,null,null,null,null,"1/8 Elimination",null,null,null,{"$f":"'R16_Baum'!C59","v":"Scheibe: 3A"}]
[null,null,null,null,null,null,null,null,null,null,1,2,3,"Summe","Punkte","Ges.",null,null,null,1,2,3,"Summe","Punkte","Ges."]
[{"$f":"Select!$C$12","v":"Demoturnier"},null,null,null,null,null,null,null,null,"Satz 1",null,null,null,null,null,null,null,null,"Satz 1"]
["Veranstaltung",null,null,null,null,null,null,null,null,"Satz 2",null,null,null,null,null,null,null,null,"Satz 2"]
[{"$f":"Select!$C$13","v":"1. April 2019"},null,null,null,null,null,null,null,null,"Satz 3",null,null,null,null,null,null,null,null,"Satz 3"]
["Datum",null,null,null,null,null,null,null,null,"wenn erforderlich",null,null,null,null,null,null,null,null,"wenn erforderlich"]
[null,null,null,null,null,null,null,null,null,"Satz 4",null,null,null,null,null,null,null,null,"Satz 4"]
[null,null,null,null,null,null,null,null,null,"wenn erforderlich",null,null,null,null,null,null,null,null,"wenn erforderlich"]
[{"$f":"'R16_Baum'!C15","v":"Höllwirth Andreas"},null,null,null,null,null,null,null,null,"Satz 5",null,null,null,null,null,null,null,null,"Satz 5"]
["Name",null,null,null,null,null,null,null,null,"wenn erforderlich",null,null,null,null,null,null,null,null,"wenn erforderlich"]
[{"$f":"'R16_Baum'!C16","v":"ASKÖ-Luftenberg"},null,null,null,null,null,null,null,null,"Stechen",null,null,null,null,null,null,null,null,"Stechen"]
["Verein",null,null,null,null,null,null,null,null,null,null,null,null,null,"gewonnen",null,null,null,null,null,null,null,null,"gewonnen"]
[{"$f":"Select!$C$18","v":"Recurve Herren"},null,null,null,null,null,null,null,null,"Schütze:",null,null,null,null,"verloren",null,null,null,"Schütze:",null,null,null,null,"verloren"]
["Bogenklasse"]
[null,null,null,null,null,null,null,null,null,"Gegner:",null,"Name:",null,null,null,null,null,null,"Gegner:",null,"Name:",{"$f":"'R16_Baum'!C17","v":"Bauer Helfried"}]
[null,null,null,null,null,null,null,null,null,null,null,"Unterschrift:",null,null,null,null,null,null,null,null,"Unterschrift:"]
[]
[]
["1/4 Finale",null,null,null,{"$f":"'R16_Baum'!G57","v":"Scheibe: 7A"},null,null,null,null,"1/2 Finale",null,null,null,{"$f":"'R16_Baum'!K56","v":"Scheibe: 7"},null,null,null,null,"1./2. od. 3./4. Platz",null,null,null,"Scheibe:"]
[null,1,2,3,"Summe","Punkte","Ges.",null,null,null,1,2,3,"Summe","Punkte","Ges.",null,null,null,1,2,3,"Summe","Punkte","Ges."]
["Satz 1",null,null,null,null,null,null,null,null,"Satz 1",null,null,null,null,null,null,null,null,"Satz 1"]
["Satz 2",null,null,null,null,null,null,null,null,"Satz 2",null,null,null,null,null,null,null,null,"Satz 2"]
["Satz 3",null,null,null,null,null,null,null,null,"Satz 3",null,null,null,null,null,null,null,null,"Satz 3"]
["wenn erforderlich",null,null,null,null,null,null,null,null,"wenn erforderlich",null,null,null,null,null,null,null,null,"wenn erforderlich"]
["Satz 4",null,null,null,null,null,null,null,null,"Satz 4",null,null,null,null,null,null,null,null,"Satz 4"]
["wenn erforderlich",null,null,null,null,null,null,null,null,"wenn erforderlich",null,null,null,null,null,null,null,null,"wenn erforderlich"]
["Satz 5",null,null,null,null,null,null,null,null,"Satz 5",null,null,null,null,null,null,null,null,"Satz 5"]
["wenn erforderlich",null,null,null,null,null,null,null,null,"wenn erforderlich",null,null,null,null,null,null,null,null,"wenn erforderlich"]
["Stechen",null,null,null,null,null,null,null,null,"Stechen",null,null,null,null,null,null,null,null,"Stechen"]
[null,null,null,null,null,"gewonnen",null,null,null,null,null,null,null,null,"gewonnen",null,null,null,null,null,null,null,null,"gewonnen"]
["Schütze:",null,null,null,null,"verloren",null,null,null,"Schütze:",null,null,null,null,"verloren",null,null,null,"Schütze:",null,null,null,null,"verloren"]
[]
["Gegner:",null,"Name:",null,null,null,null,null,null,"Gegner:",null,"Name:",null,null,null,null,null,null,"Gegner:",null,"Name:"]
[null,null,"Unterschrift:",null,null,null,null,null,null,null,null,"Unterschrift:",null,null,null,null,null,null,null,null,"Unterschrift:"]
[]
[]
[null,null,null,null,null,null,null,null,null,"1/16 Elimination",null,null,null,null,null,null,null,null,"1/8 Elimination",null,null,null,{"$f":"'R16_Baum'!C60","v":"Scheibe: 3B"}]
[null,null,null,null,null,null,null,null,null,null,1,2,3,"Summe","Punkte","Ges.",null,null,null,1,2,3,"Summe","Punkte","Ges."]
[{"$f":"Select!$C$12","v":"Demoturnier"},null,null,null,null,null,null,null,null,"Satz 1",null,null,null,null,null,null,null,null,"Satz 1"]
["Veranstaltung",null,null,null,null,null,null,null,null,"Satz 2",null,null,null,null,null,null,null,null,"Satz 2"]
[{"$f":"Select!$C$13","v":"1. April 2019"},null,null,null,null,null,null,null,null,"Satz 3",null,null,null,null,null,null,null,null,"Satz 3"]
["Datum",null,null,null,null,null,null,null,null,"wenn erforderlich",null,null,null,null,null,null,null,null,"wenn erforderlich"]
[null,null,null,null,null,null,null,null,null,"Satz 4",null,null,null,null,null,null,null,null,"Satz 4"]
[null,null,null,null,null,null,null,null,null,"wenn erforderlich",null,null,null,null,null,null,null,null,"wenn erforderlich"]
[{"$f":"'R16_Baum'!C17","v":"Bauer Helfried"},null,null,null,null,null,null,null,null,"Satz 5",null,null,null,null,null,null,null,null,"Satz 5"]
["Name",null,null,null,null,null,null,null,null,"wenn erforderlich",null,null,null,null,null,null,null,null,"wenn erforderlich"]
[{"$f":"'R16_Baum'!C18","v":"Austrian Free Archer"},null,null,null,null,null,null,null,null,"Stechen",null,null,null,null,null,null,null,null,"Stechen"]
["Verein",null,null,null,null,null,null,null,null,null,null,null,null,null,"gewonnen",null,null,null,null,null,null,null,null,"gewonnen"]
[{"$f":"Select!$C$18","v":"Recurve Herren"},null,null,null,null,null,null,null,null,"Schütze:",null,null,null,null,"verloren",null,null,null,"Schütze:",null,null,null,null,"verloren"]
["Bogenklasse"]
[null,null,null,null,null,null,null,null,null,"Gegner:",null,"Name:",null,null,null,null,null,null,"Gegner:",null,"Name:",{"$f":"'R16_Baum'!C15","v":"Höllwirth Andreas"}]
[null,null,null,null,null,null,null,null,null,null,null,"Unterschrift:",null,null,null,null,null,null,null,null,"Unterschrift:"]
[]
[]
["1/4 Finale",null,null,null,{"$f":"'R16_Baum'!G57","v":"Scheibe: 7A"},null,null,null,null,"1/2 Finale",null,null,null,{"$f":"'R16_Baum'!K56","v":"Scheibe: 7"},null,null,null,null,"1./2. od. 3./4. Platz",null,null,null,"Scheibe:"]
[null,1,2,3,"Summe","Punkte","Ges.",null,null,null,1,2,3,"Summe","Punkte","Ges.",null,null,null,1,2,3,"Summe","Punkte","Ges."]
["Satz 1",null,null,null,null,null,null,null,null,"Satz 1",null,null,null,null,null,null,null,null,"Satz 1"]
["Satz 2",null,null,null,null,null,null,null,null,"Satz 2",null,null,null,null,null,null,null,null,"Satz 2"]
["Satz 3",null,null,null,null,null,null,null,null,"Satz 3",null,null,null,null,null,null,null,null,"Satz 3"]
["wenn erforderlich",null,null,null,null,null,null,null,null,"wenn erforderlich",null,null,null,null,null,null,null,null,"wenn erforderlich"]
["Satz 4",null,null,null,null,null,null,null,null,"Satz 4",null,null,null,null,null,null,null,null,"Satz 4"]
["wenn erforderlich",null,null,null,null,null,null,null,null,"wenn erforderlich",null,null,null,null,null,null,null,null,"wenn erforderlich"]
["Satz 5",null,null,null,null,null,null,null,null,"Satz 5",null,null,null,null,null,null,null,null,"Satz 5"]
["wenn erforderlich",null,null,null,null,null,null,null,null,"wenn erforderlich",null,null,null,null,null,null,null,null,"wenn erforderlich"]
["Stechen",null,null,null,null,null,null,null,null,"Stechen",null,null,null,null,null,null,null,null,"Stechen"]
[null,null,null,null,null,"gewonnen",null,null,null,null,null,null,null,null,"gewonnen",null,null,null,null,null,null,null,null,"gewonnen"]
["Schütze:",null,null,null,null,"verloren",null,null,null,"Schütze:",null,null,null,null,"verloren",null,null,null,"Schütze:",null,null,null,null,"verloren"]
[]
["Gegner:",null,"Name:",null,null,null,null,null,null,"Gegner:",null,"Name:",null,null,null,null,null,null,"Gegner:",null,"Name:"]
[null,null,"Unterschrift:",null,null,null,null,null,null,null,null,"Unterschrift:",null,null,null,null,null,null,null,null,"Unterschrift:"]
[]
[]
[null,null,null,null,null,null,null,null,null,"1/16 Elimination",null,null,null,null,null,null,null,null,"1/8 Elimination",null,null,null,{"$f":"'R16_Baum'!C61","v":"Scheibe: 4A"}]
[null,null,null,null,null,null,null,null,null,null,1,2,3,"Summe","Punkte","Ges.",null,null,null,1,2,3,"Summe","Punkte","Ges."]
[{"$f":"Select!$C$12","v":"Demoturnier"},null,null,null,null,null,null,null,null,"Satz 1",null,null,null,null,null,null,null,null,"Satz 1"]
["Veranstaltung",null,null,null,null,null,null,null,null,"Satz 2",null,null,null,null,null,null,null,null,"Satz 2"]
[{"$f":"Select!$C$13","v":"1. April 2019"},null,null,null,null,null,null,null,null,"Satz 3",null,null,null,null,null,null,null,null,"Satz 3"]
["Datum",null,null,null,null,null,null,null,null,"wenn erforderlich",null,null,null,null,null,null,null,null,"wenn erforderlich"]
[null,null,null,null,null,null,null,null,null,"Satz 4",null,null,null,null,null,null,null,null,"Satz 4"]
[null,null,null,null,null,null,null,null,null,"wenn erforderlich",null,null,null,null,null,null,null,null,"wenn erforderlich"]
[{"$f":"'R16_Baum'!C21","v":"Jandl Ernst"},null,null,null,null,null,null,null,null,"Satz 5",null,null,null,null,null,null,null,null,"Satz 5"]
["Name",null,null,null,null,null,null,null,null,"wenn erforderlich",null,null,null,null,null,null,null,null,"wenn erforderlich"]
[{"$f":"'R16_Baum'!C22","v":"PSV Burgenland - Sektion Bogen"},null,null,null,null,null,null,null,null,"Stechen",null,null,null,null,null,null,null,null,"Stechen"]
["Verein",null,null,null,null,null,null,null,null,null,null,null,null,null,"gewonnen",null,null,null,null,null,null,null,null,"gewonnen"]
[{"$f":"Select!$C$18","v":"Recurve Herren"},null,null,null,null,null,null,null,null,"Schütze:",null,null,null,null,"verloren",null,null,null,"Schütze:",null,null,null,null,"verloren"]
["Bogenklasse"]
[null,null,null,null,null,null,null,null,null,"Gegner:",null,"Name:",null,null,null,null,null,null,"Gegner:",null,"Name:",{"$f":"'R16_Baum'!C23","v":"Krempl Werner"}]
[null,null,null,null,null,null,null,null,null,null,null,"Unterschrift:",null,null,null,null,null,null,null,null,"Unterschrift:"]
[]
[]
["1/4 Finale",null,null,null,{"$f":"'R16_Baum'!G58","v":"Scheibe: 7B"},null,null,null,null,"1/2 Finale",null,null,null,{"$f":"'R16_Baum'!K56","v":"Scheibe: 7"},null,null,null,null,"1./2. od. 3./4. Platz",null,null,null,"Scheibe:"]
[null,1,2,3,"Summe","Punkte","Ges.",null,null,null,1,2,3,"Summe","Punkte","Ges.",null,null,null,1,2,3,"Summe","Punkte","Ges."]
["Satz 1",null,null,null,null,null,null,null,null,"Satz 1",null,null,null,null,null,null,null,null,"Satz 1"]
["Satz 2",null,null,null,null,null,null,null,null,"Satz 2",null,null,null,null,null,null,null,null,"Satz 2"]
["Satz 3",null,null,null,null,null,null,null,null,"Satz 3",null,null,null,null,null,null,null,null,"Satz 3"]
["wenn erforderlich",null,null,null,null,null,null,null,null,"wenn erforderlich",null,null,null,null,null,null,null,null,"wenn erforderlich"]
["Satz 4",null,null,null,null,null,null,null,null,"Satz 4",null,null,null,null,null,null,null,null,"Satz 4"]
["wenn erforderlich",null,null,null,null,null,null,null,null,"wenn erforderlich",null,null,null,null,null,null,null,null,"wenn erforderlich"]
["Satz 5",null,null,null,null,null,null,null,null,"Satz 5",null,null,null,null,null,null,null,null,"Satz 5"]
["wenn erforderlich",null,null,null,null,null,null,null,null,"wenn erforderlich",null,null,null,null,null,null,null,null,"wenn erforderlich"]
["Stechen",null,null,null,null,null,null,null,null,"Stechen",null,null,null,null,null,null,null,null,"Stechen"]
[null,null,null,null,null,"gewonnen",null,null,null,null,null,null,null,null,"gewonnen",null,null,null,null,null,null,null,null,"gewonnen"]
["Schütze:",null,null,null,null,"verloren",null,null,null,"Schütze:",null,null,null,null,"verloren",null,null,null,"Schütze:",null,null,null,null,"verloren"]
[]
["Gegner:",null,"Name:",null,null,null,null,null,null,"Gegner:",null,"Name:",null,null,null,null,null,null,"Gegner:",null,"Name:"]
[null,null,"Unterschrift:",null,null,null,null,null,null,null,null,"Unterschrift:",null,null,null,null,null,null,null,null,"Unterschrift:"]
[]
[]
[null,null,null,null,null,null,null,null,null,"1/16 Elimination",null,null,null,null,null,null,null,null,"1/8 Elimination",null,null,null,{"$f":"'R16_Baum'!C62","v":"Scheibe: 4B"}]
[null,null,null,null,null,null,null,null,null,null,1,2,3,"Summe","Punkte","Ges.",null,null,null,1,2,3,"Summe","Punkte","Ges."]
[{"$f":"Select!$C$12","v":"Demoturnier"},null,null,null,null,null,null,null,null,"Satz 1",null,null,null,null,null,null,null,null,"Satz 1"]
["Veranstaltung",null,null,null,null,null,null,null,null,"Satz 2",null,null,null,null,null,null,null,null,"Satz 2"]
[{"$f":"Select!$C$13","v":"1. April 2019"},null,null,null,null,null,null,null,null,"Satz 3",null,null,null,null,null,null,null,null,"Satz 3"]
["Datum",null,null,null,null,null,null,null,null,"wenn erforderlich",null,null,null,null,null,null,null,null,"wenn erforderlich"]
[null,null,null,null,null,null,null,null,null,"Satz 4",null,null,null,null,null,null,null,null,"Satz 4"]
[null,null,null,null,null,null,null,null,null,"wenn erforderlich",null,null,null,null,null,null,null,null,"wenn erforderlich"]
[{"$f":"'R16_Baum'!C23","v":"Krempl Werner"},null,null,null,null,null,null,null,null,"Satz 5",null,null,null,null,null,null,null,null,"Satz 5"]
["Name",null,null,null,null,null,null,null,null,"wenn erforderlich",null,null,null,null,null,null,null,null,"wenn erforderlich"]
[{"$f":"'R16_Baum'!C24","v":"BSC Semriach"},null,null,null,null,null,null,null,null,"Stechen",null,null,null,null,null,null,null,null,"Stechen"]
["Verein",null,null,null,null,null,null,null,null,null,null,null,null,null,"gewonnen",null,null,null,null,null,null,null,null,"gewonnen"]
[{"$f":"Select!$C$18","v":"Recurve Herren"},null,null,null,null,null,null,null,null,"Schütze:",null,null,null,null,"verloren",null,null,null,"Schütze:",null,null,null,null,"verloren"]
["Bogenklasse"]
[null,null,null,null,null,null,null,null,null,"Gegner:",null,"Name:",null,null,null,null,null,null,"Gegner:",null,"Name:",{"$f":"'R16_Baum'!C21","v":"Jandl Ernst"}]
[null,null,null,null,null,null,null,null,null,null,null,"Unterschrift:",null,null,null,null,null,null,null,null,"Unterschrift:"]
[]
[]
["1/4 Finale",null,null,null,{"$f":"'R16_Baum'!G58","v":"Scheibe: 7B"},null,null,null,null,"1/2 Finale",null,null,null,{"$f":"'R16_Baum'!K56","v":"Scheibe: 7"},null,null,null,null,"1./2. od. 3./4. Platz",null,null,null,"Scheibe:"]
[null,1,2,3,"Summe","Punkte","Ges.",null,null,null,1,2,3,"Summe","Punkte","Ges.",null,null,null,1,2,3,"Summe","Punkte","Ges."]
["Satz 1",null,null,null,null,null,null,null,null,"Satz 1",null,null,null,null,null,null,null,null,"Satz 1"]
["Satz 2",null,null,null,null,null,null,null,null,"Satz 2",null,null,null,null,null,null,null,null,"Satz 2"]
["Satz 3",null,null,null,null,null,null,null,null,"Satz 3",null,null,null,null,null,null,null,null,"Satz 3"]
["wenn erforderlich",null,null,null,null,null,null,null,null,"wenn erforderlich",null,null,null,null,null,null,null,null,"wenn erforderlich"]
["Satz 4",null,null,null,null,null,null,null,null,"Satz 4",null,null,null,null,null,null,null,null,"Satz 4"]
["wenn erforderlich",null,null,null,null,null,null,null,null,"wenn erforderlich",null,null,null,null,null,null,null,null,"wenn erforderlich"]
["Satz 5",null,null,null,null,null,null,null,null,"Satz 5",null,null,null,null,null,null,null,null,"Satz 5"]
["wenn erforderlich",null,null,null,null,null,null,null,null,"wenn erforderlich",null,null,null,null,null,null,null,null,"wenn erforderlich"]
["Stechen",null,null,null,null,null,null,null,null,"Stechen",null,null,null,null,null,null,null,null,"Stechen"]
[null,null,null,null,null,"gewonnen",null,null,null,null,null,null,null,null,"gewonnen",null,null,null,null,null,null,null,null,"gewonnen"]
["Schütze:",null,null,null,null,"verloren",null,null,null,"Schütze:",null,null,null,null,"verloren",null,null,null,"Schütze:",null,null,null,null,"verloren"]
[]
["Gegner:",null,"Name:",null,null,null,null,null,null,"Gegner:",null,"Name:",null,null,null,null,null,null,"Gegner:",null,"Name:"]
[null,null,"Unterschrift:",null,null,null,null,null,null,null,null,"Unterschrift:",null,null,null,null,null,null,null,null,"Unterschrift:"]
[]
[]
[null,null,null,null,null,null,null,null,null,"1/16 Elimination",null,null,null,null,null,null,null,null,"1/8 Elimination",null,null,null,{"$f":"'R16_Baum'!C63","v":"Scheibe: 5A"}]
[null,null,null,null,null,null,null,null,null,null,1,2,3,"Summe","Punkte","Ges.",null,null,null,1,2,3,"Summe","Punkte","Ges."]
[{"$f":"Select!$C$12","v":"Demoturnier"},null,null,null,null,null,null,null,null,"Satz 1",null,null,null,null,null,null,null,null,"Satz 1"]
["Veranstaltung",null,null,null,null,null,null,null,null,"Satz 2",null,null,null,null,null,null,null,null,"Satz 2"]
[{"$f":"Select!$C$13","v":"1. April 2019"},null,null,null,null,null,null,null,null,"Satz 3",null,null,null,null,null,null,null,null,"Satz 3"]
["Datum",null,null,null,null,null,null,null,null,"wenn erforderlich",null,null,null,null,null,null,null,null,"wenn erforderlich"]
[null,null,null,null,null,null,null,null,null,"Satz 4",null,null,null,null,null,null,null,null,"Satz 4"]
[null,null,null,null,null,null,null,null,null,"wenn erforderlich",null,null,null,null,null,null,null,null,"wenn erforderlich"]
[{"$f":"'R16_Baum'!C27","v":"Strohmaier Joachim"},null,null,null,null,null,null,null,null,"Satz 5",null,null,null,null,null,null,null,null,"Satz 5"]
["Name",null,null,null,null,null,null,null,null,"wenn erforderlich",null,null,null,null,null,null,null,null,"wenn erforderlich"]
[{"$f":"'R16_Baum'!C28","v":"BSC Kumberg"},null,null,null,null,null,null,null,null,"Stechen",null,null,null,null,null,null,null,null,"Stechen"]
["Verein",null,null,null,null,null,null,null,null,null,null,null,null,null,"gewonnen",null,null,null,null,null,null,null,null,"gewonnen"]
[{"$f":"Select!$C$18","v":"Recurve Herren"},null,null,null,null,null,null,null,null,"Schütze:",null,null,null,null,"verloren",null,null,null,"Schütze:",null,null,null,null,"verloren"]
["Bogenklasse"]
[null,null,null,null,null,null,null,null,null,"Gegner:",null,"Name:",null,null,null,null,null,null,"Gegner:",null,"Name:",{"$f":"'R16_Baum'!C29","v":"Schramm Wolfgang"}]
[null,null,null,null,null,null,null,null,null,null,null,"Unterschrift:",null,null,null,null,null,null,null,null,"Unterschrift:"]
[]
[]
["1/4 Finale",null,null,null,{"$f":"'R16_Baum'!G59","v":"Scheibe: 8A"},null,null,null,null,"1/2 Finale",null,null,null,{"$f":"'R16_Baum'!K57","v":"Scheibe: 8"},null,null,null,null,"1./2. od. 3./4. Platz",null,null,null,"Scheibe:"]
[null,1,2,3,"Summe","Punkte","Ges.",null,null,null,1,2,3,"Summe","Punkte","Ges.",null,null,null,1,2,3,"Summe","Punkte","Ges."]
["Satz 1",null,null,null,null,null,null,null,null,"Satz 1",null,null,null,null,null,null,null,null,"Satz 1"]
["Satz 2",null,null,null,null,null,null,null,null,"Satz 2",null,null,null,null,null,null,null,null,"Satz 2"]
["Satz 3",null,null,null,null,null,null,null,null,"Satz 3",null,null,null,null,null,null,null,null,"Satz 3"]
["wenn erforderlich",null,null,null,null,null,null,null,null,"wenn erforderlich",null,null,null,null,null,null,null,null,"wenn erforderlich"]
["Satz 4",null,null,null,null,null,null,null,null,"Satz 4",null,null,null,null,null,null,null,null,"Satz 4"]
["wenn erforderlich",null,null,null,null,null,null,null,null,"wenn erforderlich",null,null,null,null,null,null,null,null,"wenn erforderlich"]
["Satz 5",null,null,null,null,null,null,null,null,"Satz 5",null,null,null,null,null,null,null,null,"Satz 5"]
["wenn erforderlich",null,null,null,null,null,null,null,null,"wenn erforderlich",null,null,null,null,null,null,null,null,"wenn erforderlich"]
["Stechen",null,null,null,null,null,null,null,null,"Stechen",null,null,null,null,null,null,null,null,"Stechen"]
[null,null,null,null,null,"gewonnen",null,null,null,null,null,null,null,null,"gewonnen",null,null,null,null,null,null,null,null,"gewonnen"]
["Schütze:",null,null,null,null,"verloren",null,null,null,"Schütze:",null,null,null,null,"verloren",null,null,null,"Schütze:",null,null,null,null,"verloren"]
[]
["Gegner:",null,"Name:",null,null,null,null,null,null,"Gegner:",null,"Name:",null,null,null,null,null,null,"Gegner:",null,"Name:"]
[null,null,"Unterschrift:",null,null,null,null,null,null,null,null,"Unterschrift:",null,null,null,null,null,null,null,null,"Unterschrift:"]
[]
[]
[null,null,null,null,null,null,null,null,null,"1/16 Elimination",null,null,null,null,null,null,null,null,"1/8 Elimination",null,null,null,{"$f":"'R16_Baum'!C64","v":"Scheibe: 5B"}]
[null,null,null,null,null,null,null,null,null,null,1,2,3,"Summe","Punkte","Ges.",null,null,null,1,2,3,"Summe","Punkte","Ges."]
[{"$f":"Select!$C$12","v":"Demoturnier"},null,null,null,null,null,null,null,null,"Satz 1",null,null,null,null,null,null,null,null,"Satz 1"]
["Veranstaltung",null,null,null,null,null,null,null,null,"Satz 2",null,null,null,null,null,null,null,null,"Satz 2"]
[{"$f":"Select!$C$13","v":"1. April 2019"},null,null,null,null,null,null,null,null,"Satz 3",null,null,null,null,null,null,null,null,"Satz 3"]
["Datum",null,null,null,null,null,null,null,null,"wenn erforderlich",null,null,null,null,null,null,null,null,"wenn erforderlich"]
[null,null,null,null,null,null,null,null,null,"Satz 4",null,null,null,null,null,null,null,null,"Satz 4"]
[null,null,null,null,null,null,null,null,null,"wenn erforderlich",null,null,null,null,null,null,null,null,"wenn erforderlich"]
[{"$f":"'R16_Baum'!C29","v":"Schramm Wolfgang"},null,null,null,null,null,null,null,null,"Satz 5",null,null,null,null,null,null,null,null,"Satz 5"]
["Name",null,null,null,null,null,null,null,null,"wenn erforderlich",null,null,null,null,null,null,null,null,"wenn erforderlich"]
[{"$f":"'R16_Baum'!C30","v":"LINZ AG Sport - Sektion Bogen"},null,null,null,null,null,null,null,null,"Stechen",null,null,null,null,null,null,null,null,"Stechen"]
["Verein",null,null,null,null,null,null,null,null,null,null,null,null,null,"gewonnen",null,null,null,null,null,null,null,null,"gewonnen"]
[{"$f":"Select!$C$18","v":"Recurve Herren"},null,null,null,null,null,null,null,null,"Schütze:",null,null,null,null,"verloren",null,null,null,"Schütze:",null,null,null,null,"verloren"]
["Bogenklasse"]
[null,null,null,null,null,null,null,null,null,"Gegner:",null,"Name:",null,null,null,null,null,null,"Gegner:",null,"Name:",{"$f":"'R16_Baum'!C27","v":"Strohmaier Joachim"}]
[null,null,null,null,null,null,null,null,null,null,null,"Unterschrift:",null,null,null,null,null,null,null,null,"Unterschrift:"]
[]
[]
["1/4 Finale",null,null,null,{"$f":"'R16_Baum'!G59","v":"Scheibe: 8A"},null,null,null,null,"1/2 Finale",null,null,null,{"$f":"'R16_Baum'!K57","v":"Scheibe: 8"},null,null,null,null,"1./2. od. 3./4. Platz",null,null,null,"Scheibe:"]
[null,1,2,3,"Summe","Punkte","Ges.",null,null,null,1,2,3,"Summe","Punkte","Ges.",null,null,null,1,2,3,"Summe","Punkte","Ges."]
["Satz 1",null,null,null,null,null,null,null,null,"Satz 1",null,null,null,null,null,null,null,null,"Satz 1"]
["Satz 2",null,null,null,null,null,null,null,null,"Satz 2",null,null,null,null,null,null,null,null,"Satz 2"]
["Satz 3",null,null,null,null,null,null,null,null,"Satz 3",null,null,null,null,null,null,null,null,"Satz 3"]
["wenn erforderlich",null,null,null,null,null,null,null,null,"wenn erforderlich",null,null,null,null,null,null,null,null,"wenn erforderlich"]
["Satz 4",null,null,null,null,null,null,null,null,"Satz 4",null,null,null,null,null,null,null,null,"Satz 4"]
["wenn erforderlich",null,null,null,null,null,null,null,null,"wenn erforderlich",null,null,null,null,null,null,null,null,"wenn erforderlich"]
["Satz 5",null,null,null,null,null,null,null,null,"Satz 5",null,null,null,null,null,null,null,null,"Satz 5"]
["wenn erforderlich",null,null,null,null,null,null,null,null,"wenn erforderlich",null,null,null,null,null,null,null,null,"wenn erforderlich"]
["Stechen",null,null,null,null,null,null,null,null,"Stechen",null,null,null,null,null,null,null,null,"Stechen"]
[null,null,null,null,null,"gewonnen",null,null,null,null,null,null,null,null,"gewonnen",null,null,null,null,null,null,null,null,"gewonnen"]
["Schütze:",null,null,null,null,"verloren",null,null,null,"Schütze:",null,null,null,null,"verloren",null,null,null,"Schütze:",null,null,null,null,"verloren"]
[]
["Gegner:",null,"Name:",null,null,null,null,null,null,"Gegner:",null,"Name:",null,null,null,null,null,null,"Gegner:",null,"Name:"]
[null,null,"Unterschrift:",null,null,null,null,null,null,null,null,"Unterschrift:",null,null,null,null,null,null,null,null,"Unterschrift:"]
[]
[]
[null,null,null,null,null,null,null,null,null,"1/16 Elimination",null,null,null,null,null,null,null,null,"1/8 Elimination",null,null,null,{"$f":"'R16_Baum'!C65","v":"Scheibe: 6A"}]
[null,null,null,null,null,null,null,null,null,null,1,2,3,"Summe","Punkte","Ges.",null,null,null,1,2,3,"Summe","Punkte","Ges."]
[{"$f":"Select!$C$12","v":"Demoturnier"},null,null,null,null,null,null,null,null,"Satz 1",null,null,null,null,null,null,null,null,"Satz 1"]
["Veranstaltung",null,null,null,null,null,null,null,null,"Satz 2",null,null,null,null,null,null,null,null,"Satz 2"]
[{"$f":"Select!$C$13","v":"1. April 2019"},null,null,null,null,null,null,null,null,"Satz 3",null,null,null,null,null,null,null,null,"Satz 3"]
["Datum",null,null,null,null,null,null,null,null,"wenn erforderlich",null,null,null,null,null,null,null,null,"wenn erforderlich"]
[null,null,null,null,null,null,null,null,null,"Satz 4",null,null,null,null,null,null,null,null,"Satz 4"]
[null,null,null,null,null,null,null,null,null,"wenn erforderlich",null,null,null,null,null,null,null,null,"wenn erforderlich"]
[{"$f":"'R16_Baum'!C33","v":"Reicher Ernst"},null,null,null,null,null,null,null,null,"Satz 5",null,null,null,null,null,null,null,null,"Satz 5"]
["Name",null,null,null,null,null,null,null,null,"wenn erforderlich",null,null,null,null,null,null,null,null,"wenn erforderlich"]
[{"$f":"'R16_Baum'!C34","v":"BSC Wörthersee"},null,null,null,null,null,null,null,null,"Stechen",null,null,null,null,null,null,null,null,"Stechen"]
["Verein",null,null,null,null,null,null,null,null,null,null,null,null,null,"gewonnen",null,null,null,null,null,null,null,null,"gewonnen"]
[{"$f":"Select!$C$18","v":"Recurve Herren"},null,null,null,null,null,null,null,null,"Schütze:",null,null,null,null,"verloren",null,null,null,"Schütze:",null,null,null,null,"verloren"]
["Bogenklasse"]
[null,null,null,null,null,null,null,null,null,"Gegner:",null,"Name:",null,null,null,null,null,null,"Gegner:",null,"Name:",{"$f":"'R16_Baum'!C35","v":"Parschisek Alexander"}]
[null,null,null,null,null,null,null,null,null,null,null,"Unterschrift:",null,null,null,null,null,null,null,null,"Unterschrift:"]
[]
[]
["1/4 Finale",null,null,null,{"$f":"'R16_Baum'!G60","v":"Scheibe: 8B"},null,null,null,null,"1/2 Finale",null,null,null,{"$f":"'R16_Baum'!K57","v":"Scheibe: 8"},null,null,null,null,"1./2. od. 3./4. Platz",null,null,null,"Scheibe:"]
[null,1,2,3,"Summe","Punkte","Ges.",null,null,null,1,2,3,"Summe","Punkte","Ges.",null,null,null,1,2,3,"Summe","Punkte","Ges."]
["Satz 1",null,null,null,null,null,null,null,null,"Satz 1",null,null,null,null,null,null,null,null,"Satz 1"]
["Satz 2",null,null,null,null,null,null,null,null,"Satz 2",null,null,null,null,null,null,null,null,"Satz 2"]
["Satz 3",null,null,null,null,null,null,null,null,"Satz 3",null,null,null,null,null,null,null,null,"Satz 3"]
["wenn erforderlich",null,null,null,null,null,null,null,null,"wenn erforderlich",null,null,null,null,null,null,null,null,"wenn erforderlich"]
["Satz 4",null,null,null,null,null,null,null,null,"Satz 4",null,null,null,null,null,null,null,null,"Satz 4"]
["wenn erforderlich",null,null,null,null,null,null,null,null,"wenn erforderlich",null,null,null,null,null,null,null,null,"wenn erforderlich"]
["Satz 5",null,null,null,null,null,null,null,null,"Satz 5",null,null,null,null,null,null,null,null,"Satz 5"]
["wenn erforderlich",null,null,null,null,null,null,null,null,"wenn erforderlich",null,null,null,null,null,null,null,null,"wenn erforderlich"]
["Stechen",null,null,null,null,null,null,null,null,"Stechen",null,null,null,null,null,null,null,null,"Stechen"]
[null,null,null,null,null,"gewonnen",null,null,null,null,null,null,null,null,"gewonnen",null,null,null,null,null,null,null,null,"gewonnen"]
["Schütze:",null,null,null,null,"verloren",null,null,null,"Schütze:",null,null,null,null,"verloren",null,null,null,"Schütze:",null,null,null,null,"verloren"]
[]
["Gegner:",null,"Name:",null,null,null,null,null,null,"Gegner:",null,"Name:",null,null,null,null,null,null,"Gegner:",null,"Name:"]
[null,null,"Unterschrift:",null,null,null,null,null,null,null,null,"Unterschrift:",null,null,null,null,null,null,null,null,"Unterschrift:"]
[]
[]
[null,null,null,null,null,null,null,null,null,"1/16 Elimination",null,null,null,null,null,null,null,null,"1/8 Elimination",null,null,null,{"$f":"'R16_Baum'!C66","v":"Scheibe: 6B"}]
[null,null,null,null,null,null,null,null,null,null,1,2,3,"Summe","Punkte","Ges.",null,null,null,1,2,3,"Summe","Punkte","Ges."]
[{"$f":"Select!$C$12","v":"Demoturnier"},null,null,null,null,null,null,null,null,"Satz 1",null,null,null,null,null,null,null,null,"Satz 1"]
["Veranstaltung",null,null,null,null,null,null,null,null,"Satz 2",null,null,null,null,null,null,null,null,"Satz 2"]
[{"$f":"Select!$C$13","v":"1. April 2019"},null,null,null,null,null,null,null,null,"Satz 3",null,null,null,null,null,null,null,null,"Satz 3"]
["Datum",null,null,null,null,null,null,null,null,"wenn erforderlich",null,null,null,null,null,null,null,null,"wenn erforderlich"]
[null,null,null,null,null,null,null,null,null,"Satz 4",null,null,null,null,null,null,null,null,"Satz 4"]
[null,null,null,null,null,null,null,null,null,"wenn erforderlich",null,null,null,null,null,null,null,null,"wenn erforderlich"]
[{"$f":"'R16_Baum'!C35","v":"Parschisek Alexander"},null,null,null,null,null,null,null,null,"Satz 5",null,null,null,null,null,null,null,null,"Satz 5"]
["Name",null,null,null,null,null,null,null,null,"wenn erforderlich",null,null,null,null,null,null,null,null,"wenn erforderlich"]
[{"$f":"'R16_Baum'!C36","v":"BC-Oberschützen"},null,null,null,null,null,null,null,null,"Stechen",null,null,null,null,null,null,null,null,"Stechen"]
["Verein",null,null,null,null,null,null,null,null,null,null,null,null,null,"gewonnen",null,null,null,null,null,null,null,null,"gewonnen"]
[{"$f":"Select!$C$18","v":"Recurve Herren"},null,null,null,null,null,null,null,null,"Schütze:",null,null,null,null,"verloren",null,null,null,"Schütze:",null,null,null,null,"verloren"]
["Bogenklasse"]
[null,null,null,null,null,null,null,null,null,"Gegner:",null,"Name:",null,null,null,null,null,null,"Gegner:",null,"Name:",{"$f":"'R16_Baum'!C33","v":"Reicher Ernst"}]
[null,null,null,null,null,null,null,null,null,null,null,"Unterschrift:",null,null,null,null,null,null,null,null,"Unterschrift:"]
[]
[]
["1/4 Finale",null,null,null,{"$f":"'R16_Baum'!G60","v":"Scheibe: 8B"},null,null,null,null,"1/2 Finale",null,null,null,{"$f":"'R16_Baum'!K57","v":"Scheibe: 8"},null,null,null,null,"1./2. od. 3./4. Platz",null,null,null,"Scheibe:"]
[null,1,2,3,"Summe","Punkte","Ges.",null,null,null,1,2,3,"Summe","Punkte","Ges.",null,null,null,1,2,3,"Summe","Punkte","Ges."]
["Satz 1",null,null,null,null,null,null,null,null,"Satz 1",null,null,null,null,null,null,null,null,"Satz 1"]
["Satz 2",null,null,null,null,null,null,null,null,"Satz 2",null,null,null,null,null,null,null,null,"Satz 2"]
["Satz 3",null,null,null,null,null,null,null,null,"Satz 3",null,null,null,null,null,null,null,null,"Satz 3"]
["wenn erforderlich",null,null,null,null,null,null,null,null,"wenn erforderlich",null,null,null,null,null,null,null,null,"wenn erforderlich"]
["Satz 4",null,null,null,null,null,null,null,null,"Satz 4",null,null,null,null,null,null,null,null,"Satz 4"]
["wenn erforderlich",null,null,null,null,null,null,null,null,"wenn erforderlich",null,null,null,null,null,null,null,null,"wenn erforderlich"]
["Satz 5",null,null,null,null,null,null,null,null,"Satz 5",null,null,null,null,null,null,null,null,"Satz 5"]
["wenn erforderlich",null,null,null,null,null,null,null,null,"wenn erforderlich",null,null,null,null,null,null,null,null,"wenn erforderlich"]
["Stechen",null,null,null,null,null,null,null,null,"Stechen",null,null,null,null,null,null,null,null,"Stechen"]
[null,null,null,null,null,"gewonnen",null,null,null,null,null,null,null,null,"gewonnen",null,null,null,null,null,null,null,null,"gewonnen"]
["Schütze:",null,null,null,null,"verloren",null,null,null,"Schütze:",null,null,null,null,"verloren",null,null,null,"Schütze:",null,null,null,null,"verloren"]
[]
["Gegner:",null,"Name:",null,null,null,null,null,null,"Gegner:",null,"Name:",null,null,null,null,null,null,"Gegner:",null,"Name:"]
[null,null,"Unterschrift:",null,null,null,null,null,null,null,null,"Unterschrift:",null,null,null,null,null,null,null,null,"Unterschrift:"]
[]
[]
[null,null,null,null,null,null,null,null,null,"1/16 Elimination",null,null,null,null,null,null,null,null,"1/8 Elimination",null,null,null,{"$f":"'R16_Baum'!C67","v":"Scheibe: 7A"}]
[null,null,null,null,null,null,null,null,null,null,1,2,3,"Summe","Punkte","Ges.",null,null,null,1,2,3,"Summe","Punkte","Ges."]
[{"$f":"Select!$C$12","v":"Demoturnier"},null,null,null,null,null,null,null,null,"Satz 1",null,null,null,null,null,null,null,null,"Satz 1"]
["Veranstaltung",null,null,null,null,null,null,null,null,"Satz 2",null,null,null,null,null,null,null,null,"Satz 2"]
[{"$f":"Select!$C$13","v":"1. April 2019"},null,null,null,null,null,null,null,null,"Satz 3",null,null,null,null,null,null,null,null,"Satz 3"]
["Datum",null,null,null,null,null,null,null,null,"wenn erforderlich",null,null,null,null,null,null,null,null,"wenn erforderlich"]
[null,null,null,null,null,null,null,null,null,"Satz 4",null,null,null,null,null,null,null,null,"Satz 4"]
[null,null,null,null,null,null,null,null,null,"wenn erforderlich",null,null,null,null,null,null,null,null,"wenn erforderlich"]
[{"$f":"'R16_Baum'!C39","v":"Bucher Martin"},null,null,null,null,null,null,null,null,"Satz 5",null,null,null,null,null,null,null,null,"Satz 5"]
["Name",null,null,null,null,null,null,null,null,"wenn erforderlich",null,null,null,null,null,null,null,null,"wenn erforderlich"]
[{"$f":"'R16_Baum'!C40","v":"LH Graz"},null,null,null,null,null,null,null,null,"Stechen",null,null,null,null,null,null,null,null,"Stechen"]
["Verein",null,null,null,null,null,null,null,null,null,null,null,null,null,"gewonnen",null,null,null,null,null,null,null,null,"gewonnen"]
[{"$f":"Select!$C$18","v":"Recurve Herren"},null,null,null,null,null,null,null,null,"Schütze:",null,null,null,null,"verloren",null,null,null,"Schütze:",null,null,null,null,"verloren"]
["Bogenklasse"]
[null,null,null,null,null,null,null,null,null,"Gegner:",null,"Name:",null,null,null,null,null,null,"Gegner:",null,"Name:",{"$f":"'R16_Baum'!C41","v":"Navratil Christoph"}]
[null,null,null,null,null,null,null,null,null,null,null,"Unterschrift:",null,null,null,null,null,null,null,null,"Unterschrift:"]
[]
[]
["1/4 Finale",null,null,null,{"$f":"'R16_Baum'!G61","v":"Scheibe: 9A"},null,null,null,null,"1/2 Finale",null,null,null,{"$f":"'R16_Baum'!K58","v":"Scheibe: 9"},null,null,null,null,"1./2. od. 3./4. Platz",null,null,null,"Scheibe:"]
[null,1,2,3,"Summe","Punkte","Ges.",null,null,null,1,2,3,"Summe","Punkte","Ges.",null,null,null,1,2,3,"Summe","Punkte","Ges."]
["Satz 1",null,null,null,null,null,null,null,null,"Satz 1",null,null,null,null,null,null,null,null,"Satz 1"]
["Satz 2",null,null,null,null,null,null,null,null,"Satz 2",null,null,null,null,null,null,null,null,"Satz 2"]
["Satz 3",null,null,null,null,null,null,null,null,"Satz 3",null,null,null,null,null,null,null,null,"Satz 3"]
["wenn erforderlich",null,null,null,null,null,null,null,null,"wenn erforderlich",null,null,null,null,null,null,null,null,"wenn erforderlich"]
["Satz 4",null,null,null,null,null,null,null,null,"Satz 4",null,null,null,null,null,null,null,null,"Satz 4"]
["wenn erforderlich",null,null,null,null,null,null,null,null,"wenn erforderlich",null,null,null,null,null,null,null,null,"wenn erforderlich"]
["Satz 5",null,null,null,null,null,null,null,null,"Satz 5",null,null,null,null,null,null,null,null,"Satz 5"]
["wenn erforderlich",null,null,null,null,null,null,null,null,"wenn erforderlich",null,null,null,null,null,null,null,null,"wenn erforderlich"]
["Stechen",null,null,null,null,null,null,null,null,"Stechen",null,null,null,null,null,null,null,null,"Stechen"]
[null,null,null,null,null,"gewonnen",null,null,null,null,null,null,null,null,"gewonnen",null,null,null,null,null,null,null,null,"gewonnen"]
["Schütze:",null,null,null,null,"verloren",null,null,null,"Schütze:",null,null,null,null,"verloren",null,null,null,"Schütze:",null,null,null,null,"verloren"]
[]
["Gegner:",null,"Name:",null,null,null,null,null,null,"Gegner:",null,"Name:",null,null,null,null,null,null,"Gegner:",null,"Name:"]
[null,null,"Unterschrift:",null,null,null,null,null,null,null,null,"Unterschrift:",null,null,null,null,null,null,null,null,"Unterschrift:"]
[]
[]
[null,null,null,null,null,null,null,null,null,"1/16 Elimination",null,null,null,null,null,null,null,null,"1/8 Elimination",null,null,null,{"$f":"'R16_Baum'!C68","v":"Scheibe: 7B"}]
[null,null,null,null,null,null,null,null,null,null,1,2,3,"Summe","Punkte","Ges.",null,null,null,1,2,3,"Summe","Punkte","Ges."]
[{"$f":"Select!$C$12","v":"Demoturnier"},null,null,null,null,null,null,null,null,"Satz 1",null,null,null,null,null,null,null,null,"Satz 1"]
["Veranstaltung",null,null,null,null,null,null,null,null,"Satz 2",null,null,null,null,null,null,null,null,"Satz 2"]
[{"$f":"Select!$C$13","v":"1. April 2019"},null,null,null,null,null,null,null,null,"Satz 3",null,null,null,null,null,null,null,null,"Satz 3"]
["Datum",null,null,null,null,null,null,null,null,"wenn erforderlich",null,null,null,null,null,null,null,null,"wenn erforderlich"]
[null,null,null,null,null,null,null,null,null,"Satz 4",null,null,null,null,null,null,null,null,"Satz 4"]
[null,null,null,null,null,null,null,null,null,"wenn erforderlich",null,null,null,null,null,null,null,null,"wenn erforderlich"]
[{"$f":"'R16_Baum'!C41","v":"Navratil Christoph"},null,null,null,null,null,null,null,null,"Satz 5",null,null,null,null,null,null,null,null,"Satz 5"]
["Name",null,null,null,null,null,null,null,null,"wenn erforderlich",null,null,null,null,null,null,null,null,"wenn erforderlich"]
[{"$f":"'R16_Baum'!C42","v":"BSV Schönbrunn"},null,null,null,null,null,null,null,null,"Stechen",null,null,null,null,null,null,null,null,"Stechen"]
["Verein",null,null,null,null,null,null,null,null,null,null,null,null,null,"gewonnen",null,null,null,null,null,null,null,null,"gewonnen"]
[{"$f":"Select!$C$18","v":"Recurve Herren"},null,null,null,null,null,null,null,null,"Schütze:",null,null,null,null,"verloren",null,null,null,"Schütze:",null,null,null,null,"verloren"]
["Bogenklasse"]
[null,null,null,null,null,null,null,null,null,"Gegner:",null,"Name:",null,null,null,null,null,null,"Gegner:",null,"Name:",{"$f":"'R16_Baum'!C39","v":"Bucher Martin"}]
[null,null,null,null,null,null,null,null,null,null,null,"Unterschrift:",null,null,null,null,null,null,null,null,"Unterschrift:"]
[]
[]
["1/4 Finale",null,null,null,{"$f":"'R16_Baum'!G61","v":"Scheibe: 9A"},null,null,null,null,"1/2 Finale",null,null,null,{"$f":"'R16_Baum'!K58","v":"Scheibe: 9"},null,null,null,null,"1./2. od. 3./4. Platz",null,null,null,"Scheibe:"]
[null,1,2,3,"Summe","Punkte","Ges.",null,null,null,1,2,3,"Summe","Punkte","Ges.",null,null,null,1,2,3,"Summe","Punkte","Ges."]
["Satz 1",null,null,null,null,null,null,null,null,"Satz 1",null,null,null,null,null,null,null,null,"Satz 1"]
["Satz 2",null,null,null,null,null,null,null,null,"Satz 2",null,null,null,null,null,null,null,null,"Satz 2"]
["Satz 3",null,null,null,null,null,null,null,null,"Satz 3",null,null,null,null,null,null,null,null,"Satz 3"]
["wenn erforderlich",null,null,null,null,null,null,null,null,"wenn erforderlich",null,null,null,null,null,null,null,null,"wenn erforderlich"]
["Satz 4",null,null,null,null,null,null,null,null,"Satz 4",null,null,null,null,null,null,null,null,"Satz 4"]
["wenn erforderlich",null,null,null,null,null,null,null,null,"wenn erforderlich",null,null,null,null,null,null,null,null,"wenn erforderlich"]
["Satz 5",null,null,null,null,null,null,null,null,"Satz 5",null,null,null,null,null,null,null,null,"Satz 5"]
["wenn erforderlich",null,null,null,null,null,null,null,null,"wenn erforderlich",null,null,null,null,null,null,null,null,"wenn erforderlich"]
["Stechen",null,null,null,null,null,null,null,null,"Stechen",null,null,null,null,null,null,null,null,"Stechen"]
[null,null,null,null,null,"gewonnen",null,null,null,null,null,null,null,null,"gewonnen",null,null,null,null,null,null,null,null,"gewonnen"]
["Schütze:",null,null,null,null,"verloren",null,null,null,"Schütze:",null,null,null,null,"verloren",null,null,null,"Schütze:",null,null,null,null,"verloren"]
[]
["Gegner:",null,"Name:",null,null,null,null,null,null,"Gegner:",null,"Name:",null,null,null,null,null,null,"Gegner:",null,"Name:"]
[null,null,"Unterschrift:",null,null,null,null,null,null,null,null,"Unterschrift:",null,null,null,null,null,null,null,null,"Unterschrift:"]
[]
[]
[null,null,null,null,null,null,null,null,null,"1/16 Elimination",null,null,null,null,null,null,null,null,"1/8 Elimination",null,null,null,{"$f":"'R16_Baum'!C69","v":"Scheibe: 8A"}]
[null,null,null,null,null,null,null,null,null,null,1,2,3,"Summe","Punkte","Ges.",null,null,null,1,2,3,"Summe","Punkte","Ges."]
[{"$f":"Select!$C$12","v":"Demoturnier"},null,null,null,null,null,null,null,null,"Satz 1",null,null,null,null,null,null,null,null,"Satz 1"]
["Veranstaltung",null,null,null,null,null,null,null,null,"Satz 2",null,null,null,null,null,null,null,null,"Satz 2"]
[{"$f":"Select!$C$13","v":"1. April 2019"},null,null,null,null,null,null,null,null,"Satz 3",null,null,null,null,null,null,null,null,"Satz 3"]
["Datum",null,null,null,null,null,null,null,null,"wenn erforderlich",null,null,null,null,null,null,null,null,"wenn erforderlich"]
[null,null,null,null,null,null,null,null,null,"Satz 4",null,null,null,null,null,null,null,null,"Satz 4"]
[null,null,null,null,null,null,null,null,null,"wenn erforderlich",null,null,null,null,null,null,null,null,"wenn erforderlich"]
[{"$f":"'R16_Baum'!C45","v":"Markl Mario"},null,null,null,null,null,null,null,null,"Satz 5",null,null,null,null,null,null,null,null,"Satz 5"]
["Name",null,null,null,null,null,null,null,null,"wenn erforderlich",null,null,null,null,null,null,null,null,"wenn erforderlich"]
[{"$f":"'R16_Baum'!C46","v":"BSV Dakota"},null,null,null,null,null,null,null,null,"Stechen",null,null,null,null,null,null,null,null,"Stechen"]
["Verein",null,null,null,null,null,null,null,null,null,null,null,null,null,"gewonnen",null,null,null,null,null,null,null,null,"gewonnen"]
[{"$f":"Select!$C$18","v":"Recurve Herren"},null,null,null,null,null,null,null,null,"Schütze:",null,null,null,null,"verloren",null,null,null,"Schütze:",null,null,null,null,"verloren"]
["Bogenklasse"]
[null,null,null,null,null,null,null,null,null,"Gegner:",null,"Name:",null,null,null,null,null,null,"Gegner:",null,"Name:",{"$f":"'R16_Baum'!C47","v":"Berger Hermann"}]
[null,null,null,null,null,null,null,null,null,null,null,"Unterschrift:",null,null,null,null,null,null,null,null,"Unterschrift:"]
[]
[]
["1/4 Finale",null,null,null,{"$f":"'R16_Baum'!G62","v":"Scheibe: 9B"},null,null,null,null,"1/2 Finale",null,null,null,{"$f":"'R16_Baum'!K58","v":"Scheibe: 9"},null,null,null,null,"1./2. od. 3./4. Platz",null,null,null,"Scheibe:"]
[null,1,2,3,"Summe","Punkte","Ges.",null,null,null,1,2,3,"Summe","Punkte","Ges.",null,null,null,1,2,3,"Summe","Punkte","Ges."]
["Satz 1",null,null,null,null,null,null,null,null,"Satz 1",null,null,null,null,null,null,null,null,"Satz 1"]
["Satz 2",null,null,null,null,null,null,null,null,"Satz 2",null,null,null,null,null,null,null,null,"Satz 2"]
["Satz 3",null,null,null,null,null,null,null,null,"Satz 3",null,null,null,null,null,null,null,null,"Satz 3"]
["wenn erforderlich",null,null,null,null,null,null,null,null,"wenn erforderlich",null,null,null,null,null,null,null,null,"wenn erforderlich"]
["Satz 4",null,null,null,null,null,null,null,null,"Satz 4",null,null,null,null,null,null,null,null,"Satz 4"]
["wenn erforderlich",null,null,null,null,null,null,null,null,"wenn erforderlich",null,null,null,null,null,null,null,null,"wenn erforderlich"]
["Satz 5",null,null,null,null,null,null,null,null,"Satz 5",null,null,null,null,null,null,null,null,"Satz 5"]
["wenn erforderlich",null,null,null,null,null,null,null,null,"wenn erforderlich",null,null,null,null,null,null,null,null,"wenn erforderlich"]
["Stechen",null,null,null,null,null,null,null,null,"Stechen",null,null,null,null,null,null,null,null,"Stechen"]
[null,null,null,null,null,"gewonnen",null,null,null,null,null,null,null,null,"gewonnen",null,null,null,null,null,null,null,null,"gewonnen"]
["Schütze:",null,null,null,null,"verloren",null,null,null,"Schütze:",null,null,null,null,"verloren",null,null,null,"Schütze:",null,null,null,null,"verloren"]
[]
["Gegner:",null,"Name:",null,null,null,null,null,null,"Gegner:",null,"Name:",null,null,null,null,null,null,"Gegner:",null,"Name:"]
[null,null,"Unterschrift:",null,null,null,null,null,null,null,null,"Unterschrift:",null,null,null,null,null,null,null,null,"Unterschrift:"]
[]
[]
[null,null,null,null,null,null,null,null,null,"1/16 Elimination",null,null,null,null,null,null,null,null,"1/8 Elimination",null,null,null,{"$f":"'R16_Baum'!C70","v":"Scheibe: 8B"}]
[null,null,null,null,null,null,null,null,null,null,1,2,3,"Summe","Punkte","Ges.",null,null,null,1,2,3,"Summe","Punkte","Ges."]
[{"$f":"Select!$C$12","v":"Demoturnier"},null,null,null,null,null,null,null,null,"Satz 1",null,null,null,null,null,null,null,null,"Satz 1"]
["Veranstaltung",null,null,null,null,null,null,null,null,"Satz 2",null,null,null,null,null,null,null,null,"Satz 2"]
[{"$f":"Select!$C$13","v":"1. April 2019"},null,null,null,null,null,null,null,null,"Satz 3",null,null,null,null,null,null,null,null,"Satz 3"]
["Datum",null,null,null,null,null,null,null,null,"wenn erforderlich",null,null,null,null,null,null,null,null,"wenn erforderlich"]
[null,null,null,null,null,null,null,null,null,"Satz 4",null,null,null,null,null,null,null,null,"Satz 4"]
[null,null,null,null,null,null,null,null,null,"wenn erforderlich",null,null,null,null,null,null,null,null,"wenn erforderlich"]
[{"$f":"'R16_Baum'!C47","v":"Berger Hermann"},null,null,null,null,null,null,null,null,"Satz 5",null,null,null,null,null,null,null,null,"Satz 5"]
["Name",null,null,null,null,null,null,null,null,"wenn erforderlich",null,null,null,null,null,null,null,null,"wenn erforderlich"]
[{"$f":"'R16_Baum'!C48","v":"BSV Glemmerhof"},null,null,null,null,null,null,null,null,"Stechen",null,null,null,null,null,null,null,null,"Stechen"]
["Verein",null,null,null,null,null,null,null,null,null,null,null,null,null,"gewonnen",null,null,null,null,null,null,null,null,"gewonnen"]
[{"$f":"Select!$C$18","v":"Recurve Herren"},null,null,null,null,null,null,null,null,"Schütze:",null,null,null,null,"verloren",null,null,null,"Schütze:",null,null,null,null,"verloren"]
["Bogenklasse"]
[null,null,null,null,null,null,null,null,null,"Gegner:",null,"Name:",null,null,null,null,null,null,"Gegner:",null,"Name:",{"$f":"'R16_Baum'!C45","v":"Markl Mario"}]
[null,null,null,null,null,null,null,null,null,null,null,"Unterschrift:",null,null,null,null,null,null,null,null,"Unterschrift:"]
[]
[]
["1/4 Finale",null,null,null,{"$f":"'R16_Baum'!G62","v":"Scheibe: 9B"},null,null,null,null,"1/2 Finale",null,null,null,{"$f":"'R16_Baum'!K58","v":"Scheibe: 9"},null,null,null,null,"1./2. od. 3./4. Platz",null,null,null,"Scheibe:"]
[null,1,2,3,"Summe","Punkte","Ges.",null,null,null,1,2,3,"Summe","Punkte","Ges.",null,null,null,1,2,3,"Summe","Punkte","Ges."]
["Satz 1",null,null,null,null,null,null,null,null,"Satz 1",null,null,null,null,null,null,null,null,"Satz 1"]
["Satz 2",null,null,null,null,null,null,null,null,"Satz 2",null,null,null,null,null,null,null,null,"Satz 2"]
["Satz 3",null,null,null,null,null,null,null,null,"Satz 3",null,null,null,null,null,null,null,null,"Satz 3"]
["wenn erforderlich",null,null,null,null,null,null,null,null,"wenn erforderlich",null,null,null,null,null,null,null,null,"wenn erforderlich"]
["Satz 4",null,null,null,null,null,null,null,null,"Satz 4",null,null,null,null,null,null,null,null,"Satz 4"]
["wenn erforderlich",null,null,null,null,null,null,null,null,"wenn erforderlich",null,null,null,null,null,null,null,null,"wenn erforderlich"]
["Satz 5",null,null,null,null,null,null,null,null,"Satz 5",null,null,null,null,null,null,null,null,"Satz 5"]
["wenn erforderlich",null,null,null,null,null,null,null,null,"wenn erforderlich",null,null,null,null,null,null,null,null,"wenn erforderlich"]
["Stechen",null,null,null,null,null,null,null,null,"Stechen",null,null,null,null,null,null,null,null,"Stechen"]
[null,null,null,null,null,"gewonnen",null,null,null,null,null,null,null,null,"gewonnen",null,null,null,null,null,null,null,null,"gewonnen"]
["Schütze:",null,null,null,null,"verloren",null,null,null,"Schütze:",null,null,null,null,"verloren",null,null,null,"Schütze:",null,null,null,null,"verloren"]
[]
["Gegner:",null,"Name:",null,null,null,null,null,null,"Gegner:",null,"Name:",null,null,null,null,null,null,"Gegner:",null,"Name:"]
[null,null,"Unterschrift:",null,null,null,null,null,null,null,null,"Unterschrift:",null,null,null,null,null,null,null,null,"Unterschrift:"]

{"sheet":"R16_Ergebnis","index":14,"n_rows":25,"n_cols":17,"rows_kept":25,"cut":false,"hidden":true,"merged":[[6,10,6,16],[6,0,6,3],[2,0,2,3],[1,0,1,3],[4,0,4,8],[1,4,1,8]]}
[]
[{"$f":"Select!$C$12","v":"Demoturnier"},null,null,null,{"$f":"Select!C14","v":"WA-Outdoor"}]
[{"$f":"Select!C13","v":"1. April 2019"}]
[]
["Ergebnisliste"]
[]
[{"$f":"Select!C18","v":"Recurve Herren"},null,null,null,null,null,null,null,null,null,"!!!!!!!!!!!!!!!!!!!!!!!!!!  SORTIERBEREICH - NICHT ENTFERNEN !!!!!!!!!!!!!!!!!!!!!!!!!!"]
[]
["Pl.",null,"Name","Verein","Quali.","1/8","1/4","1/2","Finale",null,"SortName","SortVerein","SortQuali","Sort1/8","Sort1/4","Sort1/2","SortFinale"]
[{"$f":"IF(C10<>\"\",1,\"\")","v":""},null,null,null,null,null,null,null,null,null,{"$f":"IF('R16_Baum'!$P$21>'R16_Baum'!$P$23,'R16_Baum'!$O$21,IF('R16_Baum'!$P$23>'R16_Baum'!$P$21,'R16_Baum'!$O$23,IF(RIGHT('R16_Baum'!$P$21,1)=\"*\",'R16_Baum'!$O$21,IF(RIGHT('R16_Baum'!$P$23,1)=\"*\",'R16_Baum'!$O$23,\"\"))))","v":""},{"$f":"IF('R16_Baum'!$P$21>'R16_Baum'!$P$23,'R16_Baum'!$O$22,IF('R16_Baum'!$P$23>'R16_Baum'!$P$21,'R16_Baum'!$O$24,IF(RIGHT('R16_Baum'!$P$21,1)=\"*\",'R16_Baum'!$O$22,IF(RIGHT('R16_Baum'!$P$23,1)=\"*\",'R16_Baum'!$O$24,\"\"))))","v":""},{"$f":"VLOOKUP(K10,R_Quali!$C$10:$H$100,6,FALSE)","v":{"$error":"#N/A"}},{"$f":"VLOOKUP(K10,'R16_Baum'!$C$3:$D$48,2,FALSE)","v":{"$error":"#N/A"}},{"$f":"VLOOKUP(K10,'R16_Baum'!$G$6:$H$45,2,FALSE)","v":0},{"$f":"VLOOKUP(K10,'R16_Baum'!$K$12:$L$39,2,FALSE)","v":0},{"$f":"VLOOKUP(K10,'R16_Baum'!$O$21:$P$30,2,FALSE)","v":0}]
[{"$f":"IF(C11<>\"\",A10+1,\"\")","v":""},null,null,null,null,null,null,null,null,null,{"$f":"IF('R16_Baum'!$P$21<'R16_Baum'!$P$23,'R16_Baum'!$O$21,IF('R16_Baum'!$P$23<'R16_Baum'!$P$21,'R16_Baum'!$O$23,IF(RIGHT('R16_Baum'!$P$21,1)=\"*\",'R16_Baum'!$O$23,IF(RIGHT('R16_Baum'!$P$23,1)=\"*\",'R16_Baum'!$O$21,\"\"))))","v":""},{"$f":"IF('R16_Baum'!$P$21<'R16_Baum'!$P$23,'R16_Baum'!$O$22,IF('R16_Baum'!$P$23<'R16_Baum'!$P$21,'R16_Baum'!$O$24,IF(RIGHT('R16_Baum'!$P$21,1)=\"*\",'R16_Baum'!$O$24,IF(RIGHT('R16_Baum'!$P$23,1)=\"*\",'R16_Baum'!$O$22,\"\"))))","v":""},{"$f":"VLOOKUP(K11,R_Quali!$C$10:$H$100,6,FALSE)","v":{"$error":"#N/A"}},{"$f":"VLOOKUP(K11,'R16_Baum'!$C$3:$D$48,2,FALSE)","v":{"$error":"#N/A"}},{"$f":"VLOOKUP(K11,'R16_Baum'!$G$6:$H$45,2,FALSE)","v":0},{"$f":"VLOOKUP(K11,'R16_Baum'!$K$12:$L$39,2,FALSE)","v":0},{"$f":"VLOOKUP(K11,'R16_Baum'!$O$21:$P$30,2,FALSE)","v":0}]
["",null,null,null,null,null,null,null,null,null,{"$f":"IF('R16_Baum'!$P$27>'R16_Baum'!$P$29,'R16_Baum'!$O$27,IF('R16_Baum'!$P$29>'R16_Baum'!$P$27,'R16_Baum'!$O$29,IF(RIGHT('R16_Baum'!$P$27,1)=\"*\",'R16_Baum'!$O$27,IF(RIGHT('R16_Baum'!$P$29,1)=\"*\",'R16_Baum'!$O$29,\"\"))))","v":""},{"$f":"IF('R16_Baum'!$P$27>'R16_Baum'!$P$29,'R16_Baum'!$O$28,IF('R16_Baum'!$P$29>'R16_Baum'!$P$27,'R16_Baum'!$O$30,IF(RIGHT('R16_Baum'!$P$27,1)=\"*\",'R16_Baum'!$O$28,IF(RIGHT('R16_Baum'!$P$29,1)=\"*\",'R16_Baum'!$O$30,\"\"))))","v":""},{"$f":"VLOOKUP(K12,R_Quali!$C$10:$H$100,6,FALSE)","v":{"$error":"#N/A"}},{"$f":"VLOOKUP(K12,'R16_Baum'!$C$3:$D$48,2,FALSE)","v":{"$error":"#N/A"}},{"$f":"VLOOKUP(K12,'R16_Baum'!$G$6:$H$45,2,FALSE)","v":0},{"$f":"VLOOKUP(K12,'R16_Baum'!$K$12:$L$39,2,FALSE)","v":0},{"$f":"VLOOKUP(K12,'R16_Baum'!$O$21:$P$30,2,FALSE)","v":0}]
["",null,null,null,null,null,null,null,null,null,{"$f":"IF('R16_Baum'!$P$27<'R16_Baum'!$P$29,'R16_Baum'!$O$27,IF('R16_Baum'!$P$29<'R16_Baum'!$P$27,'R16_Baum'!$O$29,IF(RIGHT('R16_Baum'!$P$27,1)=\"*\",'R16_Baum'!$O$29,IF(RIGHT('R16_Baum'!$P$29,1)=\"*\",'R16_Baum'!$O$27,\"\"))))","v":""},{"$f":"IF('R16_Baum'!$P$27<'R16_Baum'!$P$29,'R16_Baum'!$O$28,IF('R16_Baum'!$P$29<'R16_Baum'!$P$27,'R16_Baum'!$O$30,IF(RIGHT('R16_Baum'!$P$27,1)=\"*\",'R16_Baum'!$O$30,IF(RIGHT('R16_Baum'!$P$29,1)=\"*\",'R16_Baum'!$O$28,\"\"))))","v":""},{"$f":"VLOOKUP(K13,R_Quali!$C$10:$H$100,6,FALSE)","v":{"$error":"#N/A"}},{"$f":"VLOOKUP(K13,'R16_Baum'!$C$3:$D$48,2,FALSE)","v":{"$error":"#N/A"}},{"$f":"VLOOKUP(K13,'R16_Baum'!$G$6:$H$45,2,FALSE)","v":0},{"$f":"VLOOKUP(K13,'R16_Baum'!$K$12:$L$39,2,FALSE)","v":0},{"$f":"VLOOKUP(K13,'R16_Baum'!$O$21:$P$30,2,FALSE)","v":0}]
["",null,null,null,null,null,null,null,null,null,{"$f":"IF('R16_Baum'!$H$6<'R16_Baum'!$H$8,'R16_Baum'!$G$6,IF('R16_Baum'!$H$8<'R16_Baum'!$H$6,'R16_Baum'!$G$8,IF(RIGHT('R16_Baum'!$H$6,1)=\"*\",'R16_Baum'!$G$8,IF(RIGHT('R16_Baum'!$H$8,1)=\"*\",'R16_Baum'!$G$6,\"\"))))","v":""},{"$f":"IF('R16_Baum'!$H$6<'R16_Baum'!$H$8,'R16_Baum'!$G$7,IF('R16_Baum'!$H$8<'R16_Baum'!$H$6,'R16_Baum'!$G$9,IF(RIGHT('R16_Baum'!$H$6,1)=\"*\",'R16_Baum'!$G$9,IF(RIGHT('R16_Baum'!$H$8,1)=\"*\",'R16_Baum'!$G$7,\"\"))))","v":""},{"$f":"VLOOKUP(K14,R_Quali!$C$10:$H$100,6,FALSE)","v":{"$error":"#N/A"}},{"$f":"VLOOKUP(K14,'R16_Baum'!$C$3:$D$48,2,FALSE)","v":{"$error":"#N/A"}},{"$f":"VLOOKUP(K14,'R16_Baum'!$G$6:$H$45,2,FALSE)","v":0}]
["",null,null,null,null,null,null,null,null,null,{"$f":"IF('R16_Baum'!$H$18<'R16_Baum'!$H$20,'R16_Baum'!$G$18,IF('R16_Baum'!$H$20<'R16_Baum'!$H$18,'R16_Baum'!$G$20,IF(RIGHT('R16_Baum'!$H$18,1)=\"*\",'R16_Baum'!$G$20,IF(RIGHT('R16_Baum'!$H$20,1)=\"*\",'R16_Baum'!$G$18,\"\"))))","v":""},{"$f":"IF('R16_Baum'!$H$18<'R16_Baum'!$H$20,'R16_Baum'!$G$19,IF('R16_Baum'!$H$20<'R16_Baum'!$H$18,'R16_Baum'!$G$21,IF(RIGHT('R16_Baum'!$H$18,1)=\"*\",'R16_Baum'!$G$21,IF(RIGHT('R16_Baum'!$H$20,1)=\"*\",'R16_Baum'!$G$19,\"\"))))","v":""},{"$f":"VLOOKUP(K15,R_Quali!$C$10:$H$100,6,FALSE)","v":{"$error":"#N/A"}},{"$f":"VLOOKUP(K15,'R16_Baum'!$C$3:$D$48,2,FALSE)","v":{"$error":"#N/A"}},{"$f":"VLOOKUP(K15,'R16_Baum'!$G$6:$H$45,2,FALSE)","v":0}]
["",null,null,null,null,null,null,null,null,null,{"$f":"IF('R16_Baum'!$H$30<'R16_Baum'!$H$32,'R16_Baum'!$G$30,IF('R16_Baum'!$H$32<'R16_Baum'!$H$30,'R16_Baum'!$G$32,IF(RIGHT('R16_Baum'!$H$30,1)=\"*\",'R16_Baum'!$G$32,IF(RIGHT('R16_Baum'!$H$32,1)=\"*\",'R16_Baum'!$G$30,\"\"))))","v":""},{"$f":"IF('R16_Baum'!$H$30<'R16_Baum'!$H$32,'R16_Baum'!$G$31,IF('R16_Baum'!$H$32<'R16_Baum'!$H$30,'R16_Baum'!$G$33,IF(RIGHT('R16_Baum'!$H$30,1)=\"*\",'R16_Baum'!$G$33,IF(RIGHT('R16_Baum'!$H$32,1)=\"*\",'R16_Baum'!$G$31,\"\"))))","v":""},{"$f":"VLOOKUP(K16,R_Quali!$C$10:$H$100,6,FALSE)","v":{"$error":"#N/A"}},{"$f":"VLOOKUP(K16,'R16_Baum'!$C$3:$D$48,2,FALSE)","v":{"$error":"#N/A"}},{"$f":"VLOOKUP(K16,'R16_Baum'!$G$6:$H$45,2,FALSE)","v":0}]
["",null,null,null,null,null,null,null,null,null,{"$f":"IF('R16_Baum'!$H$42<'R16_Baum'!$H$44,'R16_Baum'!$G$42,IF('R16_Baum'!$H$44<'R16_Baum'!$H$42,'R16_Baum'!$G$44,IF(RIGHT('R16_Baum'!$H$42,1)=\"*\",'R16_Baum'!$G$44,IF(RIGHT('R16_Baum'!$H$44,1)=\"*\",'R16_Baum'!$G$42,\"\"))))","v":""},{"$f":"IF('R16_Baum'!$H$42<'R16_Baum'!$H$44,'R16_Baum'!$G$43,IF('R16_Baum'!$H$44<'R16_Baum'!$H$42,'R16_Baum'!$G$45,IF(RIGHT('R16_Baum'!$H$42,1)=\"*\",'R16_Baum'!$G$45,IF(RIGHT('R16_Baum'!$H$44,1)=\"*\",'R16_Baum'!$G$43,\"\"))))","v":""},{"$f":"VLOOKUP(K17,R_Quali!$C$10:$H$100,6,FALSE)","v":{"$error":"#N/A"}},{"$f":"VLOOKUP(K17,'R16_Baum'!$C$3:$D$48,2,FALSE)","v":{"$error":"#N/A"}},{"$f":"VLOOKUP(K17,'R16_Baum'!$G$6:$H$45,2,FALSE)","v":0}]
["",null,null,null,null,null,null,null,null,null,{"$f":"IF('R16_Baum'!$D$3<'R16_Baum'!$D$5,'R16_Baum'!$C$3,IF('R16_Baum'!$D$5<'R16_Baum'!$D$3,'R16_Baum'!$C$5,IF(RIGHT('R16_Baum'!$D$3,1)=\"*\",'R16_Baum'!$C$5,IF(RIGHT('R16_Baum'!$D$5,1)=\"*\",'R16_Baum'!$C$3,\"\"))))","v":""},{"$f":"IF('R16_Baum'!$D$3<'R16_Baum'!$D$5,'R16_Baum'!$C$4,IF('R16_Baum'!$D$5<'R16_Baum'!$D$3,'R16_Baum'!$C$6,IF(RIGHT('R16_Baum'!$D$3,1)=\"*\",'R16_Baum'!$C$6,IF(RIGHT('R16_Baum'!$D$5,1)=\"*\",'R16_Baum'!$C$4,\"\"))))","v":""},{"$f":"VLOOKUP(K18,R_Quali!$C$10:$H$100,6,FALSE)","v":{"$error":"#N/A"}},{"$f":"VLOOKUP(K18,'R16_Baum'!$C$3:$D$48,2,FALSE)","v":{"$error":"#N/A"}}]
["",null,null,null,null,null,null,null,null,null,{"$f":"IF('R16_Baum'!$D$9<'R16_Baum'!$D$11,'R16_Baum'!$C$9,IF('R16_Baum'!$D$11<'R16_Baum'!$D$9,'R16_Baum'!$C$11,IF(RIGHT('R16_Baum'!$D$9,1)=\"*\",'R16_Baum'!$C$11,IF(RIGHT('R16_Baum'!$D$11,1)=\"*\",'R16_Baum'!$C$9,\"\"))))","v":""},{"$f":"IF('R16_Baum'!$D$9<'R16_Baum'!$D$11,'R16_Baum'!$C$10,IF('R16_Baum'!$D$11<'R16_Baum'!$D$9,'R16_Baum'!$C$12,IF(RIGHT('R16_Baum'!$D$9,1)=\"*\",'R16_Baum'!$C$12,IF(RIGHT('R16_Baum'!$D$11,1)=\"*\",'R16_Baum'!$C$10,\"\"))))","v":""},{"$f":"VLOOKUP(K19,R_Quali!$C$10:$H$100,6,FALSE)","v":{"$error":"#N/A"}},{"$f":"VLOOKUP(K19,'R16_Baum'!$C$3:$D$48,2,FALSE)","v":{"$error":"#N/A"}}]
["",null,null,null,null,null,null,null,null,null,{"$f":"IF('R16_Baum'!$D$15<'R16_Baum'!$D$17,'R16_Baum'!$C$15,IF('R16_Baum'!$D$17<'R16_Baum'!$D$15,'R16_Baum'!$C$17,IF(RIGHT('R16_Baum'!$D$15,1)=\"*\",'R16_Baum'!$C$17,IF(RIGHT('R16_Baum'!$D$17,1)=\"*\",'R16_Baum'!$C$15,\"\"))))","v":""},{"$f":"IF('R16_Baum'!$D$15<'R16_Baum'!$D$17,'R16_Baum'!$C$16,IF('R16_Baum'!$D$17<'R16_Baum'!$D$15,'R16_Baum'!$C$18,IF(RIGHT('R16_Baum'!$D$15,1)=\"*\",'R16_Baum'!$C$18,IF(RIGHT('R16_Baum'!$D$17,1)=\"*\",'R16_Baum'!$C$16,\"\"))))","v":""},{"$f":"VLOOKUP(K20,R_Quali!$C$10:$H$100,6,FALSE)","v":{"$error":"#N/A"}},{"$f":"VLOOKUP(K20,'R16_Baum'!$C$3:$D$48,2,FALSE)","v":{"$error":"#N/A"}}]
["",null,null,null,null,null,null,null,null,null,{"$f":"IF('R16_Baum'!$D$21<'R16_Baum'!$D$23,'R16_Baum'!$C$21,IF('R16_Baum'!$D$23<'R16_Baum'!$D$21,'R16_Baum'!$C$23,IF(RIGHT('R16_Baum'!$D$21,1)=\"*\",'R16_Baum'!$C$23,IF(RIGHT('R16_Baum'!$D$23,1)=\"*\",'R16_Baum'!$C$21,\"\"))))","v":""},{"$f":"IF('R16_Baum'!$D$21<'R16_Baum'!$D$23,'R16_Baum'!$C$22,IF('R16_Baum'!$D$23<'R16_Baum'!$D$21,'R16_Baum'!$C$24,IF(RIGHT('R16_Baum'!$D$21,1)=\"*\",'R16_Baum'!$C$24,IF(RIGHT('R16_Baum'!$D$23,1)=\"*\",'R16_Baum'!$C$22,\"\"))))","v":""},{"$f":"VLOOKUP(K21,R_Quali!$C$10:$H$100,6,FALSE)","v":{"$error":"#N/A"}},{"$f":"VLOOKUP(K21,'R16_Baum'!$C$3:$D$48,2,FALSE)","v":{"$error":"#N/A"}}]
["",null,null,null,null,null,null,null,null,null,{"$f":"IF('R16_Baum'!$D$27<'R16_Baum'!$D$29,'R16_Baum'!$C$27,IF('R16_Baum'!$D$29<'R16_Baum'!$D$27,'R16_Baum'!$C$29,IF(RIGHT('R16_Baum'!$D$27,1)=\"*\",'R16_Baum'!$C$29,IF(RIGHT('R16_Baum'!$D$29,1)=\"*\",'R16_Baum'!$C$27,\"\"))))","v":""},{"$f":"IF('R16_Baum'!$D$27<'R16_Baum'!$D$29,'R16_Baum'!$C$28,IF('R16_Baum'!$D$29<'R16_Baum'!$D$27,'R16_Baum'!$C$30,IF(RIGHT('R16_Baum'!$D$27,1)=\"*\",'R16_Baum'!$C$30,IF(RIGHT('R16_Baum'!$D$29,1)=\"*\",'R16_Baum'!$C$28,\"\"))))","v":""},{"$f":"VLOOKUP(K22,R_Quali!$C$10:$H$100,6,FALSE)","v":{"$error":"#N/A"}},{"$f":"VLOOKUP(K22,'R16_Baum'!$C$3:$D$48,2,FALSE)","v":{"$error":"#N/A"}}]
["",null,null,null,null,null,null,null,null,null,{"$f":"IF('R16_Baum'!$D$33<'R16_Baum'!$D$35,'R16_Baum'!$C$33,IF('R16_Baum'!$D$35<'R16_Baum'!$D$33,'R16_Baum'!$C$35,IF(RIGHT('R16_Baum'!$D$33,1)=\"*\",'R16_Baum'!$C$35,IF(RIGHT('R16_Baum'!$D$35,1)=\"*\",'R16_Baum'!$C$33,\"\"))))","v":""},{"$f":"IF('R16_Baum'!$D$33<'R16_Baum'!$D$35,'R16_Baum'!$C$34,IF('R16_Baum'!$D$35<'R16_Baum'!$D$33,'R16_Baum'!$C$36,IF(RIGHT('R16_Baum'!$D$33,1)=\"*\",'R16_Baum'!$C$36,IF(RIGHT('R16_Baum'!$D$35,1)=\"*\",'R16_Baum'!$C$34,\"\"))))","v":""},{"$f":"VLOOKUP(K23,R_Quali!$C$10:$H$100,6,FALSE)","v":{"$error":"#N/A"}},{"$f":"VLOOKUP(K23,'R16_Baum'!$C$3:$D$48,2,FALSE)","v":{"$error":"#N/A"}}]
["",null,null,null,null,null,null,null,null,null,{"$f":"IF('R16_Baum'!$D$39<'R16_Baum'!$D$41,'R16_Baum'!$C$39,IF('R16_Baum'!$D$41<'R16_Baum'!$D$39,'R16_Baum'!$C$41,IF(RIGHT('R16_Baum'!$D$39,1)=\"*\",'R16_Baum'!$C$41,IF(RIGHT('R16_Baum'!$D$41,1)=\"*\",'R16_Baum'!$C$39,\"\"))))","v":""},{"$f":"IF('R16_Baum'!$D$39<'R16_Baum'!$D$41,'R16_Baum'!$C$40,IF('R16_Baum'!$D$41<'R16_Baum'!$D$39,'R16_Baum'!$C$42,IF(RIGHT('R16_Baum'!$D$39,1)=\"*\",'R16_Baum'!$C$42,IF(RIGHT('R16_Baum'!$D$41,1)=\"*\",'R16_Baum'!$C$40,\"\"))))","v":""},{"$f":"VLOOKUP(K24,R_Quali!$C$10:$H$100,6,FALSE)","v":{"$error":"#N/A"}},{"$f":"VLOOKUP(K24,'R16_Baum'!$C$3:$D$48,2,FALSE)","v":{"$error":"#N/A"}}]
["",null,null,null,null,null,null,null,null,null,{"$f":"IF('R16_Baum'!$D$45<'R16_Baum'!$D$47,'R16_Baum'!$C$45,IF('R16_Baum'!$D$47<'R16_Baum'!$D$45,'R16_Baum'!$C$47,IF(RIGHT('R16_Baum'!$D$45,1)=\"*\",'R16_Baum'!$C$47,IF(RIGHT('R16_Baum'!$D$47,1)=\"*\",'R16_Baum'!$C$45,\"\"))))","v":""},{"$f":"IF('R16_Baum'!$D$45<'R16_Baum'!$D$47,'R16_Baum'!$C$46,IF('R16_Baum'!$D$47<'R16_Baum'!$D$45,'R16_Baum'!$C$48,IF(RIGHT('R16_Baum'!$D$45,1)=\"*\",'R16_Baum'!$C$48,IF(RIGHT('R16_Baum'!$D$47,1)=\"*\",'R16_Baum'!$C$46,\"\"))))","v":""},{"$f":"VLOOKUP(K25,R_Quali!$C$10:$H$100,6,FALSE)","v":{"$error":"#N/A"}},{"$f":"VLOOKUP(K25,'R16_Baum'!$C$3:$D$48,2,FALSE)","v":{"$error":"#N/A"}}]

{"sheet":"R8_Baum","index":15,"n_rows":62,"n_cols":12,"rows_kept":62,"cut":false,"hidden":true,"merged":[[45,10,46,11],[20,9,21,9],[22,9,23,9],[26,9,27,9],[28,9,29,9],[38,10,39,11],[5,1,6,1],[7,1,8,1],[47,2,48,3],[43,1,44,1],[35,5,36,5],[17,1,18,1],[19,1,20,1],[13,5,14,5],[31,1,32,1],[11,5,12,5],[41,1,42,1],[37,5,38,5],[29,1,30,1],[1,6,2,11],[3,6,4,11],[41,6,42,7],[6,10,6,11],[7,10,7,11],[6,9,7,9],[8,9,9,9],[10,10,10,11],[8,10,8,11],[9,10,9,11],[10,9,11,9],[11,10,11,11]]}
[]
[null,null,null,null,null,null,{"$f":"Select!C12","v":"Demoturnier"}]
[]
[null,null,null,null,null,null,{"$f":"Select!C13","v":"1. April 2019"}]
[null,"Schb","Name","Erg."]
[null,{"$f":"D55","v":5},{"$f":"R_Quali!C10","v":"Url Günter"}]
[1,null,{"$f":"R_Quali!D10","v":"BSC-Wolfspfeil Raab-Holzer"},{"$f":"R_Quali!H10","v":532},"Quali.",null,null,null,null,"1.",{"$f":"IF($L$21>$L$23,$K$21,IF($L$23>$L$21,$K$23,IF(RIGHT($L$21,1)=\"*\",$K$21,IF(RIGHT($L$23,1)=\"*\",$K$23,\"\"))))","v":""}]
[8,{"$f":"D56","v":6},{"$f":"R_Quali!C17","v":"Robl Ronald"},null,null,null,null,null,null,null,{"$f":"IF($L$21>$L$23,$K$22,IF($L$23>$L$21,$K$24,IF(RIGHT($L$21,1)=\"*\",$K$22,IF(RIGHT($L$23,1)=\"*\",$K$24,\"\"))))","v":""}]
[null,null,{"$f":"R_Quali!D17","v":"Austrian Free Archer"},{"$f":"R_Quali!H17","v":525},"Quali.",null,null,null,null,"2.",{"$f":"IF($L$21<$L$23,$K$21,IF($L$23<$L$21,$K$23,IF(RIGHT($L$23,1)=\"*\",$K$21,IF(RIGHT($L$21,1)=\"*\",$K$23,\"\"))))","v":""}]
[null,null,null,null,null,null,null,null,null,null,{"$f":"IF($L$21<$L$23,$K$22,IF($L$23<$L$21,$K$24,IF(RIGHT($L$23,1)=\"*\",$K$22,IF(RIGHT($L$21,1)=\"*\",$K$24,\"\"))))","v":""}]
[null,null,null,null,null,"Schb","Name","Erg.",null,"3.",{"$f":"IF($L$27>$L$29,$K$27,IF($L$29>$L$27,$K$29,IF(RIGHT($L$27,1)=\"*\",$K$27,IF(RIGHT($L$29,1)=\"*\",$K$29,\"\"))))","v":""}]
[null,null,null,null,null,{"$f":"H55","v":5},{"$f":"IF($D6>$D8,$C6,IF($D8>$D6,$C8,IF(RIGHT($D6,1)=\"*\",$C6,IF(RIGHT($D8,1)=\"*\",$C8,\"\"))))","v":""},null,null,null,{"$f":"IF($L$27>$L$29,$K$28,IF($L$29>$L$27,$K$30,IF(RIGHT($L$27,1)=\"*\",$K$28,IF(RIGHT($L$29,1)=\"*\",$K$30,\"\"))))","v":""}]
[null,null,null,null,null,null,{"$f":"IF($D6>$D8,$C7,IF($D8>$D6,$C9,IF(RIGHT($D6,1)=\"*\",$C7,IF(RIGHT($D8,1)=\"*\",$C9,\"\"))))","v":""}]
[null,null,null,null,null,{"$f":"H56","v":6},{"$f":"IF($D18>$D20,$C18,IF($D20>$D18,$C20,IF(RIGHT($D18,1)=\"*\",$C18,IF(RIGHT($D20,1)=\"*\",$C20,\"\"))))","v":""}]
[null,null,null,null,null,null,{"$f":"IF($D18>$D20,$C19,IF($D20>$D18,$C21,IF(RIGHT($D18,1)=\"*\",$C19,IF(RIGHT($D20,1)=\"*\",$C21,\"\"))))","v":""}]
[]
[]
[null,{"$f":"D57","v":7},{"$f":"R_Quali!C14","v":"Höllwirth Andreas"},null,null,null,null,null,null,null,""]
[5,null,{"$f":"R_Quali!D14","v":"ASKÖ-Luftenberg"},{"$f":"R_Quali!H14","v":528},"Quali.",null,null,null,null,null,""]
[4,{"$f":"D58","v":8},{"$f":"R_Quali!C13","v":"Krempl Werner"},null,null,null,null,null,null,"Schb","Name","Erg."]
[null,null,{"$f":"R_Quali!D13","v":"BSC Semriach"},{"$f":"R_Quali!H13","v":529},"Quali.",null,null,null,null,{"$f":"L55","v":5},{"$f":"IF($H12>$H14,$G12,IF($H14>$H12,$G14,IF(RIGHT($H12,1)=\"*\",$G12,IF(RIGHT($H14,1)=\"*\",$G14,\"\"))))","v":""}]
[null,null,null,null,null,null,null,"Finale",null,null,{"$f":"IF($H12>$H14,$G13,IF($H14>$H12,$G15,IF(RIGHT($H12,1)=\"*\",$G13,IF(RIGHT($H14,1)=\"*\",$G15,\"\"))))","v":""}]
[null,null,null,null,null,null,null,"1. und 2. Platz",null,{"$f":"L56","v":6},{"$f":"IF($H36>$H38,$G36,IF($H38>$H36,$G38,IF(RIGHT($H36,1)=\"*\",$G36,IF(RIGHT($H38,1)=\"*\",$G38,\"\"))))","v":""}]
[null,null,null,null,null,null,null,null,null,null,{"$f":"IF($H36>$H38,$G37,IF($H38>$H36,$G39,IF(RIGHT($H36,1)=\"*\",$G37,IF(RIGHT($H38,1)=\"*\",$G39,\"\"))))","v":""}]
[]
[]
[null,null,null,null,null,null,null,null,null,{"$f":"L57","v":5},{"$f":"IF($H12<$H14,$G12,IF($H14<$H12,$G14,IF(RIGHT($H12,1)=\"*\",$G14,IF(RIGHT($H14,1)=\"*\",$G12,\"\"))))","v":""}]
[null,null,null,null,null,null,null,"Finale",null,null,{"$f":"IF($H12<$H14,$G13,IF($H14<$H12,$G15,IF(RIGHT($H12,1)=\"*\",$G12,IF(RIGHT($H14,1)=\"*\",$G14,\"\"))))","v":""}]
[null,null,null,null,null,null,null,"3. und 4. Platz",null,{"$f":"L58","v":6},{"$f":"IF($H36<$H38,$G36,IF($H38<$H36,$G38,IF(RIGHT($H36,1)=\"*\",$G38,IF(RIGHT($H38,1)=\"*\",$G36,\"\"))))","v":""}]
[null,{"$f":"D59","v":9},{"$f":"R_Quali!C12","v":"Strohmaier Joachim"},null,null,null,null,null,null,null,{"$f":"IF($H36<$H38,$G37,IF($H38<$H36,$G39,IF(RIGHT($H36,1)=\"*\",$G39,IF(RIGHT($H38,1)=\"*\",$G37,\"\"))))","v":""}]
[3,null,{"$f":"R_Quali!D12","v":"BSC Kumberg"},{"$f":"R_Quali!H12","v":530},"Quali."]
[6,{"$f":"D60","v":10},{"$f":"R_Quali!C15","v":"Parschisek Alexander"}]
[null,null,{"$f":"R_Quali!D15","v":"BC-Oberschützen"},{"$f":"R_Quali!H15","v":527},"Quali."]
[]
[]
[null,null,null,null,null,{"$f":"H57","v":7},{"$f":"IF($D30>$D32,$C30,IF($D32>$D30,$C32,IF(RIGHT($D30,1)=\"*\",$C30,IF(RIGHT($D32,1)=\"*\",$C32,\"\"))))","v":""}]
[null,null,null,null,null,null,{"$f":"IF($D30>$D32,$C31,IF($D32>$D30,$C33,IF(RIGHT($D30,1)=\"*\",$C31,IF(RIGHT($D32,1)=\"*\",$C33,\"\"))))","v":""}]
[null,null,null,null,null,{"$f":"H58","v":8},{"$f":"IF($D42>$D44,$C42,IF($D44>$D42,$C44,IF(RIGHT($D42,1)=\"*\",$C42,IF(RIGHT($D44,1)=\"*\",$C44,\"\"))))","v":""}]
[null,null,null,null,null,null,{"$f":"IF($D42>$D44,$C43,IF($D44>$D42,$C45,IF(RIGHT($D42,1)=\"*\",$C43,IF(RIGHT($D44,1)=\"*\",$C45,\"\"))))","v":""},null,null,null,"Finale"]
[]
[]
[null,{"$f":"D61","v":11},{"$f":"R_Quali!C16","v":"Bucher Martin"},null,null,null,"1/2 Finale"]
[7,null,{"$f":"R_Quali!D16","v":"LH Graz"},{"$f":"R_Quali!H16","v":526},"Quali."]
[2,{"$f":"D62","v":12},{"$f":"R_Quali!C11","v":"Berger Hermann"}]
[null,null,{"$f":"R_Quali!D11","v":"BSV Glemmerhof"},{"$f":"R_Quali!H11","v":531},"Quali."]
[null,null,null,null,null,null,null,null,null,null,{"$f":"Select!C18","v":"Recurve Herren"}]
[]
[null,null,"1/4 Finale"]
[]
[]
[]
[]
[]
[null,null,"Scheibe:"]
[null,1,{"$f":"CONCATENATE($C$54,\" \",D55)","v":"Scheibe: 5"},5,null,1,{"$f":"CONCATENATE($C$54,\" \",H55)","v":"Scheibe: 5"},5,null,1,{"$f":"CONCATENATE($C$54,\" \",L55)","v":"Scheibe: 5"},5]
[null,null,"Scheibe: 6",{"$f":"IF(RIGHT(D55,1)=\"A\",CONCATENATE(LEFT(D55,LEN(D55)-1),\"B\"),D55+1)","v":6},null,null,{"$f":"CONCATENATE($C$54,\" \",H56)","v":"Scheibe: 6"},{"$f":"IF(RIGHT(H55,1)=\"A\",CONCATENATE(LEFT(H55,LEN(H55)-1),\"B\"),H55+1)","v":6},null,null,{"$f":"CONCATENATE($C$54,\" \",L56)","v":"Scheibe: 6"},{"$f":"IF(RIGHT(L55,1)=\"A\",CONCATENATE(LEFT(L55,LEN(L55)-1),\"B\"),L55+1)","v":6}]
[null,{"$f":"B55+1","v":2},"Scheibe: 7",{"$f":"IF(RIGHT(D56,1)=\"B\",CONCATENATE(LEFT(D56,LEN(D56)-1)+1,\"A\"),D56+1)","v":7},null,{"$f":"F55+1","v":2},{"$f":"CONCATENATE($C$54,\" \",H57)","v":"Scheibe: 7"},{"$f":"IF(RIGHT(H56,1)=\"B\",CONCATENATE(LEFT(H56,LEN(H56)-1)+1,\"A\"),H56+1)","v":7},null,{"$f":"J55+1","v":2},{"$f":"CONCATENATE($C$54,\" \",L57)","v":"Scheibe: 5"},5]
[null,null,"Scheibe: 8",{"$f":"IF(RIGHT(D57,1)=\"A\",CONCATENATE(LEFT(D57,LEN(D57)-1),\"B\"),D57+1)","v":8},null,null,{"$f":"CONCATENATE($C$54,\" \",H58)","v":"Scheibe: 8"},{"$f":"IF(RIGHT(H57,1)=\"A\",CONCATENATE(LEFT(H57,LEN(H57)-1),\"B\"),H57+1)","v":8},null,null,{"$f":"CONCATENATE($C$54,\" \",L58)","v":"Scheibe: 6"},{"$f":"IF(RIGHT(L57,1)=\"A\",CONCATENATE(LEFT(L57,LEN(L57)-1),\"B\"),L57+1)","v":6}]
[null,{"$f":"B57+1","v":3},"Scheibe: 9",{"$f":"IF(RIGHT(D58,1)=\"B\",CONCATENATE(LEFT(D58,LEN(D58)-1)+1,\"A\"),D58+1)","v":9}]
[null,null,"Scheibe: 10",{"$f":"IF(RIGHT(D59,1)=\"A\",CONCATENATE(LEFT(D59,LEN(D59)-1),\"B\"),D59+1)","v":10}]
[null,{"$f":"B59+1","v":4},"Scheibe: 11",{"$f":"IF(RIGHT(D60,1)=\"B\",CONCATENATE(LEFT(D60,LEN(D60)-1)+1,\"A\"),D60+1)","v":11}]
[null,null,"Scheibe: 12",{"$f":"IF(RIGHT(D61,1)=\"A\",CONCATENATE(LEFT(D61,LEN(D61)-1),\"B\"),D61+1)","v":12}]

{"sheet":"R8","index":16,"n_rows":287,"n_cols":25,"rows_kept":287,"cut":false,"hidden":true,"merged":[[4,0,4,1],[20,15,20,16],[20,24,20,25],[6,18,6,25],[8,9,8,16],[8,18,8,25],[13,23,13,24],[24,0,24,7],[19,18,19,21],[19,22,19,25],[20,6,20,7],[19,0,19,3],[19,4,19,7],[19,9,19,12],[19,13,19,16],[1,9,1,12],[1,13,1,16],[6,9,6,16],[12,14,12,15],[13,14,13,15],[1,18,1,21],[1,22,1,25],[2,15,2,16],[12,23,12,24],[2,24,2,25],[26,0,26,7],[30,23,30,24],[31,23,31,24],[24,9,24,16],[24,18,24,25],[30,5,30,6],[31,5,31,6],[30,14,30,15],[31,14,31,15],[26,9,26,16],[26,18,26,25],[37,9,37,12],[37,13,37,16],[37,18,37,21],[37,22,37,25],[38,15,38,16],[38,24,38,25],[42,9,42,16],[42,18,42,25],[44,9,44,16],[44,18,44,25],[48,14,48,15],[48,23,48,24],[60,18,60,25],[49,14,49,15],[49,23,49,24],[55,0,55,3],[55,4,55,7],[55,9,55,12],[55,13,55,16],[55,18,55,21],[55,22,55,25],[62,9,62,16],[62,18,62,25],[66,5,66,6],[66,14,66,15],[66,23,66,24],[56,6,56,7],[56,15,56,16],[56,24,56,25],[60,0,60,7],[60,9,60,16],[80,18,80,25],[67,5,67,6],[67,14,67,15],[67,23,67,24],[73,9,73,12],[73,13,73,16],[73,18,73,21],[73,22,73,25],[91,4,91,7],[91,9,91,12],[91,13,91,16],[91,18,91,21],[91,22,91,25],[74,15,74,16],[74,24,74,25],[78,9,78,16],[78,18,78,25],[80,9,80,16],[96,9,96,16],[96,18,96,25],[84,14,84,15],[84,23,84,24],[85,14,85,15],[85,23,85,24],[98,9,98,16],[98,18,98,25],[102,5,102,6],[102,14,102,15],[102,23,102,24],[85,0,85,7],[86,0,86,1],[92,6,92,7],[92,15,92,16],[92,24,92,25],[103,14,103,15],[103,23,103,24],[109,9,109,12],[109,13,109,16],[109,18,109,21],[109,22,109,25],[110,15,110,16],[110,24,110,25],[114,9,114,16],[114,18,114,25],[128,15,128,16],[128,24,128,25],[132,0,132,7],[132,9,132,16],[132,18,132,25],[134,0,134,7],[134,9,134,16],[134,18,134,25],[116,9,116,16],[116,18,116,25],[120,14,120,15],[120,23,120,24],[121,14,121,15],[121,23,121,24],[127,0,127,3],[127,4,127,7],[127,9,127,12],[127,13,127,16],[127,18,127,21],[127,22,127,25],[121,0,121,7],[122,0,122,1],[117,0,117,7],[119,0,119,7],[146,15,146,16],[146,24,146,25],[150,9,150,16],[150,18,150,25],[152,9,152,16],[138,5,138,6],[138,14,138,15],[138,23,138,24],[152,18,152,25],[139,5,139,6],[139,14,139,15],[139,23,139,24],[145,9,145,12],[145,13,145,16],[145,18,145,21],[145,22,145,25],[168,9,168,16],[168,18,168,25],[156,14,156,15],[156,23,156,24],[157,14,157,15],[157,23,157,24],[170,9,170,16],[170,18,170,25],[174,5,174,6],[174,14,174,15],[174,23,174,24],[157,0,157,7],[158,0,158,1],[164,6,164,7],[164,15,164,16],[164,24,164,25],[163,4,163,7],[163,9,163,12],[163,13,163,16],[163,18,163,21],[163,22,163,25],[175,14,175,15],[175,23,175,24],[181,9,181,12],[181,13,181,16],[181,18,181,21],[181,22,181,25],[182,15,182,16],[182,24,182,25],[186,9,186,16],[186,18,186,25],[200,15,200,16],[200,24,200,25],[204,0,204,7],[204,9,204,16],[204,18,204,25],[206,0,206,7],[206,9,206,16],[206,18,206,25],[188,9,188,16],[188,18,188,25],[192,14,192,15],[192,23,192,24],[193,14,193,15],[193,23,193,24],[199,0,199,3],[199,4,199,7],[199,9,199,12],[199,13,199,16],[199,18,199,21],[199,22,199,25],[193,0,193,7],[194,0,194,1],[210,14,210,15],[210,23,210,24],[211,5,211,6],[211,14,211,15],[211,23,211,24],[217,9,217,12],[217,13,217,16],[217,18,217,21],[217,22,217,25],[218,15,218,16],[218,24,218,25],[222,9,222,16],[222,18,222,25],[224,9,224,16],[224,18,224,25],[228,14,228,15],[228,23,228,24],[229,14,229,15],[229,23,229,24],[235,9,235,12],[235,13,235,16],[235,18,235,21],[235,22,235,25],[229,0,229,7],[230,0,230,1],[236,6,236,7],[236,15,236,16],[236,24,236,25],[240,9,240,16],[240,18,240,25],[242,9,242,16],[242,18,242,25],[246,5,246,6],[246,14,246,15],[246,23,246,24],[247,14,247,15],[247,23,247,24],[247,5,247,6],[242,0,242,7],[253,9,253,12],[253,13,253,16],[253,18,253,21],[253,22,253,25],[254,15,254,16],[254,24,254,25],[258,9,258,16],[258,18,258,25],[260,9,260,16],[260,18,260,25],[264,14,264,15],[264,23,264,24],[265,14,265,15],[265,23,265,24],[271,0,271,3],[271,4,271,7],[271,9,271,12],[271,13,271,16],[271,18,271,21],[271,22,271,25],[272,6,272,7],[272,15,272,16],[272,24,272,25],[276,0,276,7],[276,9,276,16],[276,18,276,25],[278,0,278,7],[278,9,278,16],[278,18,278,25],[282,5,282,6],[282,14,282,15],[282,23,282,24],[283,5,283,6],[283,14,283,15],[283,23,283,24],[3,0,3,7],[5,0,5,7],[9,0,9,7],[11,0,11,7],[13,0,13,7],[39,0,39,7],[41,0,41,7],[45,0,45,7],[47,0,47,7],[49,0,49,7],[50,0,50,1],[75,0,75,7],[77,0,77,7],[62,0,62,7],[81,0,81,7],[83,0,83,7],[111,0,111,7],[113,0,113,7],[263,0,263,7],[265,0,265,7],[266,0,266,1],[185,0,185,7],[175,5,175,6],[170,0,170,7],[168,0,168,7],[163,0,163,3],[189,0,189,7],[191,0,191,7],[256,0,256,1],[257,0,257,7],[183,0,183,7],[240,0,240,7],[235,0,235,3],[235,4,235,7],[210,5,210,6],[200,6,200,7],[40,0,40,1],[76,0,76,1],[112,0,112,1],[148,0,148,1],[184,0,184,1],[255,0,255,7],[261,0,261,7],[219,0,219,7],[221,0,221,7],[225,0,225,7],[227,0,227,7],[220,0,220,1],[103,5,103,6],[98,0,98,7],[96,0,96,7],[91,0,91,3],[147,0,147,7],[149,0,149,7],[153,0,153,7],[155,0,155,7],[128,6,128,7]]}
[]
[null,null,null,null,null,null,null,null,null,"1/16 Elimination",null,null,null,null,null,null,null,null,"1/8 Elimination"]
[null,null,null,null,null,null,null,null,null,null,1,2,3,"Summe","Punkte","Ges.",null,null,null,1,2,3,"Summe","Punkte","Ges."]
[{"$f":"Select!$C$12","v":"Demoturnier"},null,null,null,null,null,null,null,null,"Satz 1",null,null,null,null,null,null,null,null,"Satz 1"]
["Veranstaltung",null,null,null,null,null,null,null,null,"Satz 2",null,null,null,null,null,null,null,null,"Satz 2"]
[{"$f":"Select!$C$13","v":"1. April 2019"},null,null,null,null,null,null,null,null,"Satz 3",null,null,null,null,null,null,null,null,"Satz 3"]
["Datum",null,null,null,null,null,null,null,null,"wenn erforderlich",null,null,null,null,null,null,null,null,"wenn erforderlich"]
[null,null,null,null,null,null,null,null,null,"Satz 4",null,null,null,null,null,null,null,null,"Satz 4"]
[null,null,null,null,null,null,null,null,null,"wenn erforderlich",null,null,null,null,null,null,null,null,"wenn erforderlich"]
[{"$f":"'R8_Baum'!$C$6","v":"Url Günter"},null,null,null,null,null,null,null,null,"Satz 5",null,null,null,null,null,null,null,null,"Satz 5"]
["Name",null,null,null,null,null,null,null,null,"wenn erforderlich",null,null,null,null,null,null,null,null,"wenn erforderlich"]
[{"$f":"'R8_Baum'!$C$7","v":"BSC-Wolfspfeil Raab-Holzer"},null,null,null,null,null,null,null,null,"Stechen",null,null,null,null,null,null,null,null,"Stechen"]
["Verein",null,null,null,null,null,null,null,null,null,null,null,null,null,"gewonnen",null,null,null,null,null,null,null,null,"gewonnen"]
[{"$f":"Select!$C$18","v":"Recurve Herren"},null,null,null,null,null,null,null,null,"Schütze:",null,null,null,null,"verloren",null,null,null,"Schütze:",null,null,null,null,"verloren"]
["Bogenklasse"]
[null,null,null,null,null,null,null,null,null,"Gegner:",null,"Name:",null,null,null,null,null,null,"Gegner:",null,"Name:"]
[null,null,null,null,null,null,null,null,null,null,null,"Unterschrift:",null,null,null,null,null,null,null,null,"Unterschrift:"]
[]
[]
["1/4 Finale",null,null,null,{"$f":"'R8_Baum'!$C$55","v":"Scheibe: 5"},null,null,null,null,"1/2 Finale",null,null,null,{"$f":"'R8_Baum'!$G$55","v":"Scheibe: 5"},null,null,null,null,"1./2. od. 3./4. Platz",null,null,null,"Scheibe:"]
[null,1,2,3,"Summe","Punkte","Ges.",null,null,null,1,2,3,"Summe","Punkte","Ges.",null,null,null,1,2,3,"Summe","Punkte","Ges."]
["Satz 1",null,null,null,null,null,null,null,null,"Satz 1",null,null,null,null,null,null,null,null,"Satz 1"]
["Satz 2",null,null,null,null,null,null,null,null,"Satz 2",null,null,null,null,null,null,null,null,"Satz 2"]
["Satz 3",null,null,null,null,null,null,null,null,"Satz 3",null,null,null,null,null,null,null,null,"Satz 3"]
["wenn erforderlich",null,null,null,null,null,null,null,null,"wenn erforderlich",null,null,null,null,null,null,null,null,"wenn erforderlich"]
["Satz 4",null,null,null,null,null,null,null,null,"Satz 4",null,null,null,null,null,null,null,null,"Satz 4"]
["wenn erforderlich",null,null,null,null,null,null,null,null,"wenn erforderlich",null,null,null,null,null,null,null,null,"wenn erforderlich"]
["Satz 5",null,null,null,null,null,null,null,null,"Satz 5",null,null,null,null,null,null,null,null,"Satz 5"]
["wenn erforderlich",null,null,null,null,null,null,null,null,"wenn erforderlich",null,null,null,null,null,null,null,null,"wenn erforderlich"]
["Stechen",null,null,null,null,null,null,null,null,"Stechen",null,null,null,null,null,null,null,null,"Stechen"]
[null,null,null,null,null,"gewonnen",null,null,null,null,null,null,null,null,"gewonnen",null,null,null,null,null,null,null,null,"gewonnen"]
["Schütze:",null,null,null,null,"verloren",null,null,null,"Schütze:",null,null,null,null,"verloren",null,null,null,"Schütze:",null,null,null,null,"verloren"]
[]
["Gegner:",null,"Name:",{"$f":"'R8_Baum'!C8","v":"Robl Ronald"},null,null,null,null,null,"Gegner:",null,"Name:",null,null,null,null,null,null,"Gegner:",null,"Name:"]
[null,null,"Unterschrift:",null,null,null,null,null,null,null,null,"Unterschrift:",null,null,null,null,null,null,null,null,"Unterschrift:"]
[]
[]
[null,null,null,null,null,null,null,null,null,"1/16 Elimination",null,null,null,null,null,null,null,null,"1/8 Elimination"]
[null,null,null,null,null,null,null,null,null,null,1,2,3,"Summe","Punkte","Ges.",null,null,null,1,2,3,"Summe","Punkte","Ges."]
[{"$f":"Select!$C$12","v":"Demoturnier"},null,null,null,null,null,null,null,null,"Satz 1",null,null,null,null,null,null,null,null,"Satz 1"]
["Veranstaltung",null,null,null,null,null,null,null,null,"Satz 2",null,null,null,null,null,null,null,null,"Satz 2"]
[{"$f":"Select!$C$13","v":"1. April 2019"},null,null,null,null,null,null,null,null,"Satz 3",null,null,null,null,null,null,null,null,"Satz 3"]
["Datum",null,null,null,null,null,null,null,null,"wenn erforderlich",null,null,null,null,null,null,null,null,"wenn erforderlich"]
[null,null,null,null,null,null,null,null,null,"Satz 4",null,null,null,null,null,null,null,null,"Satz 4"]
[null,null,null,null,null,null,null,null,null,"wenn erforderlich",null,null,null,null,null,null,null,null,"wenn erforderlich"]
[{"$f":"'R8_Baum'!$C$8","v":"Robl Ronald"},null,null,null,null,null,null,null,null,"Satz 5",null,null,null,null,null,null,null,null,"Satz 5"]
["Name",null,null,null,null,null,null,null,null,"wenn erforderlich",null,null,null,null,null,null,null,null,"wenn erforderlich"]
[{"$f":"'R8_Baum'!$C$9","v":"Austrian Free Archer"},null,null,null,null,null,null,null,null,"Stechen",null,null,null,null,null,null,null,null,"Stechen"]
["Verein",null,null,null,null,null,null,null,null,null,null,null,null,null,"gewonnen",null,null,null,null,null,null,null,null,"gewonnen"]
[{"$f":"Select!$C$18","v":"Recurve Herren"},null,null,null,null,null,null,null,null,"Schütze:",null,null,null,null,"verloren",null,null,null,"Schütze:",null,null,null,null,"verloren"]
["Bogenklasse"]
[null,null,null,null,null,null,null,null,null,"Gegner:",null,"Name:",null,null,null,null,null,null,"Gegner:",null,"Name:"]
[null,null,null,null,null,null,null,null,null,null,null,"Unterschrift:",null,null,null,null,null,null,null,null,"Unterschrift:"]
[]
[]
["1/4 Finale",null,null,null,{"$f":"'R8_Baum'!$C$56","v":"Scheibe: 6"},null,null,null,null,"1/2 Finale",null,null,null,{"$f":"'R8_Baum'!$G$55","v":"Scheibe: 5"},null,null,null,null,"1./2. od. 3./4. Platz",null,null,null,"Scheibe:"]
[null,1,2,3,"Summe","Punkte","Ges.",null,null,null,1,2,3,"Summe","Punkte","Ges.",null,null,null,1,2,3,"Summe","Punkte","Ges."]
["Satz 1",null,null,null,null,null,null,null,null,"Satz 1",null,null,null,null,null,null,null,null,"Satz 1"]
["Satz 2",null,null,null,null,null,null,null,null,"Satz 2",null,null,null,null,null,null,null,null,"Satz 2"]
["Satz 3",null,null,null,null,null,null,null,null,"Satz 3",null,null,null,null,null,null,null,null,"Satz 3"]
["wenn erforderlich",null,null,null,null,null,null,null,null,"wenn erforderlich",null,null,null,null,null,null,null,null,"wenn erforderlich"]
["Satz 4",null,null,null,null,null,null,null,null,"Satz 4",null,null,null,null,null,null,null,null,"Satz 4"]
["wenn erforderlich",null,null,null,null,null,null,null,null,"wenn erforderlich",null,null,null,null,null,null,null,null,"wenn erforderlich"]
["Satz 5",null,null,null,null,null,null,null,null,"Satz 5",null,null,null,null,null,null,null,null,"Satz 5"]
["wenn erforderlich",null,null,null,null,null,null,null,null,"wenn erforderlich",null,null,null,null,null,null,null,null,"wenn erforderlich"]
["Stechen",null,null,null,null,null,null,null,null,"Stechen",null,null,null,null,null,null,null,null,"Stechen"]
[null,null,null,null,null,"gewonnen",null,null,null,null,null,null,null,null,"gewonnen",null,null,null,null,null,null,null,null,"gewonnen"]
["Schütze:",null,null,null,null,"verloren",null,null,null,"Schütze:",null,null,null,null,"verloren",null,null,null,"Schütze:",null,null,null,null,"verloren"]
[]
["Gegner:",null,"Name:",{"$f":"'R8_Baum'!C6","v":"Url Günter"},null,null,null,null,null,"Gegner:",null,"Name:",null,null,null,null,null,null,"Gegner:",null,"Name:"]
[null,null,"Unterschrift:",null,null,null,null,null,null,null,null,"Unterschrift:",null,null,null,null,null,null,null,null,"Unterschrift:"]
[]
[]
[null,null,null,null,null,null,null,null,null,"1/16 Elimination",null,null,null,null,null,null,null,null,"1/8 Elimination"]
[null,null,null,null,null,null,null,null,null,null,1,2,3,"Summe","Punkte","Ges.",null,null,null,1,2,3,"Summe","Punkte","Ges."]
[{"$f":"Select!$C$12","v":"Demoturnier"},null,null,null,null,null,null,null,null,"Satz 1",null,null,null,null,null,null,null,null,"Satz 1"]
["Veranstaltung",null,null,null,null,null,null,null,null,"Satz 2",null,null,null,null,null,null,null,null,"Satz 2"]
[{"$f":"Select!$C$13","v":"1. April 2019"},null,null,null,null,null,null,null,null,"Satz 3",null,null,null,null,null,null,null,null,"Satz 3"]
["Datum",null,null,null,null,null,null,null,null,"wenn erforderlich",null,null,null,null,null,null,null,null,"wenn erforderlich"]
[null,null,null,null,null,null,null,null,null,"Satz 4",null,null,null,null,null,null,null,null,"Satz 4"]
[null,null,null,null,null,null,null,null,null,"wenn erforderlich",null,null,null,null,null,null,null,null,"wenn erforderlich"]
[{"$f":"'R8_Baum'!$C$18","v":"Höllwirth Andreas"},null,null,null,null,null,null,null,null,"Satz 5",null,null,null,null,null,null,null,null,"Satz 5"]
["Name",null,null,null,null,null,null,null,null,"wenn erforderlich",null,null,null,null,null,null,null,null,"wenn erforderlich"]
[{"$f":"'R8_Baum'!$C$19","v":"ASKÖ-Luftenberg"},null,null,null,null,null,null,null,null,"Stechen",null,null,null,null,null,null,null,null,"Stechen"]
["Verein",null,null,null,null,null,null,null,null,null,null,null,null,null,"gewonnen",null,null,null,null,null,null,null,null,"gewonnen"]
[{"$f":"Select!$C$18","v":"Recurve Herren"},null,null,null,null,null,null,null,null,"Schütze:",null,null,null,null,"verloren",null,null,null,"Schütze:",null,null,null,null,"verloren"]
["Bogenklasse"]
[null,null,null,null,null,null,null,null,null,"Gegner:",null,"Name:",null,null,null,null,null,null,"Gegner:",null,"Name:"]
[null,null,null,null,null,null,null,null,null,null,null,"Unterschrift:",null,null,null,null,null,null,null,null,"Unterschrift:"]
[]
[]
["1/4 Finale",null,null,null,{"$f":"'R8_Baum'!$C$57","v":"Scheibe: 7"},null,null,null,null,"1/2 Finale",null,null,null,{"$f":"'R8_Baum'!$G$56","v":"Scheibe: 6"},null,null,null,null,"1./2. od. 3./4. Platz",null,null,null,"Scheibe:"]
[null,1,2,3,"Summe","Punkte","Ges.",null,null,null,1,2,3,"Summe","Punkte","Ges.",null,null,null,1,2,3,"Summe","Punkte","Ges."]
["Satz 1",null,null,null,null,null,null,null,null,"Satz 1",null,null,null,null,null,null,null,null,"Satz 1"]
["Satz 2",null,null,null,null,null,null,null,null,"Satz 2",null,null,null,null,null,null,null,null,"Satz 2"]
["Satz 3",null,null,null,null,null,null,null,null,"Satz 3",null,null,null,null,null,null,null,null,"Satz 3"]
["wenn erforderlich",null,null,null,null,null,null,null,null,"wenn erforderlich",null,null,null,null,null,null,null,null,"wenn erforderlich"]
["Satz 4",null,null,null,null,null,null,null,null,"Satz 4",null,null,null,null,null,null,null,null,"Satz 4"]
["wenn erforderlich",null,null,null,null,null,null,null,null,"wenn erforderlich",null,null,null,null,null,null,null,null,"wenn erforderlich"]
["Satz 5",null,null,null,null,null,null,null,null,"Satz 5",null,null,null,null,null,null,null,null,"Satz 5"]
["wenn erforderlich",null,null,null,null,null,null,null,null,"wenn erforderlich",null,null,null,null,null,null,null,null,"wenn erforderlich"]
["Stechen",null,null,null,null,null,null,null,null,"Stechen",null,null,null,null,null,null,null,null,"Stechen"]
[null,null,null,null,null,"gewonnen",null,null,null,null,null,null,null,null,"gewonnen",null,null,null,null,null,null,null,null,"gewonnen"]
["Schütze:",null,null,null,null,"verloren",null,null,null,"Schütze:",null,null,null,null,"verloren",null,null,null,"Schütze:",null,null,null,null,"verloren"]
[]
["Gegner:",null,"Name:",{"$f":"'R8_Baum'!C20","v":"Krempl Werner"},null,null,null,null,null,"Gegner:",null,"Name:",null,null,null,null,null,null,"Gegner:",null,"Name:"]
[null,null,"Unterschrift:",null,null,null,null,null,null,null,null,"Unterschrift:",null,null,null,null,null,null,null,null,"Unterschrift:"]
[]
[]
[null,null,null,null,null,null,null,null,null,"1/16 Elimination",null,null,null,null,null,null,null,null,"1/8 Elimination"]
[null,null,null,null,null,null,null,null,null,null,1,2,3,"Summe","Punkte","Ges.",null,null,null,1,2,3,"Summe","Punkte","Ges."]
[{"$f":"Select!$C$12","v":"Demoturnier"},null,null,null,null,null,null,null,null,"Satz 1",null,null,null,null,null,null,null,null,"Satz 1"]
["Veranstaltung",null,null,null,null,null,null,null,null,"Satz 2",null,null,null,null,null,null,null,null,"Satz 2"]
[{"$f":"Select!$C$13","v":"1. April 2019"},null,null,null,null,null,null,null,null,"Satz 3",null,null,null,null,null,null,null,null,"Satz 3"]
["Datum",null,null,null,null,null,null,null,null,"wenn erforderlich",null,null,null,null,null,null,null,null,"wenn erforderlich"]
[null,null,null,null,null,null,null,null,null,"Satz 4",null,null,null,null,null,null,null,null,"Satz 4"]
[null,null,null,null,null,null,null,null,null,"wenn erforderlich",null,null,null,null,null,null,null,null,"wenn erforderlich"]
[{"$f":"'R8_Baum'!$C$20","v":"Krempl Werner"},null,null,null,null,null,null,null,null,"Satz 5",null,null,null,null,null,null,null,null,"Satz 5"]
["Name",null,null,null,null,null,null,null,null,"wenn erforderlich",null,null,null,null,null,null,null,null,"wenn erforderlich"]
[{"$f":"'R8_Baum'!$C$21","v":"BSC Semriach"},null,null,null,null,null,null,null,null,"Stechen",null,null,null,null,null,null,null,null,"Stechen"]
["Verein",null,null,null,null,null,null,null,null,null,null,null,null,null,"gewonnen",null,null,null,null,null,null,null,null,"gewonnen"]
[{"$f":"Select!$C$18","v":"Recurve Herren"},null,null,null,null,null,null,null,null,"Schütze:",null,null,null,null,"verloren",null,null,null,"Schütze:",null,null,null,null,"verloren"]
["Bogenklasse"]
[null,null,null,null,null,null,null,null,null,"Gegner:",null,"Name:",null,null,null,null,null,null,"Gegner:",null,"Name:"]
[null,null,null,null,null,null,null,null,null,null,null,"Unterschrift:",null,null,null,null,null,null,null,null,"Unterschrift:"]
[]
[]
["1/4 Finale",null,null,null,{"$f":"'R8_Baum'!$C$58","v":"Scheibe: 8"},null,null,null,null,"1/2 Finale",null,null,null,{"$f":"'R8_Baum'!$G$56","v":"Scheibe: 6"},null,null,null,null,"1./2. od. 3./4. Platz",null,null,null,"Scheibe:"]
[null,1,2,3,"Summe","Punkte","Ges.",null,null,null,1,2,3,"Summe","Punkte","Ges.",null,null,null,1,2,3,"Summe","Punkte","Ges."]
["Satz 1",null,null,null,null,null,null,null,null,"Satz 1",null,null,null,null,null,null,null,null,"Satz 1"]
["Satz 2",null,null,null,null,null,null,null,null,"Satz 2",null,null,null,null,null,null,null,null,"Satz 2"]
["Satz 3",null,null,null,null,null,null,null,null,"Satz 3",null,null,null,null,null,null,null,null,"Satz 3"]
["wenn erforderlich",null,null,null,null,null,null,null,null,"wenn erforderlich",null,null,null,null,null,null,null,null,"wenn erforderlich"]
["Satz 4",null,null,null,null,null,null,null,null,"Satz 4",null,null,null,null,null,null,null,null,"Satz 4"]
["wenn erforderlich",null,null,null,null,null,null,null,null,"wenn erforderlich",null,null,null,null,null,null,null,null,"wenn erforderlich"]
["Satz 5",null,null,null,null,null,null,null,null,"Satz 5",null,null,null,null,null,null,null,null,"Satz 5"]
["wenn erforderlich",null,null,null,null,null,null,null,null,"wenn erforderlich",null,null,null,null,null,null,null,null,"wenn erforderlich"]
["Stechen",null,null,null,null,null,null,null,null,"Stechen",null,null,null,null,null,null,null,null,"Stechen"]
[null,null,null,null,null,"gewonnen",null,null,null,null,null,null,null,null,"gewonnen",null,null,null,null,null,null,null,null,"gewonnen"]
["Schütze:",null,null,null,null,"verloren",null,null,null,"Schütze:",null,null,null,null,"verloren",null,null,null,"Schütze:",null,null,null,null,"verloren"]
[]
["Gegner:",null,"Name:",{"$f":"'R8_Baum'!C18","v":"Höllwirth Andreas"},null,null,null,null,null,"Gegner:",null,"Name:",null,null,null,null,null,null,"Gegner:",null,"Name:"]
[null,null,"Unterschrift:",null,null,null,null,null,null,null,null,"Unterschrift:",null,null,null,null,null,null,null,null,"Unterschrift:"]
[]
[]
[null,null,null,null,null,null,null,null,null,"1/16 Elimination",null,null,null,null,null,null,null,null,"1/8 Elimination"]
[null,null,null,null,null,null,null,null,null,null,1,2,3,"Summe","Punkte","Ges.",null,null,null,1,2,3,"Summe","Punkte","Ges."]
[{"$f":"Select!$C$12","v":"Demoturnier"},null,null,null,null,null,null,null,null,"Satz 1",null,null,null,null,null,null,null,null,"Satz 1"]
["Veranstaltung",null,null,null,null,null,null,null,null,"Satz 2",null,null,null,null,null,null,null,null,"Satz 2"]
[{"$f":"Select!$C$13","v":"1. April 2019"},null,null,null,null,null,null,null,null,"Satz 3",null,null,null,null,null,null,null,null,"Satz 3"]
["Datum",null,null,null,null,null,null,null,null,"wenn erforderlich",null,null,null,null,null,null,null,null,"wenn erforderlich"]
[null,null,null,null,null,null,null,null,null,"Satz 4",null,null,null,null,null,null,null,null,"Satz 4"]
[null,null,null,null,null,null,null,null,null,"wenn erforderlich",null,null,null,null,null,null,null,null,"wenn erforderlich"]
[{"$f":"'R8_Baum'!$C$30","v":"Strohmaier Joachim"},null,null,null,null,null,null,null,null,"Satz 5",null,null,null,null,null,null,null,null,"Satz 5"]
["Name",null,null,null,null,null,null,null,null,"wenn erforderlich",null,null,null,null,null,null,null,null,"wenn erforderlich"]
[{"$f":"'R8_Baum'!$C$31","v":"BSC Kumberg"},null,null,null,null,null,null,null,null,"Stechen",null,null,null,null,null,null,null,null,"Stechen"]
["Verein",null,null,null,null,null,null,null,null,null,null,null,null,null,"gewonnen",null,null,null,null,null,null,null,null,"gewonnen"]
[{"$f":"Select!$C$18","v":"Recurve Herren"},null,null,null,null,null,null,null,null,"Schütze:",null,null,null,null,"verloren",null,null,null,"Schütze:",null,null,null,null,"verloren"]
["Bogenklasse"]
[null,null,null,null,null,null,null,null,null,"Gegner:",null,"Name:",null,null,null,null,null,null,"Gegner:",null,"Name:"]
[null,null,null,null,null,null,null,null,null,null,null,"Unterschrift:",null,null,null,null,null,null,null,null,"Unterschrift:"]
[]
[]
["1/4 Finale",null,null,null,{"$f":"'R8_Baum'!$C$59","v":"Scheibe: 9"},null,null,null,null,"1/2 Finale",null,null,null,{"$f":"'R8_Baum'!$G$57","v":"Scheibe: 7"},null,null,null,null,"1./2. od. 3./4. Platz",null,null,null,"Scheibe:"]
[null,1,2,3,"Summe","Punkte","Ges.",null,null,null,1,2,3,"Summe","Punkte","Ges.",null,null,null,1,2,3,"Summe","Punkte","Ges."]
["Satz 1",null,null,null,null,null,null,null,null,"Satz 1",null,null,null,null,null,null,null,null,"Satz 1"]
["Satz 2",null,null,null,null,null,null,null,null,"Satz 2",null,null,null,null,null,null,null,null,"Satz 2"]
["Satz 3",null,null,null,null,null,null,null,null,"Satz 3",null,null,null,null,null,null,null,null,"Satz 3"]
["wenn erforderlich",null,null,null,null,null,null,null,null,"wenn erforderlich",null,null,null,null,null,null,null,null,"wenn erforderlich"]
["Satz 4",null,null,null,null,null,null,null,null,"Satz 4",null,null,null,null,null,null,null,null,"Satz 4"]
["wenn erforderlich",null,null,null,null,null,null,null,null,"wenn erforderlich",null,null,null,null,null,null,null,null,"wenn erforderlich"]
["Satz 5",null,null,null,null,null,null,null,null,"Satz 5",null,null,null,null,null,null,null,null,"Satz 5"]
["wenn erforderlich",null,null,null,null,null,null,null,null,"wenn erforderlich",null,null,null,null,null,null,null,null,"wenn erforderlich"]
["Stechen",null,null,null,null,null,null,null,null,"Stechen",null,null,null,null,null,null,null,null,"Stechen"]
[null,null,null,null,null,"gewonnen",null,null,null,null,null,null,null,null,"gewonnen",null,null,null,null,null,null,null,null,"gewonnen"]
["Schütze:",null,null,null,null,"verloren",null,null,null,"Schütze:",null,null,null,null,"verloren",null,null,null,"Schütze:",null,null,null,null,"verloren"]
[]
["Gegner:",null,"Name:",{"$f":"'R8_Baum'!C32","v":"Parschisek Alexander"},null,null,null,null,null,"Gegner:",null,"Name:",null,null,null,null,null,null,"Gegner:",null,"Name:"]
[null,null,"Unterschrift:",null,null,null,null,null,null,null,null,"Unterschrift:",null,null,null,null,null,null,null,null,"Unterschrift:"]
[]
[]
[null,null,null,null,null,null,null,null,null,"1/16 Elimination",null,null,null,null,null,null,null,null,"1/8 Elimination"]
[null,null,null,null,null,null,null,null,null,null,1,2,3,"Summe","Punkte","Ges.",null,null,null,1,2,3,"Summe","Punkte","Ges."]
[{"$f":"Select!$C$12","v":"Demoturnier"},null,null,null,null,null,null,null,null,"Satz 1",null,null,null,null,null,null,null,null,"Satz 1"]
["Veranstaltung",null,null,null,null,null,null,null,null,"Satz 2",null,null,null,null,null,null,null,null,"Satz 2"]
[{"$f":"Select!$C$13","v":"1. April 2019"},null,null,null,null,null,null,null,null,"Satz 3",null,null,null,null,null,null,null,null,"Satz 3"]
["Datum",null,null,null,null,null,null,null,null,"wenn erforderlich",null,null,null,null,null,null,null,null,"wenn erforderlich"]
[null,null,null,null,null,null,null,null,null,"Satz 4",null,null,null,null,null,null,null,null,"Satz 4"]
[null,null,null,null,null,null,null,null,null,"wenn erforderlich",null,null,null,null,null,null,null,null,"wenn erforderlich"]
[{"$f":"'R8_Baum'!$C$32","v":"Parschisek Alexander"},null,null,null,null,null,null,null,null,"Satz 5",null,null,null,null,null,null,null,null,"Satz 5"]
["Name",null,null,null,null,null,null,null,null,"wenn erforderlich",null,null,null,null,null,null,null,null,"wenn erforderlich"]
[{"$f":"'R8_Baum'!$C$33","v":"BC-Oberschützen"},null,null,null,null,null,null,null,null,"Stechen",null,null,null,null,null,null,null,null,"Stechen"]
["Verein",null,null,null,null,null,null,null,null,null,null,null,null,null,"gewonnen",null,null,null,null,null,null,null,null,"gewonnen"]
[{"$f":"Select!$C$18","v":"Recurve Herren"},null,null,null,null,null,null,null,null,"Schütze:",null,null,null,null,"verloren",null,null,null,"Schütze:",null,null,null,null,"verloren"]
["Bogenklasse"]
[null,null,null,null,null,null,null,null,null,"Gegner:",null,"Name:",null,null,null,null,null,null,"Gegner:",null,"Name:"]
[null,null,null,null,null,null,null,null,null,null,null,"Unterschrift:",null,null,null,null,null,null,null,null,"Unterschrift:"]
[]
[]
["1/4 Finale",null,null,null,{"$f":"'R8_Baum'!$C$60","v":"Scheibe: 10"},null,null,null,null,"1/2 Finale",null,null,null,{"$f":"'R8_Baum'!$G$57","v":"Scheibe: 7"},null,null,null,null,"1./2. od. 3./4. Platz",null,null,null,"Scheibe:"]
[null,1,2,3,"Summe","Punkte","Ges.",null,null,null,1,2,3,"Summe","Punkte","Ges.",null,null,null,1,2,3,"Summe","Punkte","Ges."]
["Satz 1",null,null,null,null,null,null,null,null,"Satz 1",null,null,null,null,null,null,null,null,"Satz 1"]
["Satz 2",null,null,null,null,null,null,null,null,"Satz 2",null,null,null,null,null,null,null,null,"Satz 2"]
["Satz 3",null,null,null,null,null,null,null,null,"Satz 3",null,null,null,null,null,null,null,null,"Satz 3"]
["wenn erforderlich",null,null,null,null,null,null,null,null,"wenn erforderlich",null,null,null,null,null,null,null,null,"wenn erforderlich"]
["Satz 4",null,null,null,null,null,null,null,null,"Satz 4",null,null,null,null,null,null,null,null,"Satz 4"]
["wenn erforderlich",null,null,null,null,null,null,null,null,"wenn erforderlich",null,null,null,null,null,null,null,null,"wenn erforderlich"]
["Satz 5",null,null,null,null,null,null,null,null,"Satz 5",null,null,null,null,null,null,null,null,"Satz 5"]
["wenn erforderlich",null,null,null,null,null,null,null,null,"wenn erforderlich",null,null,null,null,null,null,null,null,"wenn erforderlich"]
["Stechen",null,null,null,null,null,null,null,null,"Stechen",null,null,null,null,null,null,null,null,"Stechen"]
[null,null,null,null,null,"gewonnen",null,null,null,null,null,null,null,null,"gewonnen",null,null,null,null,null,null,null,null,"gewonnen"]
["Schütze:",null,null,null,null,"verloren",null,null,null,"Schütze:",null,null,null,null,"verloren",null,null,null,"Schütze:",null,null,null,null,"verloren"]
[]
["Gegner:",null,"Name:",{"$f":"'R8_Baum'!C30","v":"Strohmaier Joachim"},null,null,null,null,null,"Gegner:",null,"Name:",null,null,null,null,null,null,"Gegner:",null,"Name:"]
[null,null,"Unterschrift:",null,null,null,null,null,null,null,null,"Unterschrift:",null,null,null,null,null,null,null,null,"Unterschrift:"]
[]
[]
[null,null,null,null,null,null,null,null,null,"1/16 Elimination",null,null,null,null,null,null,null,null,"1/8 Elimination"]
[null,null,null,null,null,null,null,null,null,null,1,2,3,"Summe","Punkte","Ges.",null,null,null,1,2,3,"Summe","Punkte","Ges."]
[{"$f":"Select!$C$12","v":"Demoturnier"},null,null,null,null,null,null,null,null,"Satz 1",null,null,null,null,null,null,null,null,"Satz 1"]
["Veranstaltung",null,null,null,null,null,null,null,null,"Satz 2",null,null,null,null,null,null,null,null,"Satz 2"]
[{"$f":"Select!$C$13","v":"1. April 2019"},null,null,null,null,null,null,null,null,"Satz 3",null,null,null,null,null,null,null,null,"Satz 3"]
["Datum",null,null,null,null,null,null,null,null,"wenn erforderlich",null,null,null,null,null,null,null,null,"wenn erforderlich"]
[null,null,null,null,null,null,null,null,null,"Satz 4",null,null,null,null,null,null,null,null,"Satz 4"]
[null,null,null,null,null,null,null,null,null,"wenn erforderlich",null,null,null,null,null,null,null,null,"wenn erforderlich"]
[{"$f":"'R8_Baum'!$C$42","v":"Bucher Martin"},null,null,null,null,null,null,null,null,"Satz 5",null,null,null,null,null,null,null,null,"Satz 5"]
["Name",null,null,null,null,null,null,null,null,"wenn erforderlich",null,null,null,null,null,null,null,null,"wenn erforderlich"]
[{"$f":"'R8_Baum'!$C$43","v":"LH Graz"},null,null,null,null,null,null,null,null,"Stechen",null,null,null,null,null,null,null,null,"Stechen"]
["Verein",null,null,null,null,null,null,null,null,null,null,null,null,null,"gewonnen",null,null,null,null,null,null,null,null,"gewonnen"]
[{"$f":"Select!$C$18","v":"Recurve Herren"},null,null,null,null,null,null,null,null,"Schütze:",null,null,null,null,"verloren",null,null,null,"Schütze:",null,null,null,null,"verloren"]
["Bogenklasse"]
[null,null,null,null,null,null,null,null,null,"Gegner:",null,"Name:",null,null,null,null,null,null,"Gegner:",null,"Name:"]
[null,null,null,null,null,null,null,null,null,null,null,"Unterschrift:",null,null,null,null,null,null,null,null,"Unterschrift:"]
[]
[]
["1/4 Finale",null,null,null,{"$f":"'R8_Baum'!$C$61","v":"Scheibe: 11"},null,null,null,null,"1/2 Finale",null,null,null,{"$f":"'R8_Baum'!$G$58","v":"Scheibe: 8"},null,null,null,null,"1./2. od. 3./4. Platz",null,null,null,"Scheibe:"]
[null,1,2,3,"Summe","Punkte","Ges.",null,null,null,1,2,3,"Summe","Punkte","Ges.",null,null,null,1,2,3,"Summe","Punkte","Ges."]
["Satz 1",null,null,null,null,null,null,null,null,"Satz 1",null,null,null,null,null,null,null,null,"Satz 1"]
["Satz 2",null,null,null,null,null,null,null,null,"Satz 2",null,null,null,null,null,null,null,null,"Satz 2"]
["Satz 3",null,null,null,null,null,null,null,null,"Satz 3",null,null,null,null,null,null,null,null,"Satz 3"]
["wenn erforderlich",null,null,null,null,null,null,null,null,"wenn erforderlich",null,null,null,null,null,null,null,null,"wenn erforderlich"]
["Satz 4",null,null,null,null,null,null,null,null,"Satz 4",null,null,null,null,null,null,null,null,"Satz 4"]
["wenn erforderlich",null,null,null,null,null,null,null,null,"wenn erforderlich",null,null,null,null,null,null,null,null,"wenn erforderlich"]
["Satz 5",null,null,null,null,null,null,null,null,"Satz 5",null,null,null,null,null,null,null,null,"Satz 5"]
["wenn erforderlich",null,null,null,null,null,null,null,null,"wenn erforderlich",null,null,null,null,null,null,null,null,"wenn erforderlich"]
["Stechen",null,null,null,null,null,null,null,null,"Stechen",null,null,null,null,null,null,null,null,"Stechen"]
[null,null,null,null,null,"gewonnen",null,null,null,null,null,null,null,null,"gewonnen",null,null,null,null,null,null,null,null,"gewonnen"]
["Schütze:",null,null,null,null,"verloren",null,null,null,"Schütze:",null,null,null,null,"verloren",null,null,null,"Schütze:",null,null,null,null,"verloren"]
[]
["Gegner:",null,"Name:",{"$f":"'R8_Baum'!C44","v":"Berger Hermann"},null,null,null,null,null,"Gegner:",null,"Name:",null,null,null,null,null,null,"Gegner:",null,"Name:"]
[null,null,"Unterschrift:",null,null,null,null,null,null,null,null,"Unterschrift:",null,null,null,null,null,null,null,null,"Unterschrift:"]
[]
[]
[null,null,null,null,null,null,null,null,null,"1/16 Elimination",null,null,null,null,null,null,null,null,"1/8 Elimination"]
[null,null,null,null,null,null,null,null,null,null,1,2,3,"Summe","Punkte","Ges.",null,null,null,1,2,3,"Summe","Punkte","Ges."]
[{"$f":"Select!$C$12","v":"Demoturnier"},null,null,null,null,null,null,null,null,"Satz 1",null,null,null,null,null,null,null,null,"Satz 1"]
["Veranstaltung",null,null,null,null,null,null,null,null,"Satz 2",null,null,null,null,null,null,null,null,"Satz 2"]
[{"$f":"Select!$C$13","v":"1. April 2019"},null,null,null,null,null,null,null,null,"Satz 3",null,null,null,null,null,null,null,null,"Satz 3"]
["Datum",null,null,null,null,null,null,null,null,"wenn erforderlich",null,null,null,null,null,null,null,null,"wenn erforderlich"]
[null,null,null,null,null,null,null,null,null,"Satz 4",null,null,null,null,null,null,null,null,"Satz 4"]
[null,null,null,null,null,null,null,null,null,"wenn erforderlich",null,null,null,null,null,null,null,null,"wenn erforderlich"]
[{"$f":"'R8_Baum'!$C$44","v":"Berger Hermann"},null,null,null,null,null,null,null,null,"Satz 5",null,null,null,null,null,null,null,null,"Satz 5"]
["Name",null,null,null,null,null,null,null,null,"wenn erforderlich",null,null,null,null,null,null,null,null,"wenn erforderlich"]
[{"$f":"'R8_Baum'!$C$45","v":"BSV Glemmerhof"},null,null,null,null,null,null,null,null,"Stechen",null,null,null,null,null,null,null,null,"Stechen"]
["Verein",null,null,null,null,null,null,null,null,null,null,null,null,null,"gewonnen",null,null,null,null,null,null,null,null,"gewonnen"]
[{"$f":"Select!$C$18","v":"Recurve Herren"},null,null,null,null,null,null,null,null,"Schütze:",null,null,null,null,"verloren",null,null,null,"Schütze:",null,null,null,null,"verloren"]
["Bogenklasse"]
[null,null,null,null,null,null,null,null,null,"Gegner:",null,"Name:",null,null,null,null,null,null,"Gegner:",null,"Name:"]
[null,null,null,null,null,null,null,null,null,null,null,"Unterschrift:",null,null,null,null,null,null,null,null,"Unterschrift:"]
[]
[]
["1/4 Finale",null,null,null,{"$f":"'R8_Baum'!$C$62","v":"Scheibe: 12"},null,null,null,null,"1/2 Finale",null,null,null,{"$f":"'R8_Baum'!$G$58","v":"Scheibe: 8"},null,null,null,null,"1./2. od. 3./4. Platz",null,null,null,"Scheibe:"]
[null,1,2,3,"Summe","Punkte","Ges.",null,null,null,1,2,3,"Summe","Punkte","Ges.",null,null,null,1,2,3,"Summe","Punkte","Ges."]
["Satz 1",null,null,null,null,null,null,null,null,"Satz 1",null,null,null,null,null,null,null,null,"Satz 1"]
["Satz 2",null,null,null,null,null,null,null,null,"Satz 2",null,null,null,null,null,null,null,null,"Satz 2"]
["Satz 3",null,null,null,null,null,null,null,null,"Satz 3",null,null,null,null,null,null,null,null,"Satz 3"]
["wenn erforderlich",null,null,null,null,null,null,null,null,"wenn erforderlich",null,null,null,null,null,null,null,null,"wenn erforderlich"]
["Satz 4",null,null,null,null,null,null,null,null,"Satz 4",null,null,null,null,null,null,null,null,"Satz 4"]
["wenn erforderlich",null,null,null,null,null,null,null,null,"wenn erforderlich",null,null,null,null,null,null,null,null,"wenn erforderlich"]
["Satz 5",null,null,null,null,null,null,null,null,"Satz 5",null,null,null,null,null,null,null,null,"Satz 5"]
["wenn erforderlich",null,null,null,null,null,null,null,null,"wenn erforderlich",null,null,null,null,null,null,null,null,"wenn erforderlich"]
["Stechen",null,null,null,null,null,null,null,null,"Stechen",null,null,null,null,null,null,null,null,"Stechen"]
[null,null,null,null,null,"gewonnen",null,null,null,null,null,null,null,null,"gewonnen",null,null,null,null,null,null,null,null,"gewonnen"]
["Schütze:",null,null,null,null,"verloren",null,null,null,"Schütze:",null,null,null,null,"verloren",null,null,null,"Schütze:",null,null,null,null,"verloren"]
[]
["Gegner:",null,"Name:",{"$f":"'R8_Baum'!C42","v":"Bucher Martin"},null,null,null,null,null,"Gegner:",null,"Name:",null,null,null,null,null,null,"Gegner:",null,"Name:"]
[null,null,"Unterschrift:",null,null,null,null,null,null,null,null,"Unterschrift:",null,null,null,null,null,null,null,null,"Unterschrift:"]

{"sheet":"R8_Ergebnis","index":17,"n_rows":17,"n_cols":15,"rows_kept":17,"cut":false,"hidden":true,"merged":[[6,9,6,15],[6,0,6,3],[2,0,2,3],[1,0,1,3],[4,0,4,7],[1,4,1,7]]}
[]
[{"$f":"Select!$C$12","v":"Demoturnier"},null,null,null,{"$f":"Select!C14","v":"WA-Outdoor"}]
[{"$f":"Select!C13","v":"1. April 2019"}]
[]
["Ergebnisliste"]
[]
[{"$f":"Select!C18","v":"Recurve Herren"},null,null,null,null,null,null,null,null,"!!!!!!!!!!!!!!!!!!!!!!!!!!  SORTIERBEREICH - NICHT ENTFERNEN !!!!!!!!!!!!!!!!!!!!!!!!!!"]
[]
["Pl.",null,"Name","Verein","Quali.","1/4","1/2","Finale",null,"SortName","SortVerein","SortQuali","Sort1/4","Sort1/2","SortFinale"]
[{"$f":"IF(C10<>\"\",1,\"\")","v":""},null,null,null,null,null,null,null,null,{"$f":"IF('R8_Baum'!$L$21>'R8_Baum'!$L$23,'R8_Baum'!$K$21,IF('R8_Baum'!$L$23>'R8_Baum'!$L$21,'R8_Baum'!$K$23,IF(RIGHT('R8_Baum'!$L$21,1)=\"*\",'R8_Baum'!$K$21,IF(RIGHT('R8_Baum'!$L$23,1)=\"*\",'R8_Baum'!$K$23,\"\"))))","v":""},{"$f":"IF('R8_Baum'!$L$21>'R8_Baum'!$L$23,'R8_Baum'!$K$22,IF('R8_Baum'!$L$23>'R8_Baum'!$L$21,'R8_Baum'!$K$24,IF(RIGHT('R8_Baum'!$L$21,1)=\"*\",'R8_Baum'!$K$22,IF(RIGHT('R8_Baum'!$L$23,1)=\"*\",'R8_Baum'!$K$24,\"\"))))","v":""},{"$f":"VLOOKUP(J10,R_Quali!$C$10:$H$100,6,FALSE)","v":{"$error":"#N/A"}},{"$f":"VLOOKUP(J10,'R8_Baum'!$C$6:$D$45,2,FALSE)","v":{"$error":"#N/A"}},{"$f":"VLOOKUP(J10,'R8_Baum'!$G$12:$H$39,2,FALSE)","v":0},{"$f":"VLOOKUP(J10,'R8_Baum'!$K$21:$L$30,2,FALSE)","v":0}]
[{"$f":"IF(C11<>\"\",A10+1,\"\")","v":""},null,null,null,null,null,null,null,null,{"$f":"IF('R8_Baum'!$L$21<'R8_Baum'!$L$23,'R8_Baum'!$K$21,IF('R8_Baum'!$L$23<'R8_Baum'!$L$21,'R8_Baum'!$K$23,IF(RIGHT('R8_Baum'!$L$21,1)=\"*\",'R8_Baum'!$K$23,IF(RIGHT('R8_Baum'!$L$23,1)=\"*\",'R8_Baum'!$K$21,\"\"))))","v":""},{"$f":"IF('R8_Baum'!$L$21<'R8_Baum'!$L$23,'R8_Baum'!$K$22,IF('R8_Baum'!$L$23<'R8_Baum'!$L$21,'R8_Baum'!$K$24,IF(RIGHT('R8_Baum'!$L$21,1)=\"*\",'R8_Baum'!$K$24,IF(RIGHT('R8_Baum'!$L$23,1)=\"*\",'R8_Baum'!$K$22,\"\"))))","v":""},{"$f":"VLOOKUP(J11,R_Quali!$C$10:$H$100,6,FALSE)","v":{"$error":"#N/A"}},{"$f":"VLOOKUP(J11,'R8_Baum'!$C$6:$D$45,2,FALSE)","v":{"$error":"#N/A"}},{"$f":"VLOOKUP(J11,'R8_Baum'!$G$12:$H$39,2,FALSE)","v":0},{"$f":"VLOOKUP(J11,'R8_Baum'!$K$21:$L$30,2,FALSE)","v":0}]
["",null,null,null,null,null,null,null,null,{"$f":"IF('R8_Baum'!$L$27>'R8_Baum'!$L$29,'R8_Baum'!$K$27,IF('R8_Baum'!$L$29>'R8_Baum'!$L$27,'R8_Baum'!$K$29,IF(RIGHT('R8_Baum'!$L$27,1)=\"*\",'R8_Baum'!$K$27,IF(RIGHT('R8_Baum'!$L$29,1)=\"*\",'R8_Baum'!$K$29,\"\"))))","v":""},{"$f":"IF('R8_Baum'!$L$27>'R8_Baum'!$L$29,'R8_Baum'!$K$28,IF('R8_Baum'!$L$29>'R8_Baum'!$L$27,'R8_Baum'!$K$30,IF(RIGHT('R8_Baum'!$L$27,1)=\"*\",'R8_Baum'!$K$28,IF(RIGHT('R8_Baum'!$L$29,1)=\"*\",'R8_Baum'!$K$30,\"\"))))","v":""},{"$f":"VLOOKUP(J12,R_Quali!$C$10:$H$100,6,FALSE)","v":{"$error":"#N/A"}},{"$f":"VLOOKUP(J12,'R8_Baum'!$C$6:$D$45,2,FALSE)","v":{"$error":"#N/A"}},{"$f":"VLOOKUP(J12,'R8_Baum'!$G$12:$H$39,2,FALSE)","v":0},{"$f":"VLOOKUP(J12,'R8_Baum'!$K$21:$L$30,2,FALSE)","v":0}]
["",null,null,null,null,null,null,null,null,{"$f":"IF('R8_Baum'!$L$27<'R8_Baum'!$L$29,'R8_Baum'!$K$27,IF('R8_Baum'!$L$29<'R8_Baum'!$L$27,'R8_Baum'!$K$29,IF(RIGHT('R8_Baum'!$L$27,1)=\"*\",'R8_Baum'!$K$29,IF(RIGHT('R8_Baum'!$L$29,1)=\"*\",'R8_Baum'!$K$27,\"\"))))","v":""},{"$f":"IF('R8_Baum'!$L$27<'R8_Baum'!$L$29,'R8_Baum'!$K$28,IF('R8_Baum'!$L$29<'R8_Baum'!$L$27,'R8_Baum'!$K$30,IF(RIGHT('R8_Baum'!$L$27,1)=\"*\",'R8_Baum'!$K$30,IF(RIGHT('R8_Baum'!$L$29,1)=\"*\",'R8_Baum'!$K$28,\"\"))))","v":""},{"$f":"VLOOKUP(J13,R_Quali!$C$10:$H$100,6,FALSE)","v":{"$error":"#N/A"}},{"$f":"VLOOKUP(J13,'R8_Baum'!$C$6:$D$45,2,FALSE)","v":{"$error":"#N/A"}},{"$f":"VLOOKUP(J13,'R8_Baum'!$G$12:$H$39,2,FALSE)","v":0},{"$f":"VLOOKUP(J13,'R8_Baum'!$K$21:$L$30,2,FALSE)","v":0}]
["",null,null,null,null,null,null,null,null,{"$f":"IF('R8_Baum'!$D$6<'R8_Baum'!$D$8,'R8_Baum'!$C$6,IF('R8_Baum'!$D$8<'R8_Baum'!$D$6,'R8_Baum'!$C$8,IF(RIGHT('R8_Baum'!$D$6,1)=\"*\",'R8_Baum'!$C$8,IF(RIGHT('R8_Baum'!$D$8,1)=\"*\",'R8_Baum'!$C$6,\"\"))))","v":""},{"$f":"IF('R8_Baum'!$D$6<'R8_Baum'!$D$8,'R8_Baum'!$C$7,IF('R8_Baum'!$D$8<'R8_Baum'!$D$6,'R8_Baum'!$C$9,IF(RIGHT('R8_Baum'!$D$6,1)=\"*\",'R8_Baum'!$C$9,IF(RIGHT('R8_Baum'!$D$8,1)=\"*\",'R8_Baum'!$C$7,\"\"))))","v":""},{"$f":"VLOOKUP(J14,R_Quali!$C$10:$H$100,6,FALSE)","v":{"$error":"#N/A"}},{"$f":"VLOOKUP(J14,'R8_Baum'!$C$6:$D$45,2,FALSE)","v":{"$error":"#N/A"}}]
["",null,null,null,null,null,null,null,null,{"$f":"IF('R8_Baum'!$D$18<'R8_Baum'!$D$20,'R8_Baum'!$C$18,IF('R8_Baum'!$D$20<'R8_Baum'!$D$18,'R8_Baum'!$C$20,IF(RIGHT('R8_Baum'!$D$18,1)=\"*\",'R8_Baum'!$C$20,IF(RIGHT('R8_Baum'!$D$20,1)=\"*\",'R8_Baum'!$C$18,\"\"))))","v":""},{"$f":"IF('R8_Baum'!$D$18<'R8_Baum'!$D$20,'R8_Baum'!$C$19,IF('R8_Baum'!$D$20<'R8_Baum'!$D$18,'R8_Baum'!$C$21,IF(RIGHT('R8_Baum'!$D$18,1)=\"*\",'R8_Baum'!$C$21,IF(RIGHT('R8_Baum'!$D$20,1)=\"*\",'R8_Baum'!$C$19,\"\"))))","v":""},{"$f":"VLOOKUP(J15,R_Quali!$C$10:$H$100,6,FALSE)","v":{"$error":"#N/A"}},{"$f":"VLOOKUP(J15,'R8_Baum'!$C$6:$D$45,2,FALSE)","v":{"$error":"#N/A"}}]
["",null,null,null,null,null,null,null,null,{"$f":"IF('R8_Baum'!$D$30<'R8_Baum'!$D$32,'R8_Baum'!$C$30,IF('R8_Baum'!$D$32<'R8_Baum'!$D$30,'R8_Baum'!$C$32,IF(RIGHT('R8_Baum'!$D$30,1)=\"*\",'R8_Baum'!$C$32,IF(RIGHT('R8_Baum'!$D$32,1)=\"*\",'R8_Baum'!$C$30,\"\"))))","v":""},{"$f":"IF('R8_Baum'!$D$30<'R8_Baum'!$D$32,'R8_Baum'!$C$31,IF('R8_Baum'!$D$32<'R8_Baum'!$D$30,'R8_Baum'!$C$33,IF(RIGHT('R8_Baum'!$D$30,1)=\"*\",'R8_Baum'!$C$33,IF(RIGHT('R8_Baum'!$D$32,1)=\"*\",'R8_Baum'!$C$31,\"\"))))","v":""},{"$f":"VLOOKUP(J16,R_Quali!$C$10:$H$100,6,FALSE)","v":{"$error":"#N/A"}},{"$f":"VLOOKUP(J16,'R8_Baum'!$C$6:$D$45,2,FALSE)","v":{"$error":"#N/A"}}]
["",null,null,null,null,null,null,null,null,{"$f":"IF('R8_Baum'!$D$42<'R8_Baum'!$D$44,'R8_Baum'!$C$42,IF('R8_Baum'!$D$44<'R8_Baum'!$D$42,'R8_Baum'!$C$44,IF(RIGHT('R8_Baum'!$D$42,1)=\"*\",'R8_Baum'!$C$44,IF(RIGHT('R8_Baum'!$D$44,1)=\"*\",'R8_Baum'!$C$42,\"\"))))","v":""},{"$f":"IF('R8_Baum'!$D$42<'R8_Baum'!$D$44,'R8_Baum'!$C$43,IF('R8_Baum'!$D$44<'R8_Baum'!$D$42,'R8_Baum'!$C$45,IF(RIGHT('R8_Baum'!$D$42,1)=\"*\",'R8_Baum'!$C$45,IF(RIGHT('R8_Baum'!$D$44,1)=\"*\",'R8_Baum'!$C$43,\"\"))))","v":""},{"$f":"VLOOKUP(J17,R_Quali!$C$10:$H$100,6,FALSE)","v":{"$error":"#N/A"}},{"$f":"VLOOKUP(J17,'R8_Baum'!$C$6:$D$45,2,FALSE)","v":{"$error":"#N/A"}}]

{"sheet":"C_Quali","index":18,"n_rows":100,"n_cols":14,"rows_kept":100,"cut":false,"hidden":true,"merged":[[1,0,1,3],[2,0,2,3],[4,0,4,3],[6,0,6,3],[3,13,6,16]]}
[]
[{"$f":"Select!$C$12","v":"Demoturnier"}]
[{"$f":"Select!C13","v":"1. April 2019"}]
[null,null,null,null,null,null,null,null,null,null,null,null,null,"Spalte SO (Shoot Off)\n\nBitte dringend die Anleitung dazu lesen!!!\n(Punkt 3.)\n"]
["Qualifikationsrunde"]
[]
[{"$f":"Select!C20","v":"Compound Herren"}]
[]
["Pl.","Start-Nr.","Name","Verein","Land",{"$f":"Select!C22","v":"10er"},{"$f":"R_Quali!G9","v":"X"},"Quali.","SO"]
[{"$f":"IF(C10>\" \",1,\" \")","v":1},"12B","Steinwender Alois","Bogensport Lungau","S",12,27,532]
[{"$f":"IF(C11>\" \",A10+1,\" \")","v":2},"14C","Kanduth Wolfgang","BC Wildon Weitendorf","ST",11,21,531]
[{"$f":"IF(C12>\" \",A11+1,\" \")","v":3},"18C","Hubmann Gerhard","EAT-Bogensport","ST",13,21,530]
[4,"12D","Wippel Wolfgang","BC Union Graz Seiersberg","ST",10,23,529]
[5,"12A","Traxler Helmuth","UBC Diana NÖ","NÖ",9,22,528]
[6,"16B","Schneider Wolfgang","WBZ Union Zwettl","NÖ",11,8,527]
[7,"19A","Koisegg Johann","BSC Sparkasse Jenbach","T",9,15,526]
[8,"14A","Richter Oscar","BC Golden Arrows","S",8,13,525]
[9,"11A","Helmer Gerhard","UBC Diana NÖ","NÖ",10,13,524]
[10,"16A","Linhart Christian","BSV Stöttera","B",10,18,523]
[11,"16D","Burda Erwin","BC Golden Arrows","S",10,10,522]
[12,"23B","Willingshofer August","BSC Velden","K",9,11,521]
[13,"15B","Zezula Erwin","WBZ Union Zwettl","NÖ",5,17,520]
[14,"23C","Wühl Martin","BSC Fischamend","NÖ",4,18,519]
[15,"22A","Url Marsell","UBSC Artemis Steiermark","ST",5,16,518]
[16,"19D","Bucher Martin","LH Graz","ST",8,13,517]
[17,"18B","Kolm Martin","WBZ Union Zwettl","NÖ",5,14,516]
[18,"20B","Postl Markus","BC Union Graz Seiersberg","ST",8,14,515]
[19,"16C","Zimmerbeutel Axel","3D Bogenplatz Riedersbach","OÖ",7,12,514]
[20,"21B","RAINER Andreas","BSC Semriach","ST",9,9,513]
[21,"22C","Lehner Heinz","Salzkammergut Bogensport Club","OÖ",6,14,512]
[22,"18D","Daum Stefan","BSC Sparkasse Jenbach","T",8,13,511]
[23,"11C","Gruber Werner","Atus Zeltweg Sektion Bogen","ST",6,12,510]
[24,"19B","Schaden Harald","BSC Gaal","ST",1,14,509]
[25,"23A","Quinz Harald","Atus Zeltweg Sektion Bogen","ST",6,13,508]
[26,"15C","Steininger Helmut","UBSC Artemis Wien","W",2,15,507]
[27,"21C","Schlechter Hans-Jürgen","BSV Brixlegg - NAVAJOS","T",6,10,506]
[28,"21A","Irnsperger Gerald","3D Bogenplatz Riedersbach","OÖ",6,11,505]
[29,"13A","Holzer Gerhard","UBC Diana NÖ","NÖ",5,9,504]
[30,"12C","Nadrai Herbert","BSC Arcus","NÖ",9,9,503]
[31,"14D","Kuhn Jürgen Hans","UBC Diana NÖ","NÖ",5,9,502]
[32,"20C","Trausmiller Hannes","BS Ligist - Archery Freaks","ST",6,10,501]
[33,"11D","Trenda Werner","SV Wallern","OÖ",3,14,500]
[34,"19C","Hlous Michael","SEV UNION Isovolta","NÖ",5,13,424]
[35,"15D","Kossek Heinz","BC Wildon Weitendorf","ST",3,14,422]
[36,"13D","Gritsch Klaus","BSC Fischamend","NÖ",1,14,421]
[37,"20D","Kappl Markus","WBZ Union Zwettl","NÖ",4,9,404]
[38,"14B","Kaltenberger Franz","BSV Stoneface - Archery","OÖ",4,8,404]
[39,"10C","Drapela Norbert","BSC Stockerau","NÖ",3,9,395]
[40,"10A","Brandtner Helmut","UBC Diana NÖ","NÖ",5,7,392]
[41,"9A","Neumann Markus","BSC Fischamend","NÖ",6,8,390]
[42,"9D","Molnar Jonas","BSC Fischamend","NÖ",0,10,385]
[43,"10B","Kremser Alfred","Bogensport Lungau","S",5,7,384]
[44,"20A","Kropiunig Alexander","BSC Sparkasse Jenbach","T",5,9,381]
[45,"15A","Bruijns Peter","BC Golden Arrows","S",5,8,381]
[46,"10D","Dehner Roland","SV Wallern","OÖ",2,7,376]
[47,"18A","Gschwentner Armin","BSC Sparkasse Jenbach","T",2,11,358]
[48,"13B","Baumgartner Günter","ASKÖ Linz Froschberg","OÖ",1,6,315]
[49,"24B","Käser Federico","BSV Schönbrunn","W",0,6,304]
[50,"9B","Schweiger Peter","BSC Sparkasse Jenbach","T",3,5,294]
[51,"24C","Richter Felix","BC Golden Arrows","S",1,2,290]
[52,"9C","Thullner Sven","BSV - Lassee","NÖ",1,3,281]
[" "]
[" "]
[" "]
[" "]
[" "," "," "," "," "]
[" "," "," "," "," "]
[" "," "," "," "," "]
[" "," "," "," "," "]
[" "," "," "," "," "]
[" "," "," "," "," "]
[" "," "," "," "," "]
[" "," "," "," "," "]
[" "," "," "," "," "]
[" "," "," "," "," "]
[{"$f":"IF(C76>\" \",A75+1,\" \")","v":" "}," "," "," "," "]
[" "," "," "," "," "]
[" "," "," "," "," "]
[" "," "," "," "," "]
[" "," "," "," "," "]
[" "," "," "," "," "]
[" "," "," "," "," "]
[" "," "," "," "," "]
[" "," "," "," "," "]
[" "," "," "," "," "]
[" "," "," "," "," "]
[" "," "," "," "," "]
[" "," "," "," "," "]
[" "," "," "," "," "]
[" "," "," "," "," "]
[" "," "," "," "," "]
[" "," "," "," "," "]
[" "," "," "," "," "]
[" "," "," "," "," "]
[" "," "," "," "," "]
[" "," "," "," "," "]
[" "," "," "," "," "]
[" "," "," "," "," "]
[" "," "," "," "," "]
[{"$f":"IF(C100>\" \",A99+1,\" \")","v":" "}," "," "," "," "]

{"sheet":"C52_Baum","index":19,"n_rows":163,"n_cols":32,"rows_kept":163,"cut":false,"hidden":true,"merged":[[108,12,109,13],[108,16,109,20],[109,2,110,4],[109,8,110,9],[66,20,67,21],[89,24,90,25],[90,20,91,21],[103,16,104,17],[106,23,108,23],[106,24,108,25],[64,20,65,21],[1,17,2,26],[4,17,5,26],[7,23,8,23],[7,24,8,25],[7,26,8,26],[9,23,10,23],[9,24,10,25],[9,26,10,26],[11,23,12,23],[11,24,12,25],[11,26,12,26],[42,20,43,21],[44,20,45,21]]}
[]
[null,"Schb.","Qual.","Name","Land","Verein","Erg.",null,null,null,null,null,null,null,null,null,null,{"$f":"Select!C12","v":"Demoturnier"}]
[1,null,{"$f":"C_Quali!H10","v":532},{"$f":"C_Quali!C10","v":"Steinwender Alois"},{"$f":"C_Quali!E10","v":"S"},{"$f":"C_Quali!D10","v":"Bogensport Lungau"},null,"Schb.","Name","Land","Erg."]
[null,null,null,null,null,null,null,null,{"$f":"D3","v":"Steinwender Alois"},{"$f":"E3","v":"S"}]
[null,null,null,null,null,null,null,null,null,null,null,"Schb","Name","Land","Erg.",null,null,{"$f":"Select!C13","v":"1. April 2019"}]
[17,{"$f":"E116","v":"33A"},{"$f":"C_Quali!H26","v":516},{"$f":"C_Quali!C26","v":"Kolm Martin"},{"$f":"C_Quali!E26","v":"NÖ"},{"$f":"C_Quali!D26","v":"WBZ Union Zwettl"},null,null,null,null,null,{"$f":"N116","v":33},{"$f":"I4","v":"Steinwender Alois"},{"$f":"J4","v":"S"}]
[40,{"$f":"E117","v":"33B"},{"$f":"C_Quali!H49","v":392},{"$f":"C_Quali!C49","v":"Brandtner Helmut"},{"$f":"C_Quali!E49","v":"NÖ"},{"$f":"C_Quali!D49","v":"UBC Diana NÖ"},null,null,null,null,null,{"$f":"N117","v":34},{"$f":"IF($K8>$K9,$I8,IF($K9>$K8,$I9,IF(RIGHT($K8,1)=\"*\",$I8,IF(RIGHT($K9,1)=\"*\",$I9,\"\"))))","v":""},{"$f":"IF($K8>$K9,$J8,IF($K9>$K8,$J9,IF(RIGHT($K8,1)=\"*\",$J8,IF(RIGHT($K9,1)=\"*\",$J9,\"\"))))","v":""}]
[null,null,null,null,null,null,null,{"$f":"J116","v":"33A"},{"$f":"IF($G6>$G7,$D6,IF($G7>$G6,$D7,IF(RIGHT($G6,1)=\"*\",$D6,IF(RIGHT($G7,1)=\"*\",$D7,\"\"))))","v":""},{"$f":"IF($G6>$G7,$E6,IF($G7>$G6,$E7,IF(RIGHT($G6,1)=\"*\",$E6,IF(RIGHT($G7,1)=\"*\",$E7,\"\"))))","v":""},null,null,null,null,null,null,null,null,null,null,null,null,null,"1.",{"$f":"IF($AA$44>$AA$45,$Y$44,IF($AA$45>$AA$44,$Y$45,IF(RIGHT($AA$44,1)=\"*\",$Y$44,IF(RIGHT($AA$45,1)=\"*\",$Y$45,\"\"))))","v":""},null,{"$f":"IF($AA$44>$AA$45,$Z$44,IF($AA$45>$AA$44,$Z$45,IF(RIGHT($AA$44,1)=\"*\",$Z$44,IF(RIGHT($AA$45,1)=\"*\",$Z$45,\"\"))))","v":""}]
[null,null,null,null,null,null,null,{"$f":"J117","v":"33B"},{"$f":"IF($G10>$G11,$D10,IF($G11>$G10,$D11,IF(RIGHT($G10,1)=\"*\",$D10,IF(RIGHT($G11,1)=\"*\",$D11,\"\"))))","v":""},{"$f":"IF($G10>$G11,$E10,IF($G11>$G10,$E11,IF(RIGHT($G10,1)=\"*\",$E10,IF(RIGHT($G11,1)=\"*\",$E11,\"\"))))","v":""}]
[41,{"$f":"E118","v":"34A"},{"$f":"C_Quali!H50","v":390},{"$f":"C_Quali!C50","v":"Neumann Markus"},{"$f":"C_Quali!E50","v":"NÖ"},{"$f":"C_Quali!D50","v":"BSC Fischamend"},null,null,null,null,null,null,null,null,null,null,null,null,null,null,null,null,null,"2.",{"$f":"IF($AA$44<$AA$45,$Y$44,IF($AA$45<$AA$44,$Y$45,IF(RIGHT($AA$45,1)=\"*\",$Y$44,IF(RIGHT($AA$44,1)=\"*\",$Y$45,\"\"))))","v":""},null,{"$f":"IF($AA$44<$AA$45,$Z$44,IF($AA$45<$AA$44,$Z$45,IF(RIGHT($AA$45,1)=\"*\",$Z$44,IF(RIGHT($AA$44,1)=\"*\",$Z$45,\"\"))))","v":""}]
[16,{"$f":"E119","v":"34B"},{"$f":"C_Quali!H25","v":517},{"$f":"C_Quali!C25","v":"Bucher Martin"},{"$f":"C_Quali!E25","v":"ST"},{"$f":"C_Quali!D25","v":"LH Graz"},null,null,null,null,null,null,null,null,null,"Schb","Name","Land","Erg."]
[null,null,null,null,null,null,null,null,null,null,null,null,null,null,null,{"$f":"R116","v":35},{"$f":"IF($O6>$O7,$M6,IF($O7>$O6,$M7,IF(RIGHT($O6,1)=\"*\",$M6,IF(RIGHT($O7,1)=\"*\",$M7,\"\"))))","v":""},{"$f":"IF($O6>$O7,$N6,IF($O7>$O6,$N7,IF(RIGHT($O6,1)=\"*\",$N6,IF(RIGHT($O7,1)=\"*\",$N7,\"\"))))","v":""},null,null,null,null,null,"3.",{"$f":"IF($AA$66>$AA$67,$Y$66,IF($AA$67>$AA$66,$Y$67,IF(RIGHT($AA$66,1)=\"*\",$Y$66,IF(RIGHT($AA$67,1)=\"*\",$Y$67,\"\"))))","v":""},null,{"$f":"IF($AA$66>$AA$67,$Z$66,IF($AA$67>$AA$66,$Z$67,IF(RIGHT($AA$66,1)=\"*\",$Z$66,IF(RIGHT($AA$67,1)=\"*\",$Z$67,\"\"))))","v":""}]
[null,null,null,null,null,null,null,null,null,null,null,null,null,null,null,{"$f":"R117","v":36},{"$f":"IF($O20>$O21,$M20,IF($O21>$O20,$M21,IF(RIGHT($O20,1)=\"*\",$M20,IF(RIGHT($O21,1)=\"*\",$M21,\"\"))))","v":""},{"$f":"IF($O20>$O21,$N20,IF($O21>$O20,$N21,IF(RIGHT($O20,1)=\"*\",$N20,IF(RIGHT($O21,1)=\"*\",$N21,\"\"))))","v":""}]
[9,{"$f":"E120","v":"35A"},{"$f":"C_Quali!H18","v":524},{"$f":"C_Quali!C18","v":"Helmer Gerhard"},{"$f":"C_Quali!E18","v":"NÖ"},{"$f":"C_Quali!D18","v":"UBC Diana NÖ"}]
[48,{"$f":"E121","v":"35B"},{"$f":"C_Quali!H57","v":315},{"$f":"C_Quali!C57","v":"Baumgartner Günter"},{"$f":"C_Quali!E57","v":"OÖ"},{"$f":"C_Quali!D57","v":"ASKÖ Linz Froschberg"}]
[null,null,null,null,null,null,null,{"$f":"J118","v":"34A"},{"$f":"IF($G14>$G15,$D14,IF($G15>$G14,$D15,IF(RIGHT($G14,1)=\"*\",$D14,IF(RIGHT($G15,1)=\"*\",$D15,\"\"))))","v":""},{"$f":"IF($G14>$G15,$E14,IF($G15>$G14,$E15,IF(RIGHT($G14,1)=\"*\",$E14,IF(RIGHT($G15,1)=\"*\",$E15,\"\"))))","v":""}]
[null,null,null,null,null,null,null,{"$f":"J119","v":"34B"},{"$f":"IF($G18>$G19,$D18,IF($G19>$G18,$D19,IF(RIGHT($G18,1)=\"*\",$D18,IF(RIGHT($G19,1)=\"*\",$D19,\"\"))))","v":""},{"$f":"IF($G18>$G19,$E18,IF($G19>$G18,$E19,IF(RIGHT($G18,1)=\"*\",$E18,IF(RIGHT($G19,1)=\"*\",$E19,\"\"))))","v":""}]
[33,{"$f":"E122","v":"36A"},{"$f":"C_Quali!H42","v":500},{"$f":"C_Quali!C42","v":"Trenda Werner"},{"$f":"C_Quali!E42","v":"OÖ"},{"$f":"C_Quali!D42","v":"SV Wallern"}]
[24,{"$f":"E123","v":"36B"},{"$f":"C_Quali!H33","v":509},{"$f":"C_Quali!C33","v":"Schaden Harald"},{"$f":"C_Quali!E33","v":"ST"},{"$f":"C_Quali!D33","v":"BSC Gaal"}]
[null,null,null,null,null,null,null,null,null,null,null,{"$f":"N118","v":35},{"$f":"IF($K16>$K17,$I16,IF($K17>$K16,$I17,IF(RIGHT($K16,1)=\"*\",$I16,IF(RIGHT($K17,1)=\"*\",$I17,\"\"))))","v":""},{"$f":"IF($K16>$K17,$J16,IF($K17>$K16,$J17,IF(RIGHT($K16,1)=\"*\",$J16,IF(RIGHT($K17,1)=\"*\",$J17,\"\"))))","v":""}]
[null,null,null,null,null,null,null,null,null,null,null,{"$f":"N119","v":36},{"$f":"IF($K24>$K25,$I24,IF($K25>$K24,$I25,IF(RIGHT($K24,1)=\"*\",$I24,IF(RIGHT($K25,1)=\"*\",$I25,\"\"))))","v":""},{"$f":"IF($K24>$K25,$J24,IF($K25>$K24,$J25,IF(RIGHT($K24,1)=\"*\",$J24,IF(RIGHT($K25,1)=\"*\",$J25,\"\"))))","v":""}]
[25,{"$f":"E124","v":"37A"},{"$f":"C_Quali!H34","v":508},{"$f":"C_Quali!C34","v":"Quinz Harald"},{"$f":"C_Quali!E34","v":"ST"},{"$f":"C_Quali!D34","v":"Atus Zeltweg Sektion Bogen"}]
[32,{"$f":"E125","v":"37B"},{"$f":"C_Quali!H41","v":501},{"$f":"C_Quali!C41","v":"Trausmiller Hannes"},{"$f":"C_Quali!E41","v":"ST"},{"$f":"C_Quali!D41","v":"BS Ligist - Archery Freaks"}]
[null,null,null,null,null,null,null,{"$f":"J120","v":"35A"},{"$f":"IF($G22>$G23,$D22,IF($G23>$G22,$D23,IF(RIGHT($G22,1)=\"*\",$D22,IF(RIGHT($G23,1)=\"*\",$D23,\"\"))))","v":""},{"$f":"IF($G22>$G23,$E22,IF($G23>$G22,$E23,IF(RIGHT($G22,1)=\"*\",$E22,IF(RIGHT($G23,1)=\"*\",$E23,\"\"))))","v":""}]
[null,null,null,null,null,null,null,{"$f":"J121","v":"35B"},{"$f":"IF($G26>$G27,$D26,IF($G27>$G26,$D27,IF(RIGHT($G26,1)=\"*\",$D26,IF(RIGHT($G27,1)=\"*\",$D27,\"\"))))","v":""},{"$f":"IF($G26>$G27,$E26,IF($G27>$G26,$E27,IF(RIGHT($G26,1)=\"*\",$E26,IF(RIGHT($G27,1)=\"*\",$E27,\"\"))))","v":""}]
[49,{"$f":"E126","v":"38A"},{"$f":"C_Quali!H58","v":304},{"$f":"C_Quali!C58","v":"Käser Federico"},{"$f":"C_Quali!E58","v":"W"},{"$f":"C_Quali!D58","v":"BSV Schönbrunn"}]
[8,{"$f":"E127","v":"38B"},{"$f":"C_Quali!H17","v":525},{"$f":"C_Quali!C17","v":"Richter Oscar"},{"$f":"C_Quali!E17","v":"S"},{"$f":"C_Quali!D17","v":"BC Golden Arrows"}]
[]
[null,null,null,null,null,null,null,null,null,null,null,null,null,null,null,null,null,null,null,"Schb","Name","Land","Erg."]
[5,{"$f":"E128","v":"39A"},{"$f":"C_Quali!H14","v":528},{"$f":"C_Quali!C14","v":"Traxler Helmuth"},{"$f":"C_Quali!E14","v":"NÖ"},{"$f":"C_Quali!D14","v":"UBC Diana NÖ"},null,null,null,null,null,null,null,null,null,null,null,null,null,{"$f":"V116","v":35},{"$f":"IF($S12>$S13,$Q12,IF($S13>$S12,$Q13,IF(RIGHT($S12,1)=\"*\",$Q12,IF(RIGHT($S13,1)=\"*\",$Q13,\"\"))))","v":""},{"$f":"IF($S12>$S13,$R12,IF($S13>$S12,$R13,IF(RIGHT($S12,1)=\"*\",$R12,IF(RIGHT($S13,1)=\"*\",$R13,\"\"))))","v":""}]
[52,{"$f":"E129","v":"39B"},{"$f":"C_Quali!H61","v":281},{"$f":"C_Quali!C61","v":"Thullner Sven"},{"$f":"C_Quali!E61","v":"NÖ"},{"$f":"C_Quali!D61","v":"BSV - Lassee"},null,null,null,null,null,null,null,null,null,null,null,null,null,{"$f":"V117","v":36},{"$f":"IF($S44>$S45,$Q44,IF($S45>$S44,$Q45,IF(RIGHT($S44,1)=\"*\",$Q44,IF(RIGHT($S45,1)=\"*\",$Q45,\"\"))))","v":""},{"$f":"IF($S44>$S45,$R44,IF($S45>$S44,$R45,IF(RIGHT($S44,1)=\"*\",$R44,IF(RIGHT($S45,1)=\"*\",$R45,\"\"))))","v":""}]
[null,null,null,null,null,null,null,{"$f":"J122","v":"36A"},{"$f":"IF($G30>$G31,$D30,IF($G31>$G30,$D31,IF(RIGHT($G30,1)=\"*\",$D30,IF(RIGHT($G31,1)=\"*\",$D31,\"\"))))","v":""},{"$f":"IF($G30>$G31,$E30,IF($G31>$G30,$E31,IF(RIGHT($G30,1)=\"*\",$E30,IF(RIGHT($G31,1)=\"*\",$E31,\"\"))))","v":""}]
[null,null,null,null,null,null,null,{"$f":"J123","v":"36B"},{"$f":"IF($G34>$G35,$D34,IF($G35>$G34,$D35,IF(RIGHT($G34,1)=\"*\",$D34,IF(RIGHT($G35,1)=\"*\",$D35,\"\"))))","v":""},{"$f":"IF($G34>$G35,$E34,IF($G35>$G34,$E35,IF(RIGHT($G34,1)=\"*\",$E34,IF(RIGHT($G35,1)=\"*\",$E35,\"\"))))","v":""}]
[29,{"$f":"E130","v":"40A"},{"$f":"C_Quali!H38","v":504},{"$f":"C_Quali!C38","v":"Holzer Gerhard"},{"$f":"C_Quali!E38","v":"NÖ"},{"$f":"C_Quali!D38","v":"UBC Diana NÖ"}]
[28,{"$f":"E131","v":"40B"},{"$f":"C_Quali!H37","v":505},{"$f":"C_Quali!C37","v":"Irnsperger Gerald"},{"$f":"C_Quali!E37","v":"OÖ"},{"$f":"C_Quali!D37","v":"3D Bogenplatz Riedersbach"}]
[null,null,null,null,null,null,null,null,null,null,null,{"$f":"N120","v":37},{"$f":"IF($K32>$K33,$I32,IF($K33>$K32,$I33,IF(RIGHT($K32,1)=\"*\",$I32,IF(RIGHT($K33,1)=\"*\",$I33,\"\"))))","v":""},{"$f":"IF($K32>$K33,$J32,IF($K33>$K32,$J33,IF(RIGHT($K32,1)=\"*\",$J32,IF(RIGHT($K33,1)=\"*\",$J33,\"\"))))","v":""}]
[null,null,null,null,null,null,null,null,null,null,null,{"$f":"N121","v":38},{"$f":"IF($K40>$K41,$I40,IF($K41>$K40,$I41,IF(RIGHT($K40,1)=\"*\",$I40,IF(RIGHT($K41,1)=\"*\",$I41,\"\"))))","v":""},{"$f":"IF($K40>$K41,$J40,IF($K41>$K40,$J41,IF(RIGHT($K40,1)=\"*\",$J40,IF(RIGHT($K41,1)=\"*\",$J41,\"\"))))","v":""}]
[21,{"$f":"E132","v":"41A"},{"$f":"C_Quali!H30","v":512},{"$f":"C_Quali!C30","v":"Lehner Heinz"},{"$f":"C_Quali!E30","v":"OÖ"},{"$f":"C_Quali!D30","v":"Salzkammergut Bogensport Club"}]
[36,{"$f":"E133","v":"41B"},{"$f":"C_Quali!H45","v":421},{"$f":"C_Quali!C45","v":"Gritsch Klaus"},{"$f":"C_Quali!E45","v":"NÖ"},{"$f":"C_Quali!D45","v":"BSC Fischamend"}]
[null,null,null,null,null,null,null,{"$f":"J124","v":"37A"},{"$f":"IF($G38>$G39,$D38,IF($G39>$G38,$D39,IF(RIGHT($G38,1)=\"*\",$D38,IF(RIGHT($G39,1)=\"*\",$D39,\"\"))))","v":""},{"$f":"IF($G38>$G39,$E38,IF($G39>$G38,$E39,IF(RIGHT($G38,1)=\"*\",$E38,IF(RIGHT($G39,1)=\"*\",$E39,\"\"))))","v":""}]
[null,null,null,null,null,null,null,{"$f":"J125","v":"37B"},{"$f":"IF($G42>$G43,$D42,IF($G43>$G42,$D43,IF(RIGHT($G42,1)=\"*\",$D42,IF(RIGHT($G43,1)=\"*\",$D43,\"\"))))","v":""},{"$f":"IF($G42>$G43,$E42,IF($G43>$G42,$E43,IF(RIGHT($G42,1)=\"*\",$E42,IF(RIGHT($G43,1)=\"*\",$E43,\"\"))))","v":""},null,null,null,null,null,null,null,null,null,null,null,null,null,null,null,null,null,null,null,null,{"$f":"IF($W30>$W31,$U30,IF($W31>$W30,$U31,IF(RIGHT($W30,1)=\"*\",$U30,IF(RIGHT($W31,1)=\"*\",$U31,\"\"))))","v":""},{"$f":"IF($W30>$W31,$V30,IF($W31>$W30,$V31,IF(RIGHT($W30,1)=\"*\",$V30,IF(RIGHT($W31,1)=\"*\",$V31,\"\"))))","v":""}]
[45,{"$f":"E134","v":"42A"},{"$f":"C_Quali!H54","v":381},{"$f":"C_Quali!C54","v":"Bruijns Peter"},{"$f":"C_Quali!E54","v":"S"},{"$f":"C_Quali!D54","v":"BC Golden Arrows"}]
[12,{"$f":"E135","v":"42B"},{"$f":"C_Quali!H21","v":521},{"$f":"C_Quali!C21","v":"Willingshofer August"},{"$f":"C_Quali!E21","v":"K"},{"$f":"C_Quali!D21","v":"BSC Velden"},null,null,null,null,null,null,null,null,null,null,null,null,null,null,"Finale",null,null,"Schb","Name","Land","Erg."]
[null,null,null,null,null,null,null,null,null,null,null,null,null,null,null,{"$f":"R118","v":37},{"$f":"IF($O36>$O37,$M36,IF($O37>$O36,$M37,IF(RIGHT($O36,1)=\"*\",$M36,IF(RIGHT($O37,1)=\"*\",$M37,\"\"))))","v":""},{"$f":"IF($O36>$O37,$N36,IF($O37>$O36,$N37,IF(RIGHT($O36,1)=\"*\",$N36,IF(RIGHT($O37,1)=\"*\",$N37,\"\"))))","v":""},null,null,null,null,null,{"$f":"Z116","v":1},{"$f":"IF($W30>$W31,$U30,IF($W31>$W30,$U31,IF(RIGHT($W30,1)=\"*\",$U30,IF(RIGHT($W31,1)=\"*\",$U31,\"\"))))","v":""},{"$f":"IF($W30>$W31,$V30,IF($W31>$W30,$V31,IF(RIGHT($W30,1)=\"*\",$V30,IF(RIGHT($W31,1)=\"*\",$V31,\"\"))))","v":""},null,null,null,null,{"$f":"IF($W82>$W83,$U82,IF($W83>$W82,$U83,IF(RIGHT($W82,1)=\"*\",$U82,IF(RIGHT($W83,1)=\"*\",$U83,\"\"))))","v":""},{"$f":"IF($W82>$W83,$V82,IF($W83>$W82,$V83,IF(RIGHT($W82,1)=\"*\",$V82,IF(RIGHT($W83,1)=\"*\",$V83,\"\"))))","v":""}]
[null,null,null,null,null,null,null,null,null,null,null,null,null,null,null,{"$f":"R119","v":38},{"$f":"IF($O50>$O51,$M50,IF($O51>$O50,$M51,IF(RIGHT($O50,1)=\"*\",$M50,IF(RIGHT($O51,1)=\"*\",$M51,\"\"))))","v":""},{"$f":"IF($O50>$O51,$N50,IF($O51>$O50,$N51,IF(RIGHT($O50,1)=\"*\",$N50,IF(RIGHT($O51,1)=\"*\",$N51,\"\"))))","v":""},null,null,"1. und 2. Platz",null,null,{"$f":"Z117","v":2},{"$f":"IF($W82>$W83,$U82,IF($W83>$W82,$U83,IF(RIGHT($W82,1)=\"*\",$U82,IF(RIGHT($W83,1)=\"*\",$U83,\"\"))))","v":""},{"$f":"IF($W82>$W83,$V82,IF($W83>$W82,$V83,IF(RIGHT($W82,1)=\"*\",$V82,IF(RIGHT($W83,1)=\"*\",$V83,\"\"))))","v":""}]
[13,{"$f":"E136","v":"43A"},{"$f":"C_Quali!H22","v":520},{"$f":"C_Quali!C22","v":"Zezula Erwin"},{"$f":"C_Quali!E22","v":"NÖ"},{"$f":"C_Quali!D22","v":"WBZ Union Zwettl"}]
[44,{"$f":"E137","v":"43B"},{"$f":"C_Quali!H53","v":381},{"$f":"C_Quali!C53","v":"Kropiunig Alexander"},{"$f":"C_Quali!E53","v":"T"},{"$f":"C_Quali!D53","v":"BSC Sparkasse Jenbach"}]
[null,null,null,null,null,null,null,{"$f":"J126","v":"38A"},{"$f":"IF($G46>$G47,$D46,IF($G47>$G46,$D47,IF(RIGHT($G46,1)=\"*\",$D46,IF(RIGHT($G47,1)=\"*\",$D47,\"\"))))","v":""},{"$f":"IF($G46>$G47,$E46,IF($G47>$G46,$E47,IF(RIGHT($G46,1)=\"*\",$E46,IF(RIGHT($G47,1)=\"*\",$E47,\"\"))))","v":""}]
[null,null,null,null,null,null,null,{"$f":"J127","v":"38B"},{"$f":"IF($G50>$G51,$D50,IF($G51>$G50,$D51,IF(RIGHT($G50,1)=\"*\",$D50,IF(RIGHT($G51,1)=\"*\",$D51,\"\"))))","v":""},{"$f":"IF($G50>$G51,$E50,IF($G51>$G50,$E51,IF(RIGHT($G50,1)=\"*\",$E50,IF(RIGHT($G51,1)=\"*\",$E51,\"\"))))","v":""}]
[37,{"$f":"E138","v":"44A"},{"$f":"C_Quali!H46","v":404},{"$f":"C_Quali!C46","v":"Kappl Markus"},{"$f":"C_Quali!E46","v":"NÖ"},{"$f":"C_Quali!D46","v":"WBZ Union Zwettl"},null,null,null,null,null,{"$f":"N122","v":39},{"$f":"IF($K48>$K49,$I48,IF($K49>$K48,$I49,IF(RIGHT($K48,1)=\"*\",$I48,IF(RIGHT($K49,1)=\"*\",$I49,\"\"))))","v":""},{"$f":"IF($K48>$K49,$J48,IF($K49>$K48,$J49,IF(RIGHT($K48,1)=\"*\",$J48,IF(RIGHT($K49,1)=\"*\",$J49,\"\"))))","v":""}]
[20,{"$f":"E139","v":"44B"},{"$f":"C_Quali!H29","v":513},{"$f":"C_Quali!C29","v":"RAINER Andreas"},{"$f":"C_Quali!E29","v":"ST"},{"$f":"C_Quali!D29","v":"BSC Semriach"},null,null,null,null,null,{"$f":"N123","v":40},{"$f":"I53","v":"Wippel Wolfgang"},{"$f":"J53","v":"ST"}]
[]
[null,null,null,null,null,null,null,null,{"$f":"D54","v":"Wippel Wolfgang"},{"$f":"E54","v":"ST"}]
[4,null,{"$f":"C_Quali!H13","v":529},{"$f":"C_Quali!C13","v":"Wippel Wolfgang"},{"$f":"C_Quali!E13","v":"ST"},{"$f":"C_Quali!D13","v":"BC Union Graz Seiersberg"}]
[]
[]
[3,null,{"$f":"C_Quali!H12","v":530},{"$f":"C_Quali!C12","v":"Hubmann Gerhard"},{"$f":"C_Quali!E12","v":"ST"},{"$f":"C_Quali!D12","v":"EAT-Bogensport"}]
[null,null,null,null,null,null,null,null,{"$f":"D57","v":"Hubmann Gerhard"},{"$f":"E57","v":"ST"}]
[]
[19,{"$f":"E140","v":"45A"},{"$f":"C_Quali!H28","v":514},{"$f":"C_Quali!C28","v":"Zimmerbeutel Axel"},{"$f":"C_Quali!E28","v":"OÖ"},{"$f":"C_Quali!D28","v":"3D Bogenplatz Riedersbach"},null,null,null,null,null,{"$f":"N124","v":41},{"$f":"I58","v":"Hubmann Gerhard"},{"$f":"J58","v":"ST"}]
[38,{"$f":"E141","v":"45B"},{"$f":"C_Quali!H47","v":404},{"$f":"C_Quali!C47","v":"Kaltenberger Franz"},{"$f":"C_Quali!E47","v":"OÖ"},{"$f":"C_Quali!D47","v":"BSV Stoneface - Archery"},null,null,null,null,null,{"$f":"N125","v":42},{"$f":"IF($K62>$K63,$I62,IF($K63>$K62,$I63,IF(RIGHT($K62,1)=\"*\",$I62,IF(RIGHT($K63,1)=\"*\",$I63,\"\"))))","v":""},{"$f":"IF($K62>$K63,$J62,IF($K63>$K62,$J63,IF(RIGHT($K62,1)=\"*\",$J62,IF(RIGHT($K63,1)=\"*\",$J63,\"\"))))","v":""}]
[null,null,null,null,null,null,null,{"$f":"J128","v":"39A"},{"$f":"IF($G60>$G61,$D60,IF($G61>$G60,$D61,IF(RIGHT($G60,1)=\"*\",$D60,IF(RIGHT($G61,1)=\"*\",$D61,\"\"))))","v":""},{"$f":"IF($G60>$G61,$E60,IF($G61>$G60,$E61,IF(RIGHT($G60,1)=\"*\",$E60,IF(RIGHT($G61,1)=\"*\",$E61,\"\"))))","v":""}]
[null,null,null,null,null,null,null,{"$f":"J129","v":"39B"},{"$f":"IF($G64>$G65,$D64,IF($G65>$G64,$D65,IF(RIGHT($G64,1)=\"*\",$D64,IF(RIGHT($G65,1)=\"*\",$D65,\"\"))))","v":""},{"$f":"IF($G64>$G65,$E64,IF($G65>$G64,$E65,IF(RIGHT($G64,1)=\"*\",$E64,IF(RIGHT($G65,1)=\"*\",$E65,\"\"))))","v":""}]
[43,{"$f":"E142","v":"46A"},{"$f":"C_Quali!H52","v":384},{"$f":"C_Quali!C52","v":"Kremser Alfred"},{"$f":"C_Quali!E52","v":"S"},{"$f":"C_Quali!D52","v":"Bogensport Lungau"}]
[14,{"$f":"E143","v":"46B"},{"$f":"C_Quali!H23","v":519},{"$f":"C_Quali!C23","v":"Wühl Martin"},{"$f":"C_Quali!E23","v":"NÖ"},{"$f":"C_Quali!D23","v":"BSC Fischamend"},null,null,null,null,null,null,null,null,null,null,null,null,null,null,"Finale"]
[null,null,null,null,null,null,null,null,null,null,null,null,null,null,null,{"$f":"R120","v":39},{"$f":"IF($O60>$O61,$M60,IF($O61>$O60,$M61,IF(RIGHT($O60,1)=\"*\",$M60,IF(RIGHT($O61,1)=\"*\",$M61,\"\"))))","v":""},{"$f":"IF($O60>$O61,$N60,IF($O61>$O60,$N61,IF(RIGHT($O60,1)=\"*\",$N60,IF(RIGHT($O61,1)=\"*\",$N61,\"\"))))","v":""},null,null,null,null,null,{"$f":"Z118","v":1},{"$f":"IF($W30>$W31,$U31,IF($W31>$W30,$U30,IF(RIGHT($W30,1)=\"*\",$U31,IF(RIGHT($W31,1)=\"*\",$U30,\"\"))))","v":""},{"$f":"IF($W30>$W31,$V31,IF($W31>$W30,$V30,IF(RIGHT($W30,1)=\"*\",$V31,IF(RIGHT($W31,1)=\"*\",$V30,\"\"))))","v":""},null,null,null,null,{"$f":"IF($W30>$W31,$U31,IF($W31>$W30,$U30,IF(RIGHT($W30,1)=\"*\",$U31,IF(RIGHT($W31,1)=\"*\",$U30,\"\"))))","v":""},{"$f":"IF($W30>$W31,$V31,IF($W31>$W30,$V30,IF(RIGHT($W30,1)=\"*\",$V31,IF(RIGHT($W31,1)=\"*\",$V30,\"\"))))","v":""}]
[null,null,null,null,null,null,null,null,null,null,null,null,null,null,null,{"$f":"R121","v":40},{"$f":"IF($O74>$O75,$M74,IF($O75>$O74,$M75,IF(RIGHT($O74,1)=\"*\",$M74,IF(RIGHT($O75,1)=\"*\",$M75,\"\"))))","v":""},{"$f":"IF($O74>$O75,$N74,IF($O75>$O74,$N75,IF(RIGHT($O74,1)=\"*\",$N74,IF(RIGHT($O75,1)=\"*\",$N75,\"\"))))","v":""},null,null,"3. und 4. Platz",null,null,{"$f":"Z119","v":2},{"$f":"IF($W82>$W83,$U83,IF($W83>$W82,$U82,IF(RIGHT($W82,1)=\"*\",$U83,IF(RIGHT($W83,1)=\"*\",$U82,\"\"))))","v":""},{"$f":"IF($W82>$W83,$V83,IF($W83>$W82,$V82,IF(RIGHT($W82,1)=\"*\",$V83,IF(RIGHT($W83,1)=\"*\",$V82,\"\"))))","v":""},null,null,null,null,{"$f":"IF($W82>$W83,$U83,IF($W83>$W82,$U82,IF(RIGHT($W82,1)=\"*\",$U83,IF(RIGHT($W83,1)=\"*\",$U82,\"\"))))","v":""},{"$f":"IF($W82>$W83,$V83,IF($W83>$W82,$V82,IF(RIGHT($W82,1)=\"*\",$V83,IF(RIGHT($W83,1)=\"*\",$V82,\"\"))))","v":""}]
[11,{"$f":"E144","v":"47A"},{"$f":"C_Quali!H20","v":522},{"$f":"C_Quali!C20","v":"Burda Erwin"},{"$f":"C_Quali!E20","v":"S"},{"$f":"C_Quali!D20","v":"BC Golden Arrows"}]
[46,{"$f":"E145","v":"47B"},{"$f":"C_Quali!H55","v":376},{"$f":"C_Quali!C55","v":"Dehner Roland"},{"$f":"C_Quali!E55","v":"OÖ"},{"$f":"C_Quali!D55","v":"SV Wallern"}]
[null,null,null,null,null,null,null,{"$f":"J130","v":"40A"},{"$f":"IF($G68>$G69,$D68,IF($G69>$G68,$D69,IF(RIGHT($G68,1)=\"*\",$D68,IF(RIGHT($G69,1)=\"*\",$D69,\"\"))))","v":""},{"$f":"IF($G68>$G69,$E68,IF($G69>$G68,$E69,IF(RIGHT($G68,1)=\"*\",$E68,IF(RIGHT($G69,1)=\"*\",$E69,\"\"))))","v":""}]
[null,null,null,null,null,null,null,{"$f":"J131","v":"40B"},{"$f":"IF($G72>$G73,$D72,IF($G73>$G72,$D73,IF(RIGHT($G72,1)=\"*\",$D72,IF(RIGHT($G73,1)=\"*\",$D73,\"\"))))","v":""},{"$f":"IF($G72>$G73,$E72,IF($G73>$G72,$E73,IF(RIGHT($G72,1)=\"*\",$E72,IF(RIGHT($G73,1)=\"*\",$E73,\"\"))))","v":""}]
[35,{"$f":"E146","v":"48A"},{"$f":"C_Quali!H44","v":422},{"$f":"C_Quali!C44","v":"Kossek Heinz"},{"$f":"C_Quali!E44","v":"ST"},{"$f":"C_Quali!D44","v":"BC Wildon Weitendorf"}]
[22,{"$f":"E147","v":"48B"},{"$f":"C_Quali!H31","v":511},{"$f":"C_Quali!C31","v":"Daum Stefan"},{"$f":"C_Quali!E31","v":"T"},{"$f":"C_Quali!D31","v":"BSC Sparkasse Jenbach"}]
[null,null,null,null,null,null,null,null,null,null,null,{"$f":"N126","v":43},{"$f":"IF($K70>$K71,$I70,IF($K71>$K70,$I71,IF(RIGHT($K70,1)=\"*\",$I70,IF(RIGHT($K71,1)=\"*\",$I71,\"\"))))","v":""},{"$f":"IF($K70>$K71,$J70,IF($K71>$K70,$J71,IF(RIGHT($K70,1)=\"*\",$J70,IF(RIGHT($K71,1)=\"*\",$J71,\"\"))))","v":""}]
[null,null,null,null,null,null,null,null,null,null,null,{"$f":"N127","v":44},{"$f":"IF($K78>$K79,$I78,IF($K79>$K78,$I79,IF(RIGHT($K78,1)=\"*\",$I78,IF(RIGHT($K79,1)=\"*\",$I79,\"\"))))","v":""},{"$f":"IF($K78>$K79,$J78,IF($K79>$K78,$J79,IF(RIGHT($K78,1)=\"*\",$J78,IF(RIGHT($K79,1)=\"*\",$J79,\"\"))))","v":""}]
[27,{"$f":"E148","v":"49A"},{"$f":"C_Quali!H36","v":506},{"$f":"C_Quali!C36","v":"Schlechter Hans-Jürgen"},{"$f":"C_Quali!E36","v":"T"},{"$f":"C_Quali!D36","v":"BSV Brixlegg - NAVAJOS"}]
[30,{"$f":"E149","v":"49B"},{"$f":"C_Quali!H39","v":503},{"$f":"C_Quali!C39","v":"Nadrai Herbert"},{"$f":"C_Quali!E39","v":"NÖ"},{"$f":"C_Quali!D39","v":"BSC Arcus"}]
[null,null,null,null,null,null,null,{"$f":"J132","v":"41A"},{"$f":"IF($G76>$G77,$D76,IF($G77>$G76,$D77,IF(RIGHT($G76,1)=\"*\",$D76,IF(RIGHT($G77,1)=\"*\",$D77,\"\"))))","v":""},{"$f":"IF($G76>$G77,$E76,IF($G77>$G76,$E77,IF(RIGHT($G76,1)=\"*\",$E76,IF(RIGHT($G77,1)=\"*\",$E77,\"\"))))","v":""}]
[null,null,null,null,null,null,null,{"$f":"J133","v":"41B"},{"$f":"IF($G80>$G81,$D80,IF($G81>$G80,$D81,IF(RIGHT($G80,1)=\"*\",$D80,IF(RIGHT($G81,1)=\"*\",$D81,\"\"))))","v":""},{"$f":"IF($G80>$G81,$E80,IF($G81>$G80,$E81,IF(RIGHT($G80,1)=\"*\",$E80,IF(RIGHT($G81,1)=\"*\",$E81,\"\"))))","v":""}]
[51,{"$f":"E150","v":"50A"},{"$f":"C_Quali!H60","v":290},{"$f":"C_Quali!C60","v":"Richter Felix"},{"$f":"C_Quali!E60","v":"S"},{"$f":"C_Quali!D60","v":"BC Golden Arrows"}]
[6,{"$f":"E151","v":"50B"},{"$f":"C_Quali!H15","v":527},{"$f":"C_Quali!C15","v":"Schneider Wolfgang"},{"$f":"C_Quali!E15","v":"NÖ"},{"$f":"C_Quali!D15","v":"WBZ Union Zwettl"}]
[null,null,null,null,null,null,null,null,null,null,null,null,null,null,null,null,null,null,null,{"$f":"V118","v":37},{"$f":"IF($S66>$S67,$Q66,IF($S67>$S66,$Q67,IF(RIGHT($S66,1)=\"*\",$Q66,IF(RIGHT($S67,1)=\"*\",$Q67,\"\"))))","v":""},{"$f":"IF($S66>$S67,$R66,IF($S67>$S66,$R67,IF(RIGHT($S66,1)=\"*\",$R66,IF(RIGHT($S67,1)=\"*\",$R67,\"\"))))","v":""}]
[null,null,null,null,null,null,null,null,null,null,null,null,null,null,null,null,null,null,null,{"$f":"V119","v":38},{"$f":"IF($S98>$S99,$Q98,IF($S99>$S98,$Q99,IF(RIGHT($S98,1)=\"*\",$Q98,IF(RIGHT($S99,1)=\"*\",$Q99,\"\"))))","v":""},{"$f":"IF($S98>$S99,$R98,IF($S99>$S98,$R99,IF(RIGHT($S98,1)=\"*\",$R98,IF(RIGHT($S99,1)=\"*\",$R99,\"\"))))","v":""}]
[7,{"$f":"E152","v":"51A"},{"$f":"C_Quali!H16","v":526},{"$f":"C_Quali!C16","v":"Koisegg Johann"},{"$f":"C_Quali!E16","v":"T"},{"$f":"C_Quali!D16","v":"BSC Sparkasse Jenbach"}]
[50,{"$f":"E153","v":"51B"},{"$f":"C_Quali!H59","v":294},{"$f":"C_Quali!C59","v":"Schweiger Peter"},{"$f":"C_Quali!E59","v":"T"},{"$f":"C_Quali!D59","v":"BSC Sparkasse Jenbach"}]
[null,null,null,null,null,null,null,{"$f":"J134","v":"42A"},{"$f":"IF($G84>$G85,$D84,IF($G85>$G84,$D85,IF(RIGHT($G84,1)=\"*\",$D84,IF(RIGHT($G85,1)=\"*\",$D85,\"\"))))","v":""},{"$f":"IF($G84>$G85,$E84,IF($G85>$G84,$E85,IF(RIGHT($G84,1)=\"*\",$E84,IF(RIGHT($G85,1)=\"*\",$E85,\"\"))))","v":""}]
[null,null,null,null,null,null,null,{"$f":"J135","v":"42B"},{"$f":"IF($G88>$G89,$D88,IF($G89>$G88,$D89,IF(RIGHT($G88,1)=\"*\",$D88,IF(RIGHT($G89,1)=\"*\",$D89,\"\"))))","v":""},{"$f":"IF($G88>$G89,$E88,IF($G89>$G88,$E89,IF(RIGHT($G88,1)=\"*\",$E88,IF(RIGHT($G89,1)=\"*\",$E89,\"\"))))","v":""}]
[31,{"$f":"E154","v":"52A"},{"$f":"C_Quali!H40","v":502},{"$f":"C_Quali!C40","v":"Kuhn Jürgen Hans"},{"$f":"C_Quali!E40","v":"NÖ"},{"$f":"C_Quali!D40","v":"UBC Diana NÖ"}]
[26,{"$f":"E155","v":"52B"},{"$f":"C_Quali!H35","v":507},{"$f":"C_Quali!C35","v":"Steininger Helmut"},{"$f":"C_Quali!E35","v":"W"},{"$f":"C_Quali!D35","v":"UBSC Artemis Wien"}]
[null,null,null,null,null,null,null,null,null,null,null,{"$f":"N128","v":45},{"$f":"IF($K86>$K87,$I86,IF($K87>$K86,$I87,IF(RIGHT($K86,1)=\"*\",$I86,IF(RIGHT($K87,1)=\"*\",$I87,\"\"))))","v":""},{"$f":"IF($K86>$K87,$J86,IF($K87>$K86,$J87,IF(RIGHT($K86,1)=\"*\",$J86,IF(RIGHT($K87,1)=\"*\",$J87,\"\"))))","v":""},null,null,null,null,null,null,null,null,null,null,"Finale"]
[null,null,null,null,null,null,null,null,null,null,null,{"$f":"N129","v":46},{"$f":"IF($K94>$K95,$I94,IF($K95>$K94,$I95,IF(RIGHT($K94,1)=\"*\",$I94,IF(RIGHT($K95,1)=\"*\",$I95,\"\"))))","v":""},{"$f":"IF($K94>$K95,$J94,IF($K95>$K94,$J95,IF(RIGHT($K94,1)=\"*\",$J94,IF(RIGHT($K95,1)=\"*\",$J95,\"\"))))","v":""},null,null,null,null,null,null,"1/2 Finale"]
[23,{"$f":"E156","v":"53A"},{"$f":"C_Quali!H32","v":510},{"$f":"C_Quali!C32","v":"Gruber Werner"},{"$f":"C_Quali!E32","v":"ST"},{"$f":"C_Quali!D32","v":"Atus Zeltweg Sektion Bogen"}]
[34,{"$f":"E157","v":"53B"},{"$f":"C_Quali!H43","v":424},{"$f":"C_Quali!C43","v":"Hlous Michael"},{"$f":"C_Quali!E43","v":"NÖ"},{"$f":"C_Quali!D43","v":"SEV UNION Isovolta"}]
[null,null,null,null,null,null,null,{"$f":"J136","v":"43A"},{"$f":"IF($G92>$G93,$D92,IF($G93>$G92,$D93,IF(RIGHT($G92,1)=\"*\",$D92,IF(RIGHT($G93,1)=\"*\",$D93,\"\"))))","v":""},{"$f":"IF($G92>$G93,$E92,IF($G93>$G92,$E93,IF(RIGHT($G92,1)=\"*\",$E92,IF(RIGHT($G93,1)=\"*\",$E93,\"\"))))","v":""}]
[null,null,null,null,null,null,null,{"$f":"J137","v":"43B"},{"$f":"IF($G96>$G97,$D96,IF($G97>$G96,$D97,IF(RIGHT($G96,1)=\"*\",$D96,IF(RIGHT($G97,1)=\"*\",$D97,\"\"))))","v":""},{"$f":"IF($G96>$G97,$E96,IF($G97>$G96,$E97,IF(RIGHT($G96,1)=\"*\",$E96,IF(RIGHT($G97,1)=\"*\",$E97,\"\"))))","v":""}]
[47,{"$f":"E158","v":"54A"},{"$f":"C_Quali!H56","v":358},{"$f":"C_Quali!C56","v":"Gschwentner Armin"},{"$f":"C_Quali!E56","v":"T"},{"$f":"C_Quali!D56","v":"BSC Sparkasse Jenbach"}]
[10,{"$f":"E159","v":"54B"},{"$f":"C_Quali!H19","v":523},{"$f":"C_Quali!C19","v":"Linhart Christian"},{"$f":"C_Quali!E19","v":"B"},{"$f":"C_Quali!D19","v":"BSV Stöttera"}]
[null,null,null,null,null,null,null,null,null,null,null,null,null,null,null,{"$f":"R122","v":41},{"$f":"IF($O90>$O91,$M90,IF($O91>$O90,$M91,IF(RIGHT($O90,1)=\"*\",$M90,IF(RIGHT($O91,1)=\"*\",$M91,\"\"))))","v":""},{"$f":"IF($O90>$O91,$N90,IF($O91>$O90,$N91,IF(RIGHT($O90,1)=\"*\",$N90,IF(RIGHT($O91,1)=\"*\",$N91,\"\"))))","v":""}]
[null,null,null,null,null,null,null,null,null,null,null,null,null,null,null,{"$f":"R123","v":42},{"$f":"IF($O104>$O105,$M104,IF($O105>$O104,$M105,IF(RIGHT($O104,1)=\"*\",$M104,IF(RIGHT($O105,1)=\"*\",$M105,\"\"))))","v":""},{"$f":"IF($O104>$O105,$N104,IF($O105>$O104,$N105,IF(RIGHT($O104,1)=\"*\",$N104,IF(RIGHT($O105,1)=\"*\",$N105,\"\"))))","v":""}]
[15,{"$f":"E160","v":"55A"},{"$f":"C_Quali!H24","v":518},{"$f":"C_Quali!C24","v":"Url Marsell"},{"$f":"C_Quali!E24","v":"ST"},{"$f":"C_Quali!D24","v":"UBSC Artemis Steiermark"}]
[42,{"$f":"E161","v":"55B"},{"$f":"C_Quali!H51","v":385},{"$f":"C_Quali!C51","v":"Molnar Jonas"},{"$f":"C_Quali!E51","v":"NÖ"},{"$f":"C_Quali!D51","v":"BSC Fischamend"}]
[null,null,null,null,null,null,null,{"$f":"J138","v":"44A"},{"$f":"IF($G100>$G101,$D100,IF($G101>$G100,$D101,IF(RIGHT($G100,1)=\"*\",$D100,IF(RIGHT($G101,1)=\"*\",$D101,\"\"))))","v":""},{"$f":"IF($G100>$G101,$E100,IF($G101>$G100,$E101,IF(RIGHT($G100,1)=\"*\",$E100,IF(RIGHT($G101,1)=\"*\",$E101,\"\"))))","v":""}]
[null,null,null,null,null,null,null,{"$f":"J139","v":"44B"},{"$f":"IF($G104>$G105,$D104,IF($G105>$G104,$D105,IF(RIGHT($G104,1)=\"*\",$D104,IF(RIGHT($G105,1)=\"*\",$D105,\"\"))))","v":""},{"$f":"IF($G104>$G105,$E104,IF($G105>$G104,$E105,IF(RIGHT($G104,1)=\"*\",$E104,IF(RIGHT($G105,1)=\"*\",$E105,\"\"))))","v":""}]
[39,{"$f":"E162","v":"56A"},{"$f":"C_Quali!H48","v":395},{"$f":"C_Quali!C48","v":"Drapela Norbert"},{"$f":"C_Quali!E48","v":"NÖ"},{"$f":"C_Quali!D48","v":"BSC Stockerau"},null,null,null,null,null,{"$f":"N130","v":47},{"$f":"IF($K102>$K103,$I102,IF($K103>$K102,$I103,IF(RIGHT($K102,1)=\"*\",$I102,IF(RIGHT($K103,1)=\"*\",$I103,\"\"))))","v":""},{"$f":"IF($K102>$K103,$J102,IF($K103>$K102,$J103,IF(RIGHT($K102,1)=\"*\",$J102,IF(RIGHT($K103,1)=\"*\",$J103,\"\"))))","v":""},null,null,"1/4 Finale"]
[18,{"$f":"E163","v":"56B"},{"$f":"C_Quali!H27","v":515},{"$f":"C_Quali!C27","v":"Postl Markus"},{"$f":"C_Quali!E27","v":"ST"},{"$f":"C_Quali!D27","v":"BC Union Graz Seiersberg"},null,null,null,null,null,{"$f":"N131","v":48},{"$f":"I107","v":"Kanduth Wolfgang"},{"$f":"J107","v":"ST"}]
[]
[null,null,null,null,null,null,null,null,{"$f":"D108","v":"Kanduth Wolfgang"},{"$f":"E108","v":"ST"}]
[2,null,{"$f":"C_Quali!H11","v":531},{"$f":"C_Quali!C11","v":"Kanduth Wolfgang"},{"$f":"C_Quali!E11","v":"ST"},{"$f":"C_Quali!D11","v":"BC Wildon Weitendorf"}]
[null,null,null,null,null,null,null,null,null,null,null,null,"1/8 Elimination",null,null,null,{"$f":"Select!C18","v":"Recurve Herren"}]
[null,null,"1/24 Elimination",null,null,null,null,null,"1/12 Elimination"]
[]
[]
[]
[]
[null,null,null,"Scheibe:",null,null,null,null,"Scheibe:"]
[null,null,1,{"$f":"CONCATENATE($I$115,\" \",E116)","v":"Scheibe: 33A"},"33A",null,null,1,{"$f":"CONCATENATE($I$115,\" \",J116)","v":"Scheibe: 33A"},"33A",null,1,{"$f":"CONCATENATE($I$115,\" \",N116)","v":"Scheibe: 33"},33,null,1,{"$f":"CONCATENATE($I$115,\" \",R116)","v":"Scheibe: 35"},35,null,1,{"$f":"CONCATENATE($I$115,\" \",V116)","v":"Scheibe: 35"},35,null,1,{"$f":"CONCATENATE($I$115,\" \",Z116)","v":"Scheibe: 1"},1]
[null,null,null,"Scheibe: 33B",{"$f":"IF(RIGHT(E116,1)=\"A\",CONCATENATE(LEFT(E116,LEN(E116)-1),\"B\"),E116+1)","v":"33B"},null,null,null,"Scheibe: 33B",{"$f":"IF(RIGHT(J116,1)=\"A\",CONCATENATE(LEFT(J116,LEN(J116)-1),\"B\"),J116+1)","v":"33B"},null,null,"Scheibe: 34",{"$f":"IF(RIGHT(N116,1)=\"A\",CONCATENATE(LEFT(N116,LEN(N116)-1),\"B\"),N116+1)","v":34},null,null,"Scheibe: 36",{"$f":"IF(RIGHT(R116,1)=\"A\",CONCATENATE(LEFT(R116,LEN(R116)-1),\"B\"),R116+1)","v":36},null,null,{"$f":"CONCATENATE($I$115,\" \",V117)","v":"Scheibe: 36"},{"$f":"IF(RIGHT(V116,1)=\"A\",CONCATENATE(LEFT(V116,LEN(V116)-1),\"B\"),V116+1)","v":36},null,null,{"$f":"CONCATENATE($I$115,\" \",Z117)","v":"Scheibe: 2"},{"$f":"IF(RIGHT(Z116,1)=\"A\",CONCATENATE(LEFT(Z116,LEN(Z116)-1),\"B\"),Z116+1)","v":2}]
[null,null,{"$f":"C116+1","v":2},"Scheibe: 34A",{"$f":"IF(RIGHT(E117,1)=\"B\",CONCATENATE(LEFT(E117,LEN(E117)-1)+1,\"A\"),E117+1)","v":"34A"},null,null,{"$f":"H116+1","v":2},"Scheibe: 34A",{"$f":"IF(RIGHT(J117,1)=\"B\",CONCATENATE(LEFT(J117,LEN(J117)-1)+1,\"A\"),J117+1)","v":"34A"},null,{"$f":"L116+1","v":2},"Scheibe: 35",{"$f":"IF(RIGHT(N117,1)=\"B\",CONCATENATE(LEFT(N117,LEN(N117)-1)+1,\"A\"),N117+1)","v":35},null,{"$f":"P116+1","v":2},"Scheibe: 37",{"$f":"IF(RIGHT(R117,1)=\"B\",CONCATENATE(LEFT(R117,LEN(R117)-1)+1,\"A\"),R117+1)","v":37},null,{"$f":"T116+1","v":2},{"$f":"CONCATENATE($I$115,\" \",V118)","v":"Scheibe: 37"},{"$f":"IF(RIGHT(V117,1)=\"B\",CONCATENATE(LEFT(V117,LEN(V117)-1)+1,\"A\"),V117+1)","v":37},null,{"$f":"X116+1","v":2},{"$f":"CONCATENATE($I$115,\" \",Z118)","v":"Scheibe: 1"},1]
[null,null,null,"Scheibe: 34B",{"$f":"IF(RIGHT(E118,1)=\"A\",CONCATENATE(LEFT(E118,LEN(E118)-1),\"B\"),E118+1)","v":"34B"},null,null,null,"Scheibe: 34B",{"$f":"IF(RIGHT(J118,1)=\"A\",CONCATENATE(LEFT(J118,LEN(J118)-1),\"B\"),J118+1)","v":"34B"},null,null,"Scheibe: 36",{"$f":"IF(RIGHT(N118,1)=\"A\",CONCATENATE(LEFT(N118,LEN(N118)-1),\"B\"),N118+1)","v":36},null,null,"Scheibe: 38",{"$f":"IF(RIGHT(R118,1)=\"A\",CONCATENATE(LEFT(R118,LEN(R118)-1),\"B\"),R118+1)","v":38},null,null,{"$f":"CONCATENATE($I$115,\" \",V119)","v":"Scheibe: 38"},{"$f":"IF(RIGHT(V118,1)=\"A\",CONCATENATE(LEFT(V118,LEN(V118)-1),\"B\"),V118+1)","v":38},null,null,{"$f":"CONCATENATE($I$115,\" \",Z119)","v":"Scheibe: 2"},{"$f":"IF(RIGHT(Z118,1)=\"A\",CONCATENATE(LEFT(Z118,LEN(Z118)-1),\"B\"),Z118+1)","v":2}]
[null,null,{"$f":"C118+1","v":3},"Scheibe: 35A",{"$f":"IF(RIGHT(E119,1)=\"B\",CONCATENATE(LEFT(E119,LEN(E119)-1)+1,\"A\"),E119+1)","v":"35A"},null,null,{"$f":"H118+1","v":3},"Scheibe: 35A",{"$f":"IF(RIGHT(J119,1)=\"B\",CONCATENATE(LEFT(J119,LEN(J119)-1)+1,\"A\"),J119+1)","v":"35A"},null,{"$f":"L118+1","v":3},"Scheibe: 37",{"$f":"IF(RIGHT(N119,1)=\"B\",CONCATENATE(LEFT(N119,LEN(N119)-1)+1,\"A\"),N119+1)","v":37},null,{"$f":"P118+1","v":3},"Scheibe: 39",{"$f":"IF(RIGHT(R119,1)=\"B\",CONCATENATE(LEFT(R119,LEN(R119)-1)+1,\"A\"),R119+1)","v":39}]
[null,null,null,"Scheibe: 35B",{"$f":"IF(RIGHT(E120,1)=\"A\",CONCATENATE(LEFT(E120,LEN(E120)-1),\"B\"),E120+1)","v":"35B"},null,null,null,"Scheibe: 35B",{"$f":"IF(RIGHT(J120,1)=\"A\",CONCATENATE(LEFT(J120,LEN(J120)-1),\"B\"),J120+1)","v":"35B"},null,null,"Scheibe: 38",{"$f":"IF(RIGHT(N120,1)=\"A\",CONCATENATE(LEFT(N120,LEN(N120)-1),\"B\"),N120+1)","v":38},null,null,"Scheibe: 40",{"$f":"IF(RIGHT(R120,1)=\"A\",CONCATENATE(LEFT(R120,LEN(R120)-1),\"B\"),R120+1)","v":40}]
[null,null,{"$f":"C120+1","v":4},"Scheibe: 36A",{"$f":"IF(RIGHT(E121,1)=\"B\",CONCATENATE(LEFT(E121,LEN(E121)-1)+1,\"A\"),E121+1)","v":"36A"},null,null,{"$f":"H120+1","v":4},"Scheibe: 36A",{"$f":"IF(RIGHT(J121,1)=\"B\",CONCATENATE(LEFT(J121,LEN(J121)-1)+1,\"A\"),J121+1)","v":"36A"},null,{"$f":"L120+1","v":4},"Scheibe: 39",{"$f":"IF(RIGHT(N121,1)=\"B\",CONCATENATE(LEFT(N121,LEN(N121)-1)+1,\"A\"),N121+1)","v":39},null,{"$f":"P120+1","v":4},"Scheibe: 41",{"$f":"IF(RIGHT(R121,1)=\"B\",CONCATENATE(LEFT(R121,LEN(R121)-1)+1,\"A\"),R121+1)","v":41}]
[null,null,null,"Scheibe: 36B",{"$f":"IF(RIGHT(E122,1)=\"A\",CONCATENATE(LEFT(E122,LEN(E122)-1),\"B\"),E122+1)","v":"36B"},null,null,null,"Scheibe: 36B",{"$f":"IF(RIGHT(J122,1)=\"A\",CONCATENATE(LEFT(J122,LEN(J122)-1),\"B\"),J122+1)","v":"36B"},null,null,"Scheibe: 40",{"$f":"IF(RIGHT(N122,1)=\"A\",CONCATENATE(LEFT(N122,LEN(N122)-1),\"B\"),N122+1)","v":40},null,null,"Scheibe: 42",{"$f":"IF(RIGHT(R122,1)=\"A\",CONCATENATE(LEFT(R122,LEN(R122)-1),\"B\"),R122+1)","v":42}]
[null,null,{"$f":"C122+1","v":5},"Scheibe: 37A",{"$f":"IF(RIGHT(E123,1)=\"B\",CONCATENATE(LEFT(E123,LEN(E123)-1)+1,\"A\"),E123+1)","v":"37A"},null,null,{"$f":"H122+1","v":5},"Scheibe: 37A",{"$f":"IF(RIGHT(J123,1)=\"B\",CONCATENATE(LEFT(J123,LEN(J123)-1)+1,\"A\"),J123+1)","v":"37A"},null,{"$f":"L122+1","v":5},"Scheibe: 41",{"$f":"IF(RIGHT(N123,1)=\"B\",CONCATENATE(LEFT(N123,LEN(N123)-1)+1,\"A\"),N123+1)","v":41}]
[null,null,null,"Scheibe: 37B",{"$f":"IF(RIGHT(E124,1)=\"A\",CONCATENATE(LEFT(E124,LEN(E124)-1),\"B\"),E124+1)","v":"37B"},null,null,null,"Scheibe: 37B",{"$f":"IF(RIGHT(J124,1)=\"A\",CONCATENATE(LEFT(J124,LEN(J124)-1),\"B\"),J124+1)","v":"37B"},null,null,"Scheibe: 42",{"$f":"IF(RIGHT(N124,1)=\"A\",CONCATENATE(LEFT(N124,LEN(N124)-1),\"B\"),N124+1)","v":42}]
[null,null,{"$f":"C124+1","v":6},"Scheibe: 38A",{"$f":"IF(RIGHT(E125,1)=\"B\",CONCATENATE(LEFT(E125,LEN(E125)-1)+1,\"A\"),E125+1)","v":"38A"},null,null,{"$f":"H124+1","v":6},"Scheibe: 38A",{"$f":"IF(RIGHT(J125,1)=\"B\",CONCATENATE(LEFT(J125,LEN(J125)-1)+1,\"A\"),J125+1)","v":"38A"},null,{"$f":"L124+1","v":6},"Scheibe: 43",{"$f":"IF(RIGHT(N125,1)=\"B\",CONCATENATE(LEFT(N125,LEN(N125)-1)+1,\"A\"),N125+1)","v":43}]
[null,null,null,"Scheibe: 38B",{"$f":"IF(RIGHT(E126,1)=\"A\",CONCATENATE(LEFT(E126,LEN(E126)-1),\"B\"),E126+1)","v":"38B"},null,null,null,"Scheibe: 38B",{"$f":"IF(RIGHT(J126,1)=\"A\",CONCATENATE(LEFT(J126,LEN(J126)-1),\"B\"),J126+1)","v":"38B"},null,null,"Scheibe: 44",{"$f":"IF(RIGHT(N126,1)=\"A\",CONCATENATE(LEFT(N126,LEN(N126)-1),\"B\"),N126+1)","v":44}]
[null,null,{"$f":"C126+1","v":7},"Scheibe: 39A",{"$f":"IF(RIGHT(E127,1)=\"B\",CONCATENATE(LEFT(E127,LEN(E127)-1)+1,\"A\"),E127+1)","v":"39A"},null,null,{"$f":"H126+1","v":7},"Scheibe: 39A",{"$f":"IF(RIGHT(J127,1)=\"B\",CONCATENATE(LEFT(J127,LEN(J127)-1)+1,\"A\"),J127+1)","v":"39A"},null,{"$f":"L126+1","v":7},"Scheibe: 45",{"$f":"IF(RIGHT(N127,1)=\"B\",CONCATENATE(LEFT(N127,LEN(N127)-1)+1,\"A\"),N127+1)","v":45}]
[null,null,null,"Scheibe: 39B",{"$f":"IF(RIGHT(E128,1)=\"A\",CONCATENATE(LEFT(E128,LEN(E128)-1),\"B\"),E128+1)","v":"39B"},null,null,null,"Scheibe: 39B",{"$f":"IF(RIGHT(J128,1)=\"A\",CONCATENATE(LEFT(J128,LEN(J128)-1),\"B\"),J128+1)","v":"39B"},null,null,"Scheibe: 46",{"$f":"IF(RIGHT(N128,1)=\"A\",CONCATENATE(LEFT(N128,LEN(N128)-1),\"B\"),N128+1)","v":46}]
[null,null,{"$f":"C128+1","v":8},"Scheibe: 40A",{"$f":"IF(RIGHT(E129,1)=\"B\",CONCATENATE(LEFT(E129,LEN(E129)-1)+1,\"A\"),E129+1)","v":"40A"},null,null,{"$f":"H128+1","v":8},"Scheibe: 40A",{"$f":"IF(RIGHT(J129,1)=\"B\",CONCATENATE(LEFT(J129,LEN(J129)-1)+1,\"A\"),J129+1)","v":"40A"},null,{"$f":"L128+1","v":8},"Scheibe: 47",{"$f":"IF(RIGHT(N129,1)=\"B\",CONCATENATE(LEFT(N129,LEN(N129)-1)+1,\"A\"),N129+1)","v":47}]
[null,null,null,"Scheibe: 40B",{"$f":"IF(RIGHT(E130,1)=\"A\",CONCATENATE(LEFT(E130,LEN(E130)-1),\"B\"),E130+1)","v":"40B"},null,null,null,"Scheibe: 40B",{"$f":"IF(RIGHT(J130,1)=\"A\",CONCATENATE(LEFT(J130,LEN(J130)-1),\"B\"),J130+1)","v":"40B"},null,null,"Scheibe: 48",{"$f":"IF(RIGHT(N130,1)=\"A\",CONCATENATE(LEFT(N130,LEN(N130)-1),\"B\"),N130+1)","v":48}]
[null,null,{"$f":"C130+1","v":9},"Scheibe: 41A",{"$f":"IF(RIGHT(E131,1)=\"B\",CONCATENATE(LEFT(E131,LEN(E131)-1)+1,\"A\"),E131+1)","v":"41A"},null,null,{"$f":"H130+1","v":9},"Scheibe: 41A",{"$f":"IF(RIGHT(J131,1)=\"B\",CONCATENATE(LEFT(J131,LEN(J131)-1)+1,\"A\"),J131+1)","v":"41A"}]
[null,null,null,"Scheibe: 41B",{"$f":"IF(RIGHT(E132,1)=\"A\",CONCATENATE(LEFT(E132,LEN(E132)-1),\"B\"),E132+1)","v":"41B"},null,null,null,"Scheibe: 41B",{"$f":"IF(RIGHT(J132,1)=\"A\",CONCATENATE(LEFT(J132,LEN(J132)-1),\"B\"),J132+1)","v":"41B"}]
[null,null,{"$f":"C132+1","v":10},"Scheibe: 42A",{"$f":"IF(RIGHT(E133,1)=\"B\",CONCATENATE(LEFT(E133,LEN(E133)-1)+1,\"A\"),E133+1)","v":"42A"},null,null,{"$f":"H132+1","v":10},"Scheibe: 42A",{"$f":"IF(RIGHT(J133,1)=\"B\",CONCATENATE(LEFT(J133,LEN(J133)-1)+1,\"A\"),J133+1)","v":"42A"}]
[null,null,null,"Scheibe: 42B",{"$f":"IF(RIGHT(E134,1)=\"A\",CONCATENATE(LEFT(E134,LEN(E134)-1),\"B\"),E134+1)","v":"42B"},null,null,null,"Scheibe: 42B",{"$f":"IF(RIGHT(J134,1)=\"A\",CONCATENATE(LEFT(J134,LEN(J134)-1),\"B\"),J134+1)","v":"42B"}]
[null,null,{"$f":"C134+1","v":11},"Scheibe: 43A",{"$f":"IF(RIGHT(E135,1)=\"B\",CONCATENATE(LEFT(E135,LEN(E135)-1)+1,\"A\"),E135+1)","v":"43A"},null,null,{"$f":"H134+1","v":11},"Scheibe: 43A",{"$f":"IF(RIGHT(J135,1)=\"B\",CONCATENATE(LEFT(J135,LEN(J135)-1)+1,\"A\"),J135+1)","v":"43A"}]
[null,null,null,"Scheibe: 43B",{"$f":"IF(RIGHT(E136,1)=\"A\",CONCATENATE(LEFT(E136,LEN(E136)-1),\"B\"),E136+1)","v":"43B"},null,null,null,"Scheibe: 43B",{"$f":"IF(RIGHT(J136,1)=\"A\",CONCATENATE(LEFT(J136,LEN(J136)-1),\"B\"),J136+1)","v":"43B"}]
[null,null,{"$f":"C136+1","v":12},"Scheibe: 44A",{"$f":"IF(RIGHT(E137,1)=\"B\",CONCATENATE(LEFT(E137,LEN(E137)-1)+1,\"A\"),E137+1)","v":"44A"},null,null,{"$f":"H136+1","v":12},"Scheibe: 44A",{"$f":"IF(RIGHT(J137,1)=\"B\",CONCATENATE(LEFT(J137,LEN(J137)-1)+1,\"A\"),J137+1)","v":"44A"}]
[null,null,null,"Scheibe: 44B",{"$f":"IF(RIGHT(E138,1)=\"A\",CONCATENATE(LEFT(E138,LEN(E138)-1),\"B\"),E138+1)","v":"44B"},null,null,null,"Scheibe: 44B",{"$f":"IF(RIGHT(J138,1)=\"A\",CONCATENATE(LEFT(J138,LEN(J138)-1),\"B\"),J138+1)","v":"44B"}]
[null,null,{"$f":"C138+1","v":13},"Scheibe: 45A",{"$f":"IF(RIGHT(E139,1)=\"B\",CONCATENATE(LEFT(E139,LEN(E139)-1)+1,\"A\"),E139+1)","v":"45A"},null,null,{"$f":"H138+1","v":13},"Scheibe: 45A",{"$f":"IF(RIGHT(J139,1)=\"B\",CONCATENATE(LEFT(J139,LEN(J139)-1)+1,\"A\"),J139+1)","v":"45A"}]
[null,null,null,"Scheibe: 45B",{"$f":"IF(RIGHT(E140,1)=\"A\",CONCATENATE(LEFT(E140,LEN(E140)-1),\"B\"),E140+1)","v":"45B"},null,null,null,"Scheibe: 45B",{"$f":"IF(RIGHT(J140,1)=\"A\",CONCATENATE(LEFT(J140,LEN(J140)-1),\"B\"),J140+1)","v":"45B"}]
[null,null,{"$f":"C140+1","v":14},"Scheibe: 46A",{"$f":"IF(RIGHT(E141,1)=\"B\",CONCATENATE(LEFT(E141,LEN(E141)-1)+1,\"A\"),E141+1)","v":"46A"},null,null,{"$f":"H140+1","v":14},"Scheibe: 46A",{"$f":"IF(RIGHT(J141,1)=\"B\",CONCATENATE(LEFT(J141,LEN(J141)-1)+1,\"A\"),J141+1)","v":"46A"}]
[null,null,null,"Scheibe: 46B",{"$f":"IF(RIGHT(E142,1)=\"A\",CONCATENATE(LEFT(E142,LEN(E142)-1),\"B\"),E142+1)","v":"46B"},null,null,null,"Scheibe: 46B",{"$f":"IF(RIGHT(J142,1)=\"A\",CONCATENATE(LEFT(J142,LEN(J142)-1),\"B\"),J142+1)","v":"46B"}]
[null,null,{"$f":"C142+1","v":15},"Scheibe: 47A",{"$f":"IF(RIGHT(E143,1)=\"B\",CONCATENATE(LEFT(E143,LEN(E143)-1)+1,\"A\"),E143+1)","v":"47A"},null,null,{"$f":"H142+1","v":15},"Scheibe: 47A",{"$f":"IF(RIGHT(J143,1)=\"B\",CONCATENATE(LEFT(J143,LEN(J143)-1)+1,\"A\"),J143+1)","v":"47A"}]
[null,null,null,"Scheibe: 47B",{"$f":"IF(RIGHT(E144,1)=\"A\",CONCATENATE(LEFT(E144,LEN(E144)-1),\"B\"),E144+1)","v":"47B"},null,null,null,"Scheibe: 47B",{"$f":"IF(RIGHT(J144,1)=\"A\",CONCATENATE(LEFT(J144,LEN(J144)-1),\"B\"),J144+1)","v":"47B"}]
[null,null,{"$f":"C144+1","v":16},"Scheibe: 48A",{"$f":"IF(RIGHT(E145,1)=\"B\",CONCATENATE(LEFT(E145,LEN(E145)-1)+1,\"A\"),E145+1)","v":"48A"},null,null,{"$f":"H144+1","v":16},"Scheibe: 48A",{"$f":"IF(RIGHT(J145,1)=\"B\",CONCATENATE(LEFT(J145,LEN(J145)-1)+1,\"A\"),J145+1)","v":"48A"}]
[null,null,null,"Scheibe: 48B",{"$f":"IF(RIGHT(E146,1)=\"A\",CONCATENATE(LEFT(E146,LEN(E146)-1),\"B\"),E146+1)","v":"48B"},null,null,null,"Scheibe: 48B",{"$f":"IF(RIGHT(J146,1)=\"A\",CONCATENATE(LEFT(J146,LEN(J146)-1),\"B\"),J146+1)","v":"48B"}]
[null,null,{"$f":"C146+1","v":17},"Scheibe: 49A",{"$f":"IF(RIGHT(E147,1)=\"B\",CONCATENATE(LEFT(E147,LEN(E147)-1)+1,\"A\"),E147+1)","v":"49A"}]
[null,null,null,"Scheibe: 49B",{"$f":"IF(RIGHT(E148,1)=\"A\",CONCATENATE(LEFT(E148,LEN(E148)-1),\"B\"),E148+1)","v":"49B"}]
[null,null,{"$f":"C148+1","v":18},"Scheibe: 50A",{"$f":"IF(RIGHT(E149,1)=\"B\",CONCATENATE(LEFT(E149,LEN(E149)-1)+1,\"A\"),E149+1)","v":"50A"}]
[null,null,null,"Scheibe: 50B",{"$f":"IF(RIGHT(E150,1)=\"A\",CONCATENATE(LEFT(E150,LEN(E150)-1),\"B\"),E150+1)","v":"50B"}]
[null,null,{"$f":"C150+1","v":19},"Scheibe: 51A",{"$f":"IF(RIGHT(E151,1)=\"B\",CONCATENATE(LEFT(E151,LEN(E151)-1)+1,\"A\"),E151+1)","v":"51A"}]
[null,null,null,"Scheibe: 51B",{"$f":"IF(RIGHT(E152,1)=\"A\",CONCATENATE(LEFT(E152,LEN(E152)-1),\"B\"),E152+1)","v":"51B"}]
[null,null,{"$f":"C152+1","v":20},"Scheibe: 52A",{"$f":"IF(RIGHT(E153,1)=\"B\",CONCATENATE(LEFT(E153,LEN(E153)-1)+1,\"A\"),E153+1)","v":"52A"}]
[null,null,null,"Scheibe: 52B",{"$f":"IF(RIGHT(E154,1)=\"A\",CONCATENATE(LEFT(E154,LEN(E154)-1),\"B\"),E154+1)","v":"52B"}]
[null,null,{"$f":"C154+1","v":21},"Scheibe: 53A",{"$f":"IF(RIGHT(E155,1)=\"B\",CONCATENATE(LEFT(E155,LEN(E155)-1)+1,\"A\"),E155+1)","v":"53A"}]
[null,null,null,"Scheibe: 53B",{"$f":"IF(RIGHT(E156,1)=\"A\",CONCATENATE(LEFT(E156,LEN(E156)-1),\"B\"),E156+1)","v":"53B"}]
[null,null,{"$f":"C156+1","v":22},"Scheibe: 54A",{"$f":"IF(RIGHT(E157,1)=\"B\",CONCATENATE(LEFT(E157,LEN(E157)-1)+1,\"A\"),E157+1)","v":"54A"}]
[null,null,null,"Scheibe: 54B",{"$f":"IF(RIGHT(E158,1)=\"A\",CONCATENATE(LEFT(E158,LEN(E158)-1),\"B\"),E158+1)","v":"54B"}]
[null,null,{"$f":"C158+1","v":23},"Scheibe: 55A",{"$f":"IF(RIGHT(E159,1)=\"B\",CONCATENATE(LEFT(E159,LEN(E159)-1)+1,\"A\"),E159+1)","v":"55A"}]
[null,null,null,"Scheibe: 55B",{"$f":"IF(RIGHT(E160,1)=\"A\",CONCATENATE(LEFT(E160,LEN(E160)-1),\"B\"),E160+1)","v":"55B"}]
[null,null,{"$f":"C160+1","v":24},"Scheibe: 56A",{"$f":"IF(RIGHT(E161,1)=\"B\",CONCATENATE(LEFT(E161,LEN(E161)-1)+1,\"A\"),E161+1)","v":"56A"}]
[null,null,null,"Scheibe: 56B",{"$f":"IF(RIGHT(E162,1)=\"A\",CONCATENATE(LEFT(E162,LEN(E162)-1),\"B\"),E162+1)","v":"56B"}]

{"sheet":"C52","index":20,"n_rows":1663,"n_cols":22,"rows_kept":1663,"cut":false,"hidden":true,"merged":[[1639,0,1639,6],[1641,0,1641,6],[1634,13,1634,14],[1634,21,1634,22],[1635,0,1635,6],[1636,0,1636,1],[1637,0,1637,6],[1633,8,1633,11],[1633,12,1633,14],[1633,16,1633,19],[1633,20,1633,22],[1650,5,1650,6],[1650,13,1650,14],[1650,21,1650,22],[1643,0,1643,6],[1644,0,1644,1],[1649,0,1649,3],[1649,4,1649,6],[1649,8,1649,11],[1649,12,1649,14],[1649,16,1649,19],[1649,20,1649,22],[1607,0,1607,6],[1609,0,1609,6],[1602,13,1602,14],[1602,21,1602,22],[1603,0,1603,6],[1604,0,1604,1],[1605,0,1605,6],[1601,8,1601,11],[1601,12,1601,14],[1601,16,1601,19],[1601,20,1601,22],[1618,5,1618,6],[1618,13,1618,14],[1618,21,1618,22],[1611,0,1611,6],[1612,0,1612,1],[1617,0,1617,3],[1617,4,1617,6],[1617,8,1617,11],[1617,12,1617,14],[1617,16,1617,19],[1617,20,1617,22],[1575,0,1575,6],[1577,0,1577,6],[1570,13,1570,14],[1570,21,1570,22],[1571,0,1571,6],[1572,0,1572,1],[1573,0,1573,6],[1569,8,1569,11],[1569,12,1569,14],[1569,16,1569,19],[1569,20,1569,22],[1586,5,1586,6],[1586,13,1586,14],[1586,21,1586,22],[1579,0,1579,6],[1580,0,1580,1],[1585,0,1585,3],[1585,4,1585,6],[1585,8,1585,11],[1585,12,1585,14],[1585,16,1585,19],[1585,20,1585,22],[1543,0,1543,6],[1545,0,1545,6],[1538,13,1538,14],[1538,21,1538,22],[1539,0,1539,6],[1540,0,1540,1],[1541,0,1541,6],[1537,8,1537,11],[1537,12,1537,14],[1537,16,1537,19],[1537,20,1537,22],[1554,5,1554,6],[1554,13,1554,14],[1554,21,1554,22],[1547,0,1547,6],[1548,0,1548,1],[1553,0,1553,3],[1553,4,1553,6],[1553,8,1553,11],[1553,12,1553,14],[1553,16,1553,19],[1553,20,1553,22],[1511,0,1511,6],[1513,0,1513,6],[1506,13,1506,14],[1506,21,1506,22],[1507,0,1507,6],[1508,0,1508,1],[1509,0,1509,6],[1505,8,1505,11],[1505,12,1505,14],[1505,16,1505,19],[1505,20,1505,22],[1522,5,1522,6],[1522,13,1522,14],[1522,21,1522,22],[1515,0,1515,6],[1516,0,1516,1],[1521,0,1521,3],[1521,4,1521,6],[1521,8,1521,11],[1521,12,1521,14],[1521,16,1521,19],[1521,20,1521,22],[1479,0,1479,6],[1481,0,1481,6],[1474,13,1474,14],[1474,21,1474,22],[1475,0,1475,6],[1476,0,1476,1],[1477,0,1477,6],[1473,8,1473,11],[1473,12,1473,14],[1473,16,1473,19],[1473,20,1473,22],[1490,5,1490,6],[1490,13,1490,14],[1490,21,1490,22],[1483,0,1483,6],[1484,0,1484,1],[1489,0,1489,3],[1489,4,1489,6],[1489,8,1489,11],[1489,12,1489,14],[1489,16,1489,19],[1489,20,1489,22],[1447,0,1447,6],[1449,0,1449,6],[1442,13,1442,14],[1442,21,1442,22],[1443,0,1443,6],[1444,0,1444,1],[1445,0,1445,6],[1441,8,1441,11],[1441,12,1441,14],[1441,16,1441,19],[1441,20,1441,22],[1458,5,1458,6],[1458,13,1458,14],[1458,21,1458,22],[1451,0,1451,6],[1452,0,1452,1],[1457,0,1457,3],[1457,4,1457,6],[1457,8,1457,11],[1457,12,1457,14],[1457,16,1457,19],[1457,20,1457,22],[1415,0,1415,6],[1417,0,1417,6],[1410,13,1410,14],[1410,21,1410,22],[1411,0,1411,6],[1412,0,1412,1],[1413,0,1413,6],[1409,8,1409,11],[1409,12,1409,14],[1409,16,1409,19],[1409,20,1409,22],[1426,5,1426,6],[1426,13,1426,14],[1426,21,1426,22],[1419,0,1419,6],[1420,0,1420,1],[1425,0,1425,3],[1425,4,1425,6],[1425,8,1425,11],[1425,12,1425,14],[1425,16,1425,19],[1425,20,1425,22],[1383,0,1383,6],[1385,0,1385,6],[1378,13,1378,14],[1378,21,1378,22],[1379,0,1379,6],[1380,0,1380,1],[1381,0,1381,6],[1377,8,1377,11],[1377,12,1377,14],[1377,16,1377,19],[1377,20,1377,22],[1394,5,1394,6],[1394,13,1394,14],[1394,21,1394,22],[1387,0,1387,6],[1388,0,1388,1],[1393,0,1393,3],[1393,4,1393,6],[1393,8,1393,11],[1393,12,1393,14],[1393,16,1393,19],[1393,20,1393,22],[1351,0,1351,6],[1353,0,1353,6],[1346,13,1346,14],[1346,21,1346,22],[1347,0,1347,6],[1348,0,1348,1],[1349,0,1349,6],[1345,8,1345,11],[1345,12,1345,14],[1345,16,1345,19],[1345,20,1345,22],[1362,5,1362,6],[1362,13,1362,14],[1362,21,1362,22],[1355,0,1355,6],[1356,0,1356,1],[1361,0,1361,3],[1361,4,1361,6],[1361,8,1361,11],[1361,12,1361,14],[1361,16,1361,19],[1361,20,1361,22],[1319,0,1319,6],[1321,0,1321,6],[1314,13,1314,14],[1314,21,1314,22],[1315,0,1315,6],[1316,0,1316,1],[1317,0,1317,6],[1313,8,1313,11],[1313,12,1313,14],[1313,16,1313,19],[1313,20,1313,22],[1330,5,1330,6],[1330,13,1330,14],[1330,21,1330,22],[1323,0,1323,6],[1324,0,1324,1],[1329,0,1329,3],[1329,4,1329,6],[1329,8,1329,11],[1329,12,1329,14],[1329,16,1329,19],[1329,20,1329,22],[1287,0,1287,6],[1289,0,1289,6],[1282,13,1282,14],[1282,21,1282,22],[1283,0,1283,6],[1284,0,1284,1],[1285,0,1285,6],[1281,8,1281,11],[1281,12,1281,14],[1281,16,1281,19],[1281,20,1281,22],[1298,5,1298,6],[1298,13,1298,14],[1298,21,1298,22],[1291,0,1291,6],[1292,0,1292,1],[1297,0,1297,3],[1297,4,1297,6],[1297,8,1297,11],[1297,12,1297,14],[1297,16,1297,19],[1297,20,1297,22],[1255,0,1255,6],[1257,0,1257,6],[1250,13,1250,14],[1250,21,1250,22],[1251,0,1251,6],[1252,0,1252,1],[1253,0,1253,6],[1249,8,1249,11],[1249,12,1249,14],[1249,16,1249,19],[1249,20,1249,22],[1266,5,1266,6],[1266,13,1266,14],[1266,21,1266,22],[1259,0,1259,6],[1260,0,1260,1],[1265,0,1265,3],[1265,4,1265,6],[1265,8,1265,11],[1265,12,1265,14],[1265,16,1265,19],[1265,20,1265,22],[1223,0,1223,6],[1225,0,1225,6],[1218,13,1218,14],[1218,21,1218,22],[1219,0,1219,6],[1220,0,1220,1],[1221,0,1221,6],[1217,8,1217,11],[1217,12,1217,14],[1217,16,1217,19],[1217,20,1217,22],[1234,5,1234,6],[1234,13,1234,14],[1234,21,1234,22],[1227,0,1227,6],[1228,0,1228,1],[1233,0,1233,3],[1233,4,1233,6],[1233,8,1233,11],[1233,12,1233,14],[1233,16,1233,19],[1233,20,1233,22],[1191,0,1191,6],[1193,0,1193,6],[1186,13,1186,14],[1186,21,1186,22],[1187,0,1187,6],[1188,0,1188,1],[1189,0,1189,6],[1185,8,1185,11],[1185,12,1185,14],[1185,16,1185,19],[1185,20,1185,22],[1202,5,1202,6],[1202,13,1202,14],[1202,21,1202,22],[1195,0,1195,6],[1196,0,1196,1],[1201,0,1201,3],[1201,4,1201,6],[1201,8,1201,11],[1201,12,1201,14],[1201,16,1201,19],[1201,20,1201,22],[1159,0,1159,6],[1161,0,1161,6],[1154,13,1154,14],[1154,21,1154,22],[1155,0,1155,6],[1156,0,1156,1],[1157,0,1157,6],[1153,8,1153,11],[1153,12,1153,14],[1153,16,1153,19],[1153,20,1153,22],[1170,5,1170,6],[1170,13,1170,14],[1170,21,1170,22],[1163,0,1163,6],[1164,0,1164,1],[1169,0,1169,3],[1169,4,1169,6],[1169,8,1169,11],[1169,12,1169,14],[1169,16,1169,19],[1169,20,1169,22],[1127,0,1127,6],[1129,0,1129,6],[1122,13,1122,14],[1122,21,1122,22],[1123,0,1123,6],[1124,0,1124,1],[1125,0,1125,6],[1121,8,1121,11],[1121,12,1121,14],[1121,16,1121,19],[1121,20,1121,22],[1138,5,1138,6],[1138,13,1138,14],[1138,21,1138,22],[1131,0,1131,6],[1132,0,1132,1],[1137,0,1137,3],[1137,4,1137,6],[1137,8,1137,11],[1137,12,1137,14],[1137,16,1137,19],[1137,20,1137,22],[1095,0,1095,6],[1097,0,1097,6],[1090,13,1090,14],[1090,21,1090,22],[1091,0,1091,6],[1092,0,1092,1],[1093,0,1093,6],[1089,8,1089,11],[1089,12,1089,14],[1089,16,1089,19],[1089,20,1089,22],[1106,5,1106,6],[1106,13,1106,14],[1106,21,1106,22],[1099,0,1099,6],[1100,0,1100,1],[1105,0,1105,3],[1105,4,1105,6],[1105,8,1105,11],[1105,12,1105,14],[1105,16,1105,19],[1105,20,1105,22],[1063,0,1063,6],[1065,0,1065,6],[1058,13,1058,14],[1058,21,1058,22],[1059,0,1059,6],[1060,0,1060,1],[1061,0,1061,6],[1057,8,1057,11],[1057,12,1057,14],[1057,16,1057,19],[1057,20,1057,22],[1074,5,1074,6],[1074,13,1074,14],[1074,21,1074,22],[1067,0,1067,6],[1068,0,1068,1],[1073,0,1073,3],[1073,4,1073,6],[1073,8,1073,11],[1073,12,1073,14],[1073,16,1073,19],[1073,20,1073,22],[1031,0,1031,6],[1033,0,1033,6],[1026,13,1026,14],[1026,21,1026,22],[1027,0,1027,6],[1028,0,1028,1],[1029,0,1029,6],[1025,8,1025,11],[1025,12,1025,14],[1025,16,1025,19],[1025,20,1025,22],[1042,5,1042,6],[1042,13,1042,14],[1042,21,1042,22],[1035,0,1035,6],[1036,0,1036,1],[1041,0,1041,3],[1041,4,1041,6],[1041,8,1041,11],[1041,12,1041,14],[1041,16,1041,19],[1041,20,1041,22],[999,0,999,6],[1001,0,1001,6],[994,13,994,14],[994,21,994,22],[995,0,995,6],[996,0,996,1],[997,0,997,6],[993,8,993,11],[993,12,993,14],[993,16,993,19],[993,20,993,22],[1010,5,1010,6],[1010,13,1010,14],[1010,21,1010,22],[1003,0,1003,6],[1004,0,1004,1],[1009,0,1009,3],[1009,4,1009,6],[1009,8,1009,11],[1009,12,1009,14],[1009,16,1009,19],[1009,20,1009,22],[967,0,967,6],[969,0,969,6],[962,13,962,14],[962,21,962,22],[963,0,963,6],[964,0,964,1],[965,0,965,6],[961,8,961,11],[961,12,961,14],[961,16,961,19],[961,20,961,22],[978,5,978,6],[978,13,978,14],[978,21,978,22],[971,0,971,6],[972,0,972,1],[977,0,977,3],[977,4,977,6],[977,8,977,11],[977,12,977,14],[977,16,977,19],[977,20,977,22],[935,0,935,6],[937,0,937,6],[930,13,930,14],[930,21,930,22],[931,0,931,6],[932,0,932,1],[933,0,933,6],[929,8,929,11],[929,12,929,14],[929,16,929,19],[929,20,929,22],[946,5,946,6],[946,13,946,14],[946,21,946,22],[939,0,939,6],[940,0,940,1],[945,0,945,3],[945,4,945,6],[945,8,945,11],[945,12,945,14],[945,16,945,19],[945,20,945,22],[903,0,903,6],[905,0,905,6],[898,13,898,14],[898,21,898,22],[899,0,899,6],[900,0,900,1],[901,0,901,6],[897,8,897,11],[897,12,897,14],[897,16,897,19],[897,20,897,22],[914,5,914,6],[914,13,914,14],[914,21,914,22],[907,0,907,6],[908,0,908,1],[913,0,913,3],[913,4,913,6],[913,8,913,11],[913,12,913,14],[913,16,913,19],[913,20,913,22],[871,0,871,6],[873,0,873,6],[866,13,866,14],[866,21,866,22],[867,0,867,6],[868,0,868,1],[869,0,869,6],[865,8,865,11],[865,12,865,14],[865,16,865,19],[865,20,865,22],[882,5,882,6],[882,13,882,14],[882,21,882,22],[875,0,875,6],[876,0,876,1],[881,0,881,3],[881,4,881,6],[881,8,881,11],[881,12,881,14],[881,16,881,19],[881,20,881,22],[839,0,839,6],[841,0,841,6],[834,13,834,14],[834,21,834,22],[835,0,835,6],[836,0,836,1],[837,0,837,6],[833,8,833,11],[833,12,833,14],[833,16,833,19],[833,20,833,22],[850,5,850,6],[850,13,850,14],[850,21,850,22],[843,0,843,6],[844,0,844,1],[849,0,849,3],[849,4,849,6],[849,8,849,11],[849,12,849,14],[849,16,849,19],[849,20,849,22],[807,0,807,6],[809,0,809,6],[802,13,802,14],[802,21,802,22],[803,0,803,6],[804,0,804,1],[805,0,805,6],[801,8,801,11],[801,12,801,14],[801,16,801,19],[801,20,801,22],[818,5,818,6],[818,13,818,14],[818,21,818,22],[811,0,811,6],[812,0,812,1],[817,0,817,3],[817,4,817,6],[817,8,817,11],[817,12,817,14],[817,16,817,19],[817,20,817,22],[775,0,775,6],[777,0,777,6],[770,13,770,14],[770,21,770,22],[771,0,771,6],[772,0,772,1],[773,0,773,6],[769,8,769,11],[769,12,769,14],[769,16,769,19],[769,20,769,22],[786,5,786,6],[786,13,786,14],[786,21,786,22],[779,0,779,6],[780,0,780,1],[785,0,785,3],[785,4,785,6],[785,8,785,11],[785,12,785,14],[785,16,785,19],[785,20,785,22],[743,0,743,6],[745,0,745,6],[738,13,738,14],[738,21,738,22],[739,0,739,6],[740,0,740,1],[741,0,741,6],[737,8,737,11],[737,12,737,14],[737,16,737,19],[737,20,737,22],[754,5,754,6],[754,13,754,14],[754,21,754,22],[747,0,747,6],[748,0,748,1],[753,0,753,3],[753,4,753,6],[753,8,753,11],[753,12,753,14],[753,16,753,19],[753,20,753,22],[711,0,711,6],[713,0,713,6],[706,13,706,14],[706,21,706,22],[707,0,707,6],[708,0,708,1],[709,0,709,6],[705,8,705,11],[705,12,705,14],[705,16,705,19],[705,20,705,22],[722,5,722,6],[722,13,722,14],[722,21,722,22],[715,0,715,6],[716,0,716,1],[721,0,721,3],[721,4,721,6],[721,8,721,11],[721,12,721,14],[721,16,721,19],[721,20,721,22],[679,0,679,6],[681,0,681,6],[674,13,674,14],[674,21,674,22],[675,0,675,6],[676,0,676,1],[677,0,677,6],[673,8,673,11],[673,12,673,14],[673,16,673,19],[673,20,673,22],[690,5,690,6],[690,13,690,14],[690,21,690,22],[683,0,683,6],[684,0,684,1],[689,0,689,3],[689,4,689,6],[689,8,689,11],[689,12,689,14],[689,16,689,19],[689,20,689,22],[647,0,647,6],[649,0,649,6],[642,13,642,14],[642,21,642,22],[643,0,643,6],[644,0,644,1],[645,0,645,6],[641,8,641,11],[641,12,641,14],[641,16,641,19],[641,20,641,22],[658,5,658,6],[658,13,658,14],[658,21,658,22],[651,0,651,6],[652,0,652,1],[657,0,657,3],[657,4,657,6],[657,8,657,11],[657,12,657,14],[657,16,657,19],[657,20,657,22],[615,0,615,6],[617,0,617,6],[610,13,610,14],[610,21,610,22],[611,0,611,6],[612,0,612,1],[613,0,613,6],[609,8,609,11],[609,12,609,14],[609,16,609,19],[609,20,609,22],[626,5,626,6],[626,13,626,14],[626,21,626,22],[619,0,619,6],[620,0,620,1],[625,0,625,3],[625,4,625,6],[625,8,625,11],[625,12,625,14],[625,16,625,19],[625,20,625,22],[583,0,583,6],[585,0,585,6],[578,13,578,14],[578,21,578,22],[579,0,579,6],[580,0,580,1],[581,0,581,6],[577,8,577,11],[577,12,577,14],[577,16,577,19],[577,20,577,22],[594,5,594,6],[594,13,594,14],[594,21,594,22],[587,0,587,6],[588,0,588,1],[593,0,593,3],[593,4,593,6],[593,8,593,11],[593,12,593,14],[593,16,593,19],[593,20,593,22],[551,0,551,6],[553,0,553,6],[546,13,546,14],[546,21,546,22],[547,0,547,6],[548,0,548,1],[549,0,549,6],[545,8,545,11],[545,12,545,14],[545,16,545,19],[545,20,545,22],[562,5,562,6],[562,13,562,14],[562,21,562,22],[555,0,555,6],[556,0,556,1],[561,0,561,3],[561,4,561,6],[561,8,561,11],[561,12,561,14],[561,16,561,19],[561,20,561,22],[519,0,519,6],[521,0,521,6],[514,13,514,14],[514,21,514,22],[515,0,515,6],[516,0,516,1],[517,0,517,6],[513,8,513,11],[513,12,513,14],[513,16,513,19],[513,20,513,22],[530,5,530,6],[530,13,530,14],[530,21,530,22],[523,0,523,6],[524,0,524,1],[529,0,529,3],[529,4,529,6],[529,8,529,11],[529,12,529,14],[529,16,529,19],[529,20,529,22],[487,0,487,6],[489,0,489,6],[482,13,482,14],[482,21,482,22],[483,0,483,6],[484,0,484,1],[485,0,485,6],[481,8,481,11],[481,12,481,14],[481,16,481,19],[481,20,481,22],[498,5,498,6],[498,13,498,14],[498,21,498,22],[491,0,491,6],[492,0,492,1],[497,0,497,3],[497,4,497,6],[497,8,497,11],[497,12,497,14],[497,16,497,19],[497,20,497,22],[455,0,455,6],[457,0,457,6],[450,13,450,14],[450,21,450,22],[451,0,451,6],[452,0,452,1],[453,0,453,6],[449,8,449,11],[449,12,449,14],[449,16,449,19],[449,20,449,22],[466,5,466,6],[466,13,466,14],[466,21,466,22],[459,0,459,6],[460,0,460,1],[465,0,465,3],[465,4,465,6],[465,8,465,11],[465,12,465,14],[465,16,465,19],[465,20,465,22],[423,0,423,6],[425,0,425,6],[418,13,418,14],[418,21,418,22],[419,0,419,6],[420,0,420,1],[421,0,421,6],[417,8,417,11],[417,12,417,14],[417,16,417,19],[417,20,417,22],[434,5,434,6],[434,13,434,14],[434,21,434,22],[427,0,427,6],[428,0,428,1],[433,0,433,3],[433,4,433,6],[433,8,433,11],[433,12,433,14],[433,16,433,19],[433,20,433,22],[391,0,391,6],[393,0,393,6],[386,13,386,14],[386,21,386,22],[387,0,387,6],[388,0,388,1],[389,0,389,6],[385,8,385,11],[385,12,385,14],[385,16,385,19],[385,20,385,22],[402,5,402,6],[402,13,402,14],[402,21,402,22],[395,0,395,6],[396,0,396,1],[401,0,401,3],[401,4,401,6],[401,8,401,11],[401,12,401,14],[401,16,401,19],[401,20,401,22],[359,0,359,6],[361,0,361,6],[354,13,354,14],[354,21,354,22],[355,0,355,6],[356,0,356,1],[357,0,357,6],[353,8,353,11],[353,12,353,14],[353,16,353,19],[353,20,353,22],[370,5,370,6],[370,13,370,14],[370,21,370,22],[363,0,363,6],[364,0,364,1],[369,0,369,3],[369,4,369,6],[369,8,369,11],[369,12,369,14],[369,16,369,19],[369,20,369,22],[327,0,327,6],[329,0,329,6],[322,13,322,14],[322,21,322,22],[323,0,323,6],[324,0,324,1],[325,0,325,6],[321,8,321,11],[321,12,321,14],[321,16,321,19],[321,20,321,22],[338,5,338,6],[338,13,338,14],[338,21,338,22],[331,0,331,6],[332,0,332,1],[337,0,337,3],[337,4,337,6],[337,8,337,11],[337,12,337,14],[337,16,337,19],[337,20,337,22],[295,0,295,6],[297,0,297,6],[290,13,290,14],[290,21,290,22],[291,0,291,6],[292,0,292,1],[293,0,293,6],[289,8,289,11],[289,12,289,14],[289,16,289,19],[289,20,289,22],[306,5,306,6],[306,13,306,14],[306,21,306,22],[299,0,299,6],[300,0,300,1],[305,0,305,3],[305,4,305,6],[305,8,305,11],[305,12,305,14],[305,16,305,19],[305,20,305,22],[263,0,263,6],[265,0,265,6],[258,13,258,14],[258,21,258,22],[259,0,259,6],[260,0,260,1],[261,0,261,6],[257,8,257,11],[257,12,257,14],[257,16,257,19],[257,20,257,22],[274,5,274,6],[274,13,274,14],[274,21,274,22],[267,0,267,6],[268,0,268,1],[273,0,273,3],[273,4,273,6],[273,8,273,11],[273,12,273,14],[273,16,273,19],[273,20,273,22],[231,0,231,6],[233,0,233,6],[226,13,226,14],[226,21,226,22],[227,0,227,6],[228,0,228,1],[229,0,229,6],[225,8,225,11],[225,12,225,14],[225,16,225,19],[225,20,225,22],[242,5,242,6],[242,13,242,14],[242,21,242,22],[235,0,235,6],[236,0,236,1],[241,0,241,3],[241,4,241,6],[241,8,241,11],[241,12,241,14],[241,16,241,19],[241,20,241,22],[199,0,199,6],[201,0,201,6],[194,13,194,14],[194,21,194,22],[195,0,195,6],[196,0,196,1],[197,0,197,6],[193,8,193,11],[193,12,193,14],[193,16,193,19]],"merged_total":1143,"flags":["merged_cut"]}
[]
[null,null,null,null,null,null,null,null,"1/24 Elimination",null,null,null,"Freilos",null,null,null,"1/12 Elimination",null,null,null,"Freilos"]
[null,null,null,null,null,null,null,null,null,1,2,3,"Summe","Ges.",null,null,null,1,2,3,"Summe","Ges."]
[{"$f":"Select!$C$12","v":"Demoturnier"},null,null,null,null,null,null,null,1,null,null,null,null,null,null,null,1]
["Veranstaltung",null,null,null,null,null,null,null,2,null,null,null,null,null,null,null,2]
[{"$f":"Select!$C$13","v":"1. April 2019"},null,null,null,null,null,null,null,3,null,null,null,null,null,null,null,3]
["Datum",null,null,null,null,null,null,null,4,null,null,null,null,null,null,null,4]
[{"$f":"'C52_Baum'!$D$3","v":"Steinwender Alois"},null,null,null,null,null,null,null,5,null,null,null,null,null,null,null,5]
["Name",null,null,null,null,null,null,null,"wenn erforderlich",null,null,null,null,null,null,null,"wenn erforderlich"]
[{"$f":"'C52_Baum'!$F$3","v":"Bogensport Lungau"},null,null,null,null,null,null,null,"Stechen",null,null,null,null,null,null,null,"Stechen"]
["Verein",null,null,null,null,null,null,null,null,null,null,null,null,"gewonnen",null,null,null,null,null,null,null,"gewonnen"]
[{"$f":"Select!$C$20","v":"Compound Herren"},null,null,null,null,null,null,null,"Schütze:",null,null,null,null,"verloren",null,null,"Schütze:",null,null,null,null,"verloren"]
["Bogenklasse"]
[null,null,null,null,null,null,null,null,"Gegner:",null,"Name:",null,null,null,null,null,"Gegner:",null,"Name:"]
[null,null,null,null,null,null,null,null,null,null,"Unterschrift:",null,null,null,null,null,null,null,"Unterschrift:"]
[]
[]
["1/8 Elimination",null,null,null,{"$f":"'C52_Baum'!$M$116","v":"Scheibe: 33"},null,null,null,"1/4 Finale",null,null,null,{"$f":"'C52_Baum'!$Q$116","v":"Scheibe: 35"},null,null,null,"1/2 Finale",null,null,null,{"$f":"'C52_Baum'!$U$116","v":"Scheibe: 35"}]
[null,1,2,3,"Summe","Ges.",null,null,null,1,2,3,"Summe","Ges.",null,null,null,1,2,3,"Summe","Ges."]
[1,null,null,null,null,null,null,null,1,null,null,null,null,null,null,null,1]
[2,null,null,null,null,null,null,null,2,null,null,null,null,null,null,null,2]
[3,null,null,null,null,null,null,null,3,null,null,null,null,null,null,null,3]
[4,null,null,null,null,null,null,null,4,null,null,null,null,null,null,null,4]
[5,null,null,null,null,null,null,null,5,null,null,null,null,null,null,null,5]
["wenn erforderlich",null,null,null,null,null,null,null,"wenn erforderlich",null,null,null,null,null,null,null,"wenn erforderlich"]
["Stechen",null,null,null,null,null,null,null,"Stechen",null,null,null,null,null,null,null,"Stechen"]
[null,null,null,null,null,"gewonnen",null,null,null,null,null,null,null,"gewonnen",null,null,null,null,null,null,null,"gewonnen"]
["Schütze:",null,null,null,null,"verloren",null,null,"Schütze:",null,null,null,null,"verloren",null,null,"Schütze:",null,null,null,null,"verloren"]
[]
["Gegner:",null,"Name:",null,null,null,null,null,"Gegner:",null,"Name:",null,null,null,null,null,"Gegner:",null,"Name:"]
[null,null,"Unterschrift:",null,null,null,null,null,null,null,"Unterschrift:",null,null,null,null,null,null,null,"Unterschrift:"]
[]
[]
[null,null,null,null,null,null,null,null,"1/24 Elimination",null,null,null,{"$f":"'C52_Baum'!$D$116","v":"Scheibe: 33A"},null,null,null,"1/12 Elimination",null,null,null,{"$f":"'C52_Baum'!$I$116","v":"Scheibe: 33A"}]
[null,null,null,null,null,null,null,null,null,1,2,3,"Summe","Ges.",null,null,null,1,2,3,"Summe","Ges."]
[{"$f":"Select!$C$12","v":"Demoturnier"},null,null,null,null,null,null,null,1,null,null,null,null,null,null,null,1]
["Veranstaltung",null,null,null,null,null,null,null,2,null,null,null,null,null,null,null,2]
[{"$f":"Select!$C$13","v":"1. April 2019"},null,null,null,null,null,null,null,3,null,null,null,null,null,null,null,3]
["Datum",null,null,null,null,null,null,null,4,null,null,null,null,null,null,null,4]
[{"$f":"'C52_Baum'!$D$6","v":"Kolm Martin"},null,null,null,null,null,null,null,5,null,null,null,null,null,null,null,5]
["Name",null,null,null,null,null,null,null,"wenn erforderlich",null,null,null,null,null,null,null,"wenn erforderlich"]
[{"$f":"'C52_Baum'!$F$6","v":"WBZ Union Zwettl"},null,null,null,null,null,null,null,"Stechen",null,null,null,null,null,null,null,"Stechen"]
["Verein",null,null,null,null,null,null,null,null,null,null,null,null,"gewonnen",null,null,null,null,null,null,null,"gewonnen"]
[{"$f":"Select!$C$20","v":"Compound Herren"},null,null,null,null,null,null,null,"Schütze:",null,null,null,null,"verloren",null,null,"Schütze:",null,null,null,null,"verloren"]
["Bogenklasse"]
[null,null,null,null,null,null,null,null,"Gegner:",null,"Name:",null,null,null,null,null,"Gegner:",null,"Name:"]
[null,null,null,null,null,null,null,null,null,null,"Unterschrift:",null,null,null,null,null,null,null,"Unterschrift:"]
[]
[]
["1/8 Elimination",null,null,null,{"$f":"'C52_Baum'!$M$117","v":"Scheibe: 34"},null,null,null,"1/4 Finale",null,null,null,{"$f":"'C52_Baum'!$Q$116","v":"Scheibe: 35"},null,null,null,"1/2 Finale",null,null,null,{"$f":"'C52_Baum'!$U$116","v":"Scheibe: 35"}]
[null,1,2,3,"Summe","Ges.",null,null,null,1,2,3,"Summe","Ges.",null,null,null,1,2,3,"Summe","Ges."]
[1,null,null,null,null,null,null,null,1,null,null,null,null,null,null,null,1]
[2,null,null,null,null,null,null,null,2,null,null,null,null,null,null,null,2]
[3,null,null,null,null,null,null,null,3,null,null,null,null,null,null,null,3]
[4,null,null,null,null,null,null,null,4,null,null,null,null,null,null,null,4]
[5,null,null,null,null,null,null,null,5,null,null,null,null,null,null,null,5]
["wenn erforderlich",null,null,null,null,null,null,null,"wenn erforderlich",null,null,null,null,null,null,null,"wenn erforderlich"]
["Stechen",null,null,null,null,null,null,null,"Stechen",null,null,null,null,null,null,null,"Stechen"]
[null,null,null,null,null,"gewonnen",null,null,null,null,null,null,null,"gewonnen",null,null,null,null,null,null,null,"gewonnen"]
["Schütze:",null,null,null,null,"verloren",null,null,"Schütze:",null,null,null,null,"verloren",null,null,"Schütze:",null,null,null,null,"verloren"]
[]
["Gegner:",null,"Name:",null,null,null,null,null,"Gegner:",null,"Name:",null,null,null,null,null,"Gegner:",null,"Name:"]
[null,null,"Unterschrift:",null,null,null,null,null,null,null,"Unterschrift:",null,null,null,null,null,null,null,"Unterschrift:"]
[]
[]
[null,null,null,null,null,null,null,null,"1/24 Elimination",null,null,null,{"$f":"'C52_Baum'!$D$117","v":"Scheibe: 33B"},null,null,null,"1/12 Elimination",null,null,null,{"$f":"'C52_Baum'!$I$116","v":"Scheibe: 33A"}]
[null,null,null,null,null,null,null,null,null,1,2,3,"Summe","Ges.",null,null,null,1,2,3,"Summe","Ges."]
[{"$f":"Select!$C$12","v":"Demoturnier"},null,null,null,null,null,null,null,1,null,null,null,null,null,null,null,1]
["Veranstaltung",null,null,null,null,null,null,null,2,null,null,null,null,null,null,null,2]
[{"$f":"Select!$C$13","v":"1. April 2019"},null,null,null,null,null,null,null,3,null,null,null,null,null,null,null,3]
["Datum",null,null,null,null,null,null,null,4,null,null,null,null,null,null,null,4]
[{"$f":"'C52_Baum'!$D$7","v":"Brandtner Helmut"},null,null,null,null,null,null,null,5,null,null,null,null,null,null,null,5]
["Name",null,null,null,null,null,null,null,"wenn erforderlich",null,null,null,null,null,null,null,"wenn erforderlich"]
[{"$f":"'C52_Baum'!$F$7","v":"UBC Diana NÖ"},null,null,null,null,null,null,null,"Stechen",null,null,null,null,null,null,null,"Stechen"]
["Verein",null,null,null,null,null,null,null,null,null,null,null,null,"gewonnen",null,null,null,null,null,null,null,"gewonnen"]
[{"$f":"Select!$C$20","v":"Compound Herren"},null,null,null,null,null,null,null,"Schütze:",null,null,null,null,"verloren",null,null,"Schütze:",null,null,null,null,"verloren"]
["Bogenklasse"]
[null,null,null,null,null,null,null,null,"Gegner:",null,"Name:",null,null,null,null,null,"Gegner:",null,"Name:"]
[null,null,null,null,null,null,null,null,null,null,"Unterschrift:",null,null,null,null,null,null,null,"Unterschrift:"]
[]
[]
["1/8 Elimination",null,null,null,{"$f":"'C52_Baum'!$M$117","v":"Scheibe: 34"},null,null,null,"1/4 Finale",null,null,null,{"$f":"'C52_Baum'!$Q$116","v":"Scheibe: 35"},null,null,null,"1/2 Finale",null,null,null,{"$f":"'C52_Baum'!$U$116","v":"Scheibe: 35"}]
[null,1,2,3,"Summe","Ges.",null,null,null,1,2,3,"Summe","Ges.",null,null,null,1,2,3,"Summe","Ges."]
[1,null,null,null,null,null,null,null,1,null,null,null,null,null,null,null,1]
[2,null,null,null,null,null,null,null,2,null,null,null,null,null,null,null,2]
[3,null,null,null,null,null,null,null,3,null,null,null,null,null,null,null,3]
[4,null,null,null,null,null,null,null,4,null,null,null,null,null,null,null,4]
[5,null,null,null,null,null,null,null,5,null,null,null,null,null,null,null,5]
["wenn erforderlich",null,null,null,null,null,null,null,"wenn erforderlich",null,null,null,null,null,null,null,"wenn erforderlich"]
["Stechen",null,null,null,null,null,null,null,"Stechen",null,null,null,null,null,null,null,"Stechen"]
[null,null,null,null,null,"gewonnen",null,null,null,null,null,null,null,"gewonnen",null,null,null,null,null,null,null,"gewonnen"]
["Schütze:",null,null,null,null,"verloren",null,null,"Schütze:",null,null,null,null,"verloren",null,null,"Schütze:",null,null,null,null,"verloren"]
[]
["Gegner:",null,"Name:",null,null,null,null,null,"Gegner:",null,"Name:",null,null,null,null,null,"Gegner:",null,"Name:"]
[null,null,"Unterschrift:",null,null,null,null,null,null,null,"Unterschrift:",null,null,null,null,null,null,null,"Unterschrift:"]
[]
[]
[null,null,null,null,null,null,null,null,"1/24 Elimination",null,null,null,{"$f":"'C52_Baum'!$D$118","v":"Scheibe: 34A"},null,null,null,"1/12 Elimination",null,null,null,{"$f":"'C52_Baum'!$I$117","v":"Scheibe: 33B"}]
[null,null,null,null,null,null,null,null,null,1,2,3,"Summe","Ges.",null,null,null,1,2,3,"Summe","Ges."]
[{"$f":"Select!$C$12","v":"Demoturnier"},null,null,null,null,null,null,null,1,null,null,null,null,null,null,null,1]
["Veranstaltung",null,null,null,null,null,null,null,2,null,null,null,null,null,null,null,2]
[{"$f":"Select!$C$13","v":"1. April 2019"},null,null,null,null,null,null,null,3,null,null,null,null,null,null,null,3]
["Datum",null,null,null,null,null,null,null,4,null,null,null,null,null,null,null,4]
[{"$f":"'C52_Baum'!$D$10","v":"Neumann Markus"},null,null,null,null,null,null,null,5,null,null,null,null,null,null,null,5]
["Name",null,null,null,null,null,null,null,"wenn erforderlich",null,null,null,null,null,null,null,"wenn erforderlich"]
[{"$f":"'C52_Baum'!$F$10","v":"BSC Fischamend"},null,null,null,null,null,null,null,"Stechen",null,null,null,null,null,null,null,"Stechen"]
["Verein",null,null,null,null,null,null,null,null,null,null,null,null,"gewonnen",null,null,null,null,null,null,null,"gewonnen"]
[{"$f":"Select!$C$20","v":"Compound Herren"},null,null,null,null,null,null,null,"Schütze:",null,null,null,null,"verloren",null,null,"Schütze:",null,null,null,null,"verloren"]
["Bogenklasse"]
[null,null,null,null,null,null,null,null,"Gegner:",null,"Name:",null,null,null,null,null,"Gegner:",null,"Name:"]
[null,null,null,null,null,null,null,null,null,null,"Unterschrift:",null,null,null,null,null,null,null,"Unterschrift:"]
[]
[]
["1/8 Elimination",null,null,null,{"$f":"'C52_Baum'!$M$117","v":"Scheibe: 34"},null,null,null,"1/4 Finale",null,null,null,{"$f":"'C52_Baum'!$Q$116","v":"Scheibe: 35"},null,null,null,"1/2 Finale",null,null,null,{"$f":"'C52_Baum'!$U$116","v":"Scheibe: 35"}]
[null,1,2,3,"Summe","Ges.",null,null,null,1,2,3,"Summe","Ges.",null,null,null,1,2,3,"Summe","Ges."]
[1,null,null,null,null,null,null,null,1,null,null,null,null,null,null,null,1]
[2,null,null,null,null,null,null,null,2,null,null,null,null,null,null,null,2]
[3,null,null,null,null,null,null,null,3,null,null,null,null,null,null,null,3]
[4,null,null,null,null,null,null,null,4,null,null,null,null,null,null,null,4]
[5,null,null,null,null,null,null,null,5,null,null,null,null,null,null,null,5]
["wenn erforderlich",null,null,null,null,null,null,null,"wenn erforderlich",null,null,null,null,null,null,null,"wenn erforderlich"]
["Stechen",null,null,null,null,null,null,null,"Stechen",null,null,null,null,null,null,null,"Stechen"]
[null,null,null,null,null,"gewonnen",null,null,null,null,null,null,null,"gewonnen",null,null,null,null,null,null,null,"gewonnen"]
["Schütze:",null,null,null,null,"verloren",null,null,"Schütze:",null,null,null,null,"verloren",null,null,"Schütze:",null,null,null,null,"verloren"]
[]
["Gegner:",null,"Name:",null,null,null,null,null,"Gegner:",null,"Name:",null,null,null,null,null,"Gegner:",null,"Name:"]
[null,null,"Unterschrift:",null,null,null,null,null,null,null,"Unterschrift:",null,null,null,null,null,null,null,"Unterschrift:"]
[]
[]
[null,null,null,null,null,null,null,null,"1/24 Elimination",null,null,null,{"$f":"'C52_Baum'!$D$119","v":"Scheibe: 34B"},null,null,null,"1/12 Elimination",null,null,null,{"$f":"'C52_Baum'!$I$117","v":"Scheibe: 33B"}]
[null,null,null,null,null,null,null,null,null,1,2,3,"Summe","Ges.",null,null,null,1,2,3,"Summe","Ges."]
[{"$f":"Select!$C$12","v":"Demoturnier"},null,null,null,null,null,null,null,1,null,null,null,null,null,null,null,1]
["Veranstaltung",null,null,null,null,null,null,null,2,null,null,null,null,null,null,null,2]
[{"$f":"Select!$C$13","v":"1. April 2019"},null,null,null,null,null,null,null,3,null,null,null,null,null,null,null,3]
["Datum",null,null,null,null,null,null,null,4,null,null,null,null,null,null,null,4]
[{"$f":"'C52_Baum'!$D$11","v":"Bucher Martin"},null,null,null,null,null,null,null,5,null,null,null,null,null,null,null,5]
["Name",null,null,null,null,null,null,null,"wenn erforderlich",null,null,null,null,null,null,null,"wenn erforderlich"]
[{"$f":"'C52_Baum'!$F$11","v":"LH Graz"},null,null,null,null,null,null,null,"Stechen",null,null,null,null,null,null,null,"Stechen"]
["Verein",null,null,null,null,null,null,null,null,null,null,null,null,"gewonnen",null,null,null,null,null,null,null,"gewonnen"]
[{"$f":"Select!$C$20","v":"Compound Herren"},null,null,null,null,null,null,null,"Schütze:",null,null,null,null,"verloren",null,null,"Schütze:",null,null,null,null,"verloren"]
["Bogenklasse"]
[null,null,null,null,null,null,null,null,"Gegner:",null,"Name:",null,null,null,null,null,"Gegner:",null,"Name:"]
[null,null,null,null,null,null,null,null,null,null,"Unterschrift:",null,null,null,null,null,null,null,"Unterschrift:"]
[]
[]
["1/8 Elimination",null,null,null,{"$f":"'C52_Baum'!$M$117","v":"Scheibe: 34"},null,null,null,"1/4 Finale",null,null,null,{"$f":"'C52_Baum'!$Q$116","v":"Scheibe: 35"},null,null,null,"1/2 Finale",null,null,null,{"$f":"'C52_Baum'!$U$116","v":"Scheibe: 35"}]
[null,1,2,3,"Summe","Ges.",null,null,null,1,2,3,"Summe","Ges.",null,null,null,1,2,3,"Summe","Ges."]
[1,null,null,null,null,null,null,null,1,null,null,null,null,null,null,null,1]
[2,null,null,null,null,null,null,null,2,null,null,null,null,null,null,null,2]
[3,null,null,null,null,null,null,null,3,null,null,null,null,null,null,null,3]
[4,null,null,null,null,null,null,null,4,null,null,null,null,null,null,null,4]
[5,null,null,null,null,null,null,null,5,null,null,null,null,null,null,null,5]
["wenn erforderlich",null,null,null,null,null,null,null,"wenn erforderlich",null,null,null,null,null,null,null,"wenn erforderlich"]
["Stechen",null,null,null,null,null,null,null,"Stechen",null,null,null,null,null,null,null,"Stechen"]
[null,null,null,null,null,"gewonnen",null,null,null,null,null,null,null,"gewonnen",null,null,null,null,null,null,null,"gewonnen"]
["Schütze:",null,null,null,null,"verloren",null,null,"Schütze:",null,null,null,null,"verloren",null,null,"Schütze:",null,null,null,null,"verloren"]
[]
["Gegner:",null,"Name:",null,null,null,null,null,"Gegner:",null,"Name:",null,null,null,null,null,"Gegner:",null,"Name:"]
[null,null,"Unterschrift:",null,null,null,null,null,null,null,"Unterschrift:",null,null,null,null,null,null,null,"Unterschrift:"]
[]
[]
[null,null,null,null,null,null,null,null,"1/24 Elimination",null,null,null,{"$f":"'C52_Baum'!$D$120","v":"Scheibe: 35A"},null,null,null,"1/12 Elimination",null,null,null,{"$f":"'C52_Baum'!$I$118","v":"Scheibe: 34A"}]
[null,null,null,null,null,null,null,null,null,1,2,3,"Summe","Ges.",null,null,null,1,2,3,"Summe","Ges."]
[{"$f":"Select!$C$12","v":"Demoturnier"},null,null,null,null,null,null,null,1,null,null,null,null,null,null,null,1]
["Veranstaltung",null,null,null,null,null,null,null,2,null,null,null,null,null,null,null,2]
[{"$f":"Select!$C$13","v":"1. April 2019"},null,null,null,null,null,null,null,3,null,null,null,null,null,null,null,3]
["Datum",null,null,null,null,null,null,null,4,null,null,null,null,null,null,null,4]
[{"$f":"'C52_Baum'!$D$14","v":"Helmer Gerhard"},null,null,null,null,null,null,null,5,null,null,null,null,null,null,null,5]
["Name",null,null,null,null,null,null,null,"wenn erforderlich",null,null,null,null,null,null,null,"wenn erforderlich"]
[{"$f":"'C52_Baum'!$F$14","v":"UBC Diana NÖ"},null,null,null,null,null,null,null,"Stechen",null,null,null,null,null,null,null,"Stechen"]
["Verein",null,null,null,null,null,null,null,null,null,null,null,null,"gewonnen",null,null,null,null,null,null,null,"gewonnen"]
[{"$f":"Select!$C$20","v":"Compound Herren"},null,null,null,null,null,null,null,"Schütze:",null,null,null,null,"verloren",null,null,"Schütze:",null,null,null,null,"verloren"]
["Bogenklasse"]
[null,null,null,null,null,null,null,null,"Gegner:",null,"Name:",null,null,null,null,null,"Gegner:",null,"Name:"]
[null,null,null,null,null,null,null,null,null,null,"Unterschrift:",null,null,null,null,null,null,null,"Unterschrift:"]
[]
[]
["1/8 Elimination",null,null,null,{"$f":"'C52_Baum'!$M$118","v":"Scheibe: 35"},null,null,null,"1/4 Finale",null,null,null,{"$f":"'C52_Baum'!$Q$117","v":"Scheibe: 36"},null,null,null,"1/2 Finale",null,null,null,{"$f":"'C52_Baum'!$U$116","v":"Scheibe: 35"}]
[null,1,2,3,"Summe","Ges.",null,null,null,1,2,3,"Summe","Ges.",null,null,null,1,2,3,"Summe","Ges."]
[1,null,null,null,null,null,null,null,1,null,null,null,null,null,null,null,1]
[2,null,null,null,null,null,null,null,2,null,null,null,null,null,null,null,2]
[3,null,null,null,null,null,null,null,3,null,null,null,null,null,null,null,3]
[4,null,null,null,null,null,null,null,4,null,null,null,null,null,null,null,4]
[5,null,null,null,null,null,null,null,5,null,null,null,null,null,null,null,5]
["wenn erforderlich",null,null,null,null,null,null,null,"wenn erforderlich",null,null,null,null,null,null,null,"wenn erforderlich"]
["Stechen",null,null,null,null,null,null,null,"Stechen",null,null,null,null,null,null,null,"Stechen"]
[null,null,null,null,null,"gewonnen",null,null,null,null,null,null,null,"gewonnen",null,null,null,null,null,null,null,"gewonnen"]
["Schütze:",null,null,null,null,"verloren",null,null,"Schütze:",null,null,null,null,"verloren",null,null,"Schütze:",null,null,null,null,"verloren"]
[]
["Gegner:",null,"Name:",null,null,null,null,null,"Gegner:",null,"Name:",null,null,null,null,null,"Gegner:",null,"Name:"]
[null,null,"Unterschrift:",null,null,null,null,null,null,null,"Unterschrift:",null,null,null,null,null,null,null,"Unterschrift:"]
[]
[]
[null,null,null,null,null,null,null,null,"1/24 Elimination",null,null,null,{"$f":"'C52_Baum'!$D$121","v":"Scheibe: 35B"},null,null,null,"1/12 Elimination",null,null,null,{"$f":"'C52_Baum'!$I$118","v":"Scheibe: 34A"}]
[null,null,null,null,null,null,null,null,null,1,2,3,"Summe","Ges.",null,null,null,1,2,3,"Summe","Ges."]
[{"$f":"Select!$C$12","v":"Demoturnier"},null,null,null,null,null,null,null,1,null,null,null,null,null,null,null,1]
["Veranstaltung",null,null,null,null,null,null,null,2,null,null,null,null,null,null,null,2]
[{"$f":"Select!$C$13","v":"1. April 2019"},null,null,null,null,null,null,null,3,null,null,null,null,null,null,null,3]
["Datum",null,null,null,null,null,null,null,4,null,null,null,null,null,null,null,4]
[{"$f":"'C52_Baum'!$D$15","v":"Baumgartner Günter"},null,null,null,null,null,null,null,5,null,null,null,null,null,null,null,5]
["Name",null,null,null,null,null,null,null,"wenn erforderlich",null,null,null,null,null,null,null,"wenn erforderlich"]
[{"$f":"'C52_Baum'!$F$15","v":"ASKÖ Linz Froschberg"},null,null,null,null,null,null,null,"Stechen",null,null,null,null,null,null,null,"Stechen"]
["Verein",null,null,null,null,null,null,null,null,null,null,null,null,"gewonnen",null,null,null,null,null,null,null,"gewonnen"]
[{"$f":"Select!$C$20","v":"Compound Herren"},null,null,null,null,null,null,null,"Schütze:",null,null,null,null,"verloren",null,null,"Schütze:",null,null,null,null,"verloren"]
["Bogenklasse"]
[null,null,null,null,null,null,null,null,"Gegner:",null,"Name:",null,null,null,null,null,"Gegner:",null,"Name:"]
[null,null,null,null,null,null,null,null,null,null,"Unterschrift:",null,null,null,null,null,null,null,"Unterschrift:"]
[]
[]
["1/8 Elimination",null,null,null,{"$f":"'C52_Baum'!$M$118","v":"Scheibe: 35"},null,null,null,"1/4 Finale",null,null,null,{"$f":"'C52_Baum'!$Q$117","v":"Scheibe: 36"},null,null,null,"1/2 Finale",null,null,null,{"$f":"'C52_Baum'!$U$116","v":"Scheibe: 35"}]
[null,1,2,3,"Summe","Ges.",null,null,null,1,2,3,"Summe","Ges.",null,null,null,1,2,3,"Summe","Ges."]
[1,null,null,null,null,null,null,null,1,null,null,null,null,null,null,null,1]
[2,null,null,null,null,null,null,null,2,null,null,null,null,null,null,null,2]
[3,null,null,null,null,null,null,null,3,null,null,null,null,null,null,null,3]
[4,null,null,null,null,null,null,null,4,null,null,null,null,null,null,null,4]
[5,null,null,null,null,null,null,null,5,null,null,null,null,null,null,null,5]
["wenn erforderlich",null,null,null,null,null,null,null,"wenn erforderlich",null,null,null,null,null,null,null,"wenn erforderlich"]
["Stechen",null,null,null,null,null,null,null,"Stechen",null,null,null,null,null,null,null,"Stechen"]
[null,null,null,null,null,"gewonnen",null,null,null,null,null,null,null,"gewonnen",null,null,null,null,null,null,null,"gewonnen"]
["Schütze:",null,null,null,null,"verloren",null,null,"Schütze:",null,null,null,null,"verloren",null,null,"Schütze:",null,null,null,null,"verloren"]
[]
["Gegner:",null,"Name:",null,null,null,null,null,"Gegner:",null,"Name:",null,null,null,null,null,"Gegner:",null,"Name:"]
[null,null,"Unterschrift:",null,null,null,null,null,null,null,"Unterschrift:",null,null,null,null,null,null,null,"Unterschrift:"]
[]
[]
[null,null,null,null,null,null,null,null,"1/24 Elimination",null,null,null,{"$f":"'C52_Baum'!$D$122","v":"Scheibe: 36A"},null,null,null,"1/12 Elimination",null,null,null,{"$f":"'C52_Baum'!$I$119","v":"Scheibe: 34B"}]
[null,null,null,null,null,null,null,null,null,1,2,3,"Summe","Ges.",null,null,null,1,2,3,"Summe","Ges."]
[{"$f":"Select!$C$12","v":"Demoturnier"},null,null,null,null,null,null,null,1,null,null,null,null,null,null,null,1]
["Veranstaltung",null,null,null,null,null,null,null,2,null,null,null,null,null,null,null,2]
[{"$f":"Select!$C$13","v":"1. April 2019"},null,null,null,null,null,null,null,3,null,null,null,null,null,null,null,3]
["Datum",null,null,null,null,null,null,null,4,null,null,null,null,null,null,null,4]
[{"$f":"'C52_Baum'!$D$18","v":"Trenda Werner"},null,null,null,null,null,null,null,5,null,null,null,null,null,null,null,5]
["Name",null,null,null,null,null,null,null,"wenn erforderlich",null,null,null,null,null,null,null,"wenn erforderlich"]
[{"$f":"'C52_Baum'!$F$18","v":"SV Wallern"},null,null,null,null,null,null,null,"Stechen",null,null,null,null,null,null,null,"Stechen"]
["Verein",null,null,null,null,null,null,null,null,null,null,null,null,"gewonnen",null,null,null,null,null,null,null,"gewonnen"]
[{"$f":"Select!$C$20","v":"Compound Herren"},null,null,null,null,null,null,null,"Schütze:",null,null,null,null,"verloren",null,null,"Schütze:",null,null,null,null,"verloren"]
["Bogenklasse"]
[null,null,null,null,null,null,null,null,"Gegner:",null,"Name:",null,null,null,null,null,"Gegner:",null,"Name:"]
[null,null,null,null,null,null,null,null,null,null,"Unterschrift:",null,null,null,null,null,null,null,"Unterschrift:"]
[]
[]
["1/8 Elimination",null,null,null,{"$f":"'C52_Baum'!$M$118","v":"Scheibe: 35"},null,null,null,"1/4 Finale",null,null,null,{"$f":"'C52_Baum'!$Q$117","v":"Scheibe: 36"},null,null,null,"1/2 Finale",null,null,null,{"$f":"'C52_Baum'!$U$116","v":"Scheibe: 35"}]
[null,1,2,3,"Summe","Ges.",null,null,null,1,2,3,"Summe","Ges.",null,null,null,1,2,3,"Summe","Ges."]
[1,null,null,null,null,null,null,null,1,null,null,null,null,null,null,null,1]
[2,null,null,null,null,null,null,null,2,null,null,null,null,null,null,null,2]
[3,null,null,null,null,null,null,null,3,null,null,null,null,null,null,null,3]
[4,null,null,null,null,null,null,null,4,null,null,null,null,null,null,null,4]
[5,null,null,null,null,null,null,null,5,null,null,null,null,null,null,null,5]
["wenn erforderlich",null,null,null,null,null,null,null,"wenn erforderlich",null,null,null,null,null,null,null,"wenn erforderlich"]
["Stechen",null,null,null,null,null,null,null,"Stechen",null,null,null,null,null,null,null,"Stechen"]
[null,null,null,null,null,"gewonnen",null,null,null,null,null,null,null,"gewonnen",null,null,null,null,null,null,null,"gewonnen"]
["Schütze:",null,null,null,null,"verloren",null,null,"Schütze:",null,null,null,null,"verloren",null,null,"Schütze:",null,null,null,null,"verloren"]
[]
["Gegner:",null,"Name:",null,null,null,null,null,"Gegner:",null,"Name:",null,null,null,null,null,"Gegner:",null,"Name:"]
[null,null,"Unterschrift:",null,null,null,null,null,null,null,"Unterschrift:",null,null,null,null,null,null,null,"Unterschrift:"]
[]
[]
[null,null,null,null,null,null,null,null,"1/24 Elimination",null,null,null,{"$f":"'C52_Baum'!$D$123","v":"Scheibe: 36B"},null,null,null,"1/12 Elimination",null,null,null,{"$f":"'C52_Baum'!$I$119","v":"Scheibe: 34B"}]
[null,null,null,null,null,null,null,null,null,1,2,3,"Summe","Ges.",null,null,null,1,2,3,"Summe","Ges."]
[{"$f":"Select!$C$12","v":"Demoturnier"},null,null,null,null,null,null,null,1,null,null,null,null,null,null,null,1]
["Veranstaltung",null,null,null,null,null,null,null,2,null,null,null,null,null,null,null,2]
[{"$f":"Select!$C$13","v":"1. April 2019"},null,null,null,null,null,null,null,3,null,null,null,null,null,null,null,3]
["Datum",null,null,null,null,null,null,null,4,null,null,null,null,null,null,null,4]
[{"$f":"'C52_Baum'!$D$19","v":"Schaden Harald"},null,null,null,null,null,null,null,5,null,null,null,null,null,null,null,5]
["Name",null,null,null,null,null,null,null,"wenn erforderlich",null,null,null,null,null,null,null,"wenn erforderlich"]
[{"$f":"'C52_Baum'!$F$19","v":"BSC Gaal"},null,null,null,null,null,null,null,"Stechen",null,null,null,null,null,null,null,"Stechen"]
["Verein",null,null,null,null,null,null,null,null,null,null,null,null,"gewonnen",null,null,null,null,null,null,null,"gewonnen"]
[{"$f":"Select!$C$20","v":"Compound Herren"},null,null,null,null,null,null,null,"Schütze:",null,null,null,null,"verloren",null,null,"Schütze:",null,null,null,null,"verloren"]
["Bogenklasse"]
[null,null,null,null,null,null,null,null,"Gegner:",null,"Name:",null,null,null,null,null,"Gegner:",null,"Name:"]
[null,null,null,null,null,null,null,null,null,null,"Unterschrift:",null,null,null,null,null,null,null,"Unterschrift:"]
[]
[]
["1/8 Elimination",null,null,null,{"$f":"'C52_Baum'!$M$118","v":"Scheibe: 35"},null,null,null,"1/4 Finale",null,null,null,{"$f":"'C52_Baum'!$Q$117","v":"Scheibe: 36"},null,null,null,"1/2 Finale",null,null,null,{"$f":"'C52_Baum'!$U$116","v":"Scheibe: 35"}]
[null,1,2,3,"Summe","Ges.",null,null,null,1,2,3,"Summe","Ges.",null,null,null,1,2,3,"Summe","Ges."]
[1,null,null,null,null,null,null,null,1,null,null,null,null,null,null,null,1]
[2,null,null,null,null,null,null,null,2,null,null,null,null,null,null,null,2]
[3,null,null,null,null,null,null,null,3,null,null,null,null,null,null,null,3]
[4,null,null,null,null,null,null,null,4,null,null,null,null,null,null,null,4]
[5,null,null,null,null,null,null,null,5,null,null,null,null,null,null,null,5]
["wenn erforderlich",null,null,null,null,null,null,null,"wenn erforderlich",null,null,null,null,null,null,null,"wenn erforderlich"]
["Stechen",null,null,null,null,null,null,null,"Stechen",null,null,null,null,null,null,null,"Stechen"]
[null,null,null,null,null,"gewonnen",null,null,null,null,null,null,null,"gewonnen",null,null,null,null,null,null,null,"gewonnen"]
["Schütze:",null,null,null,null,"verloren",null,null,"Schütze:",null,null,null,null,"verloren",null,null,"Schütze:",null,null,null,null,"verloren"]
[]
["Gegner:",null,"Name:",null,null,null,null,null,"Gegner:",null,"Name:",null,null,null,null,null,"Gegner:",null,"Name:"]
[null,null,"Unterschrift:",null,null,null,null,null,null,null,"Unterschrift:",null,null,null,null,null,null,null,"Unterschrift:"]
[]
[]
[null,null,null,null,null,null,null,null,"1/24 Elimination",null,null,null,{"$f":"'C52_Baum'!$D$124","v":"Scheibe: 37A"},null,null,null,"1/12 Elimination",null,null,null,{"$f":"'C52_Baum'!$I$120","v":"Scheibe: 35A"}]
[null,null,null,null,null,null,null,null,null,1,2,3,"Summe","Ges.",null,null,null,1,2,3,"Summe","Ges."]
[{"$f":"Select!$C$12","v":"Demoturnier"},null,null,null,null,null,null,null,1,null,null,null,null,null,null,null,1]
["Veranstaltung",null,null,null,null,null,null,null,2,null,null,null,null,null,null,null,2]
[{"$f":"Select!$C$13","v":"1. April 2019"},null,null,null,null,null,null,null,3,null,null,null,null,null,null,null,3]
["Datum",null,null,null,null,null,null,null,4,null,null,null,null,null,null,null,4]
[{"$f":"'C52_Baum'!$D$22","v":"Quinz Harald"},null,null,null,null,null,null,null,5,null,null,null,null,null,null,null,5]
["Name",null,null,null,null,null,null,null,"wenn erforderlich",null,null,null,null,null,null,null,"wenn erforderlich"]
[{"$f":"'C52_Baum'!$F$22","v":"Atus Zeltweg Sektion Bogen"},null,null,null,null,null,null,null,"Stechen",null,null,null,null,null,null,null,"Stechen"]
["Verein",null,null,null,null,null,null,null,null,null,null,null,null,"gewonnen",null,null,null,null,null,null,null,"gewonnen"]
[{"$f":"Select!$C$20","v":"Compound Herren"},null,null,null,null,null,null,null,"Schütze:",null,null,null,null,"verloren",null,null,"Schütze:",null,null,null,null,"verloren"]
["Bogenklasse"]
[null,null,null,null,null,null,null,null,"Gegner:",null,"Name:",null,null,null,null,null,"Gegner:",null,"Name:"]
[null,null,null,null,null,null,null,null,null,null,"Unterschrift:",null,null,null,null,null,null,null,"Unterschrift:"]
[]
[]
["1/8 Elimination",null,null,null,{"$f":"'C52_Baum'!$M$119","v":"Scheibe: 36"},null,null,null,"1/4 Finale",null,null,null,{"$f":"'C52_Baum'!$Q$117","v":"Scheibe: 36"},null,null,null,"1/2 Finale",null,null,null,{"$f":"'C52_Baum'!$U$116","v":"Scheibe: 35"}]
[null,1,2,3,"Summe","Ges.",null,null,null,1,2,3,"Summe","Ges.",null,null,null,1,2,3,"Summe","Ges."]
[1,null,null,null,null,null,null,null,1,null,null,null,null,null,null,null,1]
[2,null,null,null,null,null,null,null,2,null,null,null,null,null,null,null,2]
[3,null,null,null,null,null,null,null,3,null,null,null,null,null,null,null,3]
[4,null,null,null,null,null,null,null,4,null,null,null,null,null,null,null,4]
[5,null,null,null,null,null,null,null,5,null,null,null,null,null,null,null,5]
["wenn erforderlich",null,null,null,null,null,null,null,"wenn erforderlich",null,null,null,null,null,null,null,"wenn erforderlich"]
["Stechen",null,null,null,null,null,null,null,"Stechen",null,null,null,null,null,null,null,"Stechen"]
[null,null,null,null,null,"gewonnen",null,null,null,null,null,null,null,"gewonnen",null,null,null,null,null,null,null,"gewonnen"]
["Schütze:",null,null,null,null,"verloren",null,null,"Schütze:",null,null,null,null,"verloren",null,null,"Schütze:",null,null,null,null,"verloren"]
[]
["Gegner:",null,"Name:",null,null,null,null,null,"Gegner:",null,"Name:",null,null,null,null,null,"Gegner:",null,"Name:"]
[null,null,"Unterschrift:",null,null,null,null,null,null,null,"Unterschrift:",null,null,null,null,null,null,null,"Unterschrift:"]
[]
[]
[null,null,null,null,null,null,null,null,"1/24 Elimination",null,null,null,{"$f":"'C52_Baum'!$D$125","v":"Scheibe: 37B"},null,null,null,"1/12 Elimination",null,null,null,{"$f":"'C52_Baum'!$I$120","v":"Scheibe: 35A"}]
[null,null,null,null,null,null,null,null,null,1,2,3,"Summe","Ges.",null,null,null,1,2,3,"Summe","Ges."]
[{"$f":"Select!$C$12","v":"Demoturnier"},null,null,null,null,null,null,null,1,null,null,null,null,null,null,null,1]
["Veranstaltung",null,null,null,null,null,null,null,2,null,null,null,null,null,null,null,2]
[{"$f":"Select!$C$13","v":"1. April 2019"},null,null,null,null,null,null,null,3,null,null,null,null,null,null,null,3]
["Datum",null,null,null,null,null,null,null,4,null,null,null,null,null,null,null,4]
[{"$f":"'C52_Baum'!$D$23","v":"Trausmiller Hannes"},null,null,null,null,null,null,null,5,null,null,null,null,null,null,null,5]
["Name",null,null,null,null,null,null,null,"wenn erforderlich",null,null,null,null,null,null,null,"wenn erforderlich"]
[{"$f":"'C52_Baum'!$F$23","v":"BS Ligist - Archery Freaks"},null,null,null,null,null,null,null,"Stechen",null,null,null,null,null,null,null,"Stechen"]
["Verein",null,null,null,null,null,null,null,null,null,null,null,null,"gewonnen",null,null,null,null,null,null,null,"gewonnen"]
[{"$f":"Select!$C$20","v":"Compound Herren"},null,null,null,null,null,null,null,"Schütze:",null,null,null,null,"verloren",null,null,"Schütze:",null,null,null,null,"verloren"]
["Bogenklasse"]
[null,null,null,null,null,null,null,null,"Gegner:",null,"Name:",null,null,null,null,null,"Gegner:",null,"Name:"]
[null,null,null,null,null,null,null,null,null,null,"Unterschrift:",null,null,null,null,null,null,null,"Unterschrift:"]
[]
[]
["1/8 Elimination",null,null,null,{"$f":"'C52_Baum'!$M$119","v":"Scheibe: 36"},null,null,null,"1/4 Finale",null,null,null,{"$f":"'C52_Baum'!$Q$117","v":"Scheibe: 36"},null,null,null,"1/2 Finale",null,null,null,{"$f":"'C52_Baum'!$U$116","v":"Scheibe: 35"}]
[null,1,2,3,"Summe","Ges.",null,null,null,1,2,3,"Summe","Ges.",null,null,null,1,2,3,"Summe","Ges."]
[1,null,null,null,null,null,null,null,1,null,null,null,null,null,null,null,1]
[2,null,null,null,null,null,null,null,2,null,null,null,null,null,null,null,2]
[3,null,null,null,null,null,null,null,3,null,null,null,null,null,null,null,3]
[4,null,null,null,null,null,null,null,4,null,null,null,null,null,null,null,4]
[5,null,null,null,null,null,null,null,5,null,null,null,null,null,null,null,5]
["wenn erforderlich",null,null,null,null,null,null,null,"wenn erforderlich",null,null,null,null,null,null,null,"wenn erforderlich"]
["Stechen",null,null,null,null,null,null,null,"Stechen",null,null,null,null,null,null,null,"Stechen"]
[null,null,null,null,null,"gewonnen",null,null,null,null,null,null,null,"gewonnen",null,null,null,null,null,null,null,"gewonnen"]
["Schütze:",null,null,null,null,"verloren",null,null,"Schütze:",null,null,null,null,"verloren",null,null,"Schütze:",null,null,null,null,"verloren"]
[]
["Gegner:",null,"Name:",null,null,null,null,null,"Gegner:",null,"Name:",null,null,null,null,null,"Gegner:",null,"Name:"]
[null,null,"Unterschrift:",null,null,null,null,null,null,null,"Unterschrift:",null,null,null,null,null,null,null,"Unterschrift:"]
[]
[]
[null,null,null,null,null,null,null,null,"1/24 Elimination",null,null,null,{"$f":"'C52_Baum'!$D$126","v":"Scheibe: 38A"},null,null,null,"1/12 Elimination",null,null,null,{"$f":"'C52_Baum'!$I$121","v":"Scheibe: 35B"}]
[null,null,null,null,null,null,null,null,null,1,2,3,"Summe","Ges.",null,null,null,1,2,3,"Summe","Ges."]
[{"$f":"Select!$C$12","v":"Demoturnier"},null,null,null,null,null,null,null,1,null,null,null,null,null,null,null,1]
["Veranstaltung",null,null,null,null,null,null,null,2,null,null,null,null,null,null,null,2]
[{"$f":"Select!$C$13","v":"1. April 2019"},null,null,null,null,null,null,null,3,null,null,null,null,null,null,null,3]
["Datum",null,null,null,null,null,null,null,4,null,null,null,null,null,null,null,4]
[{"$f":"'C52_Baum'!$D$26","v":"Käser Federico"},null,null,null,null,null,null,null,5,null,null,null,null,null,null,null,5]
["Name",null,null,null,null,null,null,null,"wenn erforderlich",null,null,null,null,null,null,null,"wenn erforderlich"]
[{"$f":"'C52_Baum'!$F$26","v":"BSV Schönbrunn"},null,null,null,null,null,null,null,"Stechen",null,null,null,null,null,null,null,"Stechen"]
["Verein",null,null,null,null,null,null,null,null,null,null,null,null,"gewonnen",null,null,null,null,null,null,null,"gewonnen"]
[{"$f":"Select!$C$20","v":"Compound Herren"},null,null,null,null,null,null,null,"Schütze:",null,null,null,null,"verloren",null,null,"Schütze:",null,null,null,null,"verloren"]
["Bogenklasse"]
[null,null,null,null,null,null,null,null,"Gegner:",null,"Name:",null,null,null,null,null,"Gegner:",null,"Name:"]
[null,null,null,null,null,null,null,null,null,null,"Unterschrift:",null,null,null,null,null,null,null,"Unterschrift:"]
[]
[]
["1/8 Elimination",null,null,null,{"$f":"'C52_Baum'!$M$119","v":"Scheibe: 36"},null,null,null,"1/4 Finale",null,null,null,{"$f":"'C52_Baum'!$Q$117","v":"Scheibe: 36"},null,null,null,"1/2 Finale",null,null,null,{"$f":"'C52_Baum'!$U$116","v":"Scheibe: 35"}]
[null,1,2,3,"Summe","Ges.",null,null,null,1,2,3,"Summe","Ges.",null,null,null,1,2,3,"Summe","Ges."]
[1,null,null,null,null,null,null,null,1,null,null,null,null,null,null,null,1]
[2,null,null,null,null,null,null,null,2,null,null,null,null,null,null,null,2]
[3,null,null,null,null,null,null,null,3,null,null,null,null,null,null,null,3]
[4,null,null,null,null,null,null,null,4,null,null,null,null,null,null,null,4]
[5,null,null,null,null,null,null,null,5,null,null,null,null,null,null,null,5]
["wenn erforderlich",null,null,null,null,null,null,null,"wenn erforderlich",null,null,null,null,null,null,null,"wenn erforderlich"]
["Stechen",null,null,null,null,null,null,null,"Stechen",null,null,null,null,null,null,null,"Stechen"]
[null,null,null,null,null,"gewonnen",null,null,null,null,null,null,null,"gewonnen",null,null,null,null,null,null,null,"gewonnen"]
["Schütze:",null,null,null,null,"verloren",null,null,"Schütze:",null,null,null,null,"verloren",null,null,"Schütze:",null,null,null,null,"verloren"]
[]
["Gegner:",null,"Name:",null,null,null,null,null,"Gegner:",null,"Name:",null,null,null,null,null,"Gegner:",null,"Name:"]
[null,null,"Unterschrift:",null,null,null,null,null,null,null,"Unterschrift:",null,null,null,null,null,null,null,"Unterschrift:"]
[]
[]
[null,null,null,null,null,null,null,null,"1/24 Elimination",null,null,null,{"$f":"'C52_Baum'!$D$127","v":"Scheibe: 38B"},null,null,null,"1/12 Elimination",null,null,null,{"$f":"'C52_Baum'!$I$121","v":"Scheibe: 35B"}]
[null,null,null,null,null,null,null,null,null,1,2,3,"Summe","Ges.",null,null,null,1,2,3,"Summe","Ges."]
[{"$f":"Select!$C$12","v":"Demoturnier"},null,null,null,null,null,null,null,1,null,null,null,null,null,null,null,1]
["Veranstaltung",null,null,null,null,null,null,null,2,null,null,null,null,null,null,null,2]
[{"$f":"Select!$C$13","v":"1. April 2019"},null,null,null,null,null,null,null,3,null,null,null,null,null,null,null,3]
["Datum",null,null,null,null,null,null,null,4,null,null,null,null,null,null,null,4]
[{"$f":"'C52_Baum'!$D$27","v":"Richter Oscar"},null,null,null,null,null,null,null,5,null,null,null,null,null,null,null,5]
["Name",null,null,null,null,null,null,null,"wenn erforderlich",null,null,null,null,null,null,null,"wenn erforderlich"]
[{"$f":"'C52_Baum'!$F$27","v":"BC Golden Arrows"},null,null,null,null,null,null,null,"Stechen",null,null,null,null,null,null,null,"Stechen"]
["Verein",null,null,null,null,null,null,null,null,null,null,null,null,"gewonnen",null,null,null,null,null,null,null,"gewonnen"]
[{"$f":"Select!$C$20","v":"Compound Herren"},null,null,null,null,null,null,null,"Schütze:",null,null,null,null,"verloren",null,null,"Schütze:",null,null,null,null,"verloren"]
["Bogenklasse"]
[null,null,null,null,null,null,null,null,"Gegner:",null,"Name:",null,null,null,null,null,"Gegner:",null,"Name:"]
[null,null,null,null,null,null,null,null,null,null,"Unterschrift:",null,null,null,null,null,null,null,"Unterschrift:"]
[]
[]
["1/8 Elimination",null,null,null,{"$f":"'C52_Baum'!$M$119","v":"Scheibe: 36"},null,null,null,"1/4 Finale",null,null,null,{"$f":"'C52_Baum'!$Q$117","v":"Scheibe: 36"},null,null,null,"1/2 Finale",null,null,null,{"$f":"'C52_Baum'!$U$116","v":"Scheibe: 35"}]
[null,1,2,3,"Summe","Ges.",null,null,null,1,2,3,"Summe","Ges.",null,null,null,1,2,3,"Summe","Ges."]
[1,null,null,null,null,null,null,null,1,null,null,null,null,null,null,null,1]
[2,null,null,null,null,null,null,null,2,null,null,null,null,null,null,null,2]
[3,null,null,null,null,null,null,null,3,null,null,null,null,null,null,null,3]
[4,null,null,null,null,null,null,null,4,null,null,null,null,null,null,null,4]
[5,null,null,null,null,null,null,null,5,null,null,null,null,null,null,null,5]
["wenn erforderlich",null,null,null,null,null,null,null,"wenn erforderlich",null,null,null,null,null,null,null,"wenn erforderlich"]
["Stechen",null,null,null,null,null,null,null,"Stechen",null,null,null,null,null,null,null,"Stechen"]
[null,null,null,null,null,"gewonnen",null,null,null,null,null,null,null,"gewonnen",null,null,null,null,null,null,null,"gewonnen"]
["Schütze:",null,null,null,null,"verloren",null,null,"Schütze:",null,null,null,null,"verloren",null,null,"Schütze:",null,null,null,null,"verloren"]
[]
["Gegner:",null,"Name:",null,null,null,null,null,"Gegner:",null,"Name:",null,null,null,null,null,"Gegner:",null,"Name:"]
[null,null,"Unterschrift:",null,null,null,null,null,null,null,"Unterschrift:",null,null,null,null,null,null,null,"Unterschrift:"]
[]
[]
[null,null,null,null,null,null,null,null,"1/24 Elimination",null,null,null,{"$f":"'C52_Baum'!$D$128","v":"Scheibe: 39A"},null,null,null,"1/12 Elimination",null,null,null,{"$f":"'C52_Baum'!$I$122","v":"Scheibe: 36A"}]
[null,null,null,null,null,null,null,null,null,1,2,3,"Summe","Ges.",null,null,null,1,2,3,"Summe","Ges."]
[{"$f":"Select!$C$12","v":"Demoturnier"},null,null,null,null,null,null,null,1,null,null,null,null,null,null,null,1]
["Veranstaltung",null,null,null,null,null,null,null,2,null,null,null,null,null,null,null,2]
[{"$f":"Select!$C$13","v":"1. April 2019"},null,null,null,null,null,null,null,3,null,null,null,null,null,null,null,3]
["Datum",null,null,null,null,null,null,null,4,null,null,null,null,null,null,null,4]
[{"$f":"'C52_Baum'!$D$30","v":"Traxler Helmuth"},null,null,null,null,null,null,null,5,null,null,null,null,null,null,null,5]
["Name",null,null,null,null,null,null,null,"wenn erforderlich",null,null,null,null,null,null,null,"wenn erforderlich"]
[{"$f":"'C52_Baum'!$F$30","v":"UBC Diana NÖ"},null,null,null,null,null,null,null,"Stechen",null,null,null,null,null,null,null,"Stechen"]
["Verein",null,null,null,null,null,null,null,null,null,null,null,null,"gewonnen",null,null,null,null,null,null,null,"gewonnen"]
[{"$f":"Select!$C$20","v":"Compound Herren"},null,null,null,null,null,null,null,"Schütze:",null,null,null,null,"verloren",null,null,"Schütze:",null,null,null,null,"verloren"]
["Bogenklasse"]
[null,null,null,null,null,null,null,null,"Gegner:",null,"Name:",null,null,null,null,null,"Gegner:",null,"Name:"]
[null,null,null,null,null,null,null,null,null,null,"Unterschrift:",null,null,null,null,null,null,null,"Unterschrift:"]
[]
[]
["1/8 Elimination",null,null,null,{"$f":"'C52_Baum'!$M$120","v":"Scheibe: 37"},null,null,null,"1/4 Finale",null,null,null,{"$f":"'C52_Baum'!$Q$118","v":"Scheibe: 37"},null,null,null,"1/2 Finale",null,null,null,{"$f":"'C52_Baum'!$U$117","v":"Scheibe: 36"}]
[null,1,2,3,"Summe","Ges.",null,null,null,1,2,3,"Summe","Ges.",null,null,null,1,2,3,"Summe","Ges."]
[1,null,null,null,null,null,null,null,1,null,null,null,null,null,null,null,1]
[2,null,null,null,null,null,null,null,2,null,null,null,null,null,null,null,2]
[3,null,null,null,null,null,null,null,3,null,null,null,null,null,null,null,3]
[4,null,null,null,null,null,null,null,4,null,null,null,null,null,null,null,4]
[5,null,null,null,null,null,null,null,5,null,null,null,null,null,null,null,5]
["wenn erforderlich",null,null,null,null,null,null,null,"wenn erforderlich",null,null,null,null,null,null,null,"wenn erforderlich"]
["Stechen",null,null,null,null,null,null,null,"Stechen",null,null,null,null,null,null,null,"Stechen"]
[null,null,null,null,null,"gewonnen",null,null,null,null,null,null,null,"gewonnen",null,null,null,null,null,null,null,"gewonnen"]
["Schütze:",null,null,null,null,"verloren",null,null,"Schütze:",null,null,null,null,"verloren",null,null,"Schütze:",null,null,null,null,"verloren"]
[]
["Gegner:",null,"Name:",null,null,null,null,null,"Gegner:",null,"Name:",null,null,null,null,null,"Gegner:",null,"Name:"]
[null,null,"Unterschrift:",null,null,null,null,null,null,null,"Unterschrift:",null,null,null,null,null,null,null,"Unterschrift:"]
[]
[]
[null,null,null,null,null,null,null,null,"1/24 Elimination",null,null,null,{"$f":"'C52_Baum'!$D$129","v":"Scheibe: 39B"},null,null,null,"1/12 Elimination",null,null,null,{"$f":"'C52_Baum'!$I$122","v":"Scheibe: 36A"}]
[null,null,null,null,null,null,null,null,null,1,2,3,"Summe","Ges.",null,null,null,1,2,3,"Summe","Ges."]
[{"$f":"Select!$C$12","v":"Demoturnier"},null,null,null,null,null,null,null,1,null,null,null,null,null,null,null,1]
["Veranstaltung",null,null,null,null,null,null,null,2,null,null,null,null,null,null,null,2]
[{"$f":"Select!$C$13","v":"1. April 2019"},null,null,null,null,null,null,null,3,null,null,null,null,null,null,null,3]
["Datum",null,null,null,null,null,null,null,4,null,null,null,null,null,null,null,4]
[{"$f":"'C52_Baum'!$D$31","v":"Thullner Sven"},null,null,null,null,null,null,null,5,null,null,null,null,null,null,null,5]
["Name",null,null,null,null,null,null,null,"wenn erforderlich",null,null,null,null,null,null,null,"wenn erforderlich"]
[{"$f":"'C52_Baum'!$F$31","v":"BSV - Lassee"},null,null,null,null,null,null,null,"Stechen",null,null,null,null,null,null,null,"Stechen"]
["Verein",null,null,null,null,null,null,null,null,null,null,null,null,"gewonnen",null,null,null,null,null,null,null,"gewonnen"]
[{"$f":"Select!$C$20","v":"Compound Herren"},null,null,null,null,null,null,null,"Schütze:",null,null,null,null,"verloren",null,null,"Schütze:",null,null,null,null,"verloren"]
["Bogenklasse"]
[null,null,null,null,null,null,null,null,"Gegner:",null,"Name:",null,null,null,null,null,"Gegner:",null,"Name:"]
[null,null,null,null,null,null,null,null,null,null,"Unterschrift:",null,null,null,null,null,null,null,"Unterschrift:"]
[]
[]
["1/8 Elimination",null,null,null,{"$f":"'C52_Baum'!$M$120","v":"Scheibe: 37"},null,null,null,"1/4 Finale",null,null,null,{"$f":"'C52_Baum'!$Q$118","v":"Scheibe: 37"},null,null,null,"1/2 Finale",null,null,null,{"$f":"'C52_Baum'!$U$117","v":"Scheibe: 36"}]
[null,1,2,3,"Summe","Ges.",null,null,null,1,2,3,"Summe","Ges.",null,null,null,1,2,3,"Summe","Ges."]
[1,null,null,null,null,null,null,null,1,null,null,null,null,null,null,null,1]
[2,null,null,null,null,null,null,null,2,null,null,null,null,null,null,null,2]
[3,null,null,null,null,null,null,null,3,null,null,null,null,null,null,null,3]
[4,null,null,null,null,null,null,null,4,null,null,null,null,null,null,null,4]
[5,null,null,null,null,null,null,null,5,null,null,null,null,null,null,null,5]
["wenn erforderlich",null,null,null,null,null,null,null,"wenn erforderlich",null,null,null,null,null,null,null,"wenn erforderlich"]
["Stechen",null,null,null,null,null,null,null,"Stechen",null,null,null,null,null,null,null,"Stechen"]
[null,null,null,null,null,"gewonnen",null,null,null,null,null,null,null,"gewonnen",null,null,null,null,null,null,null,"gewonnen"]
["Schütze:",null,null,null,null,"verloren",null,null,"Schütze:",null,null,null,null,"verloren",null,null,"Schütze:",null,null,null,null,"verloren"]
[]
["Gegner:",null,"Name:",null,null,null,null,null,"Gegner:",null,"Name:",null,null,null,null,null,"Gegner:",null,"Name:"]
[null,null,"Unterschrift:",null,null,null,null,null,null,null,"Unterschrift:",null,null,null,null,null,null,null,"Unterschrift:"]
[]
[]
[null,null,null,null,null,null,null,null,"1/24 Elimination",null,null,null,{"$f":"'C52_Baum'!$D$130","v":"Scheibe: 40A"},null,null,null,"1/12 Elimination",null,null,null,{"$f":"'C52_Baum'!$I$123","v":"Scheibe: 36B"}]
[null,null,null,null,null,null,null,null,null,1,2,3,"Summe","Ges.",null,null,null,1,2,3,"Summe","Ges."]
[{"$f":"Select!$C$12","v":"Demoturnier"},null,null,null,null,null,null,null,1,null,null,null,null,null,null,null,1]
["Veranstaltung",null,null,null,null,null,null,null,2,null,null,null,null,null,null,null,2]
[{"$f":"Select!$C$13","v":"1. April 2019"},null,null,null,null,null,null,null,3,null,null,null,null,null,null,null,3]
["Datum",null,null,null,null,null,null,null,4,null,null,null,null,null,null,null,4]
[{"$f":"'C52_Baum'!$D$34","v":"Holzer Gerhard"},null,null,null,null,null,null,null,5,null,null,null,null,null,null,null,5]
["Name",null,null,null,null,null,null,null,"wenn erforderlich",null,null,null,null,null,null,null,"wenn erforderlich"]
[{"$f":"'C52_Baum'!$F$34","v":"UBC Diana NÖ"},null,null,null,null,null,null,null,"Stechen",null,null,null,null,null,null,null,"Stechen"]
["Verein",null,null,null,null,null,null,null,null,null,null,null,null,"gewonnen",null,null,null,null,null,null,null,"gewonnen"]
[{"$f":"Select!$C$20","v":"Compound Herren"},null,null,null,null,null,null,null,"Schütze:",null,null,null,null,"verloren",null,null,"Schütze:",null,null,null,null,"verloren"]
["Bogenklasse"]
[null,null,null,null,null,null,null,null,"Gegner:",null,"Name:",null,null,null,null,null,"Gegner:",null,"Name:"]
[null,null,null,null,null,null,null,null,null,null,"Unterschrift:",null,null,null,null,null,null,null,"Unterschrift:"]
[]
[]
["1/8 Elimination",null,null,null,{"$f":"'C52_Baum'!$M$120","v":"Scheibe: 37"},null,null,null,"1/4 Finale",null,null,null,{"$f":"'C52_Baum'!$Q$118","v":"Scheibe: 37"},null,null,null,"1/2 Finale",null,null,null,{"$f":"'C52_Baum'!$U$117","v":"Scheibe: 36"}]
[null,1,2,3,"Summe","Ges.",null,null,null,1,2,3,"Summe","Ges.",null,null,null,1,2,3,"Summe","Ges."]
[1,null,null,null,null,null,null,null,1,null,null,null,null,null,null,null,1]
[2,null,null,null,null,null,null,null,2,null,null,null,null,null,null,null,2]
[3,null,null,null,null,null,null,null,3,null,null,null,null,null,null,null,3]
[4,null,null,null,null,null,null,null,4,null,null,null,null,null,null,null,4]
[5,null,null,null,null,null,null,null,5,null,null,null,null,null,null,null,5]
["wenn erforderlich",null,null,null,null,null,null,null,"wenn erforderlich",null,null,null,null,null,null,null,"wenn erforderlich"]
["Stechen",null,null,null,null,null,null,null,"Stechen",null,null,null,null,null,null,null,"Stechen"]
[null,null,null,null,null,"gewonnen",null,null,null,null,null,null,null,"gewonnen",null,null,null,null,null,null,null,"gewonnen"]
["Schütze:",null,null,null,null,"verloren",null,null,"Schütze:",null,null,null,null,"verloren",null,null,"Schütze:",null,null,null,null,"verloren"]
[]
["Gegner:",null,"Name:",null,null,null,null,null,"Gegner:",null,"Name:",null,null,null,null,null,"Gegner:",null,"Name:"]
[null,null,"Unterschrift:",null,null,null,null,null,null,null,"Unterschrift:",null,null,null,null,null,null,null,"Unterschrift:"]
[]
[]
[null,null,null,null,null,null,null,null,"1/24 Elimination",null,null,null,{"$f":"'C52_Baum'!$D$131","v":"Scheibe: 40B"},null,null,null,"1/12 Elimination",null,null,null,{"$f":"'C52_Baum'!$I$123","v":"Scheibe: 36B"}]
[null,null,null,null,null,null,null,null,null,1,2,3,"Summe","Ges.",null,null,null,1,2,3,"Summe","Ges."]
[{"$f":"Select!$C$12","v":"Demoturnier"},null,null,null,null,null,null,null,1,null,null,null,null,null,null,null,1]
["Veranstaltung",null,null,null,null,null,null,null,2,null,null,null,null,null,null,null,2]
[{"$f":"Select!$C$13","v":"1. April 2019"},null,null,null,null,null,null,null,3,null,null,null,null,null,null,null,3]
["Datum",null,null,null,null,null,null,null,4,null,null,null,null,null,null,null,4]
[{"$f":"'C52_Baum'!$D$35","v":"Irnsperger Gerald"},null,null,null,null,null,null,null,5,null,null,null,null,null,null,null,5]
["Name",null,null,null,null,null,null,null,"wenn erforderlich",null,null,null,null,null,null,null,"wenn erforderlich"]
[{"$f":"'C52_Baum'!$F$35","v":"3D Bogenplatz Riedersbach"},null,null,null,null,null,null,null,"Stechen",null,null,null,null,null,null,null,"Stechen"]
["Verein",null,null,null,null,null,null,null,null,null,null,null,null,"gewonnen",null,null,null,null,null,null,null,"gewonnen"]
[{"$f":"Select!$C$20","v":"Compound Herren"},null,null,null,null,null,null,null,"Schütze:",null,null,null,null,"verloren",null,null,"Schütze:",null,null,null,null,"verloren"]
["Bogenklasse"]
[null,null,null,null,null,null,null,null,"Gegner:",null,"Name:",null,null,null,null,null,"Gegner:",null,"Name:"]
[null,null,null,null,null,null,null,null,null,null,"Unterschrift:",null,null,null,null,null,null,null,"Unterschrift:"]
[]
[]
["1/8 Elimination",null,null,null,{"$f":"'C52_Baum'!$M$120","v":"Scheibe: 37"},null,null,null,"1/4 Finale",null,null,null,{"$f":"'C52_Baum'!$Q$118","v":"Scheibe: 37"},null,null,null,"1/2 Finale",null,null,null,{"$f":"'C52_Baum'!$U$117","v":"Scheibe: 36"}]
[null,1,2,3,"Summe","Ges.",null,null,null,1,2,3,"Summe","Ges.",null,null,null,1,2,3,"Summe","Ges."]
[1,null,null,null,null,null,null,null,1,null,null,null,null,null,null,null,1]
[2,null,null,null,null,null,null,null,2,null,null,null,null,null,null,null,2]
[3,null,null,null,null,null,null,null,3,null,null,null,null,null,null,null,3]
[4,null,null,null,null,null,null,null,4,null,null,null,null,null,null,null,4]
[5,null,null,null,null,null,null,null,5,null,null,null,null,null,null,null,5]
["wenn erforderlich",null,null,null,null,null,null,null,"wenn erforderlich",null,null,null,null,null,null,null,"wenn erforderlich"]
["Stechen",null,null,null,null,null,null,null,"Stechen",null,null,null,null,null,null,null,"Stechen"]
[null,null,null,null,null,"gewonnen",null,null,null,null,null,null,null,"gewonnen",null,null,null,null,null,null,null,"gewonnen"]
["Schütze:",null,null,null,null,"verloren",null,null,"Schütze:",null,null,null,null,"verloren",null,null,"Schütze:",null,null,null,null,"verloren"]
[]
["Gegner:",null,"Name:",null,null,null,null,null,"Gegner:",null,"Name:",null,null,null,null,null,"Gegner:",null,"Name:"]
[null,null,"Unterschrift:",null,null,null,null,null,null,null,"Unterschrift:",null,null,null,null,null,null,null,"Unterschrift:"]
[]
[]
[null,null,null,null,null,null,null,null,"1/24 Elimination",null,null,null,{"$f":"'C52_Baum'!$D$132","v":"Scheibe: 41A"},null,null,null,"1/12 Elimination",null,null,null,{"$f":"'C52_Baum'!$I$124","v":"Scheibe: 37A"}]
[null,null,null,null,null,null,null,null,null,1,2,3,"Summe","Ges.",null,null,null,1,2,3,"Summe","Ges."]
[{"$f":"Select!$C$12","v":"Demoturnier"},null,null,null,null,null,null,null,1,null,null,null,null,null,null,null,1]
["Veranstaltung",null,null,null,null,null,null,null,2,null,null,null,null,null,null,null,2]
[{"$f":"Select!$C$13","v":"1. April 2019"},null,null,null,null,null,null,null,3,null,null,null,null,null,null,null,3]
["Datum",null,null,null,null,null,null,null,4,null,null,null,null,null,null,null,4]
[{"$f":"'C52_Baum'!$D$38","v":"Lehner Heinz"},null,null,null,null,null,null,null,5,null,null,null,null,null,null,null,5]
["Name",null,null,null,null,null,null,null,"wenn erforderlich",null,null,null,null,null,null,null,"wenn erforderlich"]
[{"$f":"'C52_Baum'!$F$38","v":"Salzkammergut Bogensport Club"},null,null,null,null,null,null,null,"Stechen",null,null,null,null,null,null,null,"Stechen"]
["Verein",null,null,null,null,null,null,null,null,null,null,null,null,"gewonnen",null,null,null,null,null,null,null,"gewonnen"]
[{"$f":"Select!$C$20","v":"Compound Herren"},null,null,null,null,null,null,null,"Schütze:",null,null,null,null,"verloren",null,null,"Schütze:",null,null,null,null,"verloren"]
["Bogenklasse"]
[null,null,null,null,null,null,null,null,"Gegner:",null,"Name:",null,null,null,null,null,"Gegner:",null,"Name:"]
[null,null,null,null,null,null,null,null,null,null,"Unterschrift:",null,null,null,null,null,null,null,"Unterschrift:"]
[]
[]
["1/8 Elimination",null,null,null,{"$f":"'C52_Baum'!$M$121","v":"Scheibe: 38"},null,null,null,"1/4 Finale",null,null,null,{"$f":"'C52_Baum'!$Q$118","v":"Scheibe: 37"},null,null,null,"1/2 Finale",null,null,null,{"$f":"'C52_Baum'!$U$117","v":"Scheibe: 36"}]
[null,1,2,3,"Summe","Ges.",null,null,null,1,2,3,"Summe","Ges.",null,null,null,1,2,3,"Summe","Ges."]
[1,null,null,null,null,null,null,null,1,null,null,null,null,null,null,null,1]
[2,null,null,null,null,null,null,null,2,null,null,null,null,null,null,null,2]
[3,null,null,null,null,null,null,null,3,null,null,null,null,null,null,null,3]
[4,null,null,null,null,null,null,null,4,null,null,null,null,null,null,null,4]
[5,null,null,null,null,null,null,null,5,null,null,null,null,null,null,null,5]
["wenn erforderlich",null,null,null,null,null,null,null,"wenn erforderlich",null,null,null,null,null,null,null,"wenn erforderlich"]
["Stechen",null,null,null,null,null,null,null,"Stechen",null,null,null,null,null,null,null,"Stechen"]
[null,null,null,null,null,"gewonnen",null,null,null,null,null,null,null,"gewonnen",null,null,null,null,null,null,null,"gewonnen"]
["Schütze:",null,null,null,null,"verloren",null,null,"Schütze:",null,null,null,null,"verloren",null,null,"Schütze:",null,null,null,null,"verloren"]
[]
["Gegner:",null,"Name:",null,null,null,null,null,"Gegner:",null,"Name:",null,null,null,null,null,"Gegner:",null,"Name:"]
[null,null,"Unterschrift:",null,null,null,null,null,null,null,"Unterschrift:",null,null,null,null,null,null,null,"Unterschrift:"]
[]
[]
[null,null,null,null,null,null,null,null,"1/24 Elimination",null,null,null,{"$f":"'C52_Baum'!$D$133","v":"Scheibe: 41B"},null,null,null,"1/12 Elimination",null,null,null,{"$f":"'C52_Baum'!$I$124","v":"Scheibe: 37A"}]
[null,null,null,null,null,null,null,null,null,1,2,3,"Summe","Ges.",null,null,null,1,2,3,"Summe","Ges."]
[{"$f":"Select!$C$12","v":"Demoturnier"},null,null,null,null,null,null,null,1,null,null,null,null,null,null,null,1]
["Veranstaltung",null,null,null,null,null,null,null,2,null,null,null,null,null,null,null,2]
[{"$f":"Select!$C$13","v":"1. April 2019"},null,null,null,null,null,null,null,3,null,null,null,null,null,null,null,3]
["Datum",null,null,null,null,null,null,null,4,null,null,null,null,null,null,null,4]
[{"$f":"'C52_Baum'!$D$39","v":"Gritsch Klaus"},null,null,null,null,null,null,null,5,null,null,null,null,null,null,null,5]
["Name",null,null,null,null,null,null,null,"wenn erforderlich",null,null,null,null,null,null,null,"wenn erforderlich"]
[{"$f":"'C52_Baum'!$F$39","v":"BSC Fischamend"},null,null,null,null,null,null,null,"Stechen",null,null,null,null,null,null,null,"Stechen"]
["Verein",null,null,null,null,null,null,null,null,null,null,null,null,"gewonnen",null,null,null,null,null,null,null,"gewonnen"]
[{"$f":"Select!$C$20","v":"Compound Herren"},null,null,null,null,null,null,null,"Schütze:",null,null,null,null,"verloren",null,null,"Schütze:",null,null,null,null,"verloren"]
["Bogenklasse"]
[null,null,null,null,null,null,null,null,"Gegner:",null,"Name:",null,null,null,null,null,"Gegner:",null,"Name:"]
[null,null,null,null,null,null,null,null,null,null,"Unterschrift:",null,null,null,null,null,null,null,"Unterschrift:"]
[]
[]
["1/8 Elimination",null,null,null,{"$f":"'C52_Baum'!$M$121","v":"Scheibe: 38"},null,null,null,"1/4 Finale",null,null,null,{"$f":"'C52_Baum'!$Q$118","v":"Scheibe: 37"},null,null,null,"1/2 Finale",null,null,null,{"$f":"'C52_Baum'!$U$117","v":"Scheibe: 36"}]
[null,1,2,3,"Summe","Ges.",null,null,null,1,2,3,"Summe","Ges.",null,null,null,1,2,3,"Summe","Ges."]
[1,null,null,null,null,null,null,null,1,null,null,null,null,null,null,null,1]
[2,null,null,null,null,null,null,null,2,null,null,null,null,null,null,null,2]
[3,null,null,null,null,null,null,null,3,null,null,null,null,null,null,null,3]
[4,null,null,null,null,null,null,null,4,null,null,null,null,null,null,null,4]
[5,null,null,null,null,null,null,null,5,null,null,null,null,null,null,null,5]
["wenn erforderlich",null,null,null,null,null,null,null,"wenn erforderlich",null,null,null,null,null,null,null,"wenn erforderlich"]
["Stechen",null,null,null,null,null,null,null,"Stechen",null,null,null,null,null,null,null,"Stechen"]
[null,null,null,null,null,"gewonnen",null,null,null,null,null,null,null,"gewonnen",null,null,null,null,null,null,null,"gewonnen"]
["Schütze:",null,null,null,null,"verloren",null,null,"Schütze:",null,null,null,null,"verloren",null,null,"Schütze:",null,null,null,null,"verloren"]
[]
["Gegner:",null,"Name:",null,null,null,null,null,"Gegner:",null,"Name:",null,null,null,null,null,"Gegner:",null,"Name:"]
[null,null,"Unterschrift:",null,null,null,null,null,null,null,"Unterschrift:",null,null,null,null,null,null,null,"Unterschrift:"]
[]
[]
[null,null,null,null,null,null,null,null,"1/24 Elimination",null,null,null,{"$f":"'C52_Baum'!$D$134","v":"Scheibe: 42A"},null,null,null,"1/12 Elimination",null,null,null,{"$f":"'C52_Baum'!$I$125","v":"Scheibe: 37B"}]
[null,null,null,null,null,null,null,null,null,1,2,3,"Summe","Ges.",null,null,null,1,2,3,"Summe","Ges."]
[{"$f":"Select!$C$12","v":"Demoturnier"},null,null,null,null,null,null,null,1,null,null,null,null,null,null,null,1]
["Veranstaltung",null,null,null,null,null,null,null,2,null,null,null,null,null,null,null,2]
[{"$f":"Select!$C$13","v":"1. April 2019"},null,null,null,null,null,null,null,3,null,null,null,null,null,null,null,3]
["Datum",null,null,null,null,null,null,null,4,null,null,null,null,null,null,null,4]
[{"$f":"'C52_Baum'!$D$42","v":"Bruijns Peter"},null,null,null,null,null,null,null,5,null,null,null,null,null,null,null,5]
["Name",null,null,null,null,null,null,null,"wenn erforderlich",null,null,null,null,null,null,null,"wenn erforderlich"]
[{"$f":"'C52_Baum'!$F$42","v":"BC Golden Arrows"},null,null,null,null,null,null,null,"Stechen",null,null,null,null,null,null,null,"Stechen"]
["Verein",null,null,null,null,null,null,null,null,null,null,null,null,"gewonnen",null,null,null,null,null,null,null,"gewonnen"]
[{"$f":"Select!$C$20","v":"Compound Herren"},null,null,null,null,null,null,null,"Schütze:",null,null,null,null,"verloren",null,null,"Schütze:",null,null,null,null,"verloren"]
["Bogenklasse"]
[null,null,null,null,null,null,null,null,"Gegner:",null,"Name:",null,null,null,null,null,"Gegner:",null,"Name:"]
[null,null,null,null,null,null,null,null,null,null,"Unterschrift:",null,null,null,null,null,null,null,"Unterschrift:"]
[]
[]
["1/8 Elimination",null,null,null,{"$f":"'C52_Baum'!$M$121","v":"Scheibe: 38"},null,null,null,"1/4 Finale",null,null,null,{"$f":"'C52_Baum'!$Q$118","v":"Scheibe: 37"},null,null,null,"1/2 Finale",null,null,null,{"$f":"'C52_Baum'!$U$117","v":"Scheibe: 36"}]
[null,1,2,3,"Summe","Ges.",null,null,null,1,2,3,"Summe","Ges.",null,null,null,1,2,3,"Summe","Ges."]
[1,null,null,null,null,null,null,null,1,null,null,null,null,null,null,null,1]
[2,null,null,null,null,null,null,null,2,null,null,null,null,null,null,null,2]
[3,null,null,null,null,null,null,null,3,null,null,null,null,null,null,null,3]
[4,null,null,null,null,null,null,null,4,null,null,null,null,null,null,null,4]
[5,null,null,null,null,null,null,null,5,null,null,null,null,null,null,null,5]
["wenn erforderlich",null,null,null,null,null,null,null,"wenn erforderlich",null,null,null,null,null,null,null,"wenn erforderlich"]
["Stechen",null,null,null,null,null,null,null,"Stechen",null,null,null,null,null,null,null,"Stechen"]
[null,null,null,null,null,"gewonnen",null,null,null,null,null,null,null,"gewonnen",null,null,null,null,null,null,null,"gewonnen"]
["Schütze:",null,null,null,null,"verloren",null,null,"Schütze:",null,null,null,null,"verloren",null,null,"Schütze:",null,null,null,null,"verloren"]
[]
["Gegner:",null,"Name:",null,null,null,null,null,"Gegner:",null,"Name:",null,null,null,null,null,"Gegner:",null,"Name:"]
[null,null,"Unterschrift:",null,null,null,null,null,null,null,"Unterschrift:",null,null,null,null,null,null,null,"Unterschrift:"]
[]
[]
[null,null,null,null,null,null,null,null,"1/24 Elimination",null,null,null,{"$f":"'C52_Baum'!$D$135","v":"Scheibe: 42B"},null,null,null,"1/12 Elimination",null,null,null,{"$f":"'C52_Baum'!$I$125","v":"Scheibe: 37B"}]
[null,null,null,null,null,null,null,null,null,1,2,3,"Summe","Ges.",null,null,null,1,2,3,"Summe","Ges."]
[{"$f":"Select!$C$12","v":"Demoturnier"},null,null,null,null,null,null,null,1,null,null,null,null,null,null,null,1]
["Veranstaltung",null,null,null,null,null,null,null,2,null,null,null,null,null,null,null,2]
[{"$f":"Select!$C$13","v":"1. April 2019"},null,null,null,null,null,null,null,3,null,null,null,null,null,null,null,3]
["Datum",null,null,null,null,null,null,null,4,null,null,null,null,null,null,null,4]
[{"$f":"'C52_Baum'!$D$43","v":"Willingshofer August"},null,null,null,null,null,null,null,5,null,null,null,null,null,null,null,5]
["Name",null,null,null,null,null,null,null,"wenn erforderlich",null,null,null,null,null,null,null,"wenn erforderlich"]
[{"$f":"'C52_Baum'!$F$43","v":"BSC Velden"},null,null,null,null,null,null,null,"Stechen",null,null,null,null,null,null,null,"Stechen"]
["Verein",null,null,null,null,null,null,null,null,null,null,null,null,"gewonnen",null,null,null,null,null,null,null,"gewonnen"]
[{"$f":"Select!$C$20","v":"Compound Herren"},null,null,null,null,null,null,null,"Schütze:",null,null,null,null,"verloren",null,null,"Schütze:",null,null,null,null,"verloren"]
["Bogenklasse"]
[null,null,null,null,null,null,null,null,"Gegner:",null,"Name:",null,null,null,null,null,"Gegner:",null,"Name:"]
[null,null,null,null,null,null,null,null,null,null,"Unterschrift:",null,null,null,null,null,null,null,"Unterschrift:"]
[]
[]
["1/8 Elimination",null,null,null,{"$f":"'C52_Baum'!$M$121","v":"Scheibe: 38"},null,null,null,"1/4 Finale",null,null,null,{"$f":"'C52_Baum'!$Q$118","v":"Scheibe: 37"},null,null,null,"1/2 Finale",null,null,null,{"$f":"'C52_Baum'!$U$117","v":"Scheibe: 36"}]
[null,1,2,3,"Summe","Ges.",null,null,null,1,2,3,"Summe","Ges.",null,null,null,1,2,3,"Summe","Ges."]
[1,null,null,null,null,null,null,null,1,null,null,null,null,null,null,null,1]
[2,null,null,null,null,null,null,null,2,null,null,null,null,null,null,null,2]
[3,null,null,null,null,null,null,null,3,null,null,null,null,null,null,null,3]
[4,null,null,null,null,null,null,null,4,null,null,null,null,null,null,null,4]
[5,null,null,null,null,null,null,null,5,null,null,null,null,null,null,null,5]
["wenn erforderlich",null,null,null,null,null,null,null,"wenn erforderlich",null,null,null,null,null,null,null,"wenn erforderlich"]
["Stechen",null,null,null,null,null,null,null,"Stechen",null,null,null,null,null,null,null,"Stechen"]
[null,null,null,null,null,"gewonnen",null,null,null,null,null,null,null,"gewonnen",null,null,null,null,null,null,null,"gewonnen"]
["Schütze:",null,null,null,null,"verloren",null,null,"Schütze:",null,null,null,null,"verloren",null,null,"Schütze:",null,null,null,null,"verloren"]
[]
["Gegner:",null,"Name:",null,null,null,null,null,"Gegner:",null,"Name:",null,null,null,null,null,"Gegner:",null,"Name:"]
[null,null,"Unterschrift:",null,null,null,null,null,null,null,"Unterschrift:",null,null,null,null,null,null,null,"Unterschrift:"]
[]
[]
[null,null,null,null,null,null,null,null,"1/24 Elimination",null,null,null,{"$f":"'C52_Baum'!$D$136","v":"Scheibe: 43A"},null,null,null,"1/12 Elimination",null,null,null,{"$f":"'C52_Baum'!$I$126","v":"Scheibe: 38A"}]
[null,null,null,null,null,null,null,null,null,1,2,3,"Summe","Ges.",null,null,null,1,2,3,"Summe","Ges."]
[{"$f":"Select!$C$12","v":"Demoturnier"},null,null,null,null,null,null,null,1,null,null,null,null,null,null,null,1]
["Veranstaltung",null,null,null,null,null,null,null,2,null,null,null,null,null,null,null,2]
[{"$f":"Select!$C$13","v":"1. April 2019"},null,null,null,null,null,null,null,3,null,null,null,null,null,null,null,3]
["Datum",null,null,null,null,null,null,null,4,null,null,null,null,null,null,null,4]
[{"$f":"'C52_Baum'!$D$46","v":"Zezula Erwin"},null,null,null,null,null,null,null,5,null,null,null,null,null,null,null,5]
["Name",null,null,null,null,null,null,null,"wenn erforderlich",null,null,null,null,null,null,null,"wenn erforderlich"]
[{"$f":"'C52_Baum'!$F$46","v":"WBZ Union Zwettl"},null,null,null,null,null,null,null,"Stechen",null,null,null,null,null,null,null,"Stechen"]
["Verein",null,null,null,null,null,null,null,null,null,null,null,null,"gewonnen",null,null,null,null,null,null,null,"gewonnen"]
[{"$f":"Select!$C$20","v":"Compound Herren"},null,null,null,null,null,null,null,"Schütze:",null,null,null,null,"verloren",null,null,"Schütze:",null,null,null,null,"verloren"]
["Bogenklasse"]
[null,null,null,null,null,null,null,null,"Gegner:",null,"Name:",null,null,null,null,null,"Gegner:",null,"Name:"]
[null,null,null,null,null,null,null,null,null,null,"Unterschrift:",null,null,null,null,null,null,null,"Unterschrift:"]
[]
[]
["1/8 Elimination",null,null,null,{"$f":"'C52_Baum'!$M$122","v":"Scheibe: 39"},null,null,null,"1/4 Finale",null,null,null,{"$f":"'C52_Baum'!$Q$119","v":"Scheibe: 38"},null,null,null,"1/2 Finale",null,null,null,{"$f":"'C52_Baum'!$U$117","v":"Scheibe: 36"}]
[null,1,2,3,"Summe","Ges.",null,null,null,1,2,3,"Summe","Ges.",null,null,null,1,2,3,"Summe","Ges."]
[1,null,null,null,null,null,null,null,1,null,null,null,null,null,null,null,1]
[2,null,null,null,null,null,null,null,2,null,null,null,null,null,null,null,2]
[3,null,null,null,null,null,null,null,3,null,null,null,null,null,null,null,3]
[4,null,null,null,null,null,null,null,4,null,null,null,null,null,null,null,4]
[5,null,null,null,null,null,null,null,5,null,null,null,null,null,null,null,5]
["wenn erforderlich",null,null,null,null,null,null,null,"wenn erforderlich",null,null,null,null,null,null,null,"wenn erforderlich"]
["Stechen",null,null,null,null,null,null,null,"Stechen",null,null,null,null,null,null,null,"Stechen"]
[null,null,null,null,null,"gewonnen",null,null,null,null,null,null,null,"gewonnen",null,null,null,null,null,null,null,"gewonnen"]
["Schütze:",null,null,null,null,"verloren",null,null,"Schütze:",null,null,null,null,"verloren",null,null,"Schütze:",null,null,null,null,"verloren"]
[]
["Gegner:",null,"Name:",null,null,null,null,null,"Gegner:",null,"Name:",null,null,null,null,null,"Gegner:",null,"Name:"]
[null,null,"Unterschrift:",null,null,null,null,null,null,null,"Unterschrift:",null,null,null,null,null,null,null,"Unterschrift:"]
[]
[]
[null,null,null,null,null,null,null,null,"1/24 Elimination",null,null,null,{"$f":"'C52_Baum'!$D$137","v":"Scheibe: 43B"},null,null,null,"1/12 Elimination",null,null,null,{"$f":"'C52_Baum'!$I$126","v":"Scheibe: 38A"}]
[null,null,null,null,null,null,null,null,null,1,2,3,"Summe","Ges.",null,null,null,1,2,3,"Summe","Ges."]
[{"$f":"Select!$C$12","v":"Demoturnier"},null,null,null,null,null,null,null,1,null,null,null,null,null,null,null,1]
["Veranstaltung",null,null,null,null,null,null,null,2,null,null,null,null,null,null,null,2]
[{"$f":"Select!$C$13","v":"1. April 2019"},null,null,null,null,null,null,null,3,null,null,null,null,null,null,null,3]
["Datum",null,null,null,null,null,null,null,4,null,null,null,null,null,null,null,4]
[{"$f":"'C52_Baum'!$D$47","v":"Kropiunig Alexander"},null,null,null,null,null,null,null,5,null,null,null,null,null,null,null,5]
["Name",null,null,null,null,null,null,null,"wenn erforderlich",null,null,null,null,null,null,null,"wenn erforderlich"]
[{"$f":"'C52_Baum'!$F$47","v":"BSC Sparkasse Jenbach"},null,null,null,null,null,null,null,"Stechen",null,null,null,null,null,null,null,"Stechen"]
["Verein",null,null,null,null,null,null,null,null,null,null,null,null,"gewonnen",null,null,null,null,null,null,null,"gewonnen"]
[{"$f":"Select!$C$20","v":"Compound Herren"},null,null,null,null,null,null,null,"Schütze:",null,null,null,null,"verloren",null,null,"Schütze:",null,null,null,null,"verloren"]
["Bogenklasse"]
[null,null,null,null,null,null,null,null,"Gegner:",null,"Name:",null,null,null,null,null,"Gegner:",null,"Name:"]
[null,null,null,null,null,null,null,null,null,null,"Unterschrift:",null,null,null,null,null,null,null,"Unterschrift:"]
[]
[]
["1/8 Elimination",null,null,null,{"$f":"'C52_Baum'!$M$122","v":"Scheibe: 39"},null,null,null,"1/4 Finale",null,null,null,{"$f":"'C52_Baum'!$Q$119","v":"Scheibe: 38"},null,null,null,"1/2 Finale",null,null,null,{"$f":"'C52_Baum'!$U$117","v":"Scheibe: 36"}]
[null,1,2,3,"Summe","Ges.",null,null,null,1,2,3,"Summe","Ges.",null,null,null,1,2,3,"Summe","Ges."]
[1,null,null,null,null,null,null,null,1,null,null,null,null,null,null,null,1]
[2,null,null,null,null,null,null,null,2,null,null,null,null,null,null,null,2]
[3,null,null,null,null,null,null,null,3,null,null,null,null,null,null,null,3]
[4,null,null,null,null,null,null,null,4,null,null,null,null,null,null,null,4]
[5,null,null,null,null,null,null,null,5,null,null,null,null,null,null,null,5]
["wenn erforderlich",null,null,null,null,null,null,null,"wenn erforderlich",null,null,null,null,null,null,null,"wenn erforderlich"]
["Stechen",null,null,null,null,null,null,null,"Stechen",null,null,null,null,null,null,null,"Stechen"]
[null,null,null,null,null,"gewonnen",null,null,null,null,null,null,null,"gewonnen",null,null,null,null,null,null,null,"gewonnen"]
["Schütze:",null,null,null,null,"verloren",null,null,"Schütze:",null,null,null,null,"verloren",null,null,"Schütze:",null,null,null,null,"verloren"]
[]
["Gegner:",null,"Name:",null,null,null,null,null,"Gegner:",null,"Name:",null,null,null,null,null,"Gegner:",null,"Name:"]
[null,null,"Unterschrift:",null,null,null,null,null,null,null,"Unterschrift:",null,null,null,null,null,null,null,"Unterschrift:"]
[]
[]
[null,null,null,null,null,null,null,null,"1/24 Elimination",null,null,null,{"$f":"'C52_Baum'!$D$138","v":"Scheibe: 44A"},null,null,null,"1/12 Elimination",null,null,null,{"$f":"'C52_Baum'!$I$127","v":"Scheibe: 38B"}]
[null,null,null,null,null,null,null,null,null,1,2,3,"Summe","Ges.",null,null,null,1,2,3,"Summe","Ges."]
[{"$f":"Select!$C$12","v":"Demoturnier"},null,null,null,null,null,null,null,1,null,null,null,null,null,null,null,1]
["Veranstaltung",null,null,null,null,null,null,null,2,null,null,null,null,null,null,null,2]
[{"$f":"Select!$C$13","v":"1. April 2019"},null,null,null,null,null,null,null,3,null,null,null,null,null,null,null,3]
["Datum",null,null,null,null,null,null,null,4,null,null,null,null,null,null,null,4]
[{"$f":"'C52_Baum'!$D$50","v":"Kappl Markus"},null,null,null,null,null,null,null,5,null,null,null,null,null,null,null,5]
["Name",null,null,null,null,null,null,null,"wenn erforderlich",null,null,null,null,null,null,null,"wenn erforderlich"]
[{"$f":"'C52_Baum'!$F$50","v":"WBZ Union Zwettl"},null,null,null,null,null,null,null,"Stechen",null,null,null,null,null,null,null,"Stechen"]
["Verein",null,null,null,null,null,null,null,null,null,null,null,null,"gewonnen",null,null,null,null,null,null,null,"gewonnen"]
[{"$f":"Select!$C$20","v":"Compound Herren"},null,null,null,null,null,null,null,"Schütze:",null,null,null,null,"verloren",null,null,"Schütze:",null,null,null,null,"verloren"]
["Bogenklasse"]
[null,null,null,null,null,null,null,null,"Gegner:",null,"Name:",null,null,null,null,null,"Gegner:",null,"Name:"]
[null,null,null,null,null,null,null,null,null,null,"Unterschrift:",null,null,null,null,null,null,null,"Unterschrift:"]
[]
[]
["1/8 Elimination",null,null,null,{"$f":"'C52_Baum'!$M$122","v":"Scheibe: 39"},null,null,null,"1/4 Finale",null,null,null,{"$f":"'C52_Baum'!$Q$119","v":"Scheibe: 38"},null,null,null,"1/2 Finale",null,null,null,{"$f":"'C52_Baum'!$U$117","v":"Scheibe: 36"}]
[null,1,2,3,"Summe","Ges.",null,null,null,1,2,3,"Summe","Ges.",null,null,null,1,2,3,"Summe","Ges."]
[1,null,null,null,null,null,null,null,1,null,null,null,null,null,null,null,1]
[2,null,null,null,null,null,null,null,2,null,null,null,null,null,null,null,2]
[3,null,null,null,null,null,null,null,3,null,null,null,null,null,null,null,3]
[4,null,null,null,null,null,null,null,4,null,null,null,null,null,null,null,4]
[5,null,null,null,null,null,null,null,5,null,null,null,null,null,null,null,5]
["wenn erforderlich",null,null,null,null,null,null,null,"wenn erforderlich",null,null,null,null,null,null,null,"wenn erforderlich"]
["Stechen",null,null,null,null,null,null,null,"Stechen",null,null,null,null,null,null,null,"Stechen"]
[null,null,null,null,null,"gewonnen",null,null,null,null,null,null,null,"gewonnen",null,null,null,null,null,null,null,"gewonnen"]
["Schütze:",null,null,null,null,"verloren",null,null,"Schütze:",null,null,null,null,"verloren",null,null,"Schütze:",null,null,null,null,"verloren"]
[]
["Gegner:",null,"Name:",null,null,null,null,null,"Gegner:",null,"Name:",null,null,null,null,null,"Gegner:",null,"Name:"]
[null,null,"Unterschrift:",null,null,null,null,null,null,null,"Unterschrift:",null,null,null,null,null,null,null,"Unterschrift:"]
[]
[]
[null,null,null,null,null,null,null,null,"1/24 Elimination",null,null,null,{"$f":"'C52_Baum'!$D$139","v":"Scheibe: 44B"},null,null,null,"1/12 Elimination",null,null,null,{"$f":"'C52_Baum'!$I$127","v":"Scheibe: 38B"}]
[null,null,null,null,null,null,null,null,null,1,2,3,"Summe","Ges.",null,null,null,1,2,3,"Summe","Ges."]
[{"$f":"Select!$C$12","v":"Demoturnier"},null,null,null,null,null,null,null,1,null,null,null,null,null,null,null,1]
["Veranstaltung",null,null,null,null,null,null,null,2,null,null,null,null,null,null,null,2]
[{"$f":"Select!$C$13","v":"1. April 2019"},null,null,null,null,null,null,null,3,null,null,null,null,null,null,null,3]
["Datum",null,null,null,null,null,null,null,4,null,null,null,null,null,null,null,4]
[{"$f":"'C52_Baum'!$D$51","v":"RAINER Andreas"},null,null,null,null,null,null,null,5,null,null,null,null,null,null,null,5]
["Name",null,null,null,null,null,null,null,"wenn erforderlich",null,null,null,null,null,null,null,"wenn erforderlich"]
[{"$f":"'C52_Baum'!$F$51","v":"BSC Semriach"},null,null,null,null,null,null,null,"Stechen",null,null,null,null,null,null,null,"Stechen"]
["Verein",null,null,null,null,null,null,null,null,null,null,null,null,"gewonnen",null,null,null,null,null,null,null,"gewonnen"]
[{"$f":"Select!$C$20","v":"Compound Herren"},null,null,null,null,null,null,null,"Schütze:",null,null,null,null,"verloren",null,null,"Schütze:",null,null,null,null,"verloren"]
["Bogenklasse"]
[null,null,null,null,null,null,null,null,"Gegner:",null,"Name:",null,null,null,null,null,"Gegner:",null,"Name:"]
[null,null,null,null,null,null,null,null,null,null,"Unterschrift:",null,null,null,null,null,null,null,"Unterschrift:"]
[]
[]
["1/8 Elimination",null,null,null,{"$f":"'C52_Baum'!$M$122","v":"Scheibe: 39"},null,null,null,"1/4 Finale",null,null,null,{"$f":"'C52_Baum'!$Q$119","v":"Scheibe: 38"},null,null,null,"1/2 Finale",null,null,null,{"$f":"'C52_Baum'!$U$117","v":"Scheibe: 36"}]
[null,1,2,3,"Summe","Ges.",null,null,null,1,2,3,"Summe","Ges.",null,null,null,1,2,3,"Summe","Ges."]
[1,null,null,null,null,null,null,null,1,null,null,null,null,null,null,null,1]
[2,null,null,null,null,null,null,null,2,null,null,null,null,null,null,null,2]
[3,null,null,null,null,null,null,null,3,null,null,null,null,null,null,null,3]
[4,null,null,null,null,null,null,null,4,null,null,null,null,null,null,null,4]
[5,null,null,null,null,null,null,null,5,null,null,null,null,null,null,null,5]
["wenn erforderlich",null,null,null,null,null,null,null,"wenn erforderlich",null,null,null,null,null,null,null,"wenn erforderlich"]
["Stechen",null,null,null,null,null,null,null,"Stechen",null,null,null,null,null,null,null,"Stechen"]
[null,null,null,null,null,"gewonnen",null,null,null,null,null,null,null,"gewonnen",null,null,null,null,null,null,null,"gewonnen"]
["Schütze:",null,null,null,null,"verloren",null,null,"Schütze:",null,null,null,null,"verloren",null,null,"Schütze:",null,null,null,null,"verloren"]
[]
["Gegner:",null,"Name:",null,null,null,null,null,"Gegner:",null,"Name:",null,null,null,null,null,"Gegner:",null,"Name:"]
[null,null,"Unterschrift:",null,null,null,null,null,null,null,"Unterschrift:",null,null,null,null,null,null,null,"Unterschrift:"]
[]
[]
[null,null,null,null,null,null,null,null,"1/24 Elimination",null,null,null,"Freilos",null,null,null,"1/12 Elimination",null,null,null,"Freilos"]
[null,null,null,null,null,null,null,null,null,1,2,3,"Summe","Ges.",null,null,null,1,2,3,"Summe","Ges."]
[{"$f":"Select!$C$12","v":"Demoturnier"},null,null,null,null,null,null,null,1,null,null,null,null,null,null,null,1]
["Veranstaltung",null,null,null,null,null,null,null,2,null,null,null,null,null,null,null,2]
[{"$f":"Select!$C$13","v":"1. April 2019"},null,null,null,null,null,null,null,3,null,null,null,null,null,null,null,3]
["Datum",null,null,null,null,null,null,null,4,null,null,null,null,null,null,null,4]
[{"$f":"'C52_Baum'!$D$54","v":"Wippel Wolfgang"},null,null,null,null,null,null,null,5,null,null,null,null,null,null,null,5]
["Name",null,null,null,null,null,null,null,"wenn erforderlich",null,null,null,null,null,null,null,"wenn erforderlich"]
[{"$f":"'C52_Baum'!$F$54","v":"BC Union Graz Seiersberg"},null,null,null,null,null,null,null,"Stechen",null,null,null,null,null,null,null,"Stechen"]
["Verein",null,null,null,null,null,null,null,null,null,null,null,null,"gewonnen",null,null,null,null,null,null,null,"gewonnen"]
[{"$f":"Select!$C$20","v":"Compound Herren"},null,null,null,null,null,null,null,"Schütze:",null,null,null,null,"verloren",null,null,"Schütze:",null,null,null,null,"verloren"]
["Bogenklasse"]
[null,null,null,null,null,null,null,null,"Gegner:",null,"Name:",null,null,null,null,null,"Gegner:",null,"Name:"]
[null,null,null,null,null,null,null,null,null,null,"Unterschrift:",null,null,null,null,null,null,null,"Unterschrift:"]
[]
[]
["1/8 Elimination",null,null,null,{"$f":"'C52_Baum'!$M$123","v":"Scheibe: 40"},null,null,null,"1/4 Finale",null,null,null,{"$f":"'C52_Baum'!$Q$119","v":"Scheibe: 38"},null,null,null,"1/2 Finale",null,null,null,{"$f":"'C52_Baum'!$U$117","v":"Scheibe: 36"}]
[null,1,2,3,"Summe","Ges.",null,null,null,1,2,3,"Summe","Ges.",null,null,null,1,2,3,"Summe","Ges."]
[1,null,null,null,null,null,null,null,1,null,null,null,null,null,null,null,1]
[2,null,null,null,null,null,null,null,2,null,null,null,null,null,null,null,2]
[3,null,null,null,null,null,null,null,3,null,null,null,null,null,null,null,3]
[4,null,null,null,null,null,null,null,4,null,null,null,null,null,null,null,4]
[5,null,null,null,null,null,null,null,5,null,null,null,null,null,null,null,5]
["wenn erforderlich",null,null,null,null,null,null,null,"wenn erforderlich",null,null,null,null,null,null,null,"wenn erforderlich"]
["Stechen",null,null,null,null,null,null,null,"Stechen",null,null,null,null,null,null,null,"Stechen"]
[null,null,null,null,null,"gewonnen",null,null,null,null,null,null,null,"gewonnen",null,null,null,null,null,null,null,"gewonnen"]
["Schütze:",null,null,null,null,"verloren",null,null,"Schütze:",null,null,null,null,"verloren",null,null,"Schütze:",null,null,null,null,"verloren"]
[]
["Gegner:",null,"Name:",null,null,null,null,null,"Gegner:",null,"Name:",null,null,null,null,null,"Gegner:",null,"Name:"]
[null,null,"Unterschrift:",null,null,null,null,null,null,null,"Unterschrift:",null,null,null,null,null,null,null,"Unterschrift:"]
[]
[]
[null,null,null,null,null,null,null,null,"1/24 Elimination",null,null,null,"Freilos",null,null,null,"1/12 Elimination",null,null,null,"Freilos"]
[null,null,null,null,null,null,null,null,null,1,2,3,"Summe","Ges.",null,null,null,1,2,3,"Summe","Ges."]
[{"$f":"Select!$C$12","v":"Demoturnier"},null,null,null,null,null,null,null,1,null,null,null,null,null,null,null,1]
["Veranstaltung",null,null,null,null,null,null,null,2,null,null,null,null,null,null,null,2]
[{"$f":"Select!$C$13","v":"1. April 2019"},null,null,null,null,null,null,null,3,null,null,null,null,null,null,null,3]
["Datum",null,null,null,null,null,null,null,4,null,null,null,null,null,null,null,4]
[{"$f":"'C52_Baum'!$D$57","v":"Hubmann Gerhard"},null,null,null,null,null,null,null,5,null,null,null,null,null,null,null,5]
["Name",null,null,null,null,null,null,null,"wenn erforderlich",null,null,null,null,null,null,null,"wenn erforderlich"]
[{"$f":"'C52_Baum'!$F$57","v":"EAT-Bogensport"},null,null,null,null,null,null,null,"Stechen",null,null,null,null,null,null,null,"Stechen"]
["Verein",null,null,null,null,null,null,null,null,null,null,null,null,"gewonnen",null,null,null,null,null,null,null,"gewonnen"]
[{"$f":"Select!$C$20","v":"Compound Herren"},null,null,null,null,null,null,null,"Schütze:",null,null,null,null,"verloren",null,null,"Schütze:",null,null,null,null,"verloren"]
["Bogenklasse"]
[null,null,null,null,null,null,null,null,"Gegner:",null,"Name:",null,null,null,null,null,"Gegner:",null,"Name:"]
[null,null,null,null,null,null,null,null,null,null,"Unterschrift:",null,null,null,null,null,null,null,"Unterschrift:"]
[]
[]
["1/8 Elimination",null,null,null,{"$f":"'C52_Baum'!$M$124","v":"Scheibe: 41"},null,null,null,"1/4 Finale",null,null,null,{"$f":"'C52_Baum'!$Q$120","v":"Scheibe: 39"},null,null,null,"1/2 Finale",null,null,null,{"$f":"'C52_Baum'!$U$118","v":"Scheibe: 37"}]
[null,1,2,3,"Summe","Ges.",null,null,null,1,2,3,"Summe","Ges.",null,null,null,1,2,3,"Summe","Ges."]
[1,null,null,null,null,null,null,null,1,null,null,null,null,null,null,null,1]
[2,null,null,null,null,null,null,null,2,null,null,null,null,null,null,null,2]
[3,null,null,null,null,null,null,null,3,null,null,null,null,null,null,null,3]
[4,null,null,null,null,null,null,null,4,null,null,null,null,null,null,null,4]
[5,null,null,null,null,null,null,null,5,null,null,null,null,null,null,null,5]
["wenn erforderlich",null,null,null,null,null,null,null,"wenn erforderlich",null,null,null,null,null,null,null,"wenn erforderlich"]
["Stechen",null,null,null,null,null,null,null,"Stechen",null,null,null,null,null,null,null,"Stechen"]
[null,null,null,null,null,"gewonnen",null,null,null,null,null,null,null,"gewonnen",null,null,null,null,null,null,null,"gewonnen"]
["Schütze:",null,null,null,null,"verloren",null,null,"Schütze:",null,null,null,null,"verloren",null,null,"Schütze:",null,null,null,null,"verloren"]
[]
["Gegner:",null,"Name:",null,null,null,null,null,"Gegner:",null,"Name:",null,null,null,null,null,"Gegner:",null,"Name:"]
[null,null,"Unterschrift:",null,null,null,null,null,null,null,"Unterschrift:",null,null,null,null,null,null,null,"Unterschrift:"]
[]
[]
[null,null,null,null,null,null,null,null,"1/24 Elimination",null,null,null,{"$f":"'C52_Baum'!$D$140","v":"Scheibe: 45A"},null,null,null,"1/12 Elimination",null,null,null,{"$f":"'C52_Baum'!$I$128","v":"Scheibe: 39A"}]
[null,null,null,null,null,null,null,null,null,1,2,3,"Summe","Ges.",null,null,null,1,2,3,"Summe","Ges."]
[{"$f":"Select!$C$12","v":"Demoturnier"},null,null,null,null,null,null,null,1,null,null,null,null,null,null,null,1]
["Veranstaltung",null,null,null,null,null,null,null,2,null,null,null,null,null,null,null,2]
[{"$f":"Select!$C$13","v":"1. April 2019"},null,null,null,null,null,null,null,3,null,null,null,null,null,null,null,3]
["Datum",null,null,null,null,null,null,null,4,null,null,null,null,null,null,null,4]
[{"$f":"'C52_Baum'!$D$60","v":"Zimmerbeutel Axel"},null,null,null,null,null,null,null,5,null,null,null,null,null,null,null,5]
["Name",null,null,null,null,null,null,null,"wenn erforderlich",null,null,null,null,null,null,null,"wenn erforderlich"]
[{"$f":"'C52_Baum'!$F$60","v":"3D Bogenplatz Riedersbach"},null,null,null,null,null,null,null,"Stechen",null,null,null,null,null,null,null,"Stechen"]
["Verein",null,null,null,null,null,null,null,null,null,null,null,null,"gewonnen",null,null,null,null,null,null,null,"gewonnen"]
[{"$f":"Select!$C$20","v":"Compound Herren"},null,null,null,null,null,null,null,"Schütze:",null,null,null,null,"verloren",null,null,"Schütze:",null,null,null,null,"verloren"]
["Bogenklasse"]
[null,null,null,null,null,null,null,null,"Gegner:",null,"Name:",null,null,null,null,null,"Gegner:",null,"Name:"]
[null,null,null,null,null,null,null,null,null,null,"Unterschrift:",null,null,null,null,null,null,null,"Unterschrift:"]
[]
[]
["1/8 Elimination",null,null,null,{"$f":"'C52_Baum'!$M$125","v":"Scheibe: 42"},null,null,null,"1/4 Finale",null,null,null,{"$f":"'C52_Baum'!$Q$120","v":"Scheibe: 39"},null,null,null,"1/2 Finale",null,null,null,{"$f":"'C52_Baum'!$U$118","v":"Scheibe: 37"}]
[null,1,2,3,"Summe","Ges.",null,null,null,1,2,3,"Summe","Ges.",null,null,null,1,2,3,"Summe","Ges."]
[1,null,null,null,null,null,null,null,1,null,null,null,null,null,null,null,1]
[2,null,null,null,null,null,null,null,2,null,null,null,null,null,null,null,2]
[3,null,null,null,null,null,null,null,3,null,null,null,null,null,null,null,3]
[4,null,null,null,null,null,null,null,4,null,null,null,null,null,null,null,4]
[5,null,null,null,null,null,null,null,5,null,null,null,null,null,null,null,5]
["wenn erforderlich",null,null,null,null,null,null,null,"wenn erforderlich",null,null,null,null,null,null,null,"wenn erforderlich"]
["Stechen",null,null,null,null,null,null,null,"Stechen",null,null,null,null,null,null,null,"Stechen"]
[null,null,null,null,null,"gewonnen",null,null,null,null,null,null,null,"gewonnen",null,null,null,null,null,null,null,"gewonnen"]
["Schütze:",null,null,null,null,"verloren",null,null,"Schütze:",null,null,null,null,"verloren",null,null,"Schütze:",null,null,null,null,"verloren"]
[]
["Gegner:",null,"Name:",null,null,null,null,null,"Gegner:",null,"Name:",null,null,null,null,null,"Gegner:",null,"Name:"]
[null,null,"Unterschrift:",null,null,null,null,null,null,null,"Unterschrift:",null,null,null,null,null,null,null,"Unterschrift:"]
[]
[]
[null,null,null,null,null,null,null,null,"1/24 Elimination",null,null,null,{"$f":"'C52_Baum'!$D$141","v":"Scheibe: 45B"},null,null,null,"1/12 Elimination",null,null,null,{"$f":"'C52_Baum'!$I$128","v":"Scheibe: 39A"}]
[null,null,null,null,null,null,null,null,null,1,2,3,"Summe","Ges.",null,null,null,1,2,3,"Summe","Ges."]
[{"$f":"Select!$C$12","v":"Demoturnier"},null,null,null,null,null,null,null,1,null,null,null,null,null,null,null,1]
["Veranstaltung",null,null,null,null,null,null,null,2,null,null,null,null,null,null,null,2]
[{"$f":"Select!$C$13","v":"1. April 2019"},null,null,null,null,null,null,null,3,null,null,null,null,null,null,null,3]
["Datum",null,null,null,null,null,null,null,4,null,null,null,null,null,null,null,4]
[{"$f":"'C52_Baum'!$D$61","v":"Kaltenberger Franz"},null,null,null,null,null,null,null,5,null,null,null,null,null,null,null,5]
["Name",null,null,null,null,null,null,null,"wenn erforderlich",null,null,null,null,null,null,null,"wenn erforderlich"]
[{"$f":"'C52_Baum'!$F$61","v":"BSV Stoneface - Archery"},null,null,null,null,null,null,null,"Stechen",null,null,null,null,null,null,null,"Stechen"]
["Verein",null,null,null,null,null,null,null,null,null,null,null,null,"gewonnen",null,null,null,null,null,null,null,"gewonnen"]
[{"$f":"Select!$C$20","v":"Compound Herren"},null,null,null,null,null,null,null,"Schütze:",null,null,null,null,"verloren",null,null,"Schütze:",null,null,null,null,"verloren"]
["Bogenklasse"]
[null,null,null,null,null,null,null,null,"Gegner:",null,"Name:",null,null,null,null,null,"Gegner:",null,"Name:"]
[null,null,null,null,null,null,null,null,null,null,"Unterschrift:",null,null,null,null,null,null,null,"Unterschrift:"]
[]
[]
["1/8 Elimination",null,null,null,{"$f":"'C52_Baum'!$M$125","v":"Scheibe: 42"},null,null,null,"1/4 Finale",null,null,null,{"$f":"'C52_Baum'!$Q$120","v":"Scheibe: 39"},null,null,null,"1/2 Finale",null,null,null,{"$f":"'C52_Baum'!$U$118","v":"Scheibe: 37"}]
[null,1,2,3,"Summe","Ges.",null,null,null,1,2,3,"Summe","Ges.",null,null,null,1,2,3,"Summe","Ges."]
[1,null,null,null,null,null,null,null,1,null,null,null,null,null,null,null,1]
[2,null,null,null,null,null,null,null,2,null,null,null,null,null,null,null,2]
[3,null,null,null,null,null,null,null,3,null,null,null,null,null,null,null,3]
[4,null,null,null,null,null,null,null,4,null,null,null,null,null,null,null,4]
[5,null,null,null,null,null,null,null,5,null,null,null,null,null,null,null,5]
["wenn erforderlich",null,null,null,null,null,null,null,"wenn erforderlich",null,null,null,null,null,null,null,"wenn erforderlich"]
["Stechen",null,null,null,null,null,null,null,"Stechen",null,null,null,null,null,null,null,"Stechen"]
[null,null,null,null,null,"gewonnen",null,null,null,null,null,null,null,"gewonnen",null,null,null,null,null,null,null,"gewonnen"]
["Schütze:",null,null,null,null,"verloren",null,null,"Schütze:",null,null,null,null,"verloren",null,null,"Schütze:",null,null,null,null,"verloren"]
[]
["Gegner:",null,"Name:",null,null,null,null,null,"Gegner:",null,"Name:",null,null,null,null,null,"Gegner:",null,"Name:"]
[null,null,"Unterschrift:",null,null,null,null,null,null,null,"Unterschrift:",null,null,null,null,null,null,null,"Unterschrift:"]
[]
[]
[null,null,null,null,null,null,null,null,"1/24 Elimination",null,null,null,{"$f":"'C52_Baum'!$D$142","v":"Scheibe: 46A"},null,null,null,"1/12 Elimination",null,null,null,{"$f":"'C52_Baum'!$I$129","v":"Scheibe: 39B"}]
[null,null,null,null,null,null,null,null,null,1,2,3,"Summe","Ges.",null,null,null,1,2,3,"Summe","Ges."]
[{"$f":"Select!$C$12","v":"Demoturnier"},null,null,null,null,null,null,null,1,null,null,null,null,null,null,null,1]
["Veranstaltung",null,null,null,null,null,null,null,2,null,null,null,null,null,null,null,2]
[{"$f":"Select!$C$13","v":"1. April 2019"},null,null,null,null,null,null,null,3,null,null,null,null,null,null,null,3]
["Datum",null,null,null,null,null,null,null,4,null,null,null,null,null,null,null,4]
[{"$f":"'C52_Baum'!$D$64","v":"Kremser Alfred"},null,null,null,null,null,null,null,5,null,null,null,null,null,null,null,5]
["Name",null,null,null,null,null,null,null,"wenn erforderlich",null,null,null,null,null,null,null,"wenn erforderlich"]
[{"$f":"'C52_Baum'!$F$64","v":"Bogensport Lungau"},null,null,null,null,null,null,null,"Stechen",null,null,null,null,null,null,null,"Stechen"]
["Verein",null,null,null,null,null,null,null,null,null,null,null,null,"gewonnen",null,null,null,null,null,null,null,"gewonnen"]
[{"$f":"Select!$C$20","v":"Compound Herren"},null,null,null,null,null,null,null,"Schütze:",null,null,null,null,"verloren",null,null,"Schütze:",null,null,null,null,"verloren"]
["Bogenklasse"]
[null,null,null,null,null,null,null,null,"Gegner:",null,"Name:",null,null,null,null,null,"Gegner:",null,"Name:"]
[null,null,null,null,null,null,null,null,null,null,"Unterschrift:",null,null,null,null,null,null,null,"Unterschrift:"]
[]
[]
["1/8 Elimination",null,null,null,{"$f":"'C52_Baum'!$M$125","v":"Scheibe: 42"},null,null,null,"1/4 Finale",null,null,null,{"$f":"'C52_Baum'!$Q$120","v":"Scheibe: 39"},null,null,null,"1/2 Finale",null,null,null,{"$f":"'C52_Baum'!$U$118","v":"Scheibe: 37"}]
[null,1,2,3,"Summe","Ges.",null,null,null,1,2,3,"Summe","Ges.",null,null,null,1,2,3,"Summe","Ges."]
[1,null,null,null,null,null,null,null,1,null,null,null,null,null,null,null,1]
[2,null,null,null,null,null,null,null,2,null,null,null,null,null,null,null,2]
[3,null,null,null,null,null,null,null,3,null,null,null,null,null,null,null,3]
[4,null,null,null,null,null,null,null,4,null,null,null,null,null,null,null,4]
[5,null,null,null,null,null,null,null,5,null,null,null,null,null,null,null,5]
["wenn erforderlich",null,null,null,null,null,null,null,"wenn erforderlich",null,null,null,null,null,null,null,"wenn erforderlich"]
["Stechen",null,null,null,null,null,null,null,"Stechen",null,null,null,null,null,null,null,"Stechen"]
[null,null,null,null,null,"gewonnen",null,null,null,null,null,null,null,"gewonnen",null,null,null,null,null,null,null,"gewonnen"]
["Schütze:",null,null,null,null,"verloren",null,null,"Schütze:",null,null,null,null,"verloren",null,null,"Schütze:",null,null,null,null,"verloren"]
[]
["Gegner:",null,"Name:",null,null,null,null,null,"Gegner:",null,"Name:",null,null,null,null,null,"Gegner:",null,"Name:"]
[null,null,"Unterschrift:",null,null,null,null,null,null,null,"Unterschrift:",null,null,null,null,null,null,null,"Unterschrift:"]
[]
[]
[null,null,null,null,null,null,null,null,"1/24 Elimination",null,null,null,{"$f":"'C52_Baum'!$D$143","v":"Scheibe: 46B"},null,null,null,"1/12 Elimination",null,null,null,{"$f":"'C52_Baum'!$I$129","v":"Scheibe: 39B"}]
[null,null,null,null,null,null,null,null,null,1,2,3,"Summe","Ges.",null,null,null,1,2,3,"Summe","Ges."]
[{"$f":"Select!$C$12","v":"Demoturnier"},null,null,null,null,null,null,null,1,null,null,null,null,null,null,null,1]
["Veranstaltung",null,null,null,null,null,null,null,2,null,null,null,null,null,null,null,2]
[{"$f":"Select!$C$13","v":"1. April 2019"},null,null,null,null,null,null,null,3,null,null,null,null,null,null,null,3]
["Datum",null,null,null,null,null,null,null,4,null,null,null,null,null,null,null,4]
[{"$f":"'C52_Baum'!$D$65","v":"Wühl Martin"},null,null,null,null,null,null,null,5,null,null,null,null,null,null,null,5]
["Name",null,null,null,null,null,null,null,"wenn erforderlich",null,null,null,null,null,null,null,"wenn erforderlich"]
[{"$f":"'C52_Baum'!$F$65","v":"BSC Fischamend"},null,null,null,null,null,null,null,"Stechen",null,null,null,null,null,null,null,"Stechen"]
["Verein",null,null,null,null,null,null,null,null,null,null,null,null,"gewonnen",null,null,null,null,null,null,null,"gewonnen"]
[{"$f":"Select!$C$20","v":"Compound Herren"},null,null,null,null,null,null,null,"Schütze:",null,null,null,null,"verloren",null,null,"Schütze:",null,null,null,null,"verloren"]
["Bogenklasse"]
[null,null,null,null,null,null,null,null,"Gegner:",null,"Name:",null,null,null,null,null,"Gegner:",null,"Name:"]
[null,null,null,null,null,null,null,null,null,null,"Unterschrift:",null,null,null,null,null,null,null,"Unterschrift:"]
[]
[]
["1/8 Elimination",null,null,null,{"$f":"'C52_Baum'!$M$125","v":"Scheibe: 42"},null,null,null,"1/4 Finale",null,null,null,{"$f":"'C52_Baum'!$Q$120","v":"Scheibe: 39"},null,null,null,"1/2 Finale",null,null,null,{"$f":"'C52_Baum'!$U$118","v":"Scheibe: 37"}]
[null,1,2,3,"Summe","Ges.",null,null,null,1,2,3,"Summe","Ges.",null,null,null,1,2,3,"Summe","Ges."]
[1,null,null,null,null,null,null,null,1,null,null,null,null,null,null,null,1]
[2,null,null,null,null,null,null,null,2,null,null,null,null,null,null,null,2]
[3,null,null,null,null,null,null,null,3,null,null,null,null,null,null,null,3]
[4,null,null,null,null,null,null,null,4,null,null,null,null,null,null,null,4]
[5,null,null,null,null,null,null,null,5,null,null,null,null,null,null,null,5]
["wenn erforderlich",null,null,null,null,null,null,null,"wenn erforderlich",null,null,null,null,null,null,null,"wenn erforderlich"]
["Stechen",null,null,null,null,null,null,null,"Stechen",null,null,null,null,null,null,null,"Stechen"]
[null,null,null,null,null,"gewonnen",null,null,null,null,null,null,null,"gewonnen",null,null,null,null,null,null,null,"gewonnen"]
["Schütze:",null,null,null,null,"verloren",null,null,"Schütze:",null,null,null,null,"verloren",null,null,"Schütze:",null,null,null,null,"verloren"]
[]
["Gegner:",null,"Name:",null,null,null,null,null,"Gegner:",null,"Name:",null,null,null,null,null,"Gegner:",null,"Name:"]
[null,null,"Unterschrift:",null,null,null,null,null,null,null,"Unterschrift:",null,null,null,null,null,null,null,"Unterschrift:"]
[]
[]
[null,null,null,null,null,null,null,null,"1/24 Elimination",null,null,null,{"$f":"'C52_Baum'!$D$144","v":"Scheibe: 47A"},null,null,null,"1/12 Elimination",null,null,null,{"$f":"'C52_Baum'!$I$130","v":"Scheibe: 40A"}]
[null,null,null,null,null,null,null,null,null,1,2,3,"Summe","Ges.",null,null,null,1,2,3,"Summe","Ges."]
[{"$f":"Select!$C$12","v":"Demoturnier"},null,null,null,null,null,null,null,1,null,null,null,null,null,null,null,1]
["Veranstaltung",null,null,null,null,null,null,null,2,null,null,null,null,null,null,null,2]
[{"$f":"Select!$C$13","v":"1. April 2019"},null,null,null,null,null,null,null,3,null,null,null,null,null,null,null,3]
["Datum",null,null,null,null,null,null,null,4,null,null,null,null,null,null,null,4]
[{"$f":"'C52_Baum'!$D$68","v":"Burda Erwin"},null,null,null,null,null,null,null,5,null,null,null,null,null,null,null,5]
["Name",null,null,null,null,null,null,null,"wenn erforderlich",null,null,null,null,null,null,null,"wenn erforderlich"]
[{"$f":"'C52_Baum'!$F$68","v":"BC Golden Arrows"},null,null,null,null,null,null,null,"Stechen",null,null,null,null,null,null,null,"Stechen"]
["Verein",null,null,null,null,null,null,null,null,null,null,null,null,"gewonnen",null,null,null,null,null,null,null,"gewonnen"]
[{"$f":"Select!$C$20","v":"Compound Herren"},null,null,null,null,null,null,null,"Schütze:",null,null,null,null,"verloren",null,null,"Schütze:",null,null,null,null,"verloren"]
["Bogenklasse"]
[null,null,null,null,null,null,null,null,"Gegner:",null,"Name:",null,null,null,null,null,"Gegner:",null,"Name:"]
[null,null,null,null,null,null,null,null,null,null,"Unterschrift:",null,null,null,null,null,null,null,"Unterschrift:"]
[]
[]
["1/8 Elimination",null,null,null,{"$f":"'C52_Baum'!$M$126","v":"Scheibe: 43"},null,null,null,"1/4 Finale",null,null,null,{"$f":"'C52_Baum'!$Q$121","v":"Scheibe: 40"},null,null,null,"1/2 Finale",null,null,null,{"$f":"'C52_Baum'!$U$118","v":"Scheibe: 37"}]
[null,1,2,3,"Summe","Ges.",null,null,null,1,2,3,"Summe","Ges.",null,null,null,1,2,3,"Summe","Ges."]
[1,null,null,null,null,null,null,null,1,null,null,null,null,null,null,null,1]
[2,null,null,null,null,null,null,null,2,null,null,null,null,null,null,null,2]
[3,null,null,null,null,null,null,null,3,null,null,null,null,null,null,null,3]
[4,null,null,null,null,null,null,null,4,null,null,null,null,null,null,null,4]
[5,null,null,null,null,null,null,null,5,null,null,null,null,null,null,null,5]
["wenn erforderlich",null,null,null,null,null,null,null,"wenn erforderlich",null,null,null,null,null,null,null,"wenn erforderlich"]
["Stechen",null,null,null,null,null,null,null,"Stechen",null,null,null,null,null,null,null,"Stechen"]
[null,null,null,null,null,"gewonnen",null,null,null,null,null,null,null,"gewonnen",null,null,null,null,null,null,null,"gewonnen"]
["Schütze:",null,null,null,null,"verloren",null,null,"Schütze:",null,null,null,null,"verloren",null,null,"Schütze:",null,null,null,null,"verloren"]
[]
["Gegner:",null,"Name:",null,null,null,null,null,"Gegner:",null,"Name:",null,null,null,null,null,"Gegner:",null,"Name:"]
[null,null,"Unterschrift:",null,null,null,null,null,null,null,"Unterschrift:",null,null,null,null,null,null,null,"Unterschrift:"]
[]
[]
[null,null,null,null,null,null,null,null,"1/24 Elimination",null,null,null,{"$f":"'C52_Baum'!$D$145","v":"Scheibe: 47B"},null,null,null,"1/12 Elimination",null,null,null,{"$f":"'C52_Baum'!$I$130","v":"Scheibe: 40A"}]
[null,null,null,null,null,null,null,null,null,1,2,3,"Summe","Ges.",null,null,null,1,2,3,"Summe","Ges."]
[{"$f":"Select!$C$12","v":"Demoturnier"},null,null,null,null,null,null,null,1,null,null,null,null,null,null,null,1]
["Veranstaltung",null,null,null,null,null,null,null,2,null,null,null,null,null,null,null,2]
[{"$f":"Select!$C$13","v":"1. April 2019"},null,null,null,null,null,null,null,3,null,null,null,null,null,null,null,3]
["Datum",null,null,null,null,null,null,null,4,null,null,null,null,null,null,null,4]
[{"$f":"'C52_Baum'!$D$69","v":"Dehner Roland"},null,null,null,null,null,null,null,5,null,null,null,null,null,null,null,5]
["Name",null,null,null,null,null,null,null,"wenn erforderlich",null,null,null,null,null,null,null,"wenn erforderlich"]
[{"$f":"'C52_Baum'!$F$69","v":"SV Wallern"},null,null,null,null,null,null,null,"Stechen",null,null,null,null,null,null,null,"Stechen"]
["Verein",null,null,null,null,null,null,null,null,null,null,null,null,"gewonnen",null,null,null,null,null,null,null,"gewonnen"]
[{"$f":"Select!$C$20","v":"Compound Herren"},null,null,null,null,null,null,null,"Schütze:",null,null,null,null,"verloren",null,null,"Schütze:",null,null,null,null,"verloren"]
["Bogenklasse"]
[null,null,null,null,null,null,null,null,"Gegner:",null,"Name:",null,null,null,null,null,"Gegner:",null,"Name:"]
[null,null,null,null,null,null,null,null,null,null,"Unterschrift:",null,null,null,null,null,null,null,"Unterschrift:"]
[]
[]
["1/8 Elimination",null,null,null,{"$f":"'C52_Baum'!$M$126","v":"Scheibe: 43"},null,null,null,"1/4 Finale",null,null,null,{"$f":"'C52_Baum'!$Q$121","v":"Scheibe: 40"},null,null,null,"1/2 Finale",null,null,null,{"$f":"'C52_Baum'!$U$118","v":"Scheibe: 37"}]
[null,1,2,3,"Summe","Ges.",null,null,null,1,2,3,"Summe","Ges.",null,null,null,1,2,3,"Summe","Ges."]
[1,null,null,null,null,null,null,null,1,null,null,null,null,null,null,null,1]
[2,null,null,null,null,null,null,null,2,null,null,null,null,null,null,null,2]
[3,null,null,null,null,null,null,null,3,null,null,null,null,null,null,null,3]
[4,null,null,null,null,null,null,null,4,null,null,null,null,null,null,null,4]
[5,null,null,null,null,null,null,null,5,null,null,null,null,null,null,null,5]
["wenn erforderlich",null,null,null,null,null,null,null,"wenn erforderlich",null,null,null,null,null,null,null,"wenn erforderlich"]
["Stechen",null,null,null,null,null,null,null,"Stechen",null,null,null,null,null,null,null,"Stechen"]
[null,null,null,null,null,"gewonnen",null,null,null,null,null,null,null,"gewonnen",null,null,null,null,null,null,null,"gewonnen"]
["Schütze:",null,null,null,null,"verloren",null,null,"Schütze:",null,null,null,null,"verloren",null,null,"Schütze:",null,null,null,null,"verloren"]
[]
["Gegner:",null,"Name:",null,null,null,null,null,"Gegner:",null,"Name:",null,null,null,null,null,"Gegner:",null,"Name:"]
[null,null,"Unterschrift:",null,null,null,null,null,null,null,"Unterschrift:",null,null,null,null,null,null,null,"Unterschrift:"]
[]
[]
[null,null,null,null,null,null,null,null,"1/24 Elimination",null,null,null,{"$f":"'C52_Baum'!$D$146","v":"Scheibe: 48A"},null,null,null,"1/12 Elimination",null,null,null,{"$f":"'C52_Baum'!$I$131","v":"Scheibe: 40B"}]
[null,null,null,null,null,null,null,null,null,1,2,3,"Summe","Ges.",null,null,null,1,2,3,"Summe","Ges."]
[{"$f":"Select!$C$12","v":"Demoturnier"},null,null,null,null,null,null,null,1,null,null,null,null,null,null,null,1]
["Veranstaltung",null,null,null,null,null,null,null,2,null,null,null,null,null,null,null,2]
[{"$f":"Select!$C$13","v":"1. April 2019"},null,null,null,null,null,null,null,3,null,null,null,null,null,null,null,3]
["Datum",null,null,null,null,null,null,null,4,null,null,null,null,null,null,null,4]
[{"$f":"'C52_Baum'!$D$72","v":"Kossek Heinz"},null,null,null,null,null,null,null,5,null,null,null,null,null,null,null,5]
["Name",null,null,null,null,null,null,null,"wenn erforderlich",null,null,null,null,null,null,null,"wenn erforderlich"]
[{"$f":"'C52_Baum'!$F$72","v":"BC Wildon Weitendorf"},null,null,null,null,null,null,null,"Stechen",null,null,null,null,null,null,null,"Stechen"]
["Verein",null,null,null,null,null,null,null,null,null,null,null,null,"gewonnen",null,null,null,null,null,null,null,"gewonnen"]
[{"$f":"Select!$C$20","v":"Compound Herren"},null,null,null,null,null,null,null,"Schütze:",null,null,null,null,"verloren",null,null,"Schütze:",null,null,null,null,"verloren"]
["Bogenklasse"]
[null,null,null,null,null,null,null,null,"Gegner:",null,"Name:",null,null,null,null,null,"Gegner:",null,"Name:"]
[null,null,null,null,null,null,null,null,null,null,"Unterschrift:",null,null,null,null,null,null,null,"Unterschrift:"]
[]
[]
["1/8 Elimination",null,null,null,{"$f":"'C52_Baum'!$M$126","v":"Scheibe: 43"},null,null,null,"1/4 Finale",null,null,null,{"$f":"'C52_Baum'!$Q$121","v":"Scheibe: 40"},null,null,null,"1/2 Finale",null,null,null,{"$f":"'C52_Baum'!$U$118","v":"Scheibe: 37"}]
[null,1,2,3,"Summe","Ges.",null,null,null,1,2,3,"Summe","Ges.",null,null,null,1,2,3,"Summe","Ges."]
[1,null,null,null,null,null,null,null,1,null,null,null,null,null,null,null,1]
[2,null,null,null,null,null,null,null,2,null,null,null,null,null,null,null,2]
[3,null,null,null,null,null,null,null,3,null,null,null,null,null,null,null,3]
[4,null,null,null,null,null,null,null,4,null,null,null,null,null,null,null,4]
[5,null,null,null,null,null,null,null,5,null,null,null,null,null,null,null,5]
["wenn erforderlich",null,null,null,null,null,null,null,"wenn erforderlich",null,null,null,null,null,null,null,"wenn erforderlich"]
["Stechen",null,null,null,null,null,null,null,"Stechen",null,null,null,null,null,null,null,"Stechen"]
[null,null,null,null,null,"gewonnen",null,null,null,null,null,null,null,"gewonnen",null,null,null,null,null,null,null,"gewonnen"]
["Schütze:",null,null,null,null,"verloren",null,null,"Schütze:",null,null,null,null,"verloren",null,null,"Schütze:",null,null,null,null,"verloren"]
[]
["Gegner:",null,"Name:",null,null,null,null,null,"Gegner:",null,"Name:",null,null,null,null,null,"Gegner:",null,"Name:"]
[null,null,"Unterschrift:",null,null,null,null,null,null,null,"Unterschrift:",null,null,null,null,null,null,null,"Unterschrift:"]
[]
[]
[null,null,null,null,null,null,null,null,"1/24 Elimination",null,null,null,{"$f":"'C52_Baum'!$D$147","v":"Scheibe: 48B"},null,null,null,"1/12 Elimination",null,null,null,{"$f":"'C52_Baum'!$I$131","v":"Scheibe: 40B"}]
[null,null,null,null,null,null,null,null,null,1,2,3,"Summe","Ges.",null,null,null,1,2,3,"Summe","Ges."]
[{"$f":"Select!$C$12","v":"Demoturnier"},null,null,null,null,null,null,null,1,null,null,null,null,null,null,null,1]
["Veranstaltung",null,null,null,null,null,null,null,2,null,null,null,null,null,null,null,2]
[{"$f":"Select!$C$13","v":"1. April 2019"},null,null,null,null,null,null,null,3,null,null,null,null,null,null,null,3]
["Datum",null,null,null,null,null,null,null,4,null,null,null,null,null,null,null,4]
[{"$f":"'C52_Baum'!$D$73","v":"Daum Stefan"},null,null,null,null,null,null,null,5,null,null,null,null,null,null,null,5]
["Name",null,null,null,null,null,null,null,"wenn erforderlich",null,null,null,null,null,null,null,"wenn erforderlich"]
[{"$f":"'C52_Baum'!$F$73","v":"BSC Sparkasse Jenbach"},null,null,null,null,null,null,null,"Stechen",null,null,null,null,null,null,null,"Stechen"]
["Verein",null,null,null,null,null,null,null,null,null,null,null,null,"gewonnen",null,null,null,null,null,null,null,"gewonnen"]
[{"$f":"Select!$C$20","v":"Compound Herren"},null,null,null,null,null,null,null,"Schütze:",null,null,null,null,"verloren",null,null,"Schütze:",null,null,null,null,"verloren"]
["Bogenklasse"]
[null,null,null,null,null,null,null,null,"Gegner:",null,"Name:",null,null,null,null,null,"Gegner:",null,"Name:"]
[null,null,null,null,null,null,null,null,null,null,"Unterschrift:",null,null,null,null,null,null,null,"Unterschrift:"]
[]
[]
["1/8 Elimination",null,null,null,{"$f":"'C52_Baum'!$M$126","v":"Scheibe: 43"},null,null,null,"1/4 Finale",null,null,null,{"$f":"'C52_Baum'!$Q$121","v":"Scheibe: 40"},null,null,null,"1/2 Finale",null,null,null,{"$f":"'C52_Baum'!$U$118","v":"Scheibe: 37"}]
[null,1,2,3,"Summe","Ges.",null,null,null,1,2,3,"Summe","Ges.",null,null,null,1,2,3,"Summe","Ges."]
[1,null,null,null,null,null,null,null,1,null,null,null,null,null,null,null,1]
[2,null,null,null,null,null,null,null,2,null,null,null,null,null,null,null,2]
[3,null,null,null,null,null,null,null,3,null,null,null,null,null,null,null,3]
[4,null,null,null,null,null,null,null,4,null,null,null,null,null,null,null,4]
[5,null,null,null,null,null,null,null,5,null,null,null,null,null,null,null,5]
["wenn erforderlich",null,null,null,null,null,null,null,"wenn erforderlich",null,null,null,null,null,null,null,"wenn erforderlich"]
["Stechen",null,null,null,null,null,null,null,"Stechen",null,null,null,null,null,null,null,"Stechen"]
[null,null,null,null,null,"gewonnen",null,null,null,null,null,null,null,"gewonnen",null,null,null,null,null,null,null,"gewonnen"]
["Schütze:",null,null,null,null,"verloren",null,null,"Schütze:",null,null,null,null,"verloren",null,null,"Schütze:",null,null,null,null,"verloren"]
[]
["Gegner:",null,"Name:",null,null,null,null,null,"Gegner:",null,"Name:",null,null,null,null,null,"Gegner:",null,"Name:"]
[null,null,"Unterschrift:",null,null,null,null,null,null,null,"Unterschrift:",null,null,null,null,null,null,null,"Unterschrift:"]
[]
[]
[null,null,null,null,null,null,null,null,"1/24 Elimination",null,null,null,{"$f":"'C52_Baum'!$D$148","v":"Scheibe: 49A"},null,null,null,"1/12 Elimination",null,null,null,{"$f":"'C52_Baum'!$I$132","v":"Scheibe: 41A"}]
[null,null,null,null,null,null,null,null,null,1,2,3,"Summe","Ges.",null,null,null,1,2,3,"Summe","Ges."]
[{"$f":"Select!$C$12","v":"Demoturnier"},null,null,null,null,null,null,null,1,null,null,null,null,null,null,null,1]
["Veranstaltung",null,null,null,null,null,null,null,2,null,null,null,null,null,null,null,2]
[{"$f":"Select!$C$13","v":"1. April 2019"},null,null,null,null,null,null,null,3,null,null,null,null,null,null,null,3]
["Datum",null,null,null,null,null,null,null,4,null,null,null,null,null,null,null,4]
[{"$f":"'C52_Baum'!$D$76","v":"Schlechter Hans-Jürgen"},null,null,null,null,null,null,null,5,null,null,null,null,null,null,null,5]
["Name",null,null,null,null,null,null,null,"wenn erforderlich",null,null,null,null,null,null,null,"wenn erforderlich"]
[{"$f":"'C52_Baum'!$F$76","v":"BSV Brixlegg - NAVAJOS"},null,null,null,null,null,null,null,"Stechen",null,null,null,null,null,null,null,"Stechen"]
["Verein",null,null,null,null,null,null,null,null,null,null,null,null,"gewonnen",null,null,null,null,null,null,null,"gewonnen"]
[{"$f":"Select!$C$20","v":"Compound Herren"},null,null,null,null,null,null,null,"Schütze:",null,null,null,null,"verloren",null,null,"Schütze:",null,null,null,null,"verloren"]
["Bogenklasse"]
[null,null,null,null,null,null,null,null,"Gegner:",null,"Name:",null,null,null,null,null,"Gegner:",null,"Name:"]
[null,null,null,null,null,null,null,null,null,null,"Unterschrift:",null,null,null,null,null,null,null,"Unterschrift:"]
[]
[]
["1/8 Elimination",null,null,null,{"$f":"'C52_Baum'!$M$127","v":"Scheibe: 44"},null,null,null,"1/4 Finale",null,null,null,{"$f":"'C52_Baum'!$Q$121","v":"Scheibe: 40"},null,null,null,"1/2 Finale",null,null,null,{"$f":"'C52_Baum'!$U$118","v":"Scheibe: 37"}]
[null,1,2,3,"Summe","Ges.",null,null,null,1,2,3,"Summe","Ges.",null,null,null,1,2,3,"Summe","Ges."]
[1,null,null,null,null,null,null,null,1,null,null,null,null,null,null,null,1]
[2,null,null,null,null,null,null,null,2,null,null,null,null,null,null,null,2]
[3,null,null,null,null,null,null,null,3,null,null,null,null,null,null,null,3]
[4,null,null,null,null,null,null,null,4,null,null,null,null,null,null,null,4]
[5,null,null,null,null,null,null,null,5,null,null,null,null,null,null,null,5]
["wenn erforderlich",null,null,null,null,null,null,null,"wenn erforderlich",null,null,null,null,null,null,null,"wenn erforderlich"]
["Stechen",null,null,null,null,null,null,null,"Stechen",null,null,null,null,null,null,null,"Stechen"]
[null,null,null,null,null,"gewonnen",null,null,null,null,null,null,null,"gewonnen",null,null,null,null,null,null,null,"gewonnen"]
["Schütze:",null,null,null,null,"verloren",null,null,"Schütze:",null,null,null,null,"verloren",null,null,"Schütze:",null,null,null,null,"verloren"]
[]
["Gegner:",null,"Name:",null,null,null,null,null,"Gegner:",null,"Name:",null,null,null,null,null,"Gegner:",null,"Name:"]
[null,null,"Unterschrift:",null,null,null,null,null,null,null,"Unterschrift:",null,null,null,null,null,null,null,"Unterschrift:"]
[]
[]
[null,null,null,null,null,null,null,null,"1/24 Elimination",null,null,null,{"$f":"'C52_Baum'!$D$149","v":"Scheibe: 49B"},null,null,null,"1/12 Elimination",null,null,null,{"$f":"'C52_Baum'!$I$132","v":"Scheibe: 41A"}]
[null,null,null,null,null,null,null,null,null,1,2,3,"Summe","Ges.",null,null,null,1,2,3,"Summe","Ges."]
[{"$f":"Select!$C$12","v":"Demoturnier"},null,null,null,null,null,null,null,1,null,null,null,null,null,null,null,1]
["Veranstaltung",null,null,null,null,null,null,null,2,null,null,null,null,null,null,null,2]
[{"$f":"Select!$C$13","v":"1. April 2019"},null,null,null,null,null,null,null,3,null,null,null,null,null,null,null,3]
["Datum",null,null,null,null,null,null,null,4,null,null,null,null,null,null,null,4]
[{"$f":"'C52_Baum'!$D$77","v":"Nadrai Herbert"},null,null,null,null,null,null,null,5,null,null,null,null,null,null,null,5]
["Name",null,null,null,null,null,null,null,"wenn erforderlich",null,null,null,null,null,null,null,"wenn erforderlich"]
[{"$f":"'C52_Baum'!$F$77","v":"BSC Arcus"},null,null,null,null,null,null,null,"Stechen",null,null,null,null,null,null,null,"Stechen"]
["Verein",null,null,null,null,null,null,null,null,null,null,null,null,"gewonnen",null,null,null,null,null,null,null,"gewonnen"]
[{"$f":"Select!$C$20","v":"Compound Herren"},null,null,null,null,null,null,null,"Schütze:",null,null,null,null,"verloren",null,null,"Schütze:",null,null,null,null,"verloren"]
["Bogenklasse"]
[null,null,null,null,null,null,null,null,"Gegner:",null,"Name:",null,null,null,null,null,"Gegner:",null,"Name:"]
[null,null,null,null,null,null,null,null,null,null,"Unterschrift:",null,null,null,null,null,null,null,"Unterschrift:"]
[]
[]
["1/8 Elimination",null,null,null,{"$f":"'C52_Baum'!$M$127","v":"Scheibe: 44"},null,null,null,"1/4 Finale",null,null,null,{"$f":"'C52_Baum'!$Q$121","v":"Scheibe: 40"},null,null,null,"1/2 Finale",null,null,null,{"$f":"'C52_Baum'!$U$118","v":"Scheibe: 37"}]
[null,1,2,3,"Summe","Ges.",null,null,null,1,2,3,"Summe","Ges.",null,null,null,1,2,3,"Summe","Ges."]
[1,null,null,null,null,null,null,null,1,null,null,null,null,null,null,null,1]
[2,null,null,null,null,null,null,null,2,null,null,null,null,null,null,null,2]
[3,null,null,null,null,null,null,null,3,null,null,null,null,null,null,null,3]
[4,null,null,null,null,null,null,null,4,null,null,null,null,null,null,null,4]
[5,null,null,null,null,null,null,null,5,null,null,null,null,null,null,null,5]
["wenn erforderlich",null,null,null,null,null,null,null,"wenn erforderlich",null,null,null,null,null,null,null,"wenn erforderlich"]
["Stechen",null,null,null,null,null,null,null,"Stechen",null,null,null,null,null,null,null,"Stechen"]
[null,null,null,null,null,"gewonnen",null,null,null,null,null,null,null,"gewonnen",null,null,null,null,null,null,null,"gewonnen"]
["Schütze:",null,null,null,null,"verloren",null,null,"Schütze:",null,null,null,null,"verloren",null,null,"Schütze:",null,null,null,null,"verloren"]
[]
["Gegner:",null,"Name:",null,null,null,null,null,"Gegner:",null,"Name:",null,null,null,null,null,"Gegner:",null,"Name:"]
[null,null,"Unterschrift:",null,null,null,null,null,null,null,"Unterschrift:",null,null,null,null,null,null,null,"Unterschrift:"]
[]
[]
[null,null,null,null,null,null,null,null,"1/24 Elimination",null,null,null,{"$f":"'C52_Baum'!$D$150","v":"Scheibe: 50A"},null,null,null,"1/12 Elimination",null,null,null,{"$f":"'C52_Baum'!$I$133","v":"Scheibe: 41B"}]
[null,null,null,null,null,null,null,null,null,1,2,3,"Summe","Ges.",null,null,null,1,2,3,"Summe","Ges."]
[{"$f":"Select!$C$12","v":"Demoturnier"},null,null,null,null,null,null,null,1,null,null,null,null,null,null,null,1]
["Veranstaltung",null,null,null,null,null,null,null,2,null,null,null,null,null,null,null,2]
[{"$f":"Select!$C$13","v":"1. April 2019"},null,null,null,null,null,null,null,3,null,null,null,null,null,null,null,3]
["Datum",null,null,null,null,null,null,null,4,null,null,null,null,null,null,null,4]
[{"$f":"'C52_Baum'!$D$80","v":"Richter Felix"},null,null,null,null,null,null,null,5,null,null,null,null,null,null,null,5]
["Name",null,null,null,null,null,null,null,"wenn erforderlich",null,null,null,null,null,null,null,"wenn erforderlich"]
[{"$f":"'C52_Baum'!$F$80","v":"BC Golden Arrows"},null,null,null,null,null,null,null,"Stechen",null,null,null,null,null,null,null,"Stechen"]
["Verein",null,null,null,null,null,null,null,null,null,null,null,null,"gewonnen",null,null,null,null,null,null,null,"gewonnen"]
[{"$f":"Select!$C$20","v":"Compound Herren"},null,null,null,null,null,null,null,"Schütze:",null,null,null,null,"verloren",null,null,"Schütze:",null,null,null,null,"verloren"]
["Bogenklasse"]
[null,null,null,null,null,null,null,null,"Gegner:",null,"Name:",null,null,null,null,null,"Gegner:",null,"Name:"]
[null,null,null,null,null,null,null,null,null,null,"Unterschrift:",null,null,null,null,null,null,null,"Unterschrift:"]
[]
[]
["1/8 Elimination",null,null,null,{"$f":"'C52_Baum'!$M$127","v":"Scheibe: 44"},null,null,null,"1/4 Finale",null,null,null,{"$f":"'C52_Baum'!$Q$121","v":"Scheibe: 40"},null,null,null,"1/2 Finale",null,null,null,{"$f":"'C52_Baum'!$U$118","v":"Scheibe: 37"}]
[null,1,2,3,"Summe","Ges.",null,null,null,1,2,3,"Summe","Ges.",null,null,null,1,2,3,"Summe","Ges."]
[1,null,null,null,null,null,null,null,1,null,null,null,null,null,null,null,1]
[2,null,null,null,null,null,null,null,2,null,null,null,null,null,null,null,2]
[3,null,null,null,null,null,null,null,3,null,null,null,null,null,null,null,3]
[4,null,null,null,null,null,null,null,4,null,null,null,null,null,null,null,4]
[5,null,null,null,null,null,null,null,5,null,null,null,null,null,null,null,5]
["wenn erforderlich",null,null,null,null,null,null,null,"wenn erforderlich",null,null,null,null,null,null,null,"wenn erforderlich"]
["Stechen",null,null,null,null,null,null,null,"Stechen",null,null,null,null,null,null,null,"Stechen"]
[null,null,null,null,null,"gewonnen",null,null,null,null,null,null,null,"gewonnen",null,null,null,null,null,null,null,"gewonnen"]
["Schütze:",null,null,null,null,"verloren",null,null,"Schütze:",null,null,null,null,"verloren",null,null,"Schütze:",null,null,null,null,"verloren"]
[]
["Gegner:",null,"Name:",null,null,null,null,null,"Gegner:",null,"Name:",null,null,null,null,null,"Gegner:",null,"Name:"]
[null,null,"Unterschrift:",null,null,null,null,null,null,null,"Unterschrift:",null,null,null,null,null,null,null,"Unterschrift:"]
[]
[]
[null,null,null,null,null,null,null,null,"1/24 Elimination",null,null,null,{"$f":"'C52_Baum'!$D$151","v":"Scheibe: 50B"},null,null,null,"1/12 Elimination",null,null,null,{"$f":"'C52_Baum'!$I$133","v":"Scheibe: 41B"}]
[null,null,null,null,null,null,null,null,null,1,2,3,"Summe","Ges.",null,null,null,1,2,3,"Summe","Ges."]
[{"$f":"Select!$C$12","v":"Demoturnier"},null,null,null,null,null,null,null,1,null,null,null,null,null,null,null,1]
["Veranstaltung",null,null,null,null,null,null,null,2,null,null,null,null,null,null,null,2]
[{"$f":"Select!$C$13","v":"1. April 2019"},null,null,null,null,null,null,null,3,null,null,null,null,null,null,null,3]
["Datum",null,null,null,null,null,null,null,4,null,null,null,null,null,null,null,4]
[{"$f":"'C52_Baum'!$D$81","v":"Schneider Wolfgang"},null,null,null,null,null,null,null,5,null,null,null,null,null,null,null,5]
["Name",null,null,null,null,null,null,null,"wenn erforderlich",null,null,null,null,null,null,null,"wenn erforderlich"]
[{"$f":"'C52_Baum'!$F$81","v":"WBZ Union Zwettl"},null,null,null,null,null,null,null,"Stechen",null,null,null,null,null,null,null,"Stechen"]
["Verein",null,null,null,null,null,null,null,null,null,null,null,null,"gewonnen",null,null,null,null,null,null,null,"gewonnen"]
[{"$f":"Select!$C$20","v":"Compound Herren"},null,null,null,null,null,null,null,"Schütze:",null,null,null,null,"verloren",null,null,"Schütze:",null,null,null,null,"verloren"]
["Bogenklasse"]
[null,null,null,null,null,null,null,null,"Gegner:",null,"Name:",null,null,null,null,null,"Gegner:",null,"Name:"]
[null,null,null,null,null,null,null,null,null,null,"Unterschrift:",null,null,null,null,null,null,null,"Unterschrift:"]
[]
[]
["1/8 Elimination",null,null,null,{"$f":"'C52_Baum'!$M$127","v":"Scheibe: 44"},null,null,null,"1/4 Finale",null,null,null,{"$f":"'C52_Baum'!$Q$121","v":"Scheibe: 40"},null,null,null,"1/2 Finale",null,null,null,{"$f":"'C52_Baum'!$U$118","v":"Scheibe: 37"}]
[null,1,2,3,"Summe","Ges.",null,null,null,1,2,3,"Summe","Ges.",null,null,null,1,2,3,"Summe","Ges."]
[1,null,null,null,null,null,null,null,1,null,null,null,null,null,null,null,1]
[2,null,null,null,null,null,null,null,2,null,null,null,null,null,null,null,2]
[3,null,null,null,null,null,null,null,3,null,null,null,null,null,null,null,3]
[4,null,null,null,null,null,null,null,4,null,null,null,null,null,null,null,4]
[5,null,null,null,null,null,null,null,5,null,null,null,null,null,null,null,5]
["wenn erforderlich",null,null,null,null,null,null,null,"wenn erforderlich",null,null,null,null,null,null,null,"wenn erforderlich"]
["Stechen",null,null,null,null,null,null,null,"Stechen",null,null,null,null,null,null,null,"Stechen"]
[null,null,null,null,null,"gewonnen",null,null,null,null,null,null,null,"gewonnen",null,null,null,null,null,null,null,"gewonnen"]
["Schütze:",null,null,null,null,"verloren",null,null,"Schütze:",null,null,null,null,"verloren",null,null,"Schütze:",null,null,null,null,"verloren"]
[]
["Gegner:",null,"Name:",null,null,null,null,null,"Gegner:",null,"Name:",null,null,null,null,null,"Gegner:",null,"Name:"]
[null,null,"Unterschrift:",null,null,null,null,null,null,null,"Unterschrift:",null,null,null,null,null,null,null,"Unterschrift:"]
[]
[]
[null,null,null,null,null,null,null,null,"1/24 Elimination",null,null,null,{"$f":"'C52_Baum'!$D$152","v":"Scheibe: 51A"},null,null,null,"1/12 Elimination",null,null,null,{"$f":"'C52_Baum'!$I$134","v":"Scheibe: 42A"}]
[null,null,null,null,null,null,null,null,null,1,2,3,"Summe","Ges.",null,null,null,1,2,3,"Summe","Ges."]
[{"$f":"Select!$C$12","v":"Demoturnier"},null,null,null,null,null,null,null,1,null,null,null,null,null,null,null,1]
["Veranstaltung",null,null,null,null,null,null,null,2,null,null,null,null,null,null,null,2]
[{"$f":"Select!$C$13","v":"1. April 2019"},null,null,null,null,null,null,null,3,null,null,null,null,null,null,null,3]
["Datum",null,null,null,null,null,null,null,4,null,null,null,null,null,null,null,4]
[{"$f":"'C52_Baum'!$D$84","v":"Koisegg Johann"},null,null,null,null,null,null,null,5,null,null,null,null,null,null,null,5]
["Name",null,null,null,null,null,null,null,"wenn erforderlich",null,null,null,null,null,null,null,"wenn erforderlich"]
[{"$f":"'C52_Baum'!$F$84","v":"BSC Sparkasse Jenbach"},null,null,null,null,null,null,null,"Stechen",null,null,null,null,null,null,null,"Stechen"]
["Verein",null,null,null,null,null,null,null,null,null,null,null,null,"gewonnen",null,null,null,null,null,null,null,"gewonnen"]
[{"$f":"Select!$C$20","v":"Compound Herren"},null,null,null,null,null,null,null,"Schütze:",null,null,null,null,"verloren",null,null,"Schütze:",null,null,null,null,"verloren"]
["Bogenklasse"]
[null,null,null,null,null,null,null,null,"Gegner:",null,"Name:",null,null,null,null,null,"Gegner:",null,"Name:"]
[null,null,null,null,null,null,null,null,null,null,"Unterschrift:",null,null,null,null,null,null,null,"Unterschrift:"]
[]
[]
["1/8 Elimination",null,null,null,{"$f":"'C52_Baum'!$M$128","v":"Scheibe: 45"},null,null,null,"1/4 Finale",null,null,null,{"$f":"'C52_Baum'!$Q$122","v":"Scheibe: 41"},null,null,null,"1/2 Finale",null,null,null,{"$f":"'C52_Baum'!$U$119","v":"Scheibe: 38"}]
[null,1,2,3,"Summe","Ges.",null,null,null,1,2,3,"Summe","Ges.",null,null,null,1,2,3,"Summe","Ges."]
[1,null,null,null,null,null,null,null,1,null,null,null,null,null,null,null,1]
[2,null,null,null,null,null,null,null,2,null,null,null,null,null,null,null,2]
[3,null,null,null,null,null,null,null,3,null,null,null,null,null,null,null,3]
[4,null,null,null,null,null,null,null,4,null,null,null,null,null,null,null,4]
[5,null,null,null,null,null,null,null,5,null,null,null,null,null,null,null,5]
["wenn erforderlich",null,null,null,null,null,null,null,"wenn erforderlich",null,null,null,null,null,null,null,"wenn erforderlich"]
["Stechen",null,null,null,null,null,null,null,"Stechen",null,null,null,null,null,null,null,"Stechen"]
[null,null,null,null,null,"gewonnen",null,null,null,null,null,null,null,"gewonnen",null,null,null,null,null,null,null,"gewonnen"]
["Schütze:",null,null,null,null,"verloren",null,null,"Schütze:",null,null,null,null,"verloren",null,null,"Schütze:",null,null,null,null,"verloren"]
[]
["Gegner:",null,"Name:",null,null,null,null,null,"Gegner:",null,"Name:",null,null,null,null,null,"Gegner:",null,"Name:"]
[null,null,"Unterschrift:",null,null,null,null,null,null,null,"Unterschrift:",null,null,null,null,null,null,null,"Unterschrift:"]
[]
[]
[null,null,null,null,null,null,null,null,"1/24 Elimination",null,null,null,{"$f":"'C52_Baum'!$D$153","v":"Scheibe: 51B"},null,null,null,"1/12 Elimination",null,null,null,{"$f":"'C52_Baum'!$I$134","v":"Scheibe: 42A"}]
[null,null,null,null,null,null,null,null,null,1,2,3,"Summe","Ges.",null,null,null,1,2,3,"Summe","Ges."]
[{"$f":"Select!$C$12","v":"Demoturnier"},null,null,null,null,null,null,null,1,null,null,null,null,null,null,null,1]
["Veranstaltung",null,null,null,null,null,null,null,2,null,null,null,null,null,null,null,2]
[{"$f":"Select!$C$13","v":"1. April 2019"},null,null,null,null,null,null,null,3,null,null,null,null,null,null,null,3]
["Datum",null,null,null,null,null,null,null,4,null,null,null,null,null,null,null,4]
[{"$f":"'C52_Baum'!$D$85","v":"Schweiger Peter"},null,null,null,null,null,null,null,5,null,null,null,null,null,null,null,5]
["Name",null,null,null,null,null,null,null,"wenn erforderlich",null,null,null,null,null,null,null,"wenn erforderlich"]
[{"$f":"'C52_Baum'!$F$85","v":"BSC Sparkasse Jenbach"},null,null,null,null,null,null,null,"Stechen",null,null,null,null,null,null,null,"Stechen"]
["Verein",null,null,null,null,null,null,null,null,null,null,null,null,"gewonnen",null,null,null,null,null,null,null,"gewonnen"]
[{"$f":"Select!$C$20","v":"Compound Herren"},null,null,null,null,null,null,null,"Schütze:",null,null,null,null,"verloren",null,null,"Schütze:",null,null,null,null,"verloren"]
["Bogenklasse"]
[null,null,null,null,null,null,null,null,"Gegner:",null,"Name:",null,null,null,null,null,"Gegner:",null,"Name:"]
[null,null,null,null,null,null,null,null,null,null,"Unterschrift:",null,null,null,null,null,null,null,"Unterschrift:"]
[]
[]
["1/8 Elimination",null,null,null,{"$f":"'C52_Baum'!$M$128","v":"Scheibe: 45"},null,null,null,"1/4 Finale",null,null,null,{"$f":"'C52_Baum'!$Q$122","v":"Scheibe: 41"},null,null,null,"1/2 Finale",null,null,null,{"$f":"'C52_Baum'!$U$119","v":"Scheibe: 38"}]
[null,1,2,3,"Summe","Ges.",null,null,null,1,2,3,"Summe","Ges.",null,null,null,1,2,3,"Summe","Ges."]
[1,null,null,null,null,null,null,null,1,null,null,null,null,null,null,null,1]
[2,null,null,null,null,null,null,null,2,null,null,null,null,null,null,null,2]
[3,null,null,null,null,null,null,null,3,null,null,null,null,null,null,null,3]
[4,null,null,null,null,null,null,null,4,null,null,null,null,null,null,null,4]
[5,null,null,null,null,null,null,null,5,null,null,null,null,null,null,null,5]
["wenn erforderlich",null,null,null,null,null,null,null,"wenn erforderlich",null,null,null,null,null,null,null,"wenn erforderlich"]
["Stechen",null,null,null,null,null,null,null,"Stechen",null,null,null,null,null,null,null,"Stechen"]
[null,null,null,null,null,"gewonnen",null,null,null,null,null,null,null,"gewonnen",null,null,null,null,null,null,null,"gewonnen"]
["Schütze:",null,null,null,null,"verloren",null,null,"Schütze:",null,null,null,null,"verloren",null,null,"Schütze:",null,null,null,null,"verloren"]
[]
["Gegner:",null,"Name:",null,null,null,null,null,"Gegner:",null,"Name:",null,null,null,null,null,"Gegner:",null,"Name:"]
[null,null,"Unterschrift:",null,null,null,null,null,null,null,"Unterschrift:",null,null,null,null,null,null,null,"Unterschrift:"]
[]
[]
[null,null,null,null,null,null,null,null,"1/24 Elimination",null,null,null,{"$f":"'C52_Baum'!$D$154","v":"Scheibe: 52A"},null,null,null,"1/12 Elimination",null,null,null,{"$f":"'C52_Baum'!$I$135","v":"Scheibe: 42B"}]
[null,null,null,null,null,null,null,null,null,1,2,3,"Summe","Ges.",null,null,null,1,2,3,"Summe","Ges."]
[{"$f":"Select!$C$12","v":"Demoturnier"},null,null,null,null,null,null,null,1,null,null,null,null,null,null,null,1]
["Veranstaltung",null,null,null,null,null,null,null,2,null,null,null,null,null,null,null,2]
[{"$f":"Select!$C$13","v":"1. April 2019"},null,null,null,null,null,null,null,3,null,null,null,null,null,null,null,3]
["Datum",null,null,null,null,null,null,null,4,null,null,null,null,null,null,null,4]
[{"$f":"'C52_Baum'!$D$88","v":"Kuhn Jürgen Hans"},null,null,null,null,null,null,null,5,null,null,null,null,null,null,null,5]
["Name",null,null,null,null,null,null,null,"wenn erforderlich",null,null,null,null,null,null,null,"wenn erforderlich"]
[{"$f":"'C52_Baum'!$F$88","v":"UBC Diana NÖ"},null,null,null,null,null,null,null,"Stechen",null,null,null,null,null,null,null,"Stechen"]
["Verein",null,null,null,null,null,null,null,null,null,null,null,null,"gewonnen",null,null,null,null,null,null,null,"gewonnen"]
[{"$f":"Select!$C$20","v":"Compound Herren"},null,null,null,null,null,null,null,"Schütze:",null,null,null,null,"verloren",null,null,"Schütze:",null,null,null,null,"verloren"]
["Bogenklasse"]
[null,null,null,null,null,null,null,null,"Gegner:",null,"Name:",null,null,null,null,null,"Gegner:",null,"Name:"]
[null,null,null,null,null,null,null,null,null,null,"Unterschrift:",null,null,null,null,null,null,null,"Unterschrift:"]
[]
[]
["1/8 Elimination",null,null,null,{"$f":"'C52_Baum'!$M$128","v":"Scheibe: 45"},null,null,null,"1/4 Finale",null,null,null,{"$f":"'C52_Baum'!$Q$122","v":"Scheibe: 41"},null,null,null,"1/2 Finale",null,null,null,{"$f":"'C52_Baum'!$U$119","v":"Scheibe: 38"}]
[null,1,2,3,"Summe","Ges.",null,null,null,1,2,3,"Summe","Ges.",null,null,null,1,2,3,"Summe","Ges."]
[1,null,null,null,null,null,null,null,1,null,null,null,null,null,null,null,1]
[2,null,null,null,null,null,null,null,2,null,null,null,null,null,null,null,2]
[3,null,null,null,null,null,null,null,3,null,null,null,null,null,null,null,3]
[4,null,null,null,null,null,null,null,4,null,null,null,null,null,null,null,4]
[5,null,null,null,null,null,null,null,5,null,null,null,null,null,null,null,5]
["wenn erforderlich",null,null,null,null,null,null,null,"wenn erforderlich",null,null,null,null,null,null,null,"wenn erforderlich"]
["Stechen",null,null,null,null,null,null,null,"Stechen",null,null,null,null,null,null,null,"Stechen"]
[null,null,null,null,null,"gewonnen",null,null,null,null,null,null,null,"gewonnen",null,null,null,null,null,null,null,"gewonnen"]
["Schütze:",null,null,null,null,"verloren",null,null,"Schütze:",null,null,null,null,"verloren",null,null,"Schütze:",null,null,null,null,"verloren"]
[]
["Gegner:",null,"Name:",null,null,null,null,null,"Gegner:",null,"Name:",null,null,null,null,null,"Gegner:",null,"Name:"]
[null,null,"Unterschrift:",null,null,null,null,null,null,null,"Unterschrift:",null,null,null,null,null,null,null,"Unterschrift:"]
[]
[]
[null,null,null,null,null,null,null,null,"1/24 Elimination",null,null,null,{"$f":"'C52_Baum'!$D$155","v":"Scheibe: 52B"},null,null,null,"1/12 Elimination",null,null,null,{"$f":"'C52_Baum'!$I$135","v":"Scheibe: 42B"}]
[null,null,null,null,null,null,null,null,null,1,2,3,"Summe","Ges.",null,null,null,1,2,3,"Summe","Ges."]
[{"$f":"Select!$C$12","v":"Demoturnier"},null,null,null,null,null,null,null,1,null,null,null,null,null,null,null,1]
["Veranstaltung",null,null,null,null,null,null,null,2,null,null,null,null,null,null,null,2]
[{"$f":"Select!$C$13","v":"1. April 2019"},null,null,null,null,null,null,null,3,null,null,null,null,null,null,null,3]
["Datum",null,null,null,null,null,null,null,4,null,null,null,null,null,null,null,4]
[{"$f":"'C52_Baum'!$D$89","v":"Steininger Helmut"},null,null,null,null,null,null,null,5,null,null,null,null,null,null,null,5]
["Name",null,null,null,null,null,null,null,"wenn erforderlich",null,null,null,null,null,null,null,"wenn erforderlich"]
[{"$f":"'C52_Baum'!$F$89","v":"UBSC Artemis Wien"},null,null,null,null,null,null,null,"Stechen",null,null,null,null,null,null,null,"Stechen"]
["Verein",null,null,null,null,null,null,null,null,null,null,null,null,"gewonnen",null,null,null,null,null,null,null,"gewonnen"]
[{"$f":"Select!$C$20","v":"Compound Herren"},null,null,null,null,null,null,null,"Schütze:",null,null,null,null,"verloren",null,null,"Schütze:",null,null,null,null,"verloren"]
["Bogenklasse"]
[null,null,null,null,null,null,null,null,"Gegner:",null,"Name:",null,null,null,null,null,"Gegner:",null,"Name:"]
[null,null,null,null,null,null,null,null,null,null,"Unterschrift:",null,null,null,null,null,null,null,"Unterschrift:"]
[]
[]
["1/8 Elimination",null,null,null,{"$f":"'C52_Baum'!$M$128","v":"Scheibe: 45"},null,null,null,"1/4 Finale",null,null,null,{"$f":"'C52_Baum'!$Q$122","v":"Scheibe: 41"},null,null,null,"1/2 Finale",null,null,null,{"$f":"'C52_Baum'!$U$119","v":"Scheibe: 38"}]
[null,1,2,3,"Summe","Ges.",null,null,null,1,2,3,"Summe","Ges.",null,null,null,1,2,3,"Summe","Ges."]
[1,null,null,null,null,null,null,null,1,null,null,null,null,null,null,null,1]
[2,null,null,null,null,null,null,null,2,null,null,null,null,null,null,null,2]
[3,null,null,null,null,null,null,null,3,null,null,null,null,null,null,null,3]
[4,null,null,null,null,null,null,null,4,null,null,null,null,null,null,null,4]
[5,null,null,null,null,null,null,null,5,null,null,null,null,null,null,null,5]
["wenn erforderlich",null,null,null,null,null,null,null,"wenn erforderlich",null,null,null,null,null,null,null,"wenn erforderlich"]
["Stechen",null,null,null,null,null,null,null,"Stechen",null,null,null,null,null,null,null,"Stechen"]
[null,null,null,null,null,"gewonnen",null,null,null,null,null,null,null,"gewonnen",null,null,null,null,null,null,null,"gewonnen"]
["Schütze:",null,null,null,null,"verloren",null,null,"Schütze:",null,null,null,null,"verloren",null,null,"Schütze:",null,null,null,null,"verloren"]
[]
["Gegner:",null,"Name:",null,null,null,null,null,"Gegner:",null,"Name:",null,null,null,null,null,"Gegner:",null,"Name:"]
[null,null,"Unterschrift:",null,null,null,null,null,null,null,"Unterschrift:",null,null,null,null,null,null,null,"Unterschrift:"]
[]
[]
[null,null,null,null,null,null,null,null,"1/24 Elimination",null,null,null,{"$f":"'C52_Baum'!$D$156","v":"Scheibe: 53A"},null,null,null,"1/12 Elimination",null,null,null,{"$f":"'C52_Baum'!$I$136","v":"Scheibe: 43A"}]
[null,null,null,null,null,null,null,null,null,1,2,3,"Summe","Ges.",null,null,null,1,2,3,"Summe","Ges."]
[{"$f":"Select!$C$12","v":"Demoturnier"},null,null,null,null,null,null,null,1,null,null,null,null,null,null,null,1]
["Veranstaltung",null,null,null,null,null,null,null,2,null,null,null,null,null,null,null,2]
[{"$f":"Select!$C$13","v":"1. April 2019"},null,null,null,null,null,null,null,3,null,null,null,null,null,null,null,3]
["Datum",null,null,null,null,null,null,null,4,null,null,null,null,null,null,null,4]
[{"$f":"'C52_Baum'!$D$92","v":"Gruber Werner"},null,null,null,null,null,null,null,5,null,null,null,null,null,null,null,5]
["Name",null,null,null,null,null,null,null,"wenn erforderlich",null,null,null,null,null,null,null,"wenn erforderlich"]
[{"$f":"'C52_Baum'!$F$92","v":"Atus Zeltweg Sektion Bogen"},null,null,null,null,null,null,null,"Stechen",null,null,null,null,null,null,null,"Stechen"]
["Verein",null,null,null,null,null,null,null,null,null,null,null,null,"gewonnen",null,null,null,null,null,null,null,"gewonnen"]
[{"$f":"Select!$C$20","v":"Compound Herren"},null,null,null,null,null,null,null,"Schütze:",null,null,null,null,"verloren",null,null,"Schütze:",null,null,null,null,"verloren"]
["Bogenklasse"]
[null,null,null,null,null,null,null,null,"Gegner:",null,"Name:",null,null,null,null,null,"Gegner:",null,"Name:"]
[null,null,null,null,null,null,null,null,null,null,"Unterschrift:",null,null,null,null,null,null,null,"Unterschrift:"]
[]
[]
["1/8 Elimination",null,null,null,{"$f":"'C52_Baum'!$M$129","v":"Scheibe: 46"},null,null,null,"1/4 Finale",null,null,null,{"$f":"'C52_Baum'!$Q$122","v":"Scheibe: 41"},null,null,null,"1/2 Finale",null,null,null,{"$f":"'C52_Baum'!$U$119","v":"Scheibe: 38"}]
[null,1,2,3,"Summe","Ges.",null,null,null,1,2,3,"Summe","Ges.",null,null,null,1,2,3,"Summe","Ges."]
[1,null,null,null,null,null,null,null,1,null,null,null,null,null,null,null,1]
[2,null,null,null,null,null,null,null,2,null,null,null,null,null,null,null,2]
[3,null,null,null,null,null,null,null,3,null,null,null,null,null,null,null,3]
[4,null,null,null,null,null,null,null,4,null,null,null,null,null,null,null,4]
[5,null,null,null,null,null,null,null,5,null,null,null,null,null,null,null,5]
["wenn erforderlich",null,null,null,null,null,null,null,"wenn erforderlich",null,null,null,null,null,null,null,"wenn erforderlich"]
["Stechen",null,null,null,null,null,null,null,"Stechen",null,null,null,null,null,null,null,"Stechen"]
[null,null,null,null,null,"gewonnen",null,null,null,null,null,null,null,"gewonnen",null,null,null,null,null,null,null,"gewonnen"]
["Schütze:",null,null,null,null,"verloren",null,null,"Schütze:",null,null,null,null,"verloren",null,null,"Schütze:",null,null,null,null,"verloren"]
[]
["Gegner:",null,"Name:",null,null,null,null,null,"Gegner:",null,"Name:",null,null,null,null,null,"Gegner:",null,"Name:"]
[null,null,"Unterschrift:",null,null,null,null,null,null,null,"Unterschrift:",null,null,null,null,null,null,null,"Unterschrift:"]
[]
[]
[null,null,null,null,null,null,null,null,"1/24 Elimination",null,null,null,{"$f":"'C52_Baum'!$D$157","v":"Scheibe: 53B"},null,null,null,"1/12 Elimination",null,null,null,{"$f":"'C52_Baum'!$I$136","v":"Scheibe: 43A"}]
[null,null,null,null,null,null,null,null,null,1,2,3,"Summe","Ges.",null,null,null,1,2,3,"Summe","Ges."]
[{"$f":"Select!$C$12","v":"Demoturnier"},null,null,null,null,null,null,null,1,null,null,null,null,null,null,null,1]
["Veranstaltung",null,null,null,null,null,null,null,2,null,null,null,null,null,null,null,2]
[{"$f":"Select!$C$13","v":"1. April 2019"},null,null,null,null,null,null,null,3,null,null,null,null,null,null,null,3]
["Datum",null,null,null,null,null,null,null,4,null,null,null,null,null,null,null,4]
[{"$f":"'C52_Baum'!$D$93","v":"Hlous Michael"},null,null,null,null,null,null,null,5,null,null,null,null,null,null,null,5]
["Name",null,null,null,null,null,null,null,"wenn erforderlich",null,null,null,null,null,null,null,"wenn erforderlich"]
[{"$f":"'C52_Baum'!$F$93","v":"SEV UNION Isovolta"},null,null,null,null,null,null,null,"Stechen",null,null,null,null,null,null,null,"Stechen"]
["Verein",null,null,null,null,null,null,null,null,null,null,null,null,"gewonnen",null,null,null,null,null,null,null,"gewonnen"]
[{"$f":"Select!$C$20","v":"Compound Herren"},null,null,null,null,null,null,null,"Schütze:",null,null,null,null,"verloren",null,null,"Schütze:",null,null,null,null,"verloren"]
["Bogenklasse"]
[null,null,null,null,null,null,null,null,"Gegner:",null,"Name:",null,null,null,null,null,"Gegner:",null,"Name:"]
[null,null,null,null,null,null,null,null,null,null,"Unterschrift:",null,null,null,null,null,null,null,"Unterschrift:"]
[]
[]
["1/8 Elimination",null,null,null,{"$f":"'C52_Baum'!$M$129","v":"Scheibe: 46"},null,null,null,"1/4 Finale",null,null,null,{"$f":"'C52_Baum'!$Q$122","v":"Scheibe: 41"},null,null,null,"1/2 Finale",null,null,null,{"$f":"'C52_Baum'!$U$119","v":"Scheibe: 38"}]
[null,1,2,3,"Summe","Ges.",null,null,null,1,2,3,"Summe","Ges.",null,null,null,1,2,3,"Summe","Ges."]
[1,null,null,null,null,null,null,null,1,null,null,null,null,null,null,null,1]
[2,null,null,null,null,null,null,null,2,null,null,null,null,null,null,null,2]
[3,null,null,null,null,null,null,null,3,null,null,null,null,null,null,null,3]
[4,null,null,null,null,null,null,null,4,null,null,null,null,null,null,null,4]
[5,null,null,null,null,null,null,null,5,null,null,null,null,null,null,null,5]
["wenn erforderlich",null,null,null,null,null,null,null,"wenn erforderlich",null,null,null,null,null,null,null,"wenn erforderlich"]
["Stechen",null,null,null,null,null,null,null,"Stechen",null,null,null,null,null,null,null,"Stechen"]
[null,null,null,null,null,"gewonnen",null,null,null,null,null,null,null,"gewonnen",null,null,null,null,null,null,null,"gewonnen"]
["Schütze:",null,null,null,null,"verloren",null,null,"Schütze:",null,null,null,null,"verloren",null,null,"Schütze:",null,null,null,null,"verloren"]
[]
["Gegner:",null,"Name:",null,null,null,null,null,"Gegner:",null,"Name:",null,null,null,null,null,"Gegner:",null,"Name:"]
[null,null,"Unterschrift:",null,null,null,null,null,null,null,"Unterschrift:",null,null,null,null,null,null,null,"Unterschrift:"]
[]
[]
[null,null,null,null,null,null,null,null,"1/24 Elimination",null,null,null,{"$f":"'C52_Baum'!$D$158","v":"Scheibe: 54A"},null,null,null,"1/12 Elimination",null,null,null,{"$f":"'C52_Baum'!$I$137","v":"Scheibe: 43B"}]
[null,null,null,null,null,null,null,null,null,1,2,3,"Summe","Ges.",null,null,null,1,2,3,"Summe","Ges."]
[{"$f":"Select!$C$12","v":"Demoturnier"},null,null,null,null,null,null,null,1,null,null,null,null,null,null,null,1]
["Veranstaltung",null,null,null,null,null,null,null,2,null,null,null,null,null,null,null,2]
[{"$f":"Select!$C$13","v":"1. April 2019"},null,null,null,null,null,null,null,3,null,null,null,null,null,null,null,3]
["Datum",null,null,null,null,null,null,null,4,null,null,null,null,null,null,null,4]
[{"$f":"'C52_Baum'!$D$96","v":"Gschwentner Armin"},null,null,null,null,null,null,null,5,null,null,null,null,null,null,null,5]
["Name",null,null,null,null,null,null,null,"wenn erforderlich",null,null,null,null,null,null,null,"wenn erforderlich"]
[{"$f":"'C52_Baum'!$F$96","v":"BSC Sparkasse Jenbach"},null,null,null,null,null,null,null,"Stechen",null,null,null,null,null,null,null,"Stechen"]
["Verein",null,null,null,null,null,null,null,null,null,null,null,null,"gewonnen",null,null,null,null,null,null,null,"gewonnen"]
[{"$f":"Select!$C$20","v":"Compound Herren"},null,null,null,null,null,null,null,"Schütze:",null,null,null,null,"verloren",null,null,"Schütze:",null,null,null,null,"verloren"]
["Bogenklasse"]
[null,null,null,null,null,null,null,null,"Gegner:",null,"Name:",null,null,null,null,null,"Gegner:",null,"Name:"]
[null,null,null,null,null,null,null,null,null,null,"Unterschrift:",null,null,null,null,null,null,null,"Unterschrift:"]
[]
[]
["1/8 Elimination",null,null,null,{"$f":"'C52_Baum'!$M$129","v":"Scheibe: 46"},null,null,null,"1/4 Finale",null,null,null,{"$f":"'C52_Baum'!$Q$122","v":"Scheibe: 41"},null,null,null,"1/2 Finale",null,null,null,{"$f":"'C52_Baum'!$U$119","v":"Scheibe: 38"}]
[null,1,2,3,"Summe","Ges.",null,null,null,1,2,3,"Summe","Ges.",null,null,null,1,2,3,"Summe","Ges."]
[1,null,null,null,null,null,null,null,1,null,null,null,null,null,null,null,1]
[2,null,null,null,null,null,null,null,2,null,null,null,null,null,null,null,2]
[3,null,null,null,null,null,null,null,3,null,null,null,null,null,null,null,3]
[4,null,null,null,null,null,null,null,4,null,null,null,null,null,null,null,4]
[5,null,null,null,null,null,null,null,5,null,null,null,null,null,null,null,5]
["wenn erforderlich",null,null,null,null,null,null,null,"wenn erforderlich",null,null,null,null,null,null,null,"wenn erforderlich"]
["Stechen",null,null,null,null,null,null,null,"Stechen",null,null,null,null,null,null,null,"Stechen"]
[null,null,null,null,null,"gewonnen",null,null,null,null,null,null,null,"gewonnen",null,null,null,null,null,null,null,"gewonnen"]
["Schütze:",null,null,null,null,"verloren",null,null,"Schütze:",null,null,null,null,"verloren",null,null,"Schütze:",null,null,null,null,"verloren"]
[]
["Gegner:",null,"Name:",null,null,null,null,null,"Gegner:",null,"Name:",null,null,null,null,null,"Gegner:",null,"Name:"]
[null,null,"Unterschrift:",null,null,null,null,null,null,null,"Unterschrift:",null,null,null,null,null,null,null,"Unterschrift:"]
[]
[]
[null,null,null,null,null,null,null,null,"1/24 Elimination",null,null,null,{"$f":"'C52_Baum'!$D$159","v":"Scheibe: 54B"},null,null,null,"1/12 Elimination",null,null,null,{"$f":"'C52_Baum'!$I$137","v":"Scheibe: 43B"}]
[null,null,null,null,null,null,null,null,null,1,2,3,"Summe","Ges.",null,null,null,1,2,3,"Summe","Ges."]
[{"$f":"Select!$C$12","v":"Demoturnier"},null,null,null,null,null,null,null,1,null,null,null,null,null,null,null,1]
["Veranstaltung",null,null,null,null,null,null,null,2,null,null,null,null,null,null,null,2]
[{"$f":"Select!$C$13","v":"1. April 2019"},null,null,null,null,null,null,null,3,null,null,null,null,null,null,null,3]
["Datum",null,null,null,null,null,null,null,4,null,null,null,null,null,null,null,4]
[{"$f":"'C52_Baum'!$D$97","v":"Linhart Christian"},null,null,null,null,null,null,null,5,null,null,null,null,null,null,null,5]
["Name",null,null,null,null,null,null,null,"wenn erforderlich",null,null,null,null,null,null,null,"wenn erforderlich"]
[{"$f":"'C52_Baum'!$F$97","v":"BSV Stöttera"},null,null,null,null,null,null,null,"Stechen",null,null,null,null,null,null,null,"Stechen"]
["Verein",null,null,null,null,null,null,null,null,null,null,null,null,"gewonnen",null,null,null,null,null,null,null,"gewonnen"]
[{"$f":"Select!$C$20","v":"Compound Herren"},null,null,null,null,null,null,null,"Schütze:",null,null,null,null,"verloren",null,null,"Schütze:",null,null,null,null,"verloren"]
["Bogenklasse"]
[null,null,null,null,null,null,null,null,"Gegner:",null,"Name:",null,null,null,null,null,"Gegner:",null,"Name:"]
[null,null,null,null,null,null,null,null,null,null,"Unterschrift:",null,null,null,null,null,null,null,"Unterschrift:"]
[]
[]
["1/8 Elimination",null,null,null,{"$f":"'C52_Baum'!$M$129","v":"Scheibe: 46"},null,null,null,"1/4 Finale",null,null,null,{"$f":"'C52_Baum'!$Q$122","v":"Scheibe: 41"},null,null,null,"1/2 Finale",null,null,null,{"$f":"'C52_Baum'!$U$119","v":"Scheibe: 38"}]
[null,1,2,3,"Summe","Ges.",null,null,null,1,2,3,"Summe","Ges.",null,null,null,1,2,3,"Summe","Ges."]
[1,null,null,null,null,null,null,null,1,null,null,null,null,null,null,null,1]
[2,null,null,null,null,null,null,null,2,null,null,null,null,null,null,null,2]
[3,null,null,null,null,null,null,null,3,null,null,null,null,null,null,null,3]
[4,null,null,null,null,null,null,null,4,null,null,null,null,null,null,null,4]
[5,null,null,null,null,null,null,null,5,null,null,null,null,null,null,null,5]
["wenn erforderlich",null,null,null,null,null,null,null,"wenn erforderlich",null,null,null,null,null,null,null,"wenn erforderlich"]
["Stechen",null,null,null,null,null,null,null,"Stechen",null,null,null,null,null,null,null,"Stechen"]
[null,null,null,null,null,"gewonnen",null,null,null,null,null,null,null,"gewonnen",null,null,null,null,null,null,null,"gewonnen"]
["Schütze:",null,null,null,null,"verloren",null,null,"Schütze:",null,null,null,null,"verloren",null,null,"Schütze:",null,null,null,null,"verloren"]
[]
["Gegner:",null,"Name:",null,null,null,null,null,"Gegner:",null,"Name:",null,null,null,null,null,"Gegner:",null,"Name:"]
[null,null,"Unterschrift:",null,null,null,null,null,null,null,"Unterschrift:",null,null,null,null,null,null,null,"Unterschrift:"]
[]
[]
[null,null,null,null,null,null,null,null,"1/24 Elimination",null,null,null,{"$f":"'C52_Baum'!$D$160","v":"Scheibe: 55A"},null,null,null,"1/12 Elimination",null,null,null,{"$f":"'C52_Baum'!$I$138","v":"Scheibe: 44A"}]
[null,null,null,null,null,null,null,null,null,1,2,3,"Summe","Ges.",null,null,null,1,2,3,"Summe","Ges."]
[{"$f":"Select!$C$12","v":"Demoturnier"},null,null,null,null,null,null,null,1,null,null,null,null,null,null,null,1]
["Veranstaltung",null,null,null,null,null,null,null,2,null,null,null,null,null,null,null,2]
[{"$f":"Select!$C$13","v":"1. April 2019"},null,null,null,null,null,null,null,3,null,null,null,null,null,null,null,3]
["Datum",null,null,null,null,null,null,null,4,null,null,null,null,null,null,null,4]
[{"$f":"'C52_Baum'!$D$100","v":"Url Marsell"},null,null,null,null,null,null,null,5,null,null,null,null,null,null,null,5]
["Name",null,null,null,null,null,null,null,"wenn erforderlich",null,null,null,null,null,null,null,"wenn erforderlich"]
[{"$f":"'C52_Baum'!$F$100","v":"UBSC Artemis Steiermark"},null,null,null,null,null,null,null,"Stechen",null,null,null,null,null,null,null,"Stechen"]
["Verein",null,null,null,null,null,null,null,null,null,null,null,null,"gewonnen",null,null,null,null,null,null,null,"gewonnen"]
[{"$f":"Select!$C$20","v":"Compound Herren"},null,null,null,null,null,null,null,"Schütze:",null,null,null,null,"verloren",null,null,"Schütze:",null,null,null,null,"verloren"]
["Bogenklasse"]
[null,null,null,null,null,null,null,null,"Gegner:",null,"Name:",null,null,null,null,null,"Gegner:",null,"Name:"]
[null,null,null,null,null,null,null,null,null,null,"Unterschrift:",null,null,null,null,null,null,null,"Unterschrift:"]
[]
[]
["1/8 Elimination",null,null,null,{"$f":"'C52_Baum'!$M$130","v":"Scheibe: 47"},null,null,null,"1/4 Finale",null,null,null,{"$f":"'C52_Baum'!$Q$123","v":"Scheibe: 42"},null,null,null,"1/2 Finale",null,null,null,{"$f":"'C52_Baum'!$U$119","v":"Scheibe: 38"}]
[null,1,2,3,"Summe","Ges.",null,null,null,1,2,3,"Summe","Ges.",null,null,null,1,2,3,"Summe","Ges."]
[1,null,null,null,null,null,null,null,1,null,null,null,null,null,null,null,1]
[2,null,null,null,null,null,null,null,2,null,null,null,null,null,null,null,2]
[3,null,null,null,null,null,null,null,3,null,null,null,null,null,null,null,3]
[4,null,null,null,null,null,null,null,4,null,null,null,null,null,null,null,4]
[5,null,null,null,null,null,null,null,5,null,null,null,null,null,null,null,5]
["wenn erforderlich",null,null,null,null,null,null,null,"wenn erforderlich",null,null,null,null,null,null,null,"wenn erforderlich"]
["Stechen",null,null,null,null,null,null,null,"Stechen",null,null,null,null,null,null,null,"Stechen"]
[null,null,null,null,null,"gewonnen",null,null,null,null,null,null,null,"gewonnen",null,null,null,null,null,null,null,"gewonnen"]
["Schütze:",null,null,null,null,"verloren",null,null,"Schütze:",null,null,null,null,"verloren",null,null,"Schütze:",null,null,null,null,"verloren"]
[]
["Gegner:",null,"Name:",null,null,null,null,null,"Gegner:",null,"Name:",null,null,null,null,null,"Gegner:",null,"Name:"]
[null,null,"Unterschrift:",null,null,null,null,null,null,null,"Unterschrift:",null,null,null,null,null,null,null,"Unterschrift:"]
[]
[]
[null,null,null,null,null,null,null,null,"1/24 Elimination",null,null,null,{"$f":"'C52_Baum'!$D$161","v":"Scheibe: 55B"},null,null,null,"1/12 Elimination",null,null,null,{"$f":"'C52_Baum'!$I$138","v":"Scheibe: 44A"}]
[null,null,null,null,null,null,null,null,null,1,2,3,"Summe","Ges.",null,null,null,1,2,3,"Summe","Ges."]
[{"$f":"Select!$C$12","v":"Demoturnier"},null,null,null,null,null,null,null,1,null,null,null,null,null,null,null,1]
["Veranstaltung",null,null,null,null,null,null,null,2,null,null,null,null,null,null,null,2]
[{"$f":"Select!$C$13","v":"1. April 2019"},null,null,null,null,null,null,null,3,null,null,null,null,null,null,null,3]
["Datum",null,null,null,null,null,null,null,4,null,null,null,null,null,null,null,4]
[{"$f":"'C52_Baum'!$D$101","v":"Molnar Jonas"},null,null,null,null,null,null,null,5,null,null,null,null,null,null,null,5]
["Name",null,null,null,null,null,null,null,"wenn erforderlich",null,null,null,null,null,null,null,"wenn erforderlich"]
[{"$f":"'C52_Baum'!$F$101","v":"BSC Fischamend"},null,null,null,null,null,null,null,"Stechen",null,null,null,null,null,null,null,"Stechen"]
["Verein",null,null,null,null,null,null,null,null,null,null,null,null,"gewonnen",null,null,null,null,null,null,null,"gewonnen"]
[{"$f":"Select!$C$20","v":"Compound Herren"},null,null,null,null,null,null,null,"Schütze:",null,null,null,null,"verloren",null,null,"Schütze:",null,null,null,null,"verloren"]
["Bogenklasse"]
[null,null,null,null,null,null,null,null,"Gegner:",null,"Name:",null,null,null,null,null,"Gegner:",null,"Name:"]
[null,null,null,null,null,null,null,null,null,null,"Unterschrift:",null,null,null,null,null,null,null,"Unterschrift:"]
[]
[]
["1/8 Elimination",null,null,null,{"$f":"'C52_Baum'!$M$130","v":"Scheibe: 47"},null,null,null,"1/4 Finale",null,null,null,{"$f":"'C52_Baum'!$Q$123","v":"Scheibe: 42"},null,null,null,"1/2 Finale",null,null,null,{"$f":"'C52_Baum'!$U$119","v":"Scheibe: 38"}]
[null,1,2,3,"Summe","Ges.",null,null,null,1,2,3,"Summe","Ges.",null,null,null,1,2,3,"Summe","Ges."]
[1,null,null,null,null,null,null,null,1,null,null,null,null,null,null,null,1]
[2,null,null,null,null,null,null,null,2,null,null,null,null,null,null,null,2]
[3,null,null,null,null,null,null,null,3,null,null,null,null,null,null,null,3]
[4,null,null,null,null,null,null,null,4,null,null,null,null,null,null,null,4]
[5,null,null,null,null,null,null,null,5,null,null,null,null,null,null,null,5]
["wenn erforderlich",null,null,null,null,null,null,null,"wenn erforderlich",null,null,null,null,null,null,null,"wenn erforderlich"]
["Stechen",null,null,null,null,null,null,null,"Stechen",null,null,null,null,null,null,null,"Stechen"]
[null,null,null,null,null,"gewonnen",null,null,null,null,null,null,null,"gewonnen",null,null,null,null,null,null,null,"gewonnen"]
["Schütze:",null,null,null,null,"verloren",null,null,"Schütze:",null,null,null,null,"verloren",null,null,"Schütze:",null,null,null,null,"verloren"]
[]
["Gegner:",null,"Name:",null,null,null,null,null,"Gegner:",null,"Name:",null,null,null,null,null,"Gegner:",null,"Name:"]
[null,null,"Unterschrift:",null,null,null,null,null,null,null,"Unterschrift:",null,null,null,null,null,null,null,"Unterschrift:"]
[]
[]
[null,null,null,null,null,null,null,null,"1/24 Elimination",null,null,null,{"$f":"'C52_Baum'!$D$162","v":"Scheibe: 56A"},null,null,null,"1/12 Elimination",null,null,null,{"$f":"'C52_Baum'!$I$139","v":"Scheibe: 44B"}]
[null,null,null,null,null,null,null,null,null,1,2,3,"Summe","Ges.",null,null,null,1,2,3,"Summe","Ges."]
[{"$f":"Select!$C$12","v":"Demoturnier"},null,null,null,null,null,null,null,1,null,null,null,null,null,null,null,1]
["Veranstaltung",null,null,null,null,null,null,null,2,null,null,null,null,null,null,null,2]
[{"$f":"Select!$C$13","v":"1. April 2019"},null,null,null,null,null,null,null,3,null,null,null,null,null,null,null,3]
["Datum",null,null,null,null,null,null,null,4,null,null,null,null,null,null,null,4]
[{"$f":"'C52_Baum'!$D$104","v":"Drapela Norbert"},null,null,null,null,null,null,null,5,null,null,null,null,null,null,null,5]
["Name",null,null,null,null,null,null,null,"wenn erforderlich",null,null,null,null,null,null,null,"wenn erforderlich"]
[{"$f":"'C52_Baum'!$F$104","v":"BSC Stockerau"},null,null,null,null,null,null,null,"Stechen",null,null,null,null,null,null,null,"Stechen"]
["Verein",null,null,null,null,null,null,null,null,null,null,null,null,"gewonnen",null,null,null,null,null,null,null,"gewonnen"]
[{"$f":"Select!$C$20","v":"Compound Herren"},null,null,null,null,null,null,null,"Schütze:",null,null,null,null,"verloren",null,null,"Schütze:",null,null,null,null,"verloren"]
["Bogenklasse"]
[null,null,null,null,null,null,null,null,"Gegner:",null,"Name:",null,null,null,null,null,"Gegner:",null,"Name:"]
[null,null,null,null,null,null,null,null,null,null,"Unterschrift:",null,null,null,null,null,null,null,"Unterschrift:"]
[]
[]
["1/8 Elimination",null,null,null,{"$f":"'C52_Baum'!$M$130","v":"Scheibe: 47"},null,null,null,"1/4 Finale",null,null,null,{"$f":"'C52_Baum'!$Q$123","v":"Scheibe: 42"},null,null,null,"1/2 Finale",null,null,null,{"$f":"'C52_Baum'!$U$119","v":"Scheibe: 38"}]
[null,1,2,3,"Summe","Ges.",null,null,null,1,2,3,"Summe","Ges.",null,null,null,1,2,3,"Summe","Ges."]
[1,null,null,null,null,null,null,null,1,null,null,null,null,null,null,null,1]
[2,null,null,null,null,null,null,null,2,null,null,null,null,null,null,null,2]
[3,null,null,null,null,null,null,null,3,null,null,null,null,null,null,null,3]
[4,null,null,null,null,null,null,null,4,null,null,null,null,null,null,null,4]
[5,null,null,null,null,null,null,null,5,null,null,null,null,null,null,null,5]
["wenn erforderlich",null,null,null,null,null,null,null,"wenn erforderlich",null,null,null,null,null,null,null,"wenn erforderlich"]
["Stechen",null,null,null,null,null,null,null,"Stechen",null,null,null,null,null,null,null,"Stechen"]
[null,null,null,null,null,"gewonnen",null,null,null,null,null,null,null,"gewonnen",null,null,null,null,null,null,null,"gewonnen"]
["Schütze:",null,null,null,null,"verloren",null,null,"Schütze:",null,null,null,null,"verloren",null,null,"Schütze:",null,null,null,null,"verloren"]
[]
["Gegner:",null,"Name:",null,null,null,null,null,"Gegner:",null,"Name:",null,null,null,null,null,"Gegner:",null,"Name:"]
[null,null,"Unterschrift:",null,null,null,null,null,null,null,"Unterschrift:",null,null,null,null,null,null,null,"Unterschrift:"]
[]
[]
[null,null,null,null,null,null,null,null,"1/24 Elimination",null,null,null,{"$f":"'C52_Baum'!$D$163","v":"Scheibe: 56B"},null,null,null,"1/12 Elimination",null,null,null,{"$f":"'C52_Baum'!$I$139","v":"Scheibe: 44B"}]
[null,null,null,null,null,null,null,null,null,1,2,3,"Summe","Ges.",null,null,null,1,2,3,"Summe","Ges."]
[{"$f":"Select!$C$12","v":"Demoturnier"},null,null,null,null,null,null,null,1,null,null,null,null,null,null,null,1]
["Veranstaltung",null,null,null,null,null,null,null,2,null,null,null,null,null,null,null,2]
[{"$f":"Select!$C$13","v":"1. April 2019"},null,null,null,null,null,null,null,3,null,null,null,null,null,null,null,3]
["Datum",null,null,null,null,null,null,null,4,null,null,null,null,null,null,null,4]
[{"$f":"'C52_Baum'!$D$105","v":"Postl Markus"},null,null,null,null,null,null,null,5,null,null,null,null,null,null,null,5]
["Name",null,null,null,null,null,null,null,"wenn erforderlich",null,null,null,null,null,null,null,"wenn erforderlich"]
[{"$f":"'C52_Baum'!$F$105","v":"BC Union Graz Seiersberg"},null,null,null,null,null,null,null,"Stechen",null,null,null,null,null,null,null,"Stechen"]
["Verein",null,null,null,null,null,null,null,null,null,null,null,null,"gewonnen",null,null,null,null,null,null,null,"gewonnen"]
[{"$f":"Select!$C$20","v":"Compound Herren"},null,null,null,null,null,null,null,"Schütze:",null,null,null,null,"verloren",null,null,"Schütze:",null,null,null,null,"verloren"]
["Bogenklasse"]
[null,null,null,null,null,null,null,null,"Gegner:",null,"Name:",null,null,null,null,null,"Gegner:",null,"Name:"]
[null,null,null,null,null,null,null,null,null,null,"Unterschrift:",null,null,null,null,null,null,null,"Unterschrift:"]
[]
[]
["1/8 Elimination",null,null,null,{"$f":"'C52_Baum'!$M$130","v":"Scheibe: 47"},null,null,null,"1/4 Finale",null,null,null,{"$f":"'C52_Baum'!$Q$123","v":"Scheibe: 42"},null,null,null,"1/2 Finale",null,null,null,{"$f":"'C52_Baum'!$U$119","v":"Scheibe: 38"}]
[null,1,2,3,"Summe","Ges.",null,null,null,1,2,3,"Summe","Ges.",null,null,null,1,2,3,"Summe","Ges."]
[1,null,null,null,null,null,null,null,1,null,null,null,null,null,null,null,1]
[2,null,null,null,null,null,null,null,2,null,null,null,null,null,null,null,2]
[3,null,null,null,null,null,null,null,3,null,null,null,null,null,null,null,3]
[4,null,null,null,null,null,null,null,4,null,null,null,null,null,null,null,4]
[5,null,null,null,null,null,null,null,5,null,null,null,null,null,null,null,5]
["wenn erforderlich",null,null,null,null,null,null,null,"wenn erforderlich",null,null,null,null,null,null,null,"wenn erforderlich"]
["Stechen",null,null,null,null,null,null,null,"Stechen",null,null,null,null,null,null,null,"Stechen"]
[null,null,null,null,null,"gewonnen",null,null,null,null,null,null,null,"gewonnen",null,null,null,null,null,null,null,"gewonnen"]
["Schütze:",null,null,null,null,"verloren",null,null,"Schütze:",null,null,null,null,"verloren",null,null,"Schütze:",null,null,null,null,"verloren"]
[]
["Gegner:",null,"Name:",null,null,null,null,null,"Gegner:",null,"Name:",null,null,null,null,null,"Gegner:",null,"Name:"]
[null,null,"Unterschrift:",null,null,null,null,null,null,null,"Unterschrift:",null,null,null,null,null,null,null,"Unterschrift:"]
[]
[]
[null,null,null,null,null,null,null,null,"1/24 Elimination",null,null,null,"Freilos",null,null,null,"1/12 Elimination",null,null,null,"Freilos"]
[null,null,null,null,null,null,null,null,null,1,2,3,"Summe","Ges.",null,null,null,1,2,3,"Summe","Ges."]
[{"$f":"Select!$C$12","v":"Demoturnier"},null,null,null,null,null,null,null,1,null,null,null,null,null,null,null,1]
["Veranstaltung",null,null,null,null,null,null,null,2,null,null,null,null,null,null,null,2]
[{"$f":"Select!$C$13","v":"1. April 2019"},null,null,null,null,null,null,null,3,null,null,null,null,null,null,null,3]
["Datum",null,null,null,null,null,null,null,4,null,null,null,null,null,null,null,4]
[{"$f":"'C52_Baum'!$D$108","v":"Kanduth Wolfgang"},null,null,null,null,null,null,null,5,null,null,null,null,null,null,null,5]
["Name",null,null,null,null,null,null,null,"wenn erforderlich",null,null,null,null,null,null,null,"wenn erforderlich"]
[{"$f":"'C52_Baum'!$F$108","v":"BC Wildon Weitendorf"},null,null,null,null,null,null,null,"Stechen",null,null,null,null,null,null,null,"Stechen"]
["Verein",null,null,null,null,null,null,null,null,null,null,null,null,"gewonnen",null,null,null,null,null,null,null,"gewonnen"]
[{"$f":"Select!$C$20","v":"Compound Herren"},null,null,null,null,null,null,null,"Schütze:",null,null,null,null,"verloren",null,null,"Schütze:",null,null,null,null,"verloren"]
["Bogenklasse"]
[null,null,null,null,null,null,null,null,"Gegner:",null,"Name:",null,null,null,null,null,"Gegner:",null,"Name:"]
[null,null,null,null,null,null,null,null,null,null,"Unterschrift:",null,null,null,null,null,null,null,"Unterschrift:"]
[]
[]
["1/8 Elimination",null,null,null,{"$f":"'C52_Baum'!$M$131","v":"Scheibe: 48"},null,null,null,"1/4 Finale",null,null,null,{"$f":"'C52_Baum'!$Q$123","v":"Scheibe: 42"},null,null,null,"1/2 Finale",null,null,null,{"$f":"'C52_Baum'!$U$119","v":"Scheibe: 38"}]
[null,1,2,3,"Summe","Ges.",null,null,null,1,2,3,"Summe","Ges.",null,null,null,1,2,3,"Summe","Ges."]
[1,null,null,null,null,null,null,null,1,null,null,null,null,null,null,null,1]
[2,null,null,null,null,null,null,null,2,null,null,null,null,null,null,null,2]
[3,null,null,null,null,null,null,null,3,null,null,null,null,null,null,null,3]
[4,null,null,null,null,null,null,null,4,null,null,null,null,null,null,null,4]
[5,null,null,null,null,null,null,null,5,null,null,null,null,null,null,null,5]
["wenn erforderlich",null,null,null,null,null,null,null,"wenn erforderlich",null,null,null,null,null,null,null,"wenn erforderlich"]
["Stechen",null,null,null,null,null,null,null,"Stechen",null,null,null,null,null,null,null,"Stechen"]
[null,null,null,null,null,"gewonnen",null,null,null,null,null,null,null,"gewonnen",null,null,null,null,null,null,null,"gewonnen"]
["Schütze:",null,null,null,null,"verloren",null,null,"Schütze:",null,null,null,null,"verloren",null,null,"Schütze:",null,null,null,null,"verloren"]
[]
["Gegner:",null,"Name:",null,null,null,null,null,"Gegner:",null,"Name:",null,null,null,null,null,"Gegner:",null,"Name:"]
[null,null,"Unterschrift:",null,null,null,null,null,null,null,"Unterschrift:",null,null,null,null,null,null,null,"Unterschrift:"]

{"sheet":"C52_Ergebnis","index":21,"n_rows":61,"n_cols":21,"rows_kept":61,"cut":false,"hidden":true,"merged":[[6,12,6,20],[1,0,1,3],[1,4,1,10],[2,0,2,3],[4,0,4,10],[6,0,6,3]]}
[]
[{"$f":"Select!$C$12","v":"Demoturnier"},null,null,null,{"$f":"Select!C14","v":"WA-Outdoor"}]
[{"$f":"Select!C13","v":"1. April 2019"}]
[]
["Ergebnisliste"]
[]
[{"$f":"Select!C18","v":"Recurve Herren"},null,null,null,null,null,null,null,null,null,null,null,"!!!!!!!!!!!!!!!!!!!!!!!!!!  SORTIERBEREICH - NICHT ENTFERNEN !!!!!!!!!!!!!!!!!!!!!!!!!!"]
[]
["Pl.",null,"Name","Verein","Quali.","1/24","1/12","1/8","1/4","1/2","Finale",null,"SortName","SortVerein","SortQuali","Sort 1/24","Sort 1/12","Sort1/8","Sort1/4","Sort1/2","SortFinale"]
[{"$f":"IF(C10<>\"\",1,\"\")","v":""},null,null,null,null,null,null,null,null,null,null,null,{"$f":"'C52_Baum'!Y8","v":""},{"$f":"VLOOKUP(M10,C_Quali!$C$10:$H$100,2,FALSE)","v":{"$error":"#N/A"}},{"$f":"VLOOKUP(M10,C_Quali!$C$10:$H$100,6,FALSE)","v":{"$error":"#N/A"}},{"$f":"VLOOKUP(M10,'C52_Baum'!$D$3:$G$108,4,FALSE)","v":{"$error":"#N/A"}},{"$f":"VLOOKUP(M10,'C52_Baum'!$I$3:$K$108,3,FALSE)","v":0},{"$f":"VLOOKUP(M10,'C52_Baum'!$M$3:$O$108,3,FALSE)","v":0},{"$f":"VLOOKUP(M10,'C52_Baum'!$Q$9:$S$100,3,FALSE)","v":0},{"$f":"VLOOKUP(M10,'C52_Baum'!$U$17:$W$84,3,FALSE)","v":0},{"$f":"VLOOKUP(M10,'C52_Baum'!$Y$24:$AA$68,3,FALSE)","v":0}]
[{"$f":"IF(C11<>\"\",A10+1,\"\")","v":""},null,null,null,null,null,null,null,null,null,null,null,{"$f":"'C52_Baum'!Y10","v":""},{"$f":"VLOOKUP(M11,C_Quali!$C$10:$H$100,2,FALSE)","v":{"$error":"#N/A"}},{"$f":"VLOOKUP(M11,C_Quali!$C$10:$H$100,6,FALSE)","v":{"$error":"#N/A"}},{"$f":"VLOOKUP(M11,'C52_Baum'!$D$3:$G$108,4,FALSE)","v":{"$error":"#N/A"}},{"$f":"VLOOKUP(M11,'C52_Baum'!$I$3:$K$108,3,FALSE)","v":0},{"$f":"VLOOKUP(M11,'C52_Baum'!$M$3:$O$108,3,FALSE)","v":0},{"$f":"VLOOKUP(M11,'C52_Baum'!$Q$9:$S$100,3,FALSE)","v":0},{"$f":"VLOOKUP(M11,'C52_Baum'!$U$17:$W$84,3,FALSE)","v":0},{"$f":"VLOOKUP(M11,'C52_Baum'!$Y$24:$AA$68,3,FALSE)","v":0}]
["",null,null,null,null,null,null,null,null,null,null,null,{"$f":"'C52_Baum'!Y12","v":""},{"$f":"VLOOKUP(M12,C_Quali!$C$10:$H$100,2,FALSE)","v":{"$error":"#N/A"}},{"$f":"VLOOKUP(M12,C_Quali!$C$10:$H$100,6,FALSE)","v":{"$error":"#N/A"}},{"$f":"VLOOKUP(M12,'C52_Baum'!$D$3:$G$108,4,FALSE)","v":{"$error":"#N/A"}},{"$f":"VLOOKUP(M12,'C52_Baum'!$I$3:$K$108,3,FALSE)","v":0},{"$f":"VLOOKUP(M12,'C52_Baum'!$M$3:$O$108,3,FALSE)","v":0},{"$f":"VLOOKUP(M12,'C52_Baum'!$Q$9:$S$100,3,FALSE)","v":0},{"$f":"VLOOKUP(M12,'C52_Baum'!$U$17:$W$84,3,FALSE)","v":0},{"$f":"VLOOKUP(M12,'C52_Baum'!$Y$24:$AA$68,3,FALSE)","v":0}]
["",null,null,null,null,null,null,null,null,null,null,null,{"$f":"IF('C52_Baum'!Y12='C52_Baum'!Y66,'R28_Baum'!Y67,'C52_Baum'!Y66)","v":0},{"$f":"VLOOKUP(M13,C_Quali!$C$10:$H$100,2,FALSE)","v":{"$error":"#N/A"}},{"$f":"VLOOKUP(M13,C_Quali!$C$10:$H$100,6,FALSE)","v":{"$error":"#N/A"}},{"$f":"VLOOKUP(M13,'C52_Baum'!$D$3:$G$108,4,FALSE)","v":{"$error":"#N/A"}},{"$f":"VLOOKUP(M13,'C52_Baum'!$I$3:$K$108,3,FALSE)","v":{"$error":"#N/A"}},{"$f":"VLOOKUP(M13,'C52_Baum'!$M$3:$O$108,3,FALSE)","v":{"$error":"#N/A"}},{"$f":"VLOOKUP(M13,'C52_Baum'!$Q$9:$S$100,3,FALSE)","v":{"$error":"#N/A"}},{"$f":"VLOOKUP(M13,'C52_Baum'!$U$17:$W$84,3,FALSE)","v":{"$error":"#N/A"}},{"$f":"VLOOKUP(M13,'C52_Baum'!$Y$24:$AA$68,3,FALSE)","v":{"$error":"#N/A"}}]
["",null,null,null,null,null,null,null,null,null,null,null,{"$f":"IF('C52_Baum'!U30='C52_Baum'!Q12,'C52_Baum'!Q13,'C52_Baum'!Q12)","v":""},{"$f":"VLOOKUP(M14,C_Quali!$C$10:$H$100,2,FALSE)","v":{"$error":"#N/A"}},{"$f":"VLOOKUP(M14,C_Quali!$C$10:$H$100,6,FALSE)","v":{"$error":"#N/A"}},{"$f":"VLOOKUP(M14,'C52_Baum'!$D$3:$G$108,4,FALSE)","v":{"$error":"#N/A"}},{"$f":"VLOOKUP(M14,'C52_Baum'!$I$3:$K$108,3,FALSE)","v":0},{"$f":"VLOOKUP(M14,'C52_Baum'!$M$3:$O$108,3,FALSE)","v":0},{"$f":"VLOOKUP(M14,'C52_Baum'!$Q$9:$S$100,3,FALSE)","v":0}]
["",null,null,null,null,null,null,null,null,null,null,null,{"$f":"IF('C52_Baum'!U31='C52_Baum'!Q44,'C52_Baum'!Q45,'C52_Baum'!Q44)","v":""},{"$f":"VLOOKUP(M15,C_Quali!$C$10:$H$100,2,FALSE)","v":{"$error":"#N/A"}},{"$f":"VLOOKUP(M15,C_Quali!$C$10:$H$100,6,FALSE)","v":{"$error":"#N/A"}},{"$f":"VLOOKUP(M15,'C52_Baum'!$D$3:$G$108,4,FALSE)","v":{"$error":"#N/A"}},{"$f":"VLOOKUP(M15,'C52_Baum'!$I$3:$K$108,3,FALSE)","v":0},{"$f":"VLOOKUP(M15,'C52_Baum'!$M$3:$O$108,3,FALSE)","v":0},{"$f":"VLOOKUP(M15,'C52_Baum'!$Q$9:$S$100,3,FALSE)","v":0}]
["",null,null,null,null,null,null,null,null,null,null,null,{"$f":"IF('C52_Baum'!U82='C52_Baum'!Q66,'C52_Baum'!Q67,'C52_Baum'!Q66)","v":""},{"$f":"VLOOKUP(M16,C_Quali!$C$10:$H$100,2,FALSE)","v":{"$error":"#N/A"}},{"$f":"VLOOKUP(M16,C_Quali!$C$10:$H$100,6,FALSE)","v":{"$error":"#N/A"}},{"$f":"VLOOKUP(M16,'C52_Baum'!$D$3:$G$108,4,FALSE)","v":{"$error":"#N/A"}},{"$f":"VLOOKUP(M16,'C52_Baum'!$I$3:$K$108,3,FALSE)","v":0},{"$f":"VLOOKUP(M16,'C52_Baum'!$M$3:$O$108,3,FALSE)","v":0},{"$f":"VLOOKUP(M16,'C52_Baum'!$Q$9:$S$100,3,FALSE)","v":0}]
["",null,null,null,null,null,null,null,null,null,null,null,{"$f":"IF('C52_Baum'!U83='C52_Baum'!Q98,'C52_Baum'!Q99,'C52_Baum'!Q98)","v":""},{"$f":"VLOOKUP(M17,C_Quali!$C$10:$H$100,2,FALSE)","v":{"$error":"#N/A"}},{"$f":"VLOOKUP(M17,C_Quali!$C$10:$H$100,6,FALSE)","v":{"$error":"#N/A"}},{"$f":"VLOOKUP(M17,'C52_Baum'!$D$3:$G$108,4,FALSE)","v":{"$error":"#N/A"}},{"$f":"VLOOKUP(M17,'C52_Baum'!$I$3:$K$108,3,FALSE)","v":0},{"$f":"VLOOKUP(M17,'C52_Baum'!$M$3:$O$108,3,FALSE)","v":0},{"$f":"VLOOKUP(M17,'C52_Baum'!$Q$9:$S$100,3,FALSE)","v":0}]
["",null,null,null,null,null,null,null,null,null,null,null,{"$f":"IF('C52_Baum'!Q12='C52_Baum'!M6,'C52_Baum'!M7,'C52_Baum'!M6)","v":"Steinwender Alois"},{"$f":"VLOOKUP(M18,C_Quali!$C$10:$H$100,2,FALSE)","v":"Bogensport Lungau"},{"$f":"VLOOKUP(M18,C_Quali!$C$10:$H$100,6,FALSE)","v":532},{"$f":"VLOOKUP(M18,'C52_Baum'!$D$3:$G$108,4,FALSE)","v":0},{"$f":"VLOOKUP(M18,'C52_Baum'!$I$3:$K$108,3,FALSE)","v":0},{"$f":"VLOOKUP(M18,'C52_Baum'!$M$3:$O$108,3,FALSE)","v":0}]
["",null,null,null,null,null,null,null,null,null,null,null,{"$f":"IF('C52_Baum'!Q13='C52_Baum'!M20,'C52_Baum'!M21,'C52_Baum'!M20)","v":""},{"$f":"VLOOKUP(M19,C_Quali!$C$10:$H$100,2,FALSE)","v":{"$error":"#N/A"}},{"$f":"VLOOKUP(M19,C_Quali!$C$10:$H$100,6,FALSE)","v":{"$error":"#N/A"}},{"$f":"VLOOKUP(M19,'C52_Baum'!$D$3:$G$108,4,FALSE)","v":{"$error":"#N/A"}},{"$f":"VLOOKUP(M19,'C52_Baum'!$I$3:$K$108,3,FALSE)","v":0},{"$f":"VLOOKUP(M19,'C52_Baum'!$M$3:$O$108,3,FALSE)","v":0}]
["",null,null,null,null,null,null,null,null,null,null,null,{"$f":"IF('C52_Baum'!Q44='C52_Baum'!M36,'C52_Baum'!M37,'C52_Baum'!M36)","v":""},{"$f":"VLOOKUP(M20,C_Quali!$C$10:$H$100,2,FALSE)","v":{"$error":"#N/A"}},{"$f":"VLOOKUP(M20,C_Quali!$C$10:$H$100,6,FALSE)","v":{"$error":"#N/A"}},{"$f":"VLOOKUP(M20,'C52_Baum'!$D$3:$G$108,4,FALSE)","v":{"$error":"#N/A"}},{"$f":"VLOOKUP(M20,'C52_Baum'!$I$3:$K$108,3,FALSE)","v":0},{"$f":"VLOOKUP(M20,'C52_Baum'!$M$3:$O$108,3,FALSE)","v":0}]
["",null,null,null,null,null,null,null,null,null,null,null,{"$f":"IF('C52_Baum'!Q45='C52_Baum'!M50,'C52_Baum'!M51,'C52_Baum'!M50)","v":"Wippel Wolfgang"},{"$f":"VLOOKUP(M21,C_Quali!$C$10:$H$100,2,FALSE)","v":"BC Union Graz Seiersberg"},{"$f":"VLOOKUP(M21,C_Quali!$C$10:$H$100,6,FALSE)","v":529},{"$f":"VLOOKUP(M21,'C52_Baum'!$D$3:$G$108,4,FALSE)","v":0},{"$f":"VLOOKUP(M21,'C52_Baum'!$I$3:$K$108,3,FALSE)","v":0},{"$f":"VLOOKUP(M21,'C52_Baum'!$M$3:$O$108,3,FALSE)","v":0}]
["",null,null,null,null,null,null,null,null,null,null,null,{"$f":"IF('C52_Baum'!Q66='C52_Baum'!M60,'C52_Baum'!M61,'C52_Baum'!M60)","v":"Hubmann Gerhard"},{"$f":"VLOOKUP(M22,C_Quali!$C$10:$H$100,2,FALSE)","v":"EAT-Bogensport"},{"$f":"VLOOKUP(M22,C_Quali!$C$10:$H$100,6,FALSE)","v":530},{"$f":"VLOOKUP(M22,'C52_Baum'!$D$3:$G$108,4,FALSE)","v":0},{"$f":"VLOOKUP(M22,'C52_Baum'!$I$3:$K$108,3,FALSE)","v":0},{"$f":"VLOOKUP(M22,'C52_Baum'!$M$3:$O$108,3,FALSE)","v":0}]
["",null,null,null,null,null,null,null,null,null,null,null,{"$f":"IF('C52_Baum'!Q67='C52_Baum'!M74,'C52_Baum'!M75,'C52_Baum'!M74)","v":""},{"$f":"VLOOKUP(M23,C_Quali!$C$10:$H$100,2,FALSE)","v":{"$error":"#N/A"}},{"$f":"VLOOKUP(M23,C_Quali!$C$10:$H$100,6,FALSE)","v":{"$error":"#N/A"}},{"$f":"VLOOKUP(M23,'C52_Baum'!$D$3:$G$108,4,FALSE)","v":{"$error":"#N/A"}},{"$f":"VLOOKUP(M23,'C52_Baum'!$I$3:$K$108,3,FALSE)","v":0},{"$f":"VLOOKUP(M23,'C52_Baum'!$M$3:$O$108,3,FALSE)","v":0}]
["",null,null,null,null,null,null,null,null,null,null,null,{"$f":"IF('C52_Baum'!Q98='C52_Baum'!M90,'C52_Baum'!M91,'C52_Baum'!M90)","v":""},{"$f":"VLOOKUP(M24,C_Quali!$C$10:$H$100,2,FALSE)","v":{"$error":"#N/A"}},{"$f":"VLOOKUP(M24,C_Quali!$C$10:$H$100,6,FALSE)","v":{"$error":"#N/A"}},{"$f":"VLOOKUP(M24,'C52_Baum'!$D$3:$G$108,4,FALSE)","v":{"$error":"#N/A"}},{"$f":"VLOOKUP(M24,'C52_Baum'!$I$3:$K$108,3,FALSE)","v":0},{"$f":"VLOOKUP(M24,'C52_Baum'!$M$3:$O$108,3,FALSE)","v":0}]
["",null,null,null,null,null,null,null,null,null,null,null,{"$f":"IF('C52_Baum'!Q99='C52_Baum'!M104,'C52_Baum'!M105,'C52_Baum'!M104)","v":"Kanduth Wolfgang"},{"$f":"VLOOKUP(M25,C_Quali!$C$10:$H$100,2,FALSE)","v":"BC Wildon Weitendorf"},{"$f":"VLOOKUP(M25,C_Quali!$C$10:$H$100,6,FALSE)","v":531},{"$f":"VLOOKUP(M25,'C52_Baum'!$D$3:$G$108,4,FALSE)","v":0},{"$f":"VLOOKUP(M25,'C52_Baum'!$I$3:$K$108,3,FALSE)","v":0},{"$f":"VLOOKUP(M25,'C52_Baum'!$M$3:$O$108,3,FALSE)","v":0}]
["",null,null,null,null,null,null,null,null,null,null,null,{"$f":"IF('C52_Baum'!M7='C52_Baum'!I8,'C52_Baum'!I9,'C52_Baum'!I8)","v":""},{"$f":"VLOOKUP(M26,C_Quali!$C$10:$H$100,2,FALSE)","v":{"$error":"#N/A"}},{"$f":"VLOOKUP(M26,C_Quali!$C$10:$H$100,6,FALSE)","v":{"$error":"#N/A"}},{"$f":"VLOOKUP(M26,'C52_Baum'!$D$3:$G$108,4,FALSE)","v":{"$error":"#N/A"}},{"$f":"VLOOKUP(M26,'C52_Baum'!$I$3:$K$108,3,FALSE)","v":0}]
["",null,null,null,null,null,null,null,null,null,null,null,{"$f":"IF('C52_Baum'!M20='C52_Baum'!I16,'C52_Baum'!I17,'C52_Baum'!I16)","v":""},{"$f":"VLOOKUP(M27,C_Quali!$C$10:$H$100,2,FALSE)","v":{"$error":"#N/A"}},{"$f":"VLOOKUP(M27,C_Quali!$C$10:$H$100,6,FALSE)","v":{"$error":"#N/A"}},{"$f":"VLOOKUP(M27,'C52_Baum'!$D$3:$G$108,4,FALSE)","v":{"$error":"#N/A"}},{"$f":"VLOOKUP(M27,'C52_Baum'!$I$3:$K$108,3,FALSE)","v":0}]
["",null,null,null,null,null,null,null,null,null,null,null,{"$f":"IF('C52_Baum'!M21='C52_Baum'!I24,'C52_Baum'!I25,'C52_Baum'!I24)","v":""},{"$f":"VLOOKUP(M28,C_Quali!$C$10:$H$100,2,FALSE)","v":{"$error":"#N/A"}},{"$f":"VLOOKUP(M28,C_Quali!$C$10:$H$100,6,FALSE)","v":{"$error":"#N/A"}},{"$f":"VLOOKUP(M28,'C52_Baum'!$D$3:$G$108,4,FALSE)","v":{"$error":"#N/A"}},{"$f":"VLOOKUP(M28,'C52_Baum'!$I$3:$K$108,3,FALSE)","v":0}]
["",null,null,null,null,null,null,null,null,null,null,null,{"$f":"IF('C52_Baum'!M36='C52_Baum'!I32,'C52_Baum'!I33,'C52_Baum'!I32)","v":""},{"$f":"VLOOKUP(M29,C_Quali!$C$10:$H$100,2,FALSE)","v":{"$error":"#N/A"}},{"$f":"VLOOKUP(M29,C_Quali!$C$10:$H$100,6,FALSE)","v":{"$error":"#N/A"}},{"$f":"VLOOKUP(M29,'C52_Baum'!$D$3:$G$108,4,FALSE)","v":{"$error":"#N/A"}},{"$f":"VLOOKUP(M29,'C52_Baum'!$I$3:$K$108,3,FALSE)","v":0}]
["",null,null,null,null,null,null,null,null,null,null,null,{"$f":"IF('C52_Baum'!M37='C52_Baum'!I40,'C52_Baum'!I41,'C52_Baum'!I40)","v":""},{"$f":"VLOOKUP(M30,C_Quali!$C$10:$H$100,2,FALSE)","v":{"$error":"#N/A"}},{"$f":"VLOOKUP(M30,C_Quali!$C$10:$H$100,6,FALSE)","v":{"$error":"#N/A"}},{"$f":"VLOOKUP(M30,'C52_Baum'!$D$3:$G$108,4,FALSE)","v":{"$error":"#N/A"}},{"$f":"VLOOKUP(M30,'C52_Baum'!$I$3:$K$108,3,FALSE)","v":0}]
["",null,null,null,null,null,null,null,null,null,null,null,{"$f":"IF('C52_Baum'!M50='C52_Baum'!I48,'C52_Baum'!I49,'C52_Baum'!I48)","v":""},{"$f":"VLOOKUP(M31,C_Quali!$C$10:$H$100,2,FALSE)","v":{"$error":"#N/A"}},{"$f":"VLOOKUP(M31,C_Quali!$C$10:$H$100,6,FALSE)","v":{"$error":"#N/A"}},{"$f":"VLOOKUP(M31,'C52_Baum'!$D$3:$G$108,4,FALSE)","v":{"$error":"#N/A"}},{"$f":"VLOOKUP(M31,'C52_Baum'!$I$3:$K$108,3,FALSE)","v":0}]
["",null,null,null,null,null,null,null,null,null,null,null,{"$f":"IF('C52_Baum'!M61='C52_Baum'!I62,'C52_Baum'!I63,'C52_Baum'!I62)","v":""},{"$f":"VLOOKUP(M32,C_Quali!$C$10:$H$100,2,FALSE)","v":{"$error":"#N/A"}},{"$f":"VLOOKUP(M32,C_Quali!$C$10:$H$100,6,FALSE)","v":{"$error":"#N/A"}},{"$f":"VLOOKUP(M32,'C52_Baum'!$D$3:$G$108,4,FALSE)","v":{"$error":"#N/A"}},{"$f":"VLOOKUP(M32,'C52_Baum'!$I$3:$K$108,3,FALSE)","v":0}]
["",null,null,null,null,null,null,null,null,null,null,null,{"$f":"IF('C52_Baum'!M74='C52_Baum'!I70,'C52_Baum'!I71,'C52_Baum'!I70)","v":""},{"$f":"VLOOKUP(M33,C_Quali!$C$10:$H$100,2,FALSE)","v":{"$error":"#N/A"}},{"$f":"VLOOKUP(M33,C_Quali!$C$10:$H$100,6,FALSE)","v":{"$error":"#N/A"}},{"$f":"VLOOKUP(M33,'C52_Baum'!$D$3:$G$108,4,FALSE)","v":{"$error":"#N/A"}},{"$f":"VLOOKUP(M33,'C52_Baum'!$I$3:$K$108,3,FALSE)","v":0}]
["",null,null,null,null,null,null,null,null,null,null,null,{"$f":"IF('C52_Baum'!M75='C52_Baum'!I78,'C52_Baum'!I79,'C52_Baum'!I78)","v":""},{"$f":"VLOOKUP(M34,C_Quali!$C$10:$H$100,2,FALSE)","v":{"$error":"#N/A"}},{"$f":"VLOOKUP(M34,C_Quali!$C$10:$H$100,6,FALSE)","v":{"$error":"#N/A"}},{"$f":"VLOOKUP(M34,'C52_Baum'!$D$3:$G$108,4,FALSE)","v":{"$error":"#N/A"}},{"$f":"VLOOKUP(M34,'C52_Baum'!$I$3:$K$108,3,FALSE)","v":0}]
["",null,null,null,null,null,null,null,null,null,null,null,{"$f":"IF('C52_Baum'!M90='C52_Baum'!I86,'C52_Baum'!I87,'C52_Baum'!I86)","v":""},{"$f":"VLOOKUP(M35,C_Quali!$C$10:$H$100,2,FALSE)","v":{"$error":"#N/A"}},{"$f":"VLOOKUP(M35,C_Quali!$C$10:$H$100,6,FALSE)","v":{"$error":"#N/A"}},{"$f":"VLOOKUP(M35,'C52_Baum'!$D$3:$G$108,4,FALSE)","v":{"$error":"#N/A"}},{"$f":"VLOOKUP(M35,'C52_Baum'!$I$3:$K$108,3,FALSE)","v":0}]
["",null,null,null,null,null,null,null,null,null,null,null,{"$f":"IF('C52_Baum'!M91='C52_Baum'!I94,'C52_Baum'!I95,'C52_Baum'!I94)","v":""},{"$f":"VLOOKUP(M36,C_Quali!$C$10:$H$100,2,FALSE)","v":{"$error":"#N/A"}},{"$f":"VLOOKUP(M36,C_Quali!$C$10:$H$100,6,FALSE)","v":{"$error":"#N/A"}},{"$f":"VLOOKUP(M36,'C52_Baum'!$D$3:$G$108,4,FALSE)","v":{"$error":"#N/A"}},{"$f":"VLOOKUP(M36,'C52_Baum'!$I$3:$K$108,3,FALSE)","v":0}]
["",null,null,null,null,null,null,null,null,null,null,null,{"$f":"IF('C52_Baum'!M104='C52_Baum'!I102,'C52_Baum'!I103,'C52_Baum'!I102)","v":""},{"$f":"VLOOKUP(M37,C_Quali!$C$10:$H$100,2,FALSE)","v":{"$error":"#N/A"}},{"$f":"VLOOKUP(M37,C_Quali!$C$10:$H$100,6,FALSE)","v":{"$error":"#N/A"}},{"$f":"VLOOKUP(M37,'C52_Baum'!$D$3:$G$108,4,FALSE)","v":{"$error":"#N/A"}},{"$f":"VLOOKUP(M37,'C52_Baum'!$I$3:$K$108,3,FALSE)","v":0}]
["",null,null,null,null,null,null,null,null,null,null,null,{"$f":"IF('C52_Baum'!I8='C52_Baum'!D6,'C52_Baum'!D7,'C52_Baum'!D6)","v":"Kolm Martin"},{"$f":"VLOOKUP(M38,C_Quali!$C$10:$H$100,2,FALSE)","v":"WBZ Union Zwettl"},{"$f":"VLOOKUP(M38,C_Quali!$C$10:$H$100,6,FALSE)","v":516},{"$f":"VLOOKUP(M38,'C52_Baum'!$D$3:$G$108,4,FALSE)","v":0}]
["",null,null,null,null,null,null,null,null,null,null,null,{"$f":"IF('C52_Baum'!I9='C52_Baum'!D10,'C52_Baum'!D11,'C52_Baum'!D10)","v":"Neumann Markus"},{"$f":"VLOOKUP(M39,C_Quali!$C$10:$H$100,2,FALSE)","v":"BSC Fischamend"},{"$f":"VLOOKUP(M39,C_Quali!$C$10:$H$100,6,FALSE)","v":390},{"$f":"VLOOKUP(M39,'C52_Baum'!$D$3:$G$108,4,FALSE)","v":0}]
["",null,null,null,null,null,null,null,null,null,null,null,{"$f":"IF('C52_Baum'!I16='C52_Baum'!D14,'C52_Baum'!D15,'C52_Baum'!D14)","v":"Helmer Gerhard"},{"$f":"VLOOKUP(M40,C_Quali!$C$10:$H$100,2,FALSE)","v":"UBC Diana NÖ"},{"$f":"VLOOKUP(M40,C_Quali!$C$10:$H$100,6,FALSE)","v":524},{"$f":"VLOOKUP(M40,'C52_Baum'!$D$3:$G$108,4,FALSE)","v":0}]
["",null,null,null,null,null,null,null,null,null,null,null,{"$f":"IF('C52_Baum'!I17='C52_Baum'!D18,'C52_Baum'!D19,'C52_Baum'!D18)","v":"Trenda Werner"},{"$f":"VLOOKUP(M41,C_Quali!$C$10:$H$100,2,FALSE)","v":"SV Wallern"},{"$f":"VLOOKUP(M41,C_Quali!$C$10:$H$100,6,FALSE)","v":500},{"$f":"VLOOKUP(M41,'C52_Baum'!$D$3:$G$108,4,FALSE)","v":0}]
["",null,null,null,null,null,null,null,null,null,null,null,{"$f":"IF('C52_Baum'!I24='C52_Baum'!D22,'C52_Baum'!D23,'C52_Baum'!D22)","v":"Quinz Harald"},{"$f":"VLOOKUP(M42,C_Quali!$C$10:$H$100,2,FALSE)","v":"Atus Zeltweg Sektion Bogen"},{"$f":"VLOOKUP(M42,C_Quali!$C$10:$H$100,6,FALSE)","v":508},{"$f":"VLOOKUP(M42,'C52_Baum'!$D$3:$G$108,4,FALSE)","v":0}]
["",null,null,null,null,null,null,null,null,null,null,null,{"$f":"IF('C52_Baum'!I25='C52_Baum'!D26,'C52_Baum'!D27,'C52_Baum'!D26)","v":"Käser Federico"},{"$f":"VLOOKUP(M43,C_Quali!$C$10:$H$100,2,FALSE)","v":"BSV Schönbrunn"},{"$f":"VLOOKUP(M43,C_Quali!$C$10:$H$100,6,FALSE)","v":304},{"$f":"VLOOKUP(M43,'C52_Baum'!$D$3:$G$108,4,FALSE)","v":0}]
["",null,null,null,null,null,null,null,null,null,null,null,{"$f":"IF('C52_Baum'!I32='C52_Baum'!D30,'C52_Baum'!D31,'C52_Baum'!D30)","v":"Traxler Helmuth"},{"$f":"VLOOKUP(M44,C_Quali!$C$10:$H$100,2,FALSE)","v":"UBC Diana NÖ"},{"$f":"VLOOKUP(M44,C_Quali!$C$10:$H$100,6,FALSE)","v":528},{"$f":"VLOOKUP(M44,'C52_Baum'!$D$3:$G$108,4,FALSE)","v":0}]
["",null,null,null,null,null,null,null,null,null,null,null,{"$f":"IF('C52_Baum'!I33='C52_Baum'!D34,'C52_Baum'!D35,'C52_Baum'!D34)","v":"Holzer Gerhard"},{"$f":"VLOOKUP(M45,C_Quali!$C$10:$H$100,2,FALSE)","v":"UBC Diana NÖ"},{"$f":"VLOOKUP(M45,C_Quali!$C$10:$H$100,6,FALSE)","v":504},{"$f":"VLOOKUP(M45,'C52_Baum'!$D$3:$G$108,4,FALSE)","v":0}]
["",null,null,null,null,null,null,null,null,null,null,null,{"$f":"IF('C52_Baum'!I40='C52_Baum'!D38,'C52_Baum'!D39,'C52_Baum'!D38)","v":"Lehner Heinz"},{"$f":"VLOOKUP(M46,C_Quali!$C$10:$H$100,2,FALSE)","v":"Salzkammergut Bogensport Club"},{"$f":"VLOOKUP(M46,C_Quali!$C$10:$H$100,6,FALSE)","v":512},{"$f":"VLOOKUP(M46,'C52_Baum'!$D$3:$G$108,4,FALSE)","v":0}]
["",null,null,null,null,null,null,null,null,null,null,null,{"$f":"IF('C52_Baum'!I41='C52_Baum'!D42,'C52_Baum'!D43,'C52_Baum'!D42)","v":"Bruijns Peter"},{"$f":"VLOOKUP(M47,C_Quali!$C$10:$H$100,2,FALSE)","v":"BC Golden Arrows"},{"$f":"VLOOKUP(M47,C_Quali!$C$10:$H$100,6,FALSE)","v":381},{"$f":"VLOOKUP(M47,'C52_Baum'!$D$3:$G$108,4,FALSE)","v":0}]
["",null,null,null,null,null,null,null,null,null,null,null,{"$f":"IF('C52_Baum'!I48='C52_Baum'!D46,'C52_Baum'!D47,'C52_Baum'!D46)","v":"Zezula Erwin"},{"$f":"VLOOKUP(M48,C_Quali!$C$10:$H$100,2,FALSE)","v":"WBZ Union Zwettl"},{"$f":"VLOOKUP(M48,C_Quali!$C$10:$H$100,6,FALSE)","v":520},{"$f":"VLOOKUP(M48,'C52_Baum'!$D$3:$G$108,4,FALSE)","v":0}]
["",null,null,null,null,null,null,null,null,null,null,null,{"$f":"IF('C52_Baum'!I49='C52_Baum'!D50,'C52_Baum'!D51,'C52_Baum'!D50)","v":"Kappl Markus"},{"$f":"VLOOKUP(M49,C_Quali!$C$10:$H$100,2,FALSE)","v":"WBZ Union Zwettl"},{"$f":"VLOOKUP(M49,C_Quali!$C$10:$H$100,6,FALSE)","v":404},{"$f":"VLOOKUP(M49,'C52_Baum'!$D$3:$G$108,4,FALSE)","v":0}]
["",null,null,null,null,null,null,null,null,null,null,null,{"$f":"IF('C52_Baum'!I62='C52_Baum'!D60,'C52_Baum'!D61,'C52_Baum'!D60)","v":"Zimmerbeutel Axel"},{"$f":"VLOOKUP(M50,C_Quali!$C$10:$H$100,2,FALSE)","v":"3D Bogenplatz Riedersbach"},{"$f":"VLOOKUP(M50,C_Quali!$C$10:$H$100,6,FALSE)","v":514},{"$f":"VLOOKUP(M50,'C52_Baum'!$D$3:$G$108,4,FALSE)","v":0}]
["",null,null,null,null,null,null,null,null,null,null,null,{"$f":"IF('C52_Baum'!I63='C52_Baum'!D64,'C52_Baum'!D65,'C52_Baum'!D64)","v":"Kremser Alfred"},{"$f":"VLOOKUP(M51,C_Quali!$C$10:$H$100,2,FALSE)","v":"Bogensport Lungau"},{"$f":"VLOOKUP(M51,C_Quali!$C$10:$H$100,6,FALSE)","v":384},{"$f":"VLOOKUP(M51,'C52_Baum'!$D$3:$G$108,4,FALSE)","v":0}]
["",null,null,null,null,null,null,null,null,null,null,null,{"$f":"IF('C52_Baum'!I70='C52_Baum'!D68,'C52_Baum'!D69,'C52_Baum'!D68)","v":"Burda Erwin"},{"$f":"VLOOKUP(M52,C_Quali!$C$10:$H$100,2,FALSE)","v":"BC Golden Arrows"},{"$f":"VLOOKUP(M52,C_Quali!$C$10:$H$100,6,FALSE)","v":522},{"$f":"VLOOKUP(M52,'C52_Baum'!$D$3:$G$108,4,FALSE)","v":0}]
["",null,null,null,null,null,null,null,null,null,null,null,{"$f":"IF('C52_Baum'!I71='C52_Baum'!D72,'C52_Baum'!D73,'C52_Baum'!D72)","v":"Kossek Heinz"},{"$f":"VLOOKUP(M53,C_Quali!$C$10:$H$100,2,FALSE)","v":"BC Wildon Weitendorf"},{"$f":"VLOOKUP(M53,C_Quali!$C$10:$H$100,6,FALSE)","v":422},{"$f":"VLOOKUP(M53,'C52_Baum'!$D$3:$G$108,4,FALSE)","v":0}]
["",null,null,null,null,null,null,null,null,null,null,null,{"$f":"IF('C52_Baum'!I78='C52_Baum'!D76,'C52_Baum'!D77,'C52_Baum'!D76)","v":"Schlechter Hans-Jürgen"},{"$f":"VLOOKUP(M54,C_Quali!$C$10:$H$100,2,FALSE)","v":"BSV Brixlegg - NAVAJOS"},{"$f":"VLOOKUP(M54,C_Quali!$C$10:$H$100,6,FALSE)","v":506},{"$f":"VLOOKUP(M54,'C52_Baum'!$D$3:$G$108,4,FALSE)","v":0}]
["",null,null,null,null,null,null,null,null,null,null,null,{"$f":"IF('C52_Baum'!I79='C52_Baum'!D80,'C52_Baum'!D81,'C52_Baum'!D80)","v":"Richter Felix"},{"$f":"VLOOKUP(M55,C_Quali!$C$10:$H$100,2,FALSE)","v":"BC Golden Arrows"},{"$f":"VLOOKUP(M55,C_Quali!$C$10:$H$100,6,FALSE)","v":290},{"$f":"VLOOKUP(M55,'C52_Baum'!$D$3:$G$108,4,FALSE)","v":0}]
["",null,null,null,null,null,null,null,null,null,null,null,{"$f":"IF('C52_Baum'!I86='C52_Baum'!D84,'C52_Baum'!D85,'C52_Baum'!D84)","v":"Koisegg Johann"},{"$f":"VLOOKUP(M56,C_Quali!$C$10:$H$100,2,FALSE)","v":"BSC Sparkasse Jenbach"},{"$f":"VLOOKUP(M56,C_Quali!$C$10:$H$100,6,FALSE)","v":526},{"$f":"VLOOKUP(M56,'C52_Baum'!$D$3:$G$108,4,FALSE)","v":0}]
["",null,null,null,null,null,null,null,null,null,null,null,{"$f":"IF('C52_Baum'!I87='C52_Baum'!D88,'C52_Baum'!D89,'C52_Baum'!D88)","v":"Kuhn Jürgen Hans"},{"$f":"VLOOKUP(M57,C_Quali!$C$10:$H$100,2,FALSE)","v":"UBC Diana NÖ"},{"$f":"VLOOKUP(M57,C_Quali!$C$10:$H$100,6,FALSE)","v":502},{"$f":"VLOOKUP(M57,'C52_Baum'!$D$3:$G$108,4,FALSE)","v":0}]
["",null,null,null,null,null,null,null,null,null,null,null,{"$f":"IF('C52_Baum'!I94='C52_Baum'!D92,'C52_Baum'!D93,'C52_Baum'!D92)","v":"Gruber Werner"},{"$f":"VLOOKUP(M58,C_Quali!$C$10:$H$100,2,FALSE)","v":"Atus Zeltweg Sektion Bogen"},{"$f":"VLOOKUP(M58,C_Quali!$C$10:$H$100,6,FALSE)","v":510},{"$f":"VLOOKUP(M58,'C52_Baum'!$D$3:$G$108,4,FALSE)","v":0}]
["",null,null,null,null,null,null,null,null,null,null,null,{"$f":"IF('C52_Baum'!I95='C52_Baum'!D96,'C52_Baum'!D97,'C52_Baum'!D96)","v":"Gschwentner Armin"},{"$f":"VLOOKUP(M59,C_Quali!$C$10:$H$100,2,FALSE)","v":"BSC Sparkasse Jenbach"},{"$f":"VLOOKUP(M59,C_Quali!$C$10:$H$100,6,FALSE)","v":358},{"$f":"VLOOKUP(M59,'C52_Baum'!$D$3:$G$108,4,FALSE)","v":0}]
["",null,null,null,null,null,null,null,null,null,null,null,{"$f":"IF('C52_Baum'!I102='C52_Baum'!D100,'C52_Baum'!D101,'C52_Baum'!D100)","v":"Url Marsell"},{"$f":"VLOOKUP(M60,C_Quali!$C$10:$H$100,2,FALSE)","v":"UBSC Artemis Steiermark"},{"$f":"VLOOKUP(M60,C_Quali!$C$10:$H$100,6,FALSE)","v":518},{"$f":"VLOOKUP(M60,'C52_Baum'!$D$3:$G$108,4,FALSE)","v":0}]
["",null,null,null,null,null,null,null,null,null,null,null,{"$f":"IF('C52_Baum'!I103='C52_Baum'!D104,'C52_Baum'!D105,'C52_Baum'!D104)","v":"Drapela Norbert"},{"$f":"VLOOKUP(M61,C_Quali!$C$10:$H$100,2,FALSE)","v":"BSC Stockerau"},{"$f":"VLOOKUP(M61,C_Quali!$C$10:$H$100,6,FALSE)","v":395},{"$f":"VLOOKUP(M61,'C52_Baum'!$D$3:$G$108,4,FALSE)","v":0}]

{"sheet":"C32_Baum","index":22,"n_rows":103,"n_cols":28,"rows_kept":103,"cut":false,"hidden":true,"merged":[[10,20,11,21],[53,16,54,18],[65,10,66,16],[22,16,23,17],[24,16,25,17],[63,20,64,21],[63,19,64,19],[65,2,66,6],[64,7,65,9],[60,12,61,14],[1,13,2,22],[3,13,4,22],[52,20,53,22],[39,16,40,17],[41,16,42,17],[6,19,7,19],[6,22,7,22],[8,22,9,22],[10,22,11,22],[8,19,9,19],[10,19,11,19],[6,20,7,21],[8,20,9,21]]}
[]
[null,"Schb.","Qual.","Name","Land","Verein","Erg.",null,null,null,null,null,null,{"$f":"Select!C12","v":"Demoturnier"}]
[1,{"$f":"E72","v":"1A"},{"$f":"C_Quali!H10","v":532},{"$f":"C_Quali!C10","v":"Steinwender Alois"},{"$f":"C_Quali!E10","v":"S"},{"$f":"C_Quali!D10","v":"Bogensport Lungau"}]
[32,{"$f":"E73","v":"1B"},{"$f":"C_Quali!H41","v":501},{"$f":"C_Quali!C41","v":"Trausmiller Hannes"},{"$f":"C_Quali!E41","v":"ST"},{"$f":"C_Quali!D41","v":"BS Ligist - Archery Freaks"},null,"Schb","Name","Land","Erg.",null,null,{"$f":"Select!C13","v":"1. April 2019"}]
[null,null,null,null,null,null,null,{"$f":"J72","v":"11A"},{"$f":"IF($G3>$G4,$D3,IF($G4>$G3,$D4,IF(RIGHT($G3,1)=\"*\",$D3,IF(RIGHT($G4,1)=\"*\",$D4,\"\"))))","v":""},{"$f":"IF($G3>$G4,$E3,IF($G4>$G3,$E4,IF(RIGHT($G3,1)=\"*\",$E3,IF(RIGHT($G4,1)=\"*\",$E4,\"\"))))","v":""}]
[null,null,null,null,null,null,null,{"$f":"J73","v":"11B"},{"$f":"IF($G7>$G8,$D7,IF($G8>$G7,$D8,IF(RIGHT($G7,1)=\"*\",$D7,IF(RIGHT($G8,1)=\"*\",$D8,\"\"))))","v":""},{"$f":"IF($G7>$G8,$E7,IF($G8>$G7,$E8,IF(RIGHT($G7,1)=\"*\",$E7,IF(RIGHT($G8,1)=\"*\",$E8,\"\"))))","v":""}]
[17,{"$f":"E74","v":"2A"},{"$f":"C_Quali!H26","v":516},{"$f":"C_Quali!C26","v":"Kolm Martin"},{"$f":"C_Quali!E26","v":"NÖ"},{"$f":"C_Quali!D26","v":"WBZ Union Zwettl"},null,null,null,null,null,null,null,null,null,null,null,null,null,"1.",{"$f":"IF($W$24>$W$25,$U$24,IF($W$25>$W$24,$U$25,IF(RIGHT($W$24,1)=\"*\",$U$24,IF(RIGHT($W$25,1)=\"*\",$U$25,\"\"))))","v":""},null,{"$f":"IF($W$24>$W$25,$V$24,IF($W$25>$W$24,$V$25,IF(RIGHT($W$24,1)=\"*\",$V$24,IF(RIGHT($W$25,1)=\"*\",$V$25,\"\"))))","v":""}]
[16,{"$f":"E75","v":"2B"},{"$f":"C_Quali!H25","v":517},{"$f":"C_Quali!C25","v":"Bucher Martin"},{"$f":"C_Quali!E25","v":"ST"},{"$f":"C_Quali!D25","v":"LH Graz"},null,null,null,null,null,"Schb","Name","Land","Erg."]
[null,null,null,null,null,null,null,null,null,null,null,{"$f":"N72","v":"21A"},{"$f":"IF($K5>$K6,$I5,IF($K6>$K5,$I6,IF(RIGHT($K5,1)=\"*\",$I5,IF(RIGHT($K6,1)=\"*\",$I6,\"\"))))","v":""},{"$f":"IF($K5>$K6,$J5,IF($K6>$K5,$J6,IF(RIGHT($K5,1)=\"*\",$J5,IF(RIGHT($K6,1)=\"*\",$J6,\"\"))))","v":""},null,null,null,null,null,"2.",{"$f":"IF($W$24<$W$25,$U$24,IF($W$25<$W$24,$U$25,IF(RIGHT($W$25,1)=\"*\",$U$24,IF(RIGHT($W$24,1)=\"*\",$U$25,\"\"))))","v":""},null,{"$f":"IF($W$24<$W$25,$V$24,IF($W$25<$W$24,$V$25,IF(RIGHT($W$25,1)=\"*\",$V$24,IF(RIGHT($W$24,1)=\"*\",$V$25,\"\"))))","v":""}]
[null,null,null,null,null,null,null,null,null,null,null,{"$f":"N73","v":"21B"},{"$f":"IF($K13>$K14,$I13,IF($K14>$K13,$I14,IF(RIGHT($K13,1)=\"*\",$I13,IF(RIGHT($K14,1)=\"*\",$I14,\"\"))))","v":""},{"$f":"IF($K13>$K14,$J13,IF($K14>$K13,$J14,IF(RIGHT($K13,1)=\"*\",$J13,IF(RIGHT($K14,1)=\"*\",$J14,\"\"))))","v":""}]
[9,{"$f":"E76","v":"3A"},{"$f":"C_Quali!H18","v":524},{"$f":"C_Quali!C18","v":"Helmer Gerhard"},{"$f":"C_Quali!E18","v":"NÖ"},{"$f":"C_Quali!D18","v":"UBC Diana NÖ"},null,null,null,null,null,null,null,null,null,null,null,null,null,"3.",{"$f":"IF($W$41>$W$42,$U$41,IF($W$42>$W$41,$U$42,IF(RIGHT($W$41,1)=\"*\",$U$41,IF(RIGHT($W$42,1)=\"*\",$U$42,\"\"))))","v":""},null,{"$f":"IF($W$41>$W$42,$V$41,IF($W$42>$W$41,$V$42,IF(RIGHT($W$41,1)=\"*\",$V$41,IF(RIGHT($W$42,1)=\"*\",$V$42,\"\"))))","v":""}]
[24,{"$f":"E77","v":"3B"},{"$f":"C_Quali!H33","v":509},{"$f":"C_Quali!C33","v":"Schaden Harald"},{"$f":"C_Quali!E33","v":"ST"},{"$f":"C_Quali!D33","v":"BSC Gaal"}]
[null,null,null,null,null,null,null,{"$f":"J74","v":"12A"},{"$f":"IF($G11>$G12,$D11,IF($G12>$G11,$D12,IF(RIGHT($G11,1)=\"*\",$D11,IF(RIGHT($G12,1)=\"*\",$D12,\"\"))))","v":""},{"$f":"IF($G11>$G12,$E11,IF($G12>$G11,$E12,IF(RIGHT($G11,1)=\"*\",$E11,IF(RIGHT($G12,1)=\"*\",$E12,\"\"))))","v":""}]
[null,null,null,null,null,null,null,{"$f":"J75","v":"12B"},{"$f":"IF($G15>$G16,$D15,IF($G16>$G15,$D16,IF(RIGHT($G15,1)=\"*\",$D15,IF(RIGHT($G16,1)=\"*\",$D16,\"\"))))","v":""},{"$f":"IF($G15>$G16,$E15,IF($G16>$G15,$E16,IF(RIGHT($G15,1)=\"*\",$E15,IF(RIGHT($G16,1)=\"*\",$E16,\"\"))))","v":""}]
[25,{"$f":"E78","v":"4A"},{"$f":"C_Quali!H34","v":508},{"$f":"C_Quali!C34","v":"Quinz Harald"},{"$f":"C_Quali!E34","v":"ST"},{"$f":"C_Quali!D34","v":"Atus Zeltweg Sektion Bogen"}]
[8,{"$f":"E79","v":"4B"},{"$f":"C_Quali!H17","v":525},{"$f":"C_Quali!C17","v":"Richter Oscar"},{"$f":"C_Quali!E17","v":"S"},{"$f":"C_Quali!D17","v":"BC Golden Arrows"},null,null,null,null,null,null,null,null,null,"Schb","Name","Land","Erg."]
[null,null,null,null,null,null,null,null,null,null,null,null,null,null,null,{"$f":"R72","v":21},{"$f":"IF($O9>$O10,$M9,IF($O10>$O9,$M10,IF(RIGHT($O9,1)=\"*\",$M9,IF(RIGHT($O10,1)=\"*\",$M10,\"\"))))","v":""},{"$f":"IF($O9>$O10,$N9,IF($O10>$O9,$N10,IF(RIGHT($O9,1)=\"*\",$N9,IF(RIGHT($O10,1)=\"*\",$N10,\"\"))))","v":""}]
[null,null,null,null,null,null,null,null,null,null,null,null,null,null,null,{"$f":"R73","v":22},{"$f":"IF($O25>$O26,$M25,IF($O26>$O25,$M26,IF(RIGHT($O25,1)=\"*\",$M25,IF(RIGHT($O26,1)=\"*\",$M26,\"\"))))","v":""},{"$f":"IF($O25>$O26,$N25,IF($O26>$O25,$N26,IF(RIGHT($O25,1)=\"*\",$N25,IF(RIGHT($O26,1)=\"*\",$N26,\"\"))))","v":""}]
[5,{"$f":"E80","v":"5A"},{"$f":"C_Quali!H14","v":528},{"$f":"C_Quali!C14","v":"Traxler Helmuth"},{"$f":"C_Quali!E14","v":"NÖ"},{"$f":"C_Quali!D14","v":"UBC Diana NÖ"}]
[28,{"$f":"E81","v":"5B"},{"$f":"C_Quali!H37","v":505},{"$f":"C_Quali!C37","v":"Irnsperger Gerald"},{"$f":"C_Quali!E37","v":"OÖ"},{"$f":"C_Quali!D37","v":"3D Bogenplatz Riedersbach"}]
[null,null,null,null,null,null,null,{"$f":"J76","v":"13A"},{"$f":"IF($G19>$G20,$D19,IF($G20>$G19,$D20,IF(RIGHT($G19,1)=\"*\",$D19,IF(RIGHT($G20,1)=\"*\",$D20,\"\"))))","v":""},{"$f":"IF($G19>$G20,$E19,IF($G20>$G19,$E20,IF(RIGHT($G19,1)=\"*\",$E19,IF(RIGHT($G20,1)=\"*\",$E20,\"\"))))","v":""}]
[null,null,null,null,null,null,null,{"$f":"J77","v":"13B"},{"$f":"IF($G23>$G24,$D23,IF($G24>$G23,$D24,IF(RIGHT($G23,1)=\"*\",$D23,IF(RIGHT($G24,1)=\"*\",$D24,\"\"))))","v":""},{"$f":"IF($G23>$G24,$E23,IF($G24>$G23,$E24,IF(RIGHT($G23,1)=\"*\",$E23,IF(RIGHT($G24,1)=\"*\",$E24,\"\"))))","v":""}]
[21,{"$f":"E82","v":"6A"},{"$f":"C_Quali!H30","v":512},{"$f":"C_Quali!C30","v":"Lehner Heinz"},{"$f":"C_Quali!E30","v":"OÖ"},{"$f":"C_Quali!D30","v":"Salzkammergut Bogensport Club"},null,null,null,null,null,null,null,null,null,null,"Finale",null,null,"Schb","Name","Land","Erg."]
[12,{"$f":"E83","v":"6B"},{"$f":"C_Quali!H21","v":521},{"$f":"C_Quali!C21","v":"Willingshofer August"},{"$f":"C_Quali!E21","v":"K"},{"$f":"C_Quali!D21","v":"BSC Velden"},null,null,null,null,null,null,null,null,null,null,null,null,null,{"$f":"V72","v":13},{"$f":"IF($S17>$S18,$Q17,IF($S18>$S17,$Q18,IF(RIGHT($S17,1)=\"*\",$Q17,IF(RIGHT($S18,1)=\"*\",$Q18,\"\"))))","v":""},{"$f":"IF($S17>$S18,$R17,IF($S18>$S17,$R18,IF(RIGHT($S17,1)=\"*\",$R17,IF(RIGHT($S18,1)=\"*\",$R18,\"\"))))","v":""},null,null,null,null,{"$f":"IF($S17>$S18,$Q17,IF($S18>$S17,$Q18,IF(RIGHT($S17,1)=\"*\",$Q17,IF(RIGHT($S18,1)=\"*\",$Q18,\"\"))))","v":""},{"$f":"IF($S17>$S18,$R17,IF($S18>$S17,$R18,IF(RIGHT($S17,1)=\"*\",$R17,IF(RIGHT($S18,1)=\"*\",$R18,\"\"))))","v":""}]
[null,null,null,null,null,null,null,null,null,null,null,{"$f":"N74","v":"22A"},{"$f":"IF($K21>$K22,$I21,IF($K22>$K21,$I22,IF(RIGHT($K21,1)=\"*\",$I21,IF(RIGHT($K22,1)=\"*\",$I22,\"\"))))","v":""},{"$f":"IF($K21>$K22,$J21,IF($K22>$K21,$J22,IF(RIGHT($K21,1)=\"*\",$J21,IF(RIGHT($K22,1)=\"*\",$J22,\"\"))))","v":""},null,null,"1. und 2. Platz",null,null,{"$f":"V73","v":14},{"$f":"IF($S49>$S50,$Q49,IF($S50>$S49,$Q50,IF(RIGHT($S49,1)=\"*\",$Q49,IF(RIGHT($S50,1)=\"*\",$Q50,\"\"))))","v":""},{"$f":"IF($S49>$S50,$R49,IF($S50>$S49,$R50,IF(RIGHT($S49,1)=\"*\",$R49,IF(RIGHT($S50,1)=\"*\",$R50,\"\"))))","v":""},null,null,null,null,{"$f":"IF($S49>$S50,$Q49,IF($S50>$S49,$Q50,IF(RIGHT($S49,1)=\"*\",$Q49,IF(RIGHT($S50,1)=\"*\",$Q50,\"\"))))","v":""},{"$f":"IF($S49>$S50,$R49,IF($S50>$S49,$R50,IF(RIGHT($S49,1)=\"*\",$R49,IF(RIGHT($S50,1)=\"*\",$R50,\"\"))))","v":""}]
[null,null,null,null,null,null,null,null,null,null,null,{"$f":"N75","v":"22B"},{"$f":"IF($K29>$K30,$I29,IF($K30>$K29,$I30,IF(RIGHT($K29,1)=\"*\",$I29,IF(RIGHT($K30,1)=\"*\",$I30,\"\"))))","v":""},{"$f":"IF($K29>$K30,$J29,IF($K30>$K29,$J30,IF(RIGHT($K29,1)=\"*\",$J29,IF(RIGHT($K30,1)=\"*\",$J30,\"\"))))","v":""}]
[13,{"$f":"E84","v":"7A"},{"$f":"C_Quali!H22","v":520},{"$f":"C_Quali!C22","v":"Zezula Erwin"},{"$f":"C_Quali!E22","v":"NÖ"},{"$f":"C_Quali!D22","v":"WBZ Union Zwettl"}]
[20,{"$f":"E85","v":"7B"},{"$f":"C_Quali!H29","v":513},{"$f":"C_Quali!C29","v":"RAINER Andreas"},{"$f":"C_Quali!E29","v":"ST"},{"$f":"C_Quali!D29","v":"BSC Semriach"}]
[null,null,null,null,null,null,null,{"$f":"J78","v":"14A"},{"$f":"IF($G27>$G28,$D27,IF($G28>$G27,$D28,IF(RIGHT($G27,1)=\"*\",$D27,IF(RIGHT($G28,1)=\"*\",$D28,\"\"))))","v":""},{"$f":"IF($G27>$G28,$E27,IF($G28>$G27,$E28,IF(RIGHT($G27,1)=\"*\",$E27,IF(RIGHT($G28,1)=\"*\",$E28,\"\"))))","v":""}]
[null,null,null,null,null,null,null,{"$f":"J79","v":"14B"},{"$f":"IF($G31>$G32,$D31,IF($G32>$G31,$D32,IF(RIGHT($G31,1)=\"*\",$D31,IF(RIGHT($G32,1)=\"*\",$D32,\"\"))))","v":""},{"$f":"IF($G31>$G32,$E31,IF($G32>$G31,$E32,IF(RIGHT($G31,1)=\"*\",$E31,IF(RIGHT($G32,1)=\"*\",$E32,\"\"))))","v":""}]
[29,{"$f":"E86","v":"8A"},{"$f":"C_Quali!H38","v":504},{"$f":"C_Quali!C38","v":"Holzer Gerhard"},{"$f":"C_Quali!E38","v":"NÖ"},{"$f":"C_Quali!D38","v":"UBC Diana NÖ"}]
[4,{"$f":"E87","v":"8B"},{"$f":"C_Quali!H13","v":529},{"$f":"C_Quali!C13","v":"Wippel Wolfgang"},{"$f":"C_Quali!E13","v":"ST"},{"$f":"C_Quali!D13","v":"BC Union Graz Seiersberg"}]
[]
[]
[3,{"$f":"E88","v":"9A"},{"$f":"C_Quali!H12","v":530},{"$f":"C_Quali!C12","v":"Hubmann Gerhard"},{"$f":"C_Quali!E12","v":"ST"},{"$f":"C_Quali!D12","v":"EAT-Bogensport"}]
[30,{"$f":"E89","v":"9B"},{"$f":"C_Quali!H39","v":503},{"$f":"C_Quali!C39","v":"Nadrai Herbert"},{"$f":"C_Quali!E39","v":"NÖ"},{"$f":"C_Quali!D39","v":"BSC Arcus"}]
[null,null,null,null,null,null,null,{"$f":"J80","v":"15A"},{"$f":"IF($G35>$G36,$D35,IF($G36>$G35,$D36,IF(RIGHT($G35,1)=\"*\",$D35,IF(RIGHT($G36,1)=\"*\",$D36,\"\"))))","v":""},{"$f":"IF($G35>$G36,$E35,IF($G36>$G35,$E36,IF(RIGHT($G35,1)=\"*\",$E35,IF(RIGHT($G36,1)=\"*\",$E36,\"\"))))","v":""}]
[null,null,null,null,null,null,null,{"$f":"J81","v":"15B"},{"$f":"IF($G39>$G40,$D39,IF($G40>$G39,$D40,IF(RIGHT($G39,1)=\"*\",$D39,IF(RIGHT($G40,1)=\"*\",$D40,\"\"))))","v":""},{"$f":"IF($G39>$G40,$E39,IF($G40>$G39,$E40,IF(RIGHT($G39,1)=\"*\",$E39,IF(RIGHT($G40,1)=\"*\",$E40,\"\"))))","v":""}]
[19,{"$f":"E90","v":"10A"},{"$f":"C_Quali!H28","v":514},{"$f":"C_Quali!C28","v":"Zimmerbeutel Axel"},{"$f":"C_Quali!E28","v":"OÖ"},{"$f":"C_Quali!D28","v":"3D Bogenplatz Riedersbach"}]
[14,{"$f":"E91","v":"10B"},{"$f":"C_Quali!H23","v":519},{"$f":"C_Quali!C23","v":"Wühl Martin"},{"$f":"C_Quali!E23","v":"NÖ"},{"$f":"C_Quali!D23","v":"BSC Fischamend"},null,null,null,null,null,null,null,null,null,null,"Finale"]
[null,null,null,null,null,null,null,null,null,null,null,{"$f":"N76","v":"23A"},{"$f":"IF($K37>$K38,$I37,IF($K38>$K37,$I38,IF(RIGHT($K37,1)=\"*\",$I37,IF(RIGHT($K38,1)=\"*\",$I38,\"\"))))","v":""},{"$f":"IF($K37>$K38,$J37,IF($K38>$K37,$J38,IF(RIGHT($K37,1)=\"*\",$J37,IF(RIGHT($K38,1)=\"*\",$J38,\"\"))))","v":""},null,null,null,null,null,{"$f":"V74","v":15},{"$f":"IF($S17>$S18,$Q18,IF($S18>$S17,$Q17,IF(RIGHT($S17,1)=\"*\",$Q18,IF(RIGHT($S18,1)=\"*\",$Q17,\"\"))))","v":""},{"$f":"IF($S17>$S18,$R18,IF($S18>$S17,$R17,IF(RIGHT($S17,1)=\"*\",$R18,IF(RIGHT($S18,1)=\"*\",$R17,\"\"))))","v":""},null,null,null,null,{"$f":"IF($S17>$S18,$Q18,IF($S18>$S17,$Q17,IF(RIGHT($S17,1)=\"*\",$Q18,IF(RIGHT($S18,1)=\"*\",$Q17,\"\"))))","v":""},{"$f":"IF($S17>$S18,$R18,IF($S18>$S17,$R17,IF(RIGHT($S17,1)=\"*\",$R18,IF(RIGHT($S18,1)=\"*\",$R17,\"\"))))","v":""}]
[null,null,null,null,null,null,null,null,null,null,null,{"$f":"N77","v":"23B"},{"$f":"IF($K45>$K46,$I45,IF($K46>$K45,$I46,IF(RIGHT($K45,1)=\"*\",$I45,IF(RIGHT($K46,1)=\"*\",$I46,\"\"))))","v":""},{"$f":"IF($K45>$K46,$J45,IF($K46>$K45,$J46,IF(RIGHT($K45,1)=\"*\",$J45,IF(RIGHT($K46,1)=\"*\",$J46,\"\"))))","v":""},null,null,"3. und 4. Platz",null,null,{"$f":"V75","v":16},{"$f":"IF($S49>$S50,$Q50,IF($S50>$S49,$Q49,IF(RIGHT($S49,1)=\"*\",$Q50,IF(RIGHT($S50,1)=\"*\",$Q49,\"\"))))","v":""},{"$f":"IF($S49>$S50,$R50,IF($S50>$S49,$R49,IF(RIGHT($S49,1)=\"*\",$R50,IF(RIGHT($S50,1)=\"*\",$R49,\"\"))))","v":""},null,null,null,null,{"$f":"IF($S49>$S50,$Q50,IF($S50>$S49,$Q49,IF(RIGHT($S49,1)=\"*\",$Q50,IF(RIGHT($S50,1)=\"*\",$Q49,\"\"))))","v":""},{"$f":"IF($S49>$S50,$R50,IF($S50>$S49,$R49,IF(RIGHT($S49,1)=\"*\",$R50,IF(RIGHT($S50,1)=\"*\",$R49,\"\"))))","v":""}]
[11,{"$f":"E92","v":"11A"},{"$f":"C_Quali!H20","v":522},{"$f":"C_Quali!C20","v":"Burda Erwin"},{"$f":"C_Quali!E20","v":"S"},{"$f":"C_Quali!D20","v":"BC Golden Arrows"}]
[22,{"$f":"E93","v":"11B"},{"$f":"C_Quali!H31","v":511},{"$f":"C_Quali!C31","v":"Daum Stefan"},{"$f":"C_Quali!E31","v":"T"},{"$f":"C_Quali!D31","v":"BSC Sparkasse Jenbach"}]
[null,null,null,null,null,null,null,{"$f":"J82","v":"16A"},{"$f":"IF($G43>$G44,$D43,IF($G44>$G43,$D44,IF(RIGHT($G43,1)=\"*\",$D43,IF(RIGHT($G44,1)=\"*\",$D44,\"\"))))","v":""},{"$f":"IF($G43>$G44,$E43,IF($G44>$G43,$E44,IF(RIGHT($G43,1)=\"*\",$E43,IF(RIGHT($G44,1)=\"*\",$E44,\"\"))))","v":""}]
[null,null,null,null,null,null,null,{"$f":"J83","v":"16B"},{"$f":"IF($G47>$G48,$D47,IF($G48>$G47,$D48,IF(RIGHT($G47,1)=\"*\",$D47,IF(RIGHT($G48,1)=\"*\",$D48,\"\"))))","v":""},{"$f":"IF($G47>$G48,$E47,IF($G48>$G47,$E48,IF(RIGHT($G47,1)=\"*\",$E47,IF(RIGHT($G48,1)=\"*\",$E48,\"\"))))","v":""}]
[27,{"$f":"E94","v":"12A"},{"$f":"C_Quali!H36","v":506},{"$f":"C_Quali!C36","v":"Schlechter Hans-Jürgen"},{"$f":"C_Quali!E36","v":"T"},{"$f":"C_Quali!D36","v":"BSV Brixlegg - NAVAJOS"}]
[6,{"$f":"E95","v":"12B"},{"$f":"C_Quali!H15","v":527},{"$f":"C_Quali!C15","v":"Schneider Wolfgang"},{"$f":"C_Quali!E15","v":"NÖ"},{"$f":"C_Quali!D15","v":"WBZ Union Zwettl"}]
[null,null,null,null,null,null,null,null,null,null,null,null,null,null,null,{"$f":"R74","v":23},{"$f":"IF($O41>$O42,$M41,IF($O42>$O41,$M42,IF(RIGHT($O41,1)=\"*\",$M41,IF(RIGHT($O42,1)=\"*\",$M42,\"\"))))","v":""},{"$f":"IF($O41>$O42,$N41,IF($O42>$O41,$N42,IF(RIGHT($O41,1)=\"*\",$N41,IF(RIGHT($O42,1)=\"*\",$N42,\"\"))))","v":""}]
[null,null,null,null,null,null,null,null,null,null,null,null,null,null,null,{"$f":"R75","v":24},{"$f":"IF($O57>$O58,$M57,IF($O58>$O57,$M58,IF(RIGHT($O57,1)=\"*\",$M57,IF(RIGHT($O58,1)=\"*\",$M58,\"\"))))","v":""},{"$f":"IF($O57>$O58,$N57,IF($O58>$O57,$N58,IF(RIGHT($O57,1)=\"*\",$N57,IF(RIGHT($O58,1)=\"*\",$N58,\"\"))))","v":""}]
[7,{"$f":"E96","v":"13A"},{"$f":"C_Quali!H16","v":526},{"$f":"C_Quali!C16","v":"Koisegg Johann"},{"$f":"C_Quali!E16","v":"T"},{"$f":"C_Quali!D16","v":"BSC Sparkasse Jenbach"}]
[26,{"$f":"E97","v":"13B"},{"$f":"C_Quali!H35","v":507},{"$f":"C_Quali!C35","v":"Steininger Helmut"},{"$f":"C_Quali!E35","v":"W"},{"$f":"C_Quali!D35","v":"UBSC Artemis Wien"}]
[null,null,null,null,null,null,null,{"$f":"J84","v":"17A"},{"$f":"IF($G51>$G52,$D51,IF($G52>$G51,$D52,IF(RIGHT($G51,1)=\"*\",$D51,IF(RIGHT($G52,1)=\"*\",$D52,\"\"))))","v":""},{"$f":"IF($G51>$G52,$E51,IF($G52>$G51,$E52,IF(RIGHT($G51,1)=\"*\",$E51,IF(RIGHT($G52,1)=\"*\",$E52,\"\"))))","v":""},null,null,null,null,null,null,null,null,null,null,"Finale"]
[null,null,null,null,null,null,null,{"$f":"J85","v":"17B"},{"$f":"IF($G55>$G56,$D55,IF($G56>$G55,$D56,IF(RIGHT($G55,1)=\"*\",$D55,IF(RIGHT($G56,1)=\"*\",$D56,\"\"))))","v":""},{"$f":"IF($G55>$G56,$E55,IF($G56>$G55,$E56,IF(RIGHT($G55,1)=\"*\",$E55,IF(RIGHT($G56,1)=\"*\",$E56,\"\"))))","v":""},null,null,null,null,null,null,"1/2 Finale"]
[23,{"$f":"E98","v":"14A"},{"$f":"C_Quali!H32","v":510},{"$f":"C_Quali!C32","v":"Gruber Werner"},{"$f":"C_Quali!E32","v":"ST"},{"$f":"C_Quali!D32","v":"Atus Zeltweg Sektion Bogen"}]
[10,{"$f":"E99","v":"14B"},{"$f":"C_Quali!H19","v":523},{"$f":"C_Quali!C19","v":"Linhart Christian"},{"$f":"C_Quali!E19","v":"B"},{"$f":"C_Quali!D19","v":"BSV Stöttera"}]
[null,null,null,null,null,null,null,null,null,null,null,{"$f":"N78","v":"24A"},{"$f":"IF($K53>$K54,$I53,IF($K54>$K53,$I54,IF(RIGHT($K53,1)=\"*\",$I53,IF(RIGHT($K54,1)=\"*\",$I54,\"\"))))","v":""},{"$f":"IF($K53>$K54,$J53,IF($K54>$K53,$J54,IF(RIGHT($K53,1)=\"*\",$J53,IF(RIGHT($K54,1)=\"*\",$J54,\"\"))))","v":""}]
[null,null,null,null,null,null,null,null,null,null,null,{"$f":"N79","v":"24B"},{"$f":"IF($K61>$K62,$I61,IF($K62>$K61,$I62,IF(RIGHT($K61,1)=\"*\",$I61,IF(RIGHT($K62,1)=\"*\",$I62,\"\"))))","v":""},{"$f":"IF($K61>$K62,$J61,IF($K62>$K61,$J62,IF(RIGHT($K61,1)=\"*\",$J61,IF(RIGHT($K62,1)=\"*\",$J62,\"\"))))","v":""}]
[15,{"$f":"E100","v":"15A"},{"$f":"C_Quali!H24","v":518},{"$f":"C_Quali!C24","v":"Url Marsell"},{"$f":"C_Quali!E24","v":"ST"},{"$f":"C_Quali!D24","v":"UBSC Artemis Steiermark"}]
[18,{"$f":"E101","v":"15B"},{"$f":"C_Quali!H27","v":515},{"$f":"C_Quali!C27","v":"Postl Markus"},{"$f":"C_Quali!E27","v":"ST"},{"$f":"C_Quali!D27","v":"BC Union Graz Seiersberg"}]
[null,null,null,null,null,null,null,{"$f":"J86","v":"18A"},{"$f":"IF($G59>$G60,$D59,IF($G60>$G59,$D60,IF(RIGHT($G59,1)=\"*\",$D59,IF(RIGHT($G60,1)=\"*\",$D60,\"\"))))","v":""},{"$f":"IF($G59>$G60,$E59,IF($G60>$G59,$E60,IF(RIGHT($G59,1)=\"*\",$E59,IF(RIGHT($G60,1)=\"*\",$E60,\"\"))))","v":""},null,null,"1/4 Finale"]
[null,null,null,null,null,null,null,{"$f":"J87","v":"18B"},{"$f":"IF($G63>$G64,$D63,IF($G64>$G63,$D64,IF(RIGHT($G63,1)=\"*\",$D63,IF(RIGHT($G64,1)=\"*\",$D64,\"\"))))","v":""},{"$f":"IF($G63>$G64,$E63,IF($G64>$G63,$E64,IF(RIGHT($G63,1)=\"*\",$E63,IF(RIGHT($G64,1)=\"*\",$E64,\"\"))))","v":""}]
[31,{"$f":"E102","v":"16A"},{"$f":"C_Quali!H40","v":502},{"$f":"C_Quali!C40","v":"Kuhn Jürgen Hans"},{"$f":"C_Quali!E40","v":"NÖ"},{"$f":"C_Quali!D40","v":"UBC Diana NÖ"}]
[2,{"$f":"E103","v":"16B"},{"$f":"C_Quali!H11","v":531},{"$f":"C_Quali!C11","v":"Kanduth Wolfgang"},{"$f":"C_Quali!E11","v":"ST"},{"$f":"C_Quali!D11","v":"BC Wildon Weitendorf"},null,null,null,null,null,null,null,null,null,null,null,null,null,"*","= Im Stechen gewonnen"]
[null,null,null,null,null,null,null,"1/8 Elimination"]
[null,null,"1/16 Elimination",null,null,null,null,null,null,null,{"$f":"Select!$C$20","v":"Compound Herren"}]
[]
[]
[]
[]
[null,null,null,"Scheibe:"]
[null,null,1,{"$f":"CONCATENATE($D$71,\" \",E72)","v":"Scheibe: 1A"},"1A",null,null,1,{"$f":"CONCATENATE($D$71,\" \",J72)","v":"Scheibe: 11A"},"11A",null,1,{"$f":"CONCATENATE($D$71,\" \",N72)","v":"Scheibe: 21A"},"21A",null,1,{"$f":"CONCATENATE($D$71,\" \",R72)","v":"Scheibe: 21"},21,null,1,{"$f":"CONCATENATE($D$71,\" \",V72)","v":"Scheibe: 13"},13]
[null,null,null,"Scheibe: 1B",{"$f":"IF(RIGHT(E72,1)=\"A\",CONCATENATE(LEFT(E72,LEN(E72)-1),\"B\"),E72+1)","v":"1B"},null,null,null,"Scheibe: 11B",{"$f":"IF(RIGHT(J72,1)=\"A\",CONCATENATE(LEFT(J72,LEN(J72)-1),\"B\"),J72+1)","v":"11B"},null,null,"Scheibe: 21B",{"$f":"IF(RIGHT(N72,1)=\"A\",CONCATENATE(LEFT(N72,LEN(N72)-1),\"B\"),N72+1)","v":"21B"},null,null,{"$f":"CONCATENATE($D$71,\" \",R73)","v":"Scheibe: 22"},{"$f":"IF(RIGHT(R72,1)=\"A\",CONCATENATE(LEFT(R72,LEN(R72)-1),\"B\"),R72+1)","v":22},null,null,{"$f":"CONCATENATE($D$71,\" \",V73)","v":"Scheibe: 14"},{"$f":"IF(RIGHT(V72,1)=\"A\",CONCATENATE(LEFT(V72,LEN(V72)-1),\"B\"),V72+1)","v":14}]
[null,null,{"$f":"C72+1","v":2},"Scheibe: 2A",{"$f":"IF(RIGHT(E73,1)=\"B\",CONCATENATE(LEFT(E73,LEN(E73)-1)+1,\"A\"),E73+1)","v":"2A"},null,null,{"$f":"H72+1","v":2},"Scheibe: 12A",{"$f":"IF(RIGHT(J73,1)=\"B\",CONCATENATE(LEFT(J73,LEN(J73)-1)+1,\"A\"),J73+1)","v":"12A"},null,{"$f":"L72+1","v":2},"Scheibe: 22A",{"$f":"IF(RIGHT(N73,1)=\"B\",CONCATENATE(LEFT(N73,LEN(N73)-1)+1,\"A\"),N73+1)","v":"22A"},null,{"$f":"P72+1","v":2},{"$f":"CONCATENATE($D$71,\" \",R74)","v":"Scheibe: 23"},{"$f":"IF(RIGHT(R73,1)=\"B\",CONCATENATE(LEFT(R73,LEN(R73)-1)+1,\"A\"),R73+1)","v":23},null,{"$f":"T72+1","v":2},{"$f":"CONCATENATE($D$71,\" \",V74)","v":"Scheibe: 15"},15]
[null,null,null,"Scheibe: 2B",{"$f":"IF(RIGHT(E74,1)=\"A\",CONCATENATE(LEFT(E74,LEN(E74)-1),\"B\"),E74+1)","v":"2B"},null,null,null,"Scheibe: 12B",{"$f":"IF(RIGHT(J74,1)=\"A\",CONCATENATE(LEFT(J74,LEN(J74)-1),\"B\"),J74+1)","v":"12B"},null,null,"Scheibe: 22B",{"$f":"IF(RIGHT(N74,1)=\"A\",CONCATENATE(LEFT(N74,LEN(N74)-1),\"B\"),N74+1)","v":"22B"},null,null,{"$f":"CONCATENATE($D$71,\" \",R75)","v":"Scheibe: 24"},{"$f":"IF(RIGHT(R74,1)=\"A\",CONCATENATE(LEFT(R74,LEN(R74)-1),\"B\"),R74+1)","v":24},null,null,{"$f":"CONCATENATE($D$71,\" \",V75)","v":"Scheibe: 16"},{"$f":"IF(RIGHT(V74,1)=\"A\",CONCATENATE(LEFT(V74,LEN(V74)-1),\"B\"),V74+1)","v":16}]
[null,null,{"$f":"C74+1","v":3},"Scheibe: 3A",{"$f":"IF(RIGHT(E75,1)=\"B\",CONCATENATE(LEFT(E75,LEN(E75)-1)+1,\"A\"),E75+1)","v":"3A"},null,null,{"$f":"H74+1","v":3},"Scheibe: 13A",{"$f":"IF(RIGHT(J75,1)=\"B\",CONCATENATE(LEFT(J75,LEN(J75)-1)+1,\"A\"),J75+1)","v":"13A"},null,{"$f":"L74+1","v":3},"Scheibe: 23A",{"$f":"IF(RIGHT(N75,1)=\"B\",CONCATENATE(LEFT(N75,LEN(N75)-1)+1,\"A\"),N75+1)","v":"23A"}]
[null,null,null,"Scheibe: 3B",{"$f":"IF(RIGHT(E76,1)=\"A\",CONCATENATE(LEFT(E76,LEN(E76)-1),\"B\"),E76+1)","v":"3B"},null,null,null,"Scheibe: 13B",{"$f":"IF(RIGHT(J76,1)=\"A\",CONCATENATE(LEFT(J76,LEN(J76)-1),\"B\"),J76+1)","v":"13B"},null,null,"Scheibe: 23B",{"$f":"IF(RIGHT(N76,1)=\"A\",CONCATENATE(LEFT(N76,LEN(N76)-1),\"B\"),N76+1)","v":"23B"}]
[null,null,{"$f":"C76+1","v":4},"Scheibe: 4A",{"$f":"IF(RIGHT(E77,1)=\"B\",CONCATENATE(LEFT(E77,LEN(E77)-1)+1,\"A\"),E77+1)","v":"4A"},null,null,{"$f":"H76+1","v":4},"Scheibe: 14A",{"$f":"IF(RIGHT(J77,1)=\"B\",CONCATENATE(LEFT(J77,LEN(J77)-1)+1,\"A\"),J77+1)","v":"14A"},null,{"$f":"L76+1","v":4},"Scheibe: 24A",{"$f":"IF(RIGHT(N77,1)=\"B\",CONCATENATE(LEFT(N77,LEN(N77)-1)+1,\"A\"),N77+1)","v":"24A"}]
[null,null,null,"Scheibe: 4B",{"$f":"IF(RIGHT(E78,1)=\"A\",CONCATENATE(LEFT(E78,LEN(E78)-1),\"B\"),E78+1)","v":"4B"},null,null,null,"Scheibe: 14B",{"$f":"IF(RIGHT(J78,1)=\"A\",CONCATENATE(LEFT(J78,LEN(J78)-1),\"B\"),J78+1)","v":"14B"},null,null,"Scheibe: 24B",{"$f":"IF(RIGHT(N78,1)=\"A\",CONCATENATE(LEFT(N78,LEN(N78)-1),\"B\"),N78+1)","v":"24B"}]
[null,null,{"$f":"C78+1","v":5},"Scheibe: 5A",{"$f":"IF(RIGHT(E79,1)=\"B\",CONCATENATE(LEFT(E79,LEN(E79)-1)+1,\"A\"),E79+1)","v":"5A"},null,null,{"$f":"H78+1","v":5},"Scheibe: 15A",{"$f":"IF(RIGHT(J79,1)=\"B\",CONCATENATE(LEFT(J79,LEN(J79)-1)+1,\"A\"),J79+1)","v":"15A"}]
[null,null,null,"Scheibe: 5B",{"$f":"IF(RIGHT(E80,1)=\"A\",CONCATENATE(LEFT(E80,LEN(E80)-1),\"B\"),E80+1)","v":"5B"},null,null,null,"Scheibe: 15B",{"$f":"IF(RIGHT(J80,1)=\"A\",CONCATENATE(LEFT(J80,LEN(J80)-1),\"B\"),J80+1)","v":"15B"}]
[null,null,{"$f":"C80+1","v":6},"Scheibe: 6A",{"$f":"IF(RIGHT(E81,1)=\"B\",CONCATENATE(LEFT(E81,LEN(E81)-1)+1,\"A\"),E81+1)","v":"6A"},null,null,{"$f":"H80+1","v":6},"Scheibe: 16A",{"$f":"IF(RIGHT(J81,1)=\"B\",CONCATENATE(LEFT(J81,LEN(J81)-1)+1,\"A\"),J81+1)","v":"16A"}]
[null,null,null,"Scheibe: 6B",{"$f":"IF(RIGHT(E82,1)=\"A\",CONCATENATE(LEFT(E82,LEN(E82)-1),\"B\"),E82+1)","v":"6B"},null,null,null,"Scheibe: 16B",{"$f":"IF(RIGHT(J82,1)=\"A\",CONCATENATE(LEFT(J82,LEN(J82)-1),\"B\"),J82+1)","v":"16B"}]
[null,null,{"$f":"C82+1","v":7},"Scheibe: 7A",{"$f":"IF(RIGHT(E83,1)=\"B\",CONCATENATE(LEFT(E83,LEN(E83)-1)+1,\"A\"),E83+1)","v":"7A"},null,null,{"$f":"H82+1","v":7},"Scheibe: 17A",{"$f":"IF(RIGHT(J83,1)=\"B\",CONCATENATE(LEFT(J83,LEN(J83)-1)+1,\"A\"),J83+1)","v":"17A"}]
[null,null,null,"Scheibe: 7B",{"$f":"IF(RIGHT(E84,1)=\"A\",CONCATENATE(LEFT(E84,LEN(E84)-1),\"B\"),E84+1)","v":"7B"},null,null,null,"Scheibe: 17B",{"$f":"IF(RIGHT(J84,1)=\"A\",CONCATENATE(LEFT(J84,LEN(J84)-1),\"B\"),J84+1)","v":"17B"}]
[null,null,{"$f":"C84+1","v":8},"Scheibe: 8A",{"$f":"IF(RIGHT(E85,1)=\"B\",CONCATENATE(LEFT(E85,LEN(E85)-1)+1,\"A\"),E85+1)","v":"8A"},null,null,{"$f":"H84+1","v":8},"Scheibe: 18A",{"$f":"IF(RIGHT(J85,1)=\"B\",CONCATENATE(LEFT(J85,LEN(J85)-1)+1,\"A\"),J85+1)","v":"18A"}]
[null,null,null,"Scheibe: 8B",{"$f":"IF(RIGHT(E86,1)=\"A\",CONCATENATE(LEFT(E86,LEN(E86)-1),\"B\"),E86+1)","v":"8B"},null,null,null,"Scheibe: 18B",{"$f":"IF(RIGHT(J86,1)=\"A\",CONCATENATE(LEFT(J86,LEN(J86)-1),\"B\"),J86+1)","v":"18B"}]
[null,null,{"$f":"C86+1","v":9},"Scheibe: 9A",{"$f":"IF(RIGHT(E87,1)=\"B\",CONCATENATE(LEFT(E87,LEN(E87)-1)+1,\"A\"),E87+1)","v":"9A"}]
[null,null,null,"Scheibe: 9B",{"$f":"IF(RIGHT(E88,1)=\"A\",CONCATENATE(LEFT(E88,LEN(E88)-1),\"B\"),E88+1)","v":"9B"}]
[null,null,{"$f":"C88+1","v":10},"Scheibe: 10A",{"$f":"IF(RIGHT(E89,1)=\"B\",CONCATENATE(LEFT(E89,LEN(E89)-1)+1,\"A\"),E89+1)","v":"10A"}]
[null,null,null,"Scheibe: 10B",{"$f":"IF(RIGHT(E90,1)=\"A\",CONCATENATE(LEFT(E90,LEN(E90)-1),\"B\"),E90+1)","v":"10B"}]
[null,null,{"$f":"C90+1","v":11},"Scheibe: 11A",{"$f":"IF(RIGHT(E91,1)=\"B\",CONCATENATE(LEFT(E91,LEN(E91)-1)+1,\"A\"),E91+1)","v":"11A"}]
[null,null,null,"Scheibe: 11B",{"$f":"IF(RIGHT(E92,1)=\"A\",CONCATENATE(LEFT(E92,LEN(E92)-1),\"B\"),E92+1)","v":"11B"}]
[null,null,{"$f":"C92+1","v":12},"Scheibe: 12A",{"$f":"IF(RIGHT(E93,1)=\"B\",CONCATENATE(LEFT(E93,LEN(E93)-1)+1,\"A\"),E93+1)","v":"12A"}]
[null,null,null,"Scheibe: 12B",{"$f":"IF(RIGHT(E94,1)=\"A\",CONCATENATE(LEFT(E94,LEN(E94)-1),\"B\"),E94+1)","v":"12B"}]
[null,null,{"$f":"C94+1","v":13},"Scheibe: 13A",{"$f":"IF(RIGHT(E95,1)=\"B\",CONCATENATE(LEFT(E95,LEN(E95)-1)+1,\"A\"),E95+1)","v":"13A"}]
[null,null,null,"Scheibe: 13B",{"$f":"IF(RIGHT(E96,1)=\"A\",CONCATENATE(LEFT(E96,LEN(E96)-1),\"B\"),E96+1)","v":"13B"}]
[null,null,{"$f":"C96+1","v":14},"Scheibe: 14A",{"$f":"IF(RIGHT(E97,1)=\"B\",CONCATENATE(LEFT(E97,LEN(E97)-1)+1,\"A\"),E97+1)","v":"14A"}]
[null,null,null,"Scheibe: 14B",{"$f":"IF(RIGHT(E98,1)=\"A\",CONCATENATE(LEFT(E98,LEN(E98)-1),\"B\"),E98+1)","v":"14B"}]
[null,null,{"$f":"C98+1","v":15},"Scheibe: 15A",{"$f":"IF(RIGHT(E99,1)=\"B\",CONCATENATE(LEFT(E99,LEN(E99)-1)+1,\"A\"),E99+1)","v":"15A"}]
[null,null,null,"Scheibe: 15B",{"$f":"IF(RIGHT(E100,1)=\"A\",CONCATENATE(LEFT(E100,LEN(E100)-1),\"B\"),E100+1)","v":"15B"}]
[null,null,{"$f":"C100+1","v":16},"Scheibe: 16A",{"$f":"IF(RIGHT(E101,1)=\"B\",CONCATENATE(LEFT(E101,LEN(E101)-1)+1,\"A\"),E101+1)","v":"16A"}]
[null,null,null,"Scheibe: 16B",{"$f":"IF(RIGHT(E102,1)=\"A\",CONCATENATE(LEFT(E102,LEN(E102)-1),\"B\"),E102+1)","v":"16B"}]

{"sheet":"C32","index":23,"n_rows":1054,"n_cols":22,"rows_kept":1054,"cut":false,"hidden":true,"merged":[[1040,16,1040,19],[1040,20,1040,22],[1041,5,1041,6],[1041,13,1041,14],[1041,21,1041,22],[1040,0,1040,3],[1040,4,1040,6],[1040,8,1040,11],[1040,12,1040,14],[1032,0,1032,6],[1033,0,1033,6],[1034,0,1034,6],[1035,0,1035,6],[1028,0,1028,6],[1029,0,1029,6],[1030,0,1030,6],[1031,0,1031,6],[1025,13,1025,14],[1025,21,1025,22],[1026,0,1026,6],[1027,0,1027,6],[1024,8,1024,11],[1024,12,1024,14],[1024,16,1024,19],[1024,20,1024,22],[1007,16,1007,19],[1007,20,1007,22],[1008,5,1008,6],[1008,13,1008,14],[1008,21,1008,22],[1007,0,1007,3],[1007,4,1007,6],[1007,8,1007,11],[1007,12,1007,14],[999,0,999,6],[1000,0,1000,6],[1001,0,1001,6],[1002,0,1002,6],[995,0,995,6],[996,0,996,6],[997,0,997,6],[998,0,998,6],[992,13,992,14],[992,21,992,22],[993,0,993,6],[994,0,994,6],[991,8,991,11],[991,12,991,14],[991,16,991,19],[991,20,991,22],[974,16,974,19],[974,20,974,22],[975,5,975,6],[975,13,975,14],[975,21,975,22],[974,0,974,3],[974,4,974,6],[974,8,974,11],[974,12,974,14],[966,0,966,6],[967,0,967,6],[968,0,968,6],[969,0,969,6],[962,0,962,6],[963,0,963,6],[964,0,964,6],[965,0,965,6],[959,13,959,14],[959,21,959,22],[960,0,960,6],[961,0,961,6],[958,8,958,11],[958,12,958,14],[958,16,958,19],[958,20,958,22],[941,16,941,19],[941,20,941,22],[942,5,942,6],[942,13,942,14],[942,21,942,22],[941,0,941,3],[941,4,941,6],[941,8,941,11],[941,12,941,14],[933,0,933,6],[934,0,934,6],[935,0,935,6],[936,0,936,6],[929,0,929,6],[930,0,930,6],[931,0,931,6],[932,0,932,6],[926,13,926,14],[926,21,926,22],[927,0,927,6],[928,0,928,6],[925,8,925,11],[925,12,925,14],[925,16,925,19],[925,20,925,22],[908,16,908,19],[908,20,908,22],[909,5,909,6],[909,13,909,14],[909,21,909,22],[908,0,908,3],[908,4,908,6],[908,8,908,11],[908,12,908,14],[900,0,900,6],[901,0,901,6],[902,0,902,6],[903,0,903,6],[896,0,896,6],[897,0,897,6],[898,0,898,6],[899,0,899,6],[893,13,893,14],[893,21,893,22],[894,0,894,6],[895,0,895,6],[892,8,892,11],[892,12,892,14],[892,16,892,19],[892,20,892,22],[875,16,875,19],[875,20,875,22],[876,5,876,6],[876,13,876,14],[876,21,876,22],[875,0,875,3],[875,4,875,6],[875,8,875,11],[875,12,875,14],[867,0,867,6],[868,0,868,6],[869,0,869,6],[870,0,870,6],[863,0,863,6],[864,0,864,6],[865,0,865,6],[866,0,866,6],[860,13,860,14],[860,21,860,22],[861,0,861,6],[862,0,862,6],[859,8,859,11],[859,12,859,14],[859,16,859,19],[859,20,859,22],[842,16,842,19],[842,20,842,22],[843,5,843,6],[843,13,843,14],[843,21,843,22],[842,0,842,3],[842,4,842,6],[842,8,842,11],[842,12,842,14],[834,0,834,6],[835,0,835,6],[836,0,836,6],[837,0,837,6],[830,0,830,6],[831,0,831,6],[832,0,832,6],[833,0,833,6],[827,13,827,14],[827,21,827,22],[828,0,828,6],[829,0,829,6],[826,8,826,11],[826,12,826,14],[826,16,826,19],[826,20,826,22],[809,16,809,19],[809,20,809,22],[810,5,810,6],[810,13,810,14],[810,21,810,22],[809,0,809,3],[809,4,809,6],[809,8,809,11],[809,12,809,14],[801,0,801,6],[802,0,802,6],[803,0,803,6],[804,0,804,6],[797,0,797,6],[798,0,798,6],[799,0,799,6],[800,0,800,6],[794,13,794,14],[794,21,794,22],[795,0,795,6],[796,0,796,6],[793,8,793,11],[793,12,793,14],[793,16,793,19],[793,20,793,22],[776,16,776,19],[776,20,776,22],[777,5,777,6],[777,13,777,14],[777,21,777,22],[776,0,776,3],[776,4,776,6],[776,8,776,11],[776,12,776,14],[768,0,768,6],[769,0,769,6],[770,0,770,6],[771,0,771,6],[764,0,764,6],[765,0,765,6],[766,0,766,6],[767,0,767,6],[761,13,761,14],[761,21,761,22],[762,0,762,6],[763,0,763,6],[760,8,760,11],[760,12,760,14],[760,16,760,19],[760,20,760,22],[743,16,743,19],[743,20,743,22],[744,5,744,6],[744,13,744,14],[744,21,744,22],[743,0,743,3],[743,4,743,6],[743,8,743,11],[743,12,743,14],[735,0,735,6],[736,0,736,6],[737,0,737,6],[738,0,738,6],[731,0,731,6],[732,0,732,6],[733,0,733,6],[734,0,734,6],[728,13,728,14],[728,21,728,22],[729,0,729,6],[730,0,730,6],[727,8,727,11],[727,12,727,14],[727,16,727,19],[727,20,727,22],[710,16,710,19],[710,20,710,22],[711,5,711,6],[711,13,711,14],[711,21,711,22],[710,0,710,3],[710,4,710,6],[710,8,710,11],[710,12,710,14],[702,0,702,6],[703,0,703,6],[704,0,704,6],[705,0,705,6],[698,0,698,6],[699,0,699,6],[700,0,700,6],[701,0,701,6],[695,13,695,14],[695,21,695,22],[696,0,696,6],[697,0,697,6],[694,8,694,11],[694,12,694,14],[694,16,694,19],[694,20,694,22],[677,16,677,19],[677,20,677,22],[678,5,678,6],[678,13,678,14],[678,21,678,22],[677,0,677,3],[677,4,677,6],[677,8,677,11],[677,12,677,14],[669,0,669,6],[670,0,670,6],[671,0,671,6],[672,0,672,6],[665,0,665,6],[666,0,666,6],[667,0,667,6],[668,0,668,6],[662,13,662,14],[662,21,662,22],[663,0,663,6],[664,0,664,6],[661,8,661,11],[661,12,661,14],[661,16,661,19],[661,20,661,22],[644,16,644,19],[644,20,644,22],[645,5,645,6],[645,13,645,14],[645,21,645,22],[644,0,644,3],[644,4,644,6],[644,8,644,11],[644,12,644,14],[636,0,636,6],[637,0,637,6],[638,0,638,6],[639,0,639,6],[632,0,632,6],[633,0,633,6],[634,0,634,6],[635,0,635,6],[629,13,629,14],[629,21,629,22],[630,0,630,6],[631,0,631,6],[628,8,628,11],[628,12,628,14],[628,16,628,19],[628,20,628,22],[611,16,611,19],[611,20,611,22],[612,5,612,6],[612,13,612,14],[612,21,612,22],[611,0,611,3],[611,4,611,6],[611,8,611,11],[611,12,611,14],[603,0,603,6],[604,0,604,6],[605,0,605,6],[606,0,606,6],[599,0,599,6],[600,0,600,6],[601,0,601,6],[602,0,602,6],[596,13,596,14],[596,21,596,22],[597,0,597,6],[598,0,598,6],[595,8,595,11],[595,12,595,14],[595,16,595,19],[595,20,595,22],[578,16,578,19],[578,20,578,22],[579,5,579,6],[579,13,579,14],[579,21,579,22],[578,0,578,3],[578,4,578,6],[578,8,578,11],[578,12,578,14],[570,0,570,6],[571,0,571,6],[572,0,572,6],[573,0,573,6],[566,0,566,6],[567,0,567,6],[568,0,568,6],[569,0,569,6],[563,13,563,14],[563,21,563,22],[564,0,564,6],[565,0,565,6],[562,8,562,11],[562,12,562,14],[562,16,562,19],[562,20,562,22],[545,16,545,19],[545,20,545,22],[546,5,546,6],[546,13,546,14],[546,21,546,22],[545,0,545,3],[545,4,545,6],[545,8,545,11],[545,12,545,14],[537,0,537,6],[538,0,538,6],[539,0,539,6],[540,0,540,6],[533,0,533,6],[534,0,534,6],[535,0,535,6],[536,0,536,6],[530,13,530,14],[530,21,530,22],[531,0,531,6],[532,0,532,6],[529,8,529,11],[529,12,529,14],[529,16,529,19],[529,20,529,22],[248,16,248,19],[248,20,248,22],[249,5,249,6],[249,13,249,14],[249,21,249,22],[248,0,248,3],[248,4,248,6],[248,8,248,11],[248,12,248,14],[265,8,265,11],[265,12,265,14],[265,16,265,19],[265,20,265,22],[266,13,266,14],[266,21,266,22],[267,0,267,6],[268,0,268,6],[240,0,240,6],[241,0,241,6],[242,0,242,6],[243,0,243,6],[236,0,236,6],[237,0,237,6],[238,0,238,6],[239,0,239,6],[233,13,233,14],[233,21,233,22],[234,0,234,6],[235,0,235,6],[232,8,232,11],[232,12,232,14],[232,16,232,19],[232,20,232,22],[215,16,215,19],[215,20,215,22],[216,5,216,6],[216,13,216,14],[216,21,216,22],[215,0,215,3],[215,4,215,6],[215,8,215,11],[215,12,215,14],[207,0,207,6],[208,0,208,6],[209,0,209,6],[210,0,210,6],[203,0,203,6],[204,0,204,6],[205,0,205,6],[206,0,206,6],[200,13,200,14],[200,21,200,22],[201,0,201,6],[202,0,202,6],[199,8,199,11],[199,12,199,14],[199,16,199,19],[199,20,199,22],[182,16,182,19],[182,20,182,22],[183,5,183,6],[183,13,183,14],[183,21,183,22],[182,0,182,3],[182,4,182,6],[182,8,182,11],[182,12,182,14],[174,0,174,6],[175,0,175,6],[176,0,176,6],[177,0,177,6],[170,0,170,6],[171,0,171,6],[172,0,172,6],[173,0,173,6],[167,13,167,14],[167,21,167,22],[168,0,168,6],[169,0,169,6],[166,8,166,11],[166,12,166,14],[166,16,166,19],[166,20,166,22],[149,16,149,19],[149,20,149,22],[150,5,150,6],[150,13,150,14],[150,21,150,22],[149,0,149,3],[149,4,149,6],[149,8,149,11],[149,12,149,14],[141,0,141,6],[142,0,142,6],[143,0,143,6],[144,0,144,6],[137,0,137,6],[138,0,138,6],[139,0,139,6],[140,0,140,6],[134,13,134,14],[134,21,134,22],[135,0,135,6],[136,0,136,6],[133,8,133,11],[133,12,133,14],[133,16,133,19],[133,20,133,22],[116,16,116,19],[116,20,116,22],[117,5,117,6],[117,13,117,14],[117,21,117,22],[116,0,116,3],[116,4,116,6],[116,8,116,11],[116,12,116,14],[108,0,108,6],[109,0,109,6],[110,0,110,6],[111,0,111,6],[104,0,104,6],[105,0,105,6],[106,0,106,6],[107,0,107,6],[101,13,101,14],[101,21,101,22],[102,0,102,6],[103,0,103,6],[100,8,100,11],[100,12,100,14],[100,16,100,19],[100,20,100,22],[83,16,83,19],[83,20,83,22],[84,5,84,6],[84,13,84,14],[84,21,84,22],[83,0,83,3],[83,4,83,6],[83,8,83,11],[83,12,83,14],[75,0,75,6],[76,0,76,6],[77,0,77,6],[78,0,78,6],[71,0,71,6],[72,0,72,6],[73,0,73,6],[74,0,74,6],[68,13,68,14],[68,21,68,22],[69,0,69,6],[70,0,70,6],[67,8,67,11],[67,12,67,14],[67,16,67,19],[67,20,67,22],[50,16,50,19],[50,20,50,22],[51,5,51,6],[51,13,51,14],[51,21,51,22],[50,0,50,3],[50,4,50,6],[50,8,50,11],[50,12,50,14],[42,0,42,6],[43,0,43,6],[44,0,44,6],[45,0,45,6],[38,0,38,6],[39,0,39,6],[40,0,40,6],[41,0,41,6],[35,13,35,14],[35,21,35,22],[36,0,36,6],[37,0,37,6],[34,8,34,11],[34,12,34,14],[34,16,34,19],[34,20,34,22],[10,0,10,6],[11,0,11,6],[12,0,12,6],[17,16,17,19],[17,20,17,22],[17,12,17,14],[18,5,18,6],[18,13,18,14],[18,21,18,22],[17,0,17,3],[17,4,17,6],[17,8,17,11],[6,0,6,6],[7,0,7,6],[8,0,8,6],[9,0,9,6],[1,8,1,11],[1,12,1,14],[1,16,1,19],[1,20,1,22],[2,13,2,14],[2,21,2,22],[3,0,3,6],[4,0,4,6],[5,0,5,6],[269,0,269,6],[270,0,270,6],[271,0,271,6],[272,0,272,6],[273,0,273,6],[274,0,274,6],[275,0,275,6],[276,0,276,6],[281,0,281,3],[281,4,281,6],[281,8,281,11],[281,12,281,14],[281,16,281,19],[281,20,281,22],[282,5,282,6],[282,13,282,14],[282,21,282,22],[298,8,298,11],[298,12,298,14],[298,16,298,19],[298,20,298,22],[299,13,299,14],[299,21,299,22],[300,0,300,6],[301,0,301,6],[302,0,302,6],[303,0,303,6],[304,0,304,6],[305,0,305,6],[306,0,306,6],[307,0,307,6],[308,0,308,6],[309,0,309,6],[314,0,314,3],[314,4,314,6],[314,8,314,11],[314,12,314,14],[314,16,314,19],[314,20,314,22],[315,5,315,6],[315,13,315,14],[315,21,315,22],[331,8,331,11],[331,12,331,14],[331,16,331,19],[331,20,331,22],[332,13,332,14],[332,21,332,22],[333,0,333,6],[334,0,334,6],[335,0,335,6],[336,0,336,6],[337,0,337,6],[338,0,338,6],[339,0,339,6],[340,0,340,6],[341,0,341,6],[342,0,342,6],[347,0,347,3],[347,4,347,6],[347,8,347,11],[347,12,347,14],[347,16,347,19],[347,20,347,22],[348,5,348,6],[348,13,348,14],[348,21,348,22],[364,8,364,11],[364,12,364,14],[364,16,364,19],[364,20,364,22],[365,13,365,14],[365,21,365,22],[366,0,366,6],[367,0,367,6],[368,0,368,6],[369,0,369,6],[370,0,370,6],[371,0,371,6],[372,0,372,6],[373,0,373,6],[374,0,374,6],[375,0,375,6],[380,0,380,3],[380,4,380,6],[380,8,380,11],[380,12,380,14],[380,16,380,19],[380,20,380,22],[381,5,381,6],[381,13,381,14],[381,21,381,22],[397,8,397,11],[397,12,397,14],[397,16,397,19],[397,20,397,22],[398,13,398,14],[398,21,398,22],[399,0,399,6],[400,0,400,6],[401,0,401,6],[402,0,402,6],[403,0,403,6],[404,0,404,6],[405,0,405,6],[406,0,406,6],[407,0,407,6],[408,0,408,6],[413,0,413,3],[413,4,413,6],[413,8,413,11],[413,12,413,14],[413,16,413,19],[413,20,413,22],[414,5,414,6],[414,13,414,14],[414,21,414,22],[430,8,430,11],[430,12,430,14],[430,16,430,19],[430,20,430,22],[431,13,431,14],[431,21,431,22],[432,0,432,6],[433,0,433,6],[434,0,434,6],[435,0,435,6],[436,0,436,6],[437,0,437,6],[438,0,438,6],[439,0,439,6],[440,0,440,6],[441,0,441,6],[446,0,446,3],[446,4,446,6],[446,8,446,11],[446,12,446,14],[446,16,446,19],[446,20,446,22],[447,5,447,6],[447,13,447,14],[447,21,447,22],[463,8,463,11],[463,12,463,14],[463,16,463,19],[463,20,463,22],[464,13,464,14],[464,21,464,22],[465,0,465,6],[466,0,466,6],[467,0,467,6],[468,0,468,6],[469,0,469,6],[470,0,470,6],[471,0,471,6],[472,0,472,6],[473,0,473,6],[474,0,474,6],[479,0,479,3],[479,4,479,6],[479,8,479,11],[479,12,479,14],[479,16,479,19],[479,20,479,22],[480,5,480,6],[480,13,480,14],[480,21,480,22],[496,8,496,11],[496,12,496,14],[496,16,496,19],[496,20,496,22],[497,13,497,14],[497,21,497,22],[498,0,498,6],[499,0,499,6],[500,0,500,6],[501,0,501,6],[502,0,502,6],[503,0,503,6],[504,0,504,6],[513,5,513,6],[513,13,513,14],[513,21,513,22],[505,0,505,6],[506,0,506,6],[507,0,507,6],[512,0,512,3],[512,4,512,6],[512,8,512,11],[512,12,512,14],[512,16,512,19],[512,20,512,22]]}
[]
[null,null,null,null,null,null,null,null,"1/16 Elimination",null,null,null,{"$f":"'C32_Baum'!$D$72","v":"Scheibe: 1A"},null,null,null,"1/8 Elimination",null,null,null,{"$f":"'C32_Baum'!$I$72","v":"Scheibe: 11A"}]
[null,null,null,null,null,null,null,null,null,1,2,3,"Summe","Ges.",null,null,null,1,2,3,"Summe","Ges."]
[{"$f":"Select!$C$12","v":"Demoturnier"},null,null,null,null,null,null,null,1,null,null,null,null,null,null,null,1]
["Veranstaltung",null,null,null,null,null,null,null,2,null,null,null,null,null,null,null,2]
[{"$f":"Select!$C$13","v":"1. April 2019"},null,null,null,null,null,null,null,3,null,null,null,null,null,null,null,3]
["Datum",null,null,null,null,null,null,null,4,null,null,null,null,null,null,null,4]
[{"$f":"'C32_Baum'!$D$3","v":"Steinwender Alois"},null,null,null,null,null,null,null,5,null,null,null,null,null,null,null,5]
["Name",null,null,null,null,null,null,null,"wenn erforderlich",null,null,null,null,null,null,null,"wenn erforderlich"]
[{"$f":"'C32_Baum'!$F$3","v":"Bogensport Lungau"},null,null,null,null,null,null,null,"Stechen",null,null,null,null,null,null,null,"Stechen"]
["Verein",null,null,null,null,null,null,null,null,null,null,null,null,"gewonnen",null,null,null,null,null,null,null,"gewonnen"]
[{"$f":"Select!$C$20","v":"Compound Herren"},null,null,null,null,null,null,null,"Schütze:",null,null,null,null,"verloren",null,null,"Schütze:",null,null,null,null,"verloren"]
["Bogenklasse"]
[null,null,null,null,null,null,null,null,"Gegner:",null,"Name:",null,null,null,null,null,"Gegner:",null,"Name:"]
[null,null,null,null,null,null,null,null,null,null,"Unterschrift:",null,null,null,null,null,null,null,"Unterschrift:"]
[]
[]
["1/4 Finale",null,null,null,{"$f":"'C32_Baum'!$M$72","v":"Scheibe: 21A"},null,null,null,"1/2 Finale",null,null,null,{"$f":"'C32_Baum'!$Q$72","v":"Scheibe: 21"},null,null,null,"1./2. od. 3./4. Platz",null,null,null,"Scheibe:"]
[null,1,2,3,"Summe","Ges.",null,null,null,1,2,3,"Summe","Ges.",null,null,null,1,2,3,"Summe","Ges."]
[1,null,null,null,null,null,null,null,1,null,null,null,null,null,null,null,1]
[2,null,null,null,null,null,null,null,2,null,null,null,null,null,null,null,2]
[3,null,null,null,null,null,null,null,3,null,null,null,null,null,null,null,3]
[4,null,null,null,null,null,null,null,4,null,null,null,null,null,null,null,4]
[5,null,null,null,null,null,null,null,5,null,null,null,null,null,null,null,5]
["wenn erforderlich",null,null,null,null,null,null,null,"wenn erforderlich",null,null,null,null,null,null,null,"wenn erforderlich"]
["Stechen",null,null,null,null,null,null,null,"Stechen",null,null,null,null,null,null,null,"Stechen"]
[null,null,null,null,null,"gewonnen",null,null,null,null,null,null,null,"gewonnen",null,null,null,null,null,null,null,"gewonnen"]
["Schütze:",null,null,null,null,"verloren",null,null,"Schütze:",null,null,null,null,"verloren",null,null,"Schütze:",null,null,null,null,"verloren"]
[]
["Gegner:",null,"Name:",null,null,null,null,null,"Gegner:",null,"Name:",null,null,null,null,null,"Gegner:",null,"Name:"]
[null,null,"Unterschrift:",null,null,null,null,null,null,null,"Unterschrift:",null,null,null,null,null,null,null,"Unterschrift:"]
[]
[]
[]
[null,null,null,null,null,null,null,null,"1/16 Elimination",null,null,null,{"$f":"'C32_Baum'!$D$73","v":"Scheibe: 1B"},null,null,null,"1/8 Elimination",null,null,null,{"$f":"'C32_Baum'!$I$72","v":"Scheibe: 11A"}]
[null,null,null,null,null,null,null,null,null,1,2,3,"Summe","Ges.",null,null,null,1,2,3,"Summe","Ges."]
[{"$f":"Select!$C$12","v":"Demoturnier"},null,null,null,null,null,null,null,1,null,null,null,null,null,null,null,1]
["Veranstaltung",null,null,null,null,null,null,null,2,null,null,null,null,null,null,null,2]
[{"$f":"Select!$C$13","v":"1. April 2019"},null,null,null,null,null,null,null,3,null,null,null,null,null,null,null,3]
["Datum",null,null,null,null,null,null,null,4,null,null,null,null,null,null,null,4]
[{"$f":"'C32_Baum'!$D$4","v":"Trausmiller Hannes"},null,null,null,null,null,null,null,5,null,null,null,null,null,null,null,5]
["Name",null,null,null,null,null,null,null,"wenn erforderlich",null,null,null,null,null,null,null,"wenn erforderlich"]
[{"$f":"'C32_Baum'!$F$4","v":"BS Ligist - Archery Freaks"},null,null,null,null,null,null,null,"Stechen",null,null,null,null,null,null,null,"Stechen"]
["Verein",null,null,null,null,null,null,null,null,null,null,null,null,"gewonnen",null,null,null,null,null,null,null,"gewonnen"]
[{"$f":"Select!$C$20","v":"Compound Herren"},null,null,null,null,null,null,null,"Schütze:",null,null,null,null,"verloren",null,null,"Schütze:",null,null,null,null,"verloren"]
["Bogenklasse"]
[null,null,null,null,null,null,null,null,"Gegner:",null,"Name:",null,null,null,null,null,"Gegner:",null,"Name:"]
[null,null,null,null,null,null,null,null,null,null,"Unterschrift:",null,null,null,null,null,null,null,"Unterschrift:"]
[]
[]
["1/4 Finale",null,null,null,{"$f":"'C32_Baum'!$M$72","v":"Scheibe: 21A"},null,null,null,"1/2 Finale",null,null,null,{"$f":"'C32_Baum'!$Q$72","v":"Scheibe: 21"},null,null,null,"1./2. od. 3./4. Platz",null,null,null,"Scheibe:"]
[null,1,2,3,"Summe","Ges.",null,null,null,1,2,3,"Summe","Ges.",null,null,null,1,2,3,"Summe","Ges."]
[1,null,null,null,null,null,null,null,1,null,null,null,null,null,null,null,1]
[2,null,null,null,null,null,null,null,2,null,null,null,null,null,null,null,2]
[3,null,null,null,null,null,null,null,3,null,null,null,null,null,null,null,3]
[4,null,null,null,null,null,null,null,4,null,null,null,null,null,null,null,4]
[5,null,null,null,null,null,null,null,5,null,null,null,null,null,null,null,5]
["wenn erforderlich",null,null,null,null,null,null,null,"wenn erforderlich",null,null,null,null,null,null,null,"wenn erforderlich"]
["Stechen",null,null,null,null,null,null,null,"Stechen",null,null,null,null,null,null,null,"Stechen"]
[null,null,null,null,null,"gewonnen",null,null,null,null,null,null,null,"gewonnen",null,null,null,null,null,null,null,"gewonnen"]
["Schütze:",null,null,null,null,"verloren",null,null,"Schütze:",null,null,null,null,"verloren",null,null,"Schütze:",null,null,null,null,"verloren"]
[]
["Gegner:",null,"Name:",null,null,null,null,null,"Gegner:",null,"Name:",null,null,null,null,null,"Gegner:",null,"Name:"]
[null,null,"Unterschrift:",null,null,null,null,null,null,null,"Unterschrift:",null,null,null,null,null,null,null,"Unterschrift:"]
[]
[]
[]
[null,null,null,null,null,null,null,null,"1/16 Elimination",null,null,null,{"$f":"'C32_Baum'!$D$74","v":"Scheibe: 2A"},null,null,null,"1/8 Elimination",null,null,null,{"$f":"'C32_Baum'!$I$73","v":"Scheibe: 11B"}]
[null,null,null,null,null,null,null,null,null,1,2,3,"Summe","Ges.",null,null,null,1,2,3,"Summe","Ges."]
[{"$f":"Select!$C$12","v":"Demoturnier"},null,null,null,null,null,null,null,1,null,null,null,null,null,null,null,1]
["Veranstaltung",null,null,null,null,null,null,null,2,null,null,null,null,null,null,null,2]
[{"$f":"Select!$C$13","v":"1. April 2019"},null,null,null,null,null,null,null,3,null,null,null,null,null,null,null,3]
["Datum",null,null,null,null,null,null,null,4,null,null,null,null,null,null,null,4]
[{"$f":"'C32_Baum'!$D$7","v":"Kolm Martin"},null,null,null,null,null,null,null,5,null,null,null,null,null,null,null,5]
["Name",null,null,null,null,null,null,null,"wenn erforderlich",null,null,null,null,null,null,null,"wenn erforderlich"]
[{"$f":"'C32_Baum'!$F$7","v":"WBZ Union Zwettl"},null,null,null,null,null,null,null,"Stechen",null,null,null,null,null,null,null,"Stechen"]
["Verein",null,null,null,null,null,null,null,null,null,null,null,null,"gewonnen",null,null,null,null,null,null,null,"gewonnen"]
[{"$f":"Select!$C$20","v":"Compound Herren"},null,null,null,null,null,null,null,"Schütze:",null,null,null,null,"verloren",null,null,"Schütze:",null,null,null,null,"verloren"]
["Bogenklasse"]
[null,null,null,null,null,null,null,null,"Gegner:",null,"Name:",null,null,null,null,null,"Gegner:",null,"Name:"]
[null,null,null,null,null,null,null,null,null,null,"Unterschrift:",null,null,null,null,null,null,null,"Unterschrift:"]
[]
[]
["1/4 Finale",null,null,null,{"$f":"'C32_Baum'!$M$72","v":"Scheibe: 21A"},null,null,null,"1/2 Finale",null,null,null,{"$f":"'C32_Baum'!$Q$72","v":"Scheibe: 21"},null,null,null,"1./2. od. 3./4. Platz",null,null,null,"Scheibe:"]
[null,1,2,3,"Summe","Ges.",null,null,null,1,2,3,"Summe","Ges.",null,null,null,1,2,3,"Summe","Ges."]
[1,null,null,null,null,null,null,null,1,null,null,null,null,null,null,null,1]
[2,null,null,null,null,null,null,null,2,null,null,null,null,null,null,null,2]
[3,null,null,null,null,null,null,null,3,null,null,null,null,null,null,null,3]
[4,null,null,null,null,null,null,null,4,null,null,null,null,null,null,null,4]
[5,null,null,null,null,null,null,null,5,null,null,null,null,null,null,null,5]
["wenn erforderlich",null,null,null,null,null,null,null,"wenn erforderlich",null,null,null,null,null,null,null,"wenn erforderlich"]
["Stechen",null,null,null,null,null,null,null,"Stechen",null,null,null,null,null,null,null,"Stechen"]
[null,null,null,null,null,"gewonnen",null,null,null,null,null,null,null,"gewonnen",null,null,null,null,null,null,null,"gewonnen"]
["Schütze:",null,null,null,null,"verloren",null,null,"Schütze:",null,null,null,null,"verloren",null,null,"Schütze:",null,null,null,null,"verloren"]
[]
["Gegner:",null,"Name:",null,null,null,null,null,"Gegner:",null,"Name:",null,null,null,null,null,"Gegner:",null,"Name:"]
[null,null,"Unterschrift:",null,null,null,null,null,null,null,"Unterschrift:",null,null,null,null,null,null,null,"Unterschrift:"]
[]
[]
[]
[null,null,null,null,null,null,null,null,"1/16 Elimination",null,null,null,{"$f":"'C32_Baum'!$D$75","v":"Scheibe: 2B"},null,null,null,"1/8 Elimination",null,null,null,{"$f":"'C32_Baum'!$I$73","v":"Scheibe: 11B"}]
[null,null,null,null,null,null,null,null,null,1,2,3,"Summe","Ges.",null,null,null,1,2,3,"Summe","Ges."]
[{"$f":"Select!$C$12","v":"Demoturnier"},null,null,null,null,null,null,null,1,null,null,null,null,null,null,null,1]
["Veranstaltung",null,null,null,null,null,null,null,2,null,null,null,null,null,null,null,2]
[{"$f":"Select!$C$13","v":"1. April 2019"},null,null,null,null,null,null,null,3,null,null,null,null,null,null,null,3]
["Datum",null,null,null,null,null,null,null,4,null,null,null,null,null,null,null,4]
[{"$f":"'C32_Baum'!$D$8","v":"Bucher Martin"},null,null,null,null,null,null,null,5,null,null,null,null,null,null,null,5]
["Name",null,null,null,null,null,null,null,"wenn erforderlich",null,null,null,null,null,null,null,"wenn erforderlich"]
[{"$f":"'C32_Baum'!$F$8","v":"LH Graz"},null,null,null,null,null,null,null,"Stechen",null,null,null,null,null,null,null,"Stechen"]
["Verein",null,null,null,null,null,null,null,null,null,null,null,null,"gewonnen",null,null,null,null,null,null,null,"gewonnen"]
[{"$f":"Select!$C$20","v":"Compound Herren"},null,null,null,null,null,null,null,"Schütze:",null,null,null,null,"verloren",null,null,"Schütze:",null,null,null,null,"verloren"]
["Bogenklasse"]
[null,null,null,null,null,null,null,null,"Gegner:",null,"Name:",null,null,null,null,null,"Gegner:",null,"Name:"]
[null,null,null,null,null,null,null,null,null,null,"Unterschrift:",null,null,null,null,null,null,null,"Unterschrift:"]
[]
[]
["1/4 Finale",null,null,null,{"$f":"'C32_Baum'!$M$72","v":"Scheibe: 21A"},null,null,null,"1/2 Finale",null,null,null,{"$f":"'C32_Baum'!$Q$72","v":"Scheibe: 21"},null,null,null,"1./2. od. 3./4. Platz",null,null,null,"Scheibe:"]
[null,1,2,3,"Summe","Ges.",null,null,null,1,2,3,"Summe","Ges.",null,null,null,1,2,3,"Summe","Ges."]
[1,null,null,null,null,null,null,null,1,null,null,null,null,null,null,null,1]
[2,null,null,null,null,null,null,null,2,null,null,null,null,null,null,null,2]
[3,null,null,null,null,null,null,null,3,null,null,null,null,null,null,null,3]
[4,null,null,null,null,null,null,null,4,null,null,null,null,null,null,null,4]
[5,null,null,null,null,null,null,null,5,null,null,null,null,null,null,null,5]
["wenn erforderlich",null,null,null,null,null,null,null,"wenn erforderlich",null,null,null,null,null,null,null,"wenn erforderlich"]
["Stechen",null,null,null,null,null,null,null,"Stechen",null,null,null,null,null,null,null,"Stechen"]
[null,null,null,null,null,"gewonnen",null,null,null,null,null,null,null,"gewonnen",null,null,null,null,null,null,null,"gewonnen"]
["Schütze:",null,null,null,null,"verloren",null,null,"Schütze:",null,null,null,null,"verloren",null,null,"Schütze:",null,null,null,null,"verloren"]
[]
["Gegner:",null,"Name:",null,null,null,null,null,"Gegner:",null,"Name:",null,null,null,null,null,"Gegner:",null,"Name:"]
[null,null,"Unterschrift:",null,null,null,null,null,null,null,"Unterschrift:",null,null,null,null,null,null,null,"Unterschrift:"]
[]
[]
[]
[null,null,null,null,null,null,null,null,"1/16 Elimination",null,null,null,{"$f":"'C32_Baum'!$D$76","v":"Scheibe: 3A"},null,null,null,"1/8 Elimination",null,null,null,{"$f":"'C32_Baum'!$I$74","v":"Scheibe: 12A"}]
[null,null,null,null,null,null,null,null,null,1,2,3,"Summe","Ges.",null,null,null,1,2,3,"Summe","Ges."]
[{"$f":"Select!$C$12","v":"Demoturnier"},null,null,null,null,null,null,null,1,null,null,null,null,null,null,null,1]
["Veranstaltung",null,null,null,null,null,null,null,2,null,null,null,null,null,null,null,2]
[{"$f":"Select!$C$13","v":"1. April 2019"},null,null,null,null,null,null,null,3,null,null,null,null,null,null,null,3]
["Datum",null,null,null,null,null,null,null,4,null,null,null,null,null,null,null,4]
[{"$f":"'C32_Baum'!$D$11","v":"Helmer Gerhard"},null,null,null,null,null,null,null,5,null,null,null,null,null,null,null,5]
["Name",null,null,null,null,null,null,null,"wenn erforderlich",null,null,null,null,null,null,null,"wenn erforderlich"]
[{"$f":"'C32_Baum'!$F$11","v":"UBC Diana NÖ"},null,null,null,null,null,null,null,"Stechen",null,null,null,null,null,null,null,"Stechen"]
["Verein",null,null,null,null,null,null,null,null,null,null,null,null,"gewonnen",null,null,null,null,null,null,null,"gewonnen"]
[{"$f":"Select!$C$20","v":"Compound Herren"},null,null,null,null,null,null,null,"Schütze:",null,null,null,null,"verloren",null,null,"Schütze:",null,null,null,null,"verloren"]
["Bogenklasse"]
[null,null,null,null,null,null,null,null,"Gegner:",null,"Name:",null,null,null,null,null,"Gegner:",null,"Name:"]
[null,null,null,null,null,null,null,null,null,null,"Unterschrift:",null,null,null,null,null,null,null,"Unterschrift:"]
[]
[]
["1/4 Finale",null,null,null,{"$f":"'C32_Baum'!$M$73","v":"Scheibe: 21B"},null,null,null,"1/2 Finale",null,null,null,{"$f":"'C32_Baum'!$Q$72","v":"Scheibe: 21"},null,null,null,"1./2. od. 3./4. Platz",null,null,null,"Scheibe:"]
[null,1,2,3,"Summe","Ges.",null,null,null,1,2,3,"Summe","Ges.",null,null,null,1,2,3,"Summe","Ges."]
[1,null,null,null,null,null,null,null,1,null,null,null,null,null,null,null,1]
[2,null,null,null,null,null,null,null,2,null,null,null,null,null,null,null,2]
[3,null,null,null,null,null,null,null,3,null,null,null,null,null,null,null,3]
[4,null,null,null,null,null,null,null,4,null,null,null,null,null,null,null,4]
[5,null,null,null,null,null,null,null,5,null,null,null,null,null,null,null,5]
["wenn erforderlich",null,null,null,null,null,null,null,"wenn erforderlich",null,null,null,null,null,null,null,"wenn erforderlich"]
["Stechen",null,null,null,null,null,null,null,"Stechen",null,null,null,null,null,null,null,"Stechen"]
[null,null,null,null,null,"gewonnen",null,null,null,null,null,null,null,"gewonnen",null,null,null,null,null,null,null,"gewonnen"]
["Schütze:",null,null,null,null,"verloren",null,null,"Schütze:",null,null,null,null,"verloren",null,null,"Schütze:",null,null,null,null,"verloren"]
[]
["Gegner:",null,"Name:",null,null,null,null,null,"Gegner:",null,"Name:",null,null,null,null,null,"Gegner:",null,"Name:"]
[null,null,"Unterschrift:",null,null,null,null,null,null,null,"Unterschrift:",null,null,null,null,null,null,null,"Unterschrift:"]
[]
[]
[]
[null,null,null,null,null,null,null,null,"1/16 Elimination",null,null,null,{"$f":"'C32_Baum'!$D$77","v":"Scheibe: 3B"},null,null,null,"1/8 Elimination",null,null,null,{"$f":"'C32_Baum'!$I$74","v":"Scheibe: 12A"}]
[null,null,null,null,null,null,null,null,null,1,2,3,"Summe","Ges.",null,null,null,1,2,3,"Summe","Ges."]
[{"$f":"Select!$C$12","v":"Demoturnier"},null,null,null,null,null,null,null,1,null,null,null,null,null,null,null,1]
["Veranstaltung",null,null,null,null,null,null,null,2,null,null,null,null,null,null,null,2]
[{"$f":"Select!$C$13","v":"1. April 2019"},null,null,null,null,null,null,null,3,null,null,null,null,null,null,null,3]
["Datum",null,null,null,null,null,null,null,4,null,null,null,null,null,null,null,4]
[{"$f":"'C32_Baum'!$D$12","v":"Schaden Harald"},null,null,null,null,null,null,null,5,null,null,null,null,null,null,null,5]
["Name",null,null,null,null,null,null,null,"wenn erforderlich",null,null,null,null,null,null,null,"wenn erforderlich"]
[{"$f":"'C32_Baum'!$F$12","v":"BSC Gaal"},null,null,null,null,null,null,null,"Stechen",null,null,null,null,null,null,null,"Stechen"]
["Verein",null,null,null,null,null,null,null,null,null,null,null,null,"gewonnen",null,null,null,null,null,null,null,"gewonnen"]
[{"$f":"Select!$C$20","v":"Compound Herren"},null,null,null,null,null,null,null,"Schütze:",null,null,null,null,"verloren",null,null,"Schütze:",null,null,null,null,"verloren"]
["Bogenklasse"]
[null,null,null,null,null,null,null,null,"Gegner:",null,"Name:",null,null,null,null,null,"Gegner:",null,"Name:"]
[null,null,null,null,null,null,null,null,null,null,"Unterschrift:",null,null,null,null,null,null,null,"Unterschrift:"]
[]
[]
["1/4 Finale",null,null,null,{"$f":"'C32_Baum'!$M$73","v":"Scheibe: 21B"},null,null,null,"1/2 Finale",null,null,null,{"$f":"'C32_Baum'!$Q$72","v":"Scheibe: 21"},null,null,null,"1./2. od. 3./4. Platz",null,null,null,"Scheibe:"]
[null,1,2,3,"Summe","Ges.",null,null,null,1,2,3,"Summe","Ges.",null,null,null,1,2,3,"Summe","Ges."]
[1,null,null,null,null,null,null,null,1,null,null,null,null,null,null,null,1]
[2,null,null,null,null,null,null,null,2,null,null,null,null,null,null,null,2]
[3,null,null,null,null,null,null,null,3,null,null,null,null,null,null,null,3]
[4,null,null,null,null,null,null,null,4,null,null,null,null,null,null,null,4]
[5,null,null,null,null,null,null,null,5,null,null,null,null,null,null,null,5]
["wenn erforderlich",null,null,null,null,null,null,null,"wenn erforderlich",null,null,null,null,null,null,null,"wenn erforderlich"]
["Stechen",null,null,null,null,null,null,null,"Stechen",null,null,null,null,null,null,null,"Stechen"]
[null,null,null,null,null,"gewonnen",null,null,null,null,null,null,null,"gewonnen",null,null,null,null,null,null,null,"gewonnen"]
["Schütze:",null,null,null,null,"verloren",null,null,"Schütze:",null,null,null,null,"verloren",null,null,"Schütze:",null,null,null,null,"verloren"]
[]
["Gegner:",null,"Name:",null,null,null,null,null,"Gegner:",null,"Name:",null,null,null,null,null,"Gegner:",null,"Name:"]
[null,null,"Unterschrift:",null,null,null,null,null,null,null,"Unterschrift:",null,null,null,null,null,null,null,"Unterschrift:"]
[]
[]
[]
[null,null,null,null,null,null,null,null,"1/16 Elimination",null,null,null,{"$f":"'C32_Baum'!$D$78","v":"Scheibe: 4A"},null,null,null,"1/8 Elimination",null,null,null,{"$f":"'C32_Baum'!$I$75","v":"Scheibe: 12B"}]
[null,null,null,null,null,null,null,null,null,1,2,3,"Summe","Ges.",null,null,null,1,2,3,"Summe","Ges."]
[{"$f":"Select!$C$12","v":"Demoturnier"},null,null,null,null,null,null,null,1,null,null,null,null,null,null,null,1]
["Veranstaltung",null,null,null,null,null,null,null,2,null,null,null,null,null,null,null,2]
[{"$f":"Select!$C$13","v":"1. April 2019"},null,null,null,null,null,null,null,3,null,null,null,null,null,null,null,3]
["Datum",null,null,null,null,null,null,null,4,null,null,null,null,null,null,null,4]
[{"$f":"'C32_Baum'!$D$15","v":"Quinz Harald"},null,null,null,null,null,null,null,5,null,null,null,null,null,null,null,5]
["Name",null,null,null,null,null,null,null,"wenn erforderlich",null,null,null,null,null,null,null,"wenn erforderlich"]
[{"$f":"'C32_Baum'!$F$15","v":"Atus Zeltweg Sektion Bogen"},null,null,null,null,null,null,null,"Stechen",null,null,null,null,null,null,null,"Stechen"]
["Verein",null,null,null,null,null,null,null,null,null,null,null,null,"gewonnen",null,null,null,null,null,null,null,"gewonnen"]
[{"$f":"Select!$C$20","v":"Compound Herren"},null,null,null,null,null,null,null,"Schütze:",null,null,null,null,"verloren",null,null,"Schütze:",null,null,null,null,"verloren"]
["Bogenklasse"]
[null,null,null,null,null,null,null,null,"Gegner:",null,"Name:",null,null,null,null,null,"Gegner:",null,"Name:"]
[null,null,null,null,null,null,null,null,null,null,"Unterschrift:",null,null,null,null,null,null,null,"Unterschrift:"]
[]
[]
["1/4 Finale",null,null,null,{"$f":"'C32_Baum'!$M$73","v":"Scheibe: 21B"},null,null,null,"1/2 Finale",null,null,null,{"$f":"'C32_Baum'!$Q$72","v":"Scheibe: 21"},null,null,null,"1./2. od. 3./4. Platz",null,null,null,"Scheibe:"]
[null,1,2,3,"Summe","Ges.",null,null,null,1,2,3,"Summe","Ges.",null,null,null,1,2,3,"Summe","Ges."]
[1,null,null,null,null,null,null,null,1,null,null,null,null,null,null,null,1]
[2,null,null,null,null,null,null,null,2,null,null,null,null,null,null,null,2]
[3,null,null,null,null,null,null,null,3,null,null,null,null,null,null,null,3]
[4,null,null,null,null,null,null,null,4,null,null,null,null,null,null,null,4]
[5,null,null,null,null,null,null,null,5,null,null,null,null,null,null,null,5]
["wenn erforderlich",null,null,null,null,null,null,null,"wenn erforderlich",null,null,null,null,null,null,null,"wenn erforderlich"]
["Stechen",null,null,null,null,null,null,null,"Stechen",null,null,null,null,null,null,null,"Stechen"]
[null,null,null,null,null,"gewonnen",null,null,null,null,null,null,null,"gewonnen",null,null,null,null,null,null,null,"gewonnen"]
["Schütze:",null,null,null,null,"verloren",null,null,"Schütze:",null,null,null,null,"verloren",null,null,"Schütze:",null,null,null,null,"verloren"]
[]
["Gegner:",null,"Name:",null,null,null,null,null,"Gegner:",null,"Name:",null,null,null,null,null,"Gegner:",null,"Name:"]
[null,null,"Unterschrift:",null,null,null,null,null,null,null,"Unterschrift:",null,null,null,null,null,null,null,"Unterschrift:"]
[]
[]
[]
[null,null,null,null,null,null,null,null,"1/16 Elimination",null,null,null,{"$f":"'C32_Baum'!$D$79","v":"Scheibe: 4B"},null,null,null,"1/8 Elimination",null,null,null,{"$f":"'C32_Baum'!$I$75","v":"Scheibe: 12B"}]
[null,null,null,null,null,null,null,null,null,1,2,3,"Summe","Ges.",null,null,null,1,2,3,"Summe","Ges."]
[{"$f":"Select!$C$12","v":"Demoturnier"},null,null,null,null,null,null,null,1,null,null,null,null,null,null,null,1]
["Veranstaltung",null,null,null,null,null,null,null,2,null,null,null,null,null,null,null,2]
[{"$f":"Select!$C$13","v":"1. April 2019"},null,null,null,null,null,null,null,3,null,null,null,null,null,null,null,3]
["Datum",null,null,null,null,null,null,null,4,null,null,null,null,null,null,null,4]
[{"$f":"'C32_Baum'!$D$16","v":"Richter Oscar"},null,null,null,null,null,null,null,5,null,null,null,null,null,null,null,5]
["Name",null,null,null,null,null,null,null,"wenn erforderlich",null,null,null,null,null,null,null,"wenn erforderlich"]
[{"$f":"'C32_Baum'!$F$16","v":"BC Golden Arrows"},null,null,null,null,null,null,null,"Stechen",null,null,null,null,null,null,null,"Stechen"]
["Verein",null,null,null,null,null,null,null,null,null,null,null,null,"gewonnen",null,null,null,null,null,null,null,"gewonnen"]
[{"$f":"Select!$C$20","v":"Compound Herren"},null,null,null,null,null,null,null,"Schütze:",null,null,null,null,"verloren",null,null,"Schütze:",null,null,null,null,"verloren"]
["Bogenklasse"]
[null,null,null,null,null,null,null,null,"Gegner:",null,"Name:",null,null,null,null,null,"Gegner:",null,"Name:"]
[null,null,null,null,null,null,null,null,null,null,"Unterschrift:",null,null,null,null,null,null,null,"Unterschrift:"]
[]
[]
["1/4 Finale",null,null,null,{"$f":"'C32_Baum'!$M$73","v":"Scheibe: 21B"},null,null,null,"1/2 Finale",null,null,null,{"$f":"'C32_Baum'!$Q$72","v":"Scheibe: 21"},null,null,null,"1./2. od. 3./4. Platz",null,null,null,"Scheibe:"]
[null,1,2,3,"Summe","Ges.",null,null,null,1,2,3,"Summe","Ges.",null,null,null,1,2,3,"Summe","Ges."]
[1,null,null,null,null,null,null,null,1,null,null,null,null,null,null,null,1]
[2,null,null,null,null,null,null,null,2,null,null,null,null,null,null,null,2]
[3,null,null,null,null,null,null,null,3,null,null,null,null,null,null,null,3]
[4,null,null,null,null,null,null,null,4,null,null,null,null,null,null,null,4]
[5,null,null,null,null,null,null,null,5,null,null,null,null,null,null,null,5]
["wenn erforderlich",null,null,null,null,null,null,null,"wenn erforderlich",null,null,null,null,null,null,null,"wenn erforderlich"]
["Stechen",null,null,null,null,null,null,null,"Stechen",null,null,null,null,null,null,null,"Stechen"]
[null,null,null,null,null,"gewonnen",null,null,null,null,null,null,null,"gewonnen",null,null,null,null,null,null,null,"gewonnen"]
["Schütze:",null,null,null,null,"verloren",null,null,"Schütze:",null,null,null,null,"verloren",null,null,"Schütze:",null,null,null,null,"verloren"]
[]
["Gegner:",null,"Name:",null,null,null,null,null,"Gegner:",null,"Name:",null,null,null,null,null,"Gegner:",null,"Name:"]
[null,null,"Unterschrift:",null,null,null,null,null,null,null,"Unterschrift:",null,null,null,null,null,null,null,"Unterschrift:"]
[]
[]
[]
[null,null,null,null,null,null,null,null,"1/16 Elimination",null,null,null,{"$f":"'C32_Baum'!$D$80","v":"Scheibe: 5A"},null,null,null,"1/8 Elimination",null,null,null,{"$f":"'C32_Baum'!$I$76","v":"Scheibe: 13A"}]
[null,null,null,null,null,null,null,null,null,1,2,3,"Summe","Ges.",null,null,null,1,2,3,"Summe","Ges."]
[{"$f":"Select!$C$12","v":"Demoturnier"},null,null,null,null,null,null,null,1,null,null,null,null,null,null,null,1]
["Veranstaltung",null,null,null,null,null,null,null,2,null,null,null,null,null,null,null,2]
[{"$f":"Select!$C$13","v":"1. April 2019"},null,null,null,null,null,null,null,3,null,null,null,null,null,null,null,3]
["Datum",null,null,null,null,null,null,null,4,null,null,null,null,null,null,null,4]
[{"$f":"'C32_Baum'!$D$19","v":"Traxler Helmuth"},null,null,null,null,null,null,null,5,null,null,null,null,null,null,null,5]
["Name",null,null,null,null,null,null,null,"wenn erforderlich",null,null,null,null,null,null,null,"wenn erforderlich"]
[{"$f":"'C32_Baum'!$F$19","v":"UBC Diana NÖ"},null,null,null,null,null,null,null,"Stechen",null,null,null,null,null,null,null,"Stechen"]
["Verein",null,null,null,null,null,null,null,null,null,null,null,null,"gewonnen",null,null,null,null,null,null,null,"gewonnen"]
[{"$f":"Select!$C$20","v":"Compound Herren"},null,null,null,null,null,null,null,"Schütze:",null,null,null,null,"verloren",null,null,"Schütze:",null,null,null,null,"verloren"]
["Bogenklasse"]
[null,null,null,null,null,null,null,null,"Gegner:",null,"Name:",null,null,null,null,null,"Gegner:",null,"Name:"]
[null,null,null,null,null,null,null,null,null,null,"Unterschrift:",null,null,null,null,null,null,null,"Unterschrift:"]
[]
[]
["1/4 Finale",null,null,null,{"$f":"'C32_Baum'!$M$74","v":"Scheibe: 22A"},null,null,null,"1/2 Finale",null,null,null,{"$f":"'C32_Baum'!$Q$73","v":"Scheibe: 22"},null,null,null,"1./2. od. 3./4. Platz",null,null,null,"Scheibe:"]
[null,1,2,3,"Summe","Ges.",null,null,null,1,2,3,"Summe","Ges.",null,null,null,1,2,3,"Summe","Ges."]
[1,null,null,null,null,null,null,null,1,null,null,null,null,null,null,null,1]
[2,null,null,null,null,null,null,null,2,null,null,null,null,null,null,null,2]
[3,null,null,null,null,null,null,null,3,null,null,null,null,null,null,null,3]
[4,null,null,null,null,null,null,null,4,null,null,null,null,null,null,null,4]
[5,null,null,null,null,null,null,null,5,null,null,null,null,null,null,null,5]
["wenn erforderlich",null,null,null,null,null,null,null,"wenn erforderlich",null,null,null,null,null,null,null,"wenn erforderlich"]
["Stechen",null,null,null,null,null,null,null,"Stechen",null,null,null,null,null,null,null,"Stechen"]
[null,null,null,null,null,"gewonnen",null,null,null,null,null,null,null,"gewonnen",null,null,null,null,null,null,null,"gewonnen"]
["Schütze:",null,null,null,null,"verloren",null,null,"Schütze:",null,null,null,null,"verloren",null,null,"Schütze:",null,null,null,null,"verloren"]
[]
["Gegner:",null,"Name:",null,null,null,null,null,"Gegner:",null,"Name:",null,null,null,null,null,"Gegner:",null,"Name:"]
[null,null,"Unterschrift:",null,null,null,null,null,null,null,"Unterschrift:",null,null,null,null,null,null,null,"Unterschrift:"]
[]
[]
[]
[null,null,null,null,null,null,null,null,"1/16 Elimination",null,null,null,{"$f":"'C32_Baum'!$D$81","v":"Scheibe: 5B"},null,null,null,"1/8 Elimination",null,null,null,{"$f":"'C32_Baum'!$I$76","v":"Scheibe: 13A"}]
[null,null,null,null,null,null,null,null,null,1,2,3,"Summe","Ges.",null,null,null,1,2,3,"Summe","Ges."]
[{"$f":"Select!$C$12","v":"Demoturnier"},null,null,null,null,null,null,null,1,null,null,null,null,null,null,null,1]
["Veranstaltung",null,null,null,null,null,null,null,2,null,null,null,null,null,null,null,2]
[{"$f":"Select!$C$13","v":"1. April 2019"},null,null,null,null,null,null,null,3,null,null,null,null,null,null,null,3]
["Datum",null,null,null,null,null,null,null,4,null,null,null,null,null,null,null,4]
[{"$f":"'C32_Baum'!$D$20","v":"Irnsperger Gerald"},null,null,null,null,null,null,null,5,null,null,null,null,null,null,null,5]
["Name",null,null,null,null,null,null,null,"wenn erforderlich",null,null,null,null,null,null,null,"wenn erforderlich"]
[{"$f":"'C32_Baum'!$F$20","v":"3D Bogenplatz Riedersbach"},null,null,null,null,null,null,null,"Stechen",null,null,null,null,null,null,null,"Stechen"]
["Verein",null,null,null,null,null,null,null,null,null,null,null,null,"gewonnen",null,null,null,null,null,null,null,"gewonnen"]
[{"$f":"Select!$C$20","v":"Compound Herren"},null,null,null,null,null,null,null,"Schütze:",null,null,null,null,"verloren",null,null,"Schütze:",null,null,null,null,"verloren"]
["Bogenklasse"]
[null,null,null,null,null,null,null,null,"Gegner:",null,"Name:",null,null,null,null,null,"Gegner:",null,"Name:"]
[null,null,null,null,null,null,null,null,null,null,"Unterschrift:",null,null,null,null,null,null,null,"Unterschrift:"]
[]
[]
["1/4 Finale",null,null,null,{"$f":"'C32_Baum'!$M$74","v":"Scheibe: 22A"},null,null,null,"1/2 Finale",null,null,null,{"$f":"'C32_Baum'!$Q$73","v":"Scheibe: 22"},null,null,null,"1./2. od. 3./4. Platz",null,null,null,"Scheibe:"]
[null,1,2,3,"Summe","Ges.",null,null,null,1,2,3,"Summe","Ges.",null,null,null,1,2,3,"Summe","Ges."]
[1,null,null,null,null,null,null,null,1,null,null,null,null,null,null,null,1]
[2,null,null,null,null,null,null,null,2,null,null,null,null,null,null,null,2]
[3,null,null,null,null,null,null,null,3,null,null,null,null,null,null,null,3]
[4,null,null,null,null,null,null,null,4,null,null,null,null,null,null,null,4]
[5,null,null,null,null,null,null,null,5,null,null,null,null,null,null,null,5]
["wenn erforderlich",null,null,null,null,null,null,null,"wenn erforderlich",null,null,null,null,null,null,null,"wenn erforderlich"]
["Stechen",null,null,null,null,null,null,null,"Stechen",null,null,null,null,null,null,null,"Stechen"]
[null,null,null,null,null,"gewonnen",null,null,null,null,null,null,null,"gewonnen",null,null,null,null,null,null,null,"gewonnen"]
["Schütze:",null,null,null,null,"verloren",null,null,"Schütze:",null,null,null,null,"verloren",null,null,"Schütze:",null,null,null,null,"verloren"]
[]
["Gegner:",null,"Name:",null,null,null,null,null,"Gegner:",null,"Name:",null,null,null,null,null,"Gegner:",null,"Name:"]
[null,null,"Unterschrift:",null,null,null,null,null,null,null,"Unterschrift:",null,null,null,null,null,null,null,"Unterschrift:"]
[]
[]
[]
[null,null,null,null,null,null,null,null,"1/16 Elimination",null,null,null,{"$f":"'C32_Baum'!$D$82","v":"Scheibe: 6A"},null,null,null,"1/8 Elimination",null,null,null,{"$f":"'C32_Baum'!$I$77","v":"Scheibe: 13B"}]
[null,null,null,null,null,null,null,null,null,1,2,3,"Summe","Ges.",null,null,null,1,2,3,"Summe","Ges."]
[{"$f":"Select!$C$12","v":"Demoturnier"},null,null,null,null,null,null,null,1,null,null,null,null,null,null,null,1]
["Veranstaltung",null,null,null,null,null,null,null,2,null,null,null,null,null,null,null,2]
[{"$f":"Select!$C$13","v":"1. April 2019"},null,null,null,null,null,null,null,3,null,null,null,null,null,null,null,3]
["Datum",null,null,null,null,null,null,null,4,null,null,null,null,null,null,null,4]
[{"$f":"'C32_Baum'!$D$23","v":"Lehner Heinz"},null,null,null,null,null,null,null,5,null,null,null,null,null,null,null,5]
["Name",null,null,null,null,null,null,null,"wenn erforderlich",null,null,null,null,null,null,null,"wenn erforderlich"]
[{"$f":"'C32_Baum'!$F$23","v":"Salzkammergut Bogensport Club"},null,null,null,null,null,null,null,"Stechen",null,null,null,null,null,null,null,"Stechen"]
["Verein",null,null,null,null,null,null,null,null,null,null,null,null,"gewonnen",null,null,null,null,null,null,null,"gewonnen"]
[{"$f":"Select!$C$20","v":"Compound Herren"},null,null,null,null,null,null,null,"Schütze:",null,null,null,null,"verloren",null,null,"Schütze:",null,null,null,null,"verloren"]
["Bogenklasse"]
[null,null,null,null,null,null,null,null,"Gegner:",null,"Name:",null,null,null,null,null,"Gegner:",null,"Name:"]
[null,null,null,null,null,null,null,null,null,null,"Unterschrift:",null,null,null,null,null,null,null,"Unterschrift:"]
[]
[]
["1/4 Finale",null,null,null,{"$f":"'C32_Baum'!$M$74","v":"Scheibe: 22A"},null,null,null,"1/2 Finale",null,null,null,{"$f":"'C32_Baum'!$Q$73","v":"Scheibe: 22"},null,null,null,"1./2. od. 3./4. Platz",null,null,null,"Scheibe:"]
[null,1,2,3,"Summe","Ges.",null,null,null,1,2,3,"Summe","Ges.",null,null,null,1,2,3,"Summe","Ges."]
[1,null,null,null,null,null,null,null,1,null,null,null,null,null,null,null,1]
[2,null,null,null,null,null,null,null,2,null,null,null,null,null,null,null,2]
[3,null,null,null,null,null,null,null,3,null,null,null,null,null,null,null,3]
[4,null,null,null,null,null,null,null,4,null,null,null,null,null,null,null,4]
[5,null,null,null,null,null,null,null,5,null,null,null,null,null,null,null,5]
["wenn erforderlich",null,null,null,null,null,null,null,"wenn erforderlich",null,null,null,null,null,null,null,"wenn erforderlich"]
["Stechen",null,null,null,null,null,null,null,"Stechen",null,null,null,null,null,null,null,"Stechen"]
[null,null,null,null,null,"gewonnen",null,null,null,null,null,null,null,"gewonnen",null,null,null,null,null,null,null,"gewonnen"]
["Schütze:",null,null,null,null,"verloren",null,null,"Schütze:",null,null,null,null,"verloren",null,null,"Schütze:",null,null,null,null,"verloren"]
[]
["Gegner:",null,"Name:",null,null,null,null,null,"Gegner:",null,"Name:",null,null,null,null,null,"Gegner:",null,"Name:"]
[null,null,"Unterschrift:",null,null,null,null,null,null,null,"Unterschrift:",null,null,null,null,null,null,null,"Unterschrift:"]
[]
[]
[]
[null,null,null,null,null,null,null,null,"1/16 Elimination",null,null,null,{"$f":"'C32_Baum'!$D$83","v":"Scheibe: 6B"},null,null,null,"1/8 Elimination",null,null,null,{"$f":"'C32_Baum'!$I$77","v":"Scheibe: 13B"}]
[null,null,null,null,null,null,null,null,null,1,2,3,"Summe","Ges.",null,null,null,1,2,3,"Summe","Ges."]
[{"$f":"Select!$C$12","v":"Demoturnier"},null,null,null,null,null,null,null,1,null,null,null,null,null,null,null,1]
["Veranstaltung",null,null,null,null,null,null,null,2,null,null,null,null,null,null,null,2]
[{"$f":"Select!$C$13","v":"1. April 2019"},null,null,null,null,null,null,null,3,null,null,null,null,null,null,null,3]
["Datum",null,null,null,null,null,null,null,4,null,null,null,null,null,null,null,4]
[{"$f":"'C32_Baum'!$D$24","v":"Willingshofer August"},null,null,null,null,null,null,null,5,null,null,null,null,null,null,null,5]
["Name",null,null,null,null,null,null,null,"wenn erforderlich",null,null,null,null,null,null,null,"wenn erforderlich"]
[{"$f":"'C32_Baum'!$F$24","v":"BSC Velden"},null,null,null,null,null,null,null,"Stechen",null,null,null,null,null,null,null,"Stechen"]
["Verein",null,null,null,null,null,null,null,null,null,null,null,null,"gewonnen",null,null,null,null,null,null,null,"gewonnen"]
[{"$f":"Select!$C$20","v":"Compound Herren"},null,null,null,null,null,null,null,"Schütze:",null,null,null,null,"verloren",null,null,"Schütze:",null,null,null,null,"verloren"]
["Bogenklasse"]
[null,null,null,null,null,null,null,null,"Gegner:",null,"Name:",null,null,null,null,null,"Gegner:",null,"Name:"]
[null,null,null,null,null,null,null,null,null,null,"Unterschrift:",null,null,null,null,null,null,null,"Unterschrift:"]
[]
[]
["1/4 Finale",null,null,null,{"$f":"'C32_Baum'!$M$74","v":"Scheibe: 22A"},null,null,null,"1/2 Finale",null,null,null,{"$f":"'C32_Baum'!$Q$73","v":"Scheibe: 22"},null,null,null,"1./2. od. 3./4. Platz",null,null,null,"Scheibe:"]
[null,1,2,3,"Summe","Ges.",null,null,null,1,2,3,"Summe","Ges.",null,null,null,1,2,3,"Summe","Ges."]
[1,null,null,null,null,null,null,null,1,null,null,null,null,null,null,null,1]
[2,null,null,null,null,null,null,null,2,null,null,null,null,null,null,null,2]
[3,null,null,null,null,null,null,null,3,null,null,null,null,null,null,null,3]
[4,null,null,null,null,null,null,null,4,null,null,null,null,null,null,null,4]
[5,null,null,null,null,null,null,null,5,null,null,null,null,null,null,null,5]
["wenn erforderlich",null,null,null,null,null,null,null,"wenn erforderlich",null,null,null,null,null,null,null,"wenn erforderlich"]
["Stechen",null,null,null,null,null,null,null,"Stechen",null,null,null,null,null,null,null,"Stechen"]
[null,null,null,null,null,"gewonnen",null,null,null,null,null,null,null,"gewonnen",null,null,null,null,null,null,null,"gewonnen"]
["Schütze:",null,null,null,null,"verloren",null,null,"Schütze:",null,null,null,null,"verloren",null,null,"Schütze:",null,null,null,null,"verloren"]
[]
["Gegner:",null,"Name:",null,null,null,null,null,"Gegner:",null,"Name:",null,null,null,null,null,"Gegner:",null,"Name:"]
[null,null,"Unterschrift:",null,null,null,null,null,null,null,"Unterschrift:",null,null,null,null,null,null,null,"Unterschrift:"]
[]
[]
[]
[null,null,null,null,null,null,null,null,"1/16 Elimination",null,null,null,{"$f":"'C32_Baum'!$D$84","v":"Scheibe: 7A"},null,null,null,"1/8 Elimination",null,null,null,{"$f":"'C32_Baum'!$I$78","v":"Scheibe: 14A"}]
[null,null,null,null,null,null,null,null,null,1,2,3,"Summe","Ges.",null,null,null,1,2,3,"Summe","Ges."]
[{"$f":"Select!$C$12","v":"Demoturnier"},null,null,null,null,null,null,null,1,null,null,null,null,null,null,null,1]
["Veranstaltung",null,null,null,null,null,null,null,2,null,null,null,null,null,null,null,2]
[{"$f":"Select!$C$13","v":"1. April 2019"},null,null,null,null,null,null,null,3,null,null,null,null,null,null,null,3]
["Datum",null,null,null,null,null,null,null,4,null,null,null,null,null,null,null,4]
[{"$f":"'C32_Baum'!$D$27","v":"Zezula Erwin"},null,null,null,null,null,null,null,5,null,null,null,null,null,null,null,5]
["Name",null,null,null,null,null,null,null,"wenn erforderlich",null,null,null,null,null,null,null,"wenn erforderlich"]
[{"$f":"'C32_Baum'!$F$27","v":"WBZ Union Zwettl"},null,null,null,null,null,null,null,"Stechen",null,null,null,null,null,null,null,"Stechen"]
["Verein",null,null,null,null,null,null,null,null,null,null,null,null,"gewonnen",null,null,null,null,null,null,null,"gewonnen"]
[{"$f":"Select!$C$20","v":"Compound Herren"},null,null,null,null,null,null,null,"Schütze:",null,null,null,null,"verloren",null,null,"Schütze:",null,null,null,null,"verloren"]
["Bogenklasse"]
[null,null,null,null,null,null,null,null,"Gegner:",null,"Name:",null,null,null,null,null,"Gegner:",null,"Name:"]
[null,null,null,null,null,null,null,null,null,null,"Unterschrift:",null,null,null,null,null,null,null,"Unterschrift:"]
[]
[]
["1/4 Finale",null,null,null,{"$f":"'C32_Baum'!$M$75","v":"Scheibe: 22B"},null,null,null,"1/2 Finale",null,null,null,{"$f":"'C32_Baum'!$Q$73","v":"Scheibe: 22"},null,null,null,"1./2. od. 3./4. Platz",null,null,null,"Scheibe:"]
[null,1,2,3,"Summe","Ges.",null,null,null,1,2,3,"Summe","Ges.",null,null,null,1,2,3,"Summe","Ges."]
[1,null,null,null,null,null,null,null,1,null,null,null,null,null,null,null,1]
[2,null,null,null,null,null,null,null,2,null,null,null,null,null,null,null,2]
[3,null,null,null,null,null,null,null,3,null,null,null,null,null,null,null,3]
[4,null,null,null,null,null,null,null,4,null,null,null,null,null,null,null,4]
[5,null,null,null,null,null,null,null,5,null,null,null,null,null,null,null,5]
["wenn erforderlich",null,null,null,null,null,null,null,"wenn erforderlich",null,null,null,null,null,null,null,"wenn erforderlich"]
["Stechen",null,null,null,null,null,null,null,"Stechen",null,null,null,null,null,null,null,"Stechen"]
[null,null,null,null,null,"gewonnen",null,null,null,null,null,null,null,"gewonnen",null,null,null,null,null,null,null,"gewonnen"]
["Schütze:",null,null,null,null,"verloren",null,null,"Schütze:",null,null,null,null,"verloren",null,null,"Schütze:",null,null,null,null,"verloren"]
[]
["Gegner:",null,"Name:",null,null,null,null,null,"Gegner:",null,"Name:",null,null,null,null,null,"Gegner:",null,"Name:"]
[null,null,"Unterschrift:",null,null,null,null,null,null,null,"Unterschrift:",null,null,null,null,null,null,null,"Unterschrift:"]
[]
[]
[]
[null,null,null,null,null,null,null,null,"1/16 Elimination",null,null,null,{"$f":"'C32_Baum'!$D$85","v":"Scheibe: 7B"},null,null,null,"1/8 Elimination",null,null,null,{"$f":"'C32_Baum'!$I$78","v":"Scheibe: 14A"}]
[null,null,null,null,null,null,null,null,null,1,2,3,"Summe","Ges.",null,null,null,1,2,3,"Summe","Ges."]
[{"$f":"Select!$C$12","v":"Demoturnier"},null,null,null,null,null,null,null,1,null,null,null,null,null,null,null,1]
["Veranstaltung",null,null,null,null,null,null,null,2,null,null,null,null,null,null,null,2]
[{"$f":"Select!$C$13","v":"1. April 2019"},null,null,null,null,null,null,null,3,null,null,null,null,null,null,null,3]
["Datum",null,null,null,null,null,null,null,4,null,null,null,null,null,null,null,4]
[{"$f":"'C32_Baum'!$D$28","v":"RAINER Andreas"},null,null,null,null,null,null,null,5,null,null,null,null,null,null,null,5]
["Name",null,null,null,null,null,null,null,"wenn erforderlich",null,null,null,null,null,null,null,"wenn erforderlich"]
[{"$f":"'C32_Baum'!$F$28","v":"BSC Semriach"},null,null,null,null,null,null,null,"Stechen",null,null,null,null,null,null,null,"Stechen"]
["Verein",null,null,null,null,null,null,null,null,null,null,null,null,"gewonnen",null,null,null,null,null,null,null,"gewonnen"]
[{"$f":"Select!$C$20","v":"Compound Herren"},null,null,null,null,null,null,null,"Schütze:",null,null,null,null,"verloren",null,null,"Schütze:",null,null,null,null,"verloren"]
["Bogenklasse"]
[null,null,null,null,null,null,null,null,"Gegner:",null,"Name:",null,null,null,null,null,"Gegner:",null,"Name:"]
[null,null,null,null,null,null,null,null,null,null,"Unterschrift:",null,null,null,null,null,null,null,"Unterschrift:"]
[]
[]
["1/4 Finale",null,null,null,{"$f":"'C32_Baum'!$M$75","v":"Scheibe: 22B"},null,null,null,"1/2 Finale",null,null,null,{"$f":"'C32_Baum'!$Q$73","v":"Scheibe: 22"},null,null,null,"1./2. od. 3./4. Platz",null,null,null,"Scheibe:"]
[null,1,2,3,"Summe","Ges.",null,null,null,1,2,3,"Summe","Ges.",null,null,null,1,2,3,"Summe","Ges."]
[1,null,null,null,null,null,null,null,1,null,null,null,null,null,null,null,1]
[2,null,null,null,null,null,null,null,2,null,null,null,null,null,null,null,2]
[3,null,null,null,null,null,null,null,3,null,null,null,null,null,null,null,3]
[4,null,null,null,null,null,null,null,4,null,null,null,null,null,null,null,4]
[5,null,null,null,null,null,null,null,5,null,null,null,null,null,null,null,5]
["wenn erforderlich",null,null,null,null,null,null,null,"wenn erforderlich",null,null,null,null,null,null,null,"wenn erforderlich"]
["Stechen",null,null,null,null,null,null,null,"Stechen",null,null,null,null,null,null,null,"Stechen"]
[null,null,null,null,null,"gewonnen",null,null,null,null,null,null,null,"gewonnen",null,null,null,null,null,null,null,"gewonnen"]
["Schütze:",null,null,null,null,"verloren",null,null,"Schütze:",null,null,null,null,"verloren",null,null,"Schütze:",null,null,null,null,"verloren"]
[]
["Gegner:",null,"Name:",null,null,null,null,null,"Gegner:",null,"Name:",null,null,null,null,null,"Gegner:",null,"Name:"]
[null,null,"Unterschrift:",null,null,null,null,null,null,null,"Unterschrift:",null,null,null,null,null,null,null,"Unterschrift:"]
[]
[]
[]
[null,null,null,null,null,null,null,null,"1/16 Elimination",null,null,null,{"$f":"'C32_Baum'!$D$86","v":"Scheibe: 8A"},null,null,null,"1/8 Elimination",null,null,null,{"$f":"'C32_Baum'!$I$79","v":"Scheibe: 14B"}]
[null,null,null,null,null,null,null,null,null,1,2,3,"Summe","Ges.",null,null,null,1,2,3,"Summe","Ges."]
[{"$f":"Select!$C$12","v":"Demoturnier"},null,null,null,null,null,null,null,1,null,null,null,null,null,null,null,1]
["Veranstaltung",null,null,null,null,null,null,null,2,null,null,null,null,null,null,null,2]
[{"$f":"Select!$C$13","v":"1. April 2019"},null,null,null,null,null,null,null,3,null,null,null,null,null,null,null,3]
["Datum",null,null,null,null,null,null,null,4,null,null,null,null,null,null,null,4]
[{"$f":"'C32_Baum'!$D$31","v":"Holzer Gerhard"},null,null,null,null,null,null,null,5,null,null,null,null,null,null,null,5]
["Name",null,null,null,null,null,null,null,"wenn erforderlich",null,null,null,null,null,null,null,"wenn erforderlich"]
[{"$f":"'C32_Baum'!$F$31","v":"UBC Diana NÖ"},null,null,null,null,null,null,null,"Stechen",null,null,null,null,null,null,null,"Stechen"]
["Verein",null,null,null,null,null,null,null,null,null,null,null,null,"gewonnen",null,null,null,null,null,null,null,"gewonnen"]
[{"$f":"Select!$C$20","v":"Compound Herren"},null,null,null,null,null,null,null,"Schütze:",null,null,null,null,"verloren",null,null,"Schütze:",null,null,null,null,"verloren"]
["Bogenklasse"]
[null,null,null,null,null,null,null,null,"Gegner:",null,"Name:",null,null,null,null,null,"Gegner:",null,"Name:"]
[null,null,null,null,null,null,null,null,null,null,"Unterschrift:",null,null,null,null,null,null,null,"Unterschrift:"]
[]
[]
["1/4 Finale",null,null,null,{"$f":"'C32_Baum'!$M$75","v":"Scheibe: 22B"},null,null,null,"1/2 Finale",null,null,null,{"$f":"'C32_Baum'!$Q$73","v":"Scheibe: 22"},null,null,null,"1./2. od. 3./4. Platz",null,null,null,"Scheibe:"]
[null,1,2,3,"Summe","Ges.",null,null,null,1,2,3,"Summe","Ges.",null,null,null,1,2,3,"Summe","Ges."]
[1,null,null,null,null,null,null,null,1,null,null,null,null,null,null,null,1]
[2,null,null,null,null,null,null,null,2,null,null,null,null,null,null,null,2]
[3,null,null,null,null,null,null,null,3,null,null,null,null,null,null,null,3]
[4,null,null,null,null,null,null,null,4,null,null,null,null,null,null,null,4]
[5,null,null,null,null,null,null,null,5,null,null,null,null,null,null,null,5]
["wenn erforderlich",null,null,null,null,null,null,null,"wenn erforderlich",null,null,null,null,null,null,null,"wenn erforderlich"]
["Stechen",null,null,null,null,null,null,null,"Stechen",null,null,null,null,null,null,null,"Stechen"]
[null,null,null,null,null,"gewonnen",null,null,null,null,null,null,null,"gewonnen",null,null,null,null,null,null,null,"gewonnen"]
["Schütze:",null,null,null,null,"verloren",null,null,"Schütze:",null,null,null,null,"verloren",null,null,"Schütze:",null,null,null,null,"verloren"]
[]
["Gegner:",null,"Name:",null,null,null,null,null,"Gegner:",null,"Name:",null,null,null,null,null,"Gegner:",null,"Name:"]
[null,null,"Unterschrift:",null,null,null,null,null,null,null,"Unterschrift:",null,null,null,null,null,null,null,"Unterschrift:"]
[]
[]
[]
[null,null,null,null,null,null,null,null,"1/16 Elimination",null,null,null,{"$f":"'C32_Baum'!$D$87","v":"Scheibe: 8B"},null,null,null,"1/8 Elimination",null,null,null,{"$f":"'C32_Baum'!$I$79","v":"Scheibe: 14B"}]
[null,null,null,null,null,null,null,null,null,1,2,3,"Summe","Ges.",null,null,null,1,2,3,"Summe","Ges."]
[{"$f":"Select!$C$12","v":"Demoturnier"},null,null,null,null,null,null,null,1,null,null,null,null,null,null,null,1]
["Veranstaltung",null,null,null,null,null,null,null,2,null,null,null,null,null,null,null,2]
[{"$f":"Select!$C$13","v":"1. April 2019"},null,null,null,null,null,null,null,3,null,null,null,null,null,null,null,3]
["Datum",null,null,null,null,null,null,null,4,null,null,null,null,null,null,null,4]
[{"$f":"'C32_Baum'!$D$32","v":"Wippel Wolfgang"},null,null,null,null,null,null,null,5,null,null,null,null,null,null,null,5]
["Name",null,null,null,null,null,null,null,"wenn erforderlich",null,null,null,null,null,null,null,"wenn erforderlich"]
[{"$f":"'C32_Baum'!$F$32","v":"BC Union Graz Seiersberg"},null,null,null,null,null,null,null,"Stechen",null,null,null,null,null,null,null,"Stechen"]
["Verein",null,null,null,null,null,null,null,null,null,null,null,null,"gewonnen",null,null,null,null,null,null,null,"gewonnen"]
[{"$f":"Select!$C$20","v":"Compound Herren"},null,null,null,null,null,null,null,"Schütze:",null,null,null,null,"verloren",null,null,"Schütze:",null,null,null,null,"verloren"]
["Bogenklasse"]
[null,null,null,null,null,null,null,null,"Gegner:",null,"Name:",null,null,null,null,null,"Gegner:",null,"Name:"]
[null,null,null,null,null,null,null,null,null,null,"Unterschrift:",null,null,null,null,null,null,null,"Unterschrift:"]
[]
[]
["1/4 Finale",null,null,null,{"$f":"'C32_Baum'!$M$75","v":"Scheibe: 22B"},null,null,null,"1/2 Finale",null,null,null,{"$f":"'C32_Baum'!$Q$73","v":"Scheibe: 22"},null,null,null,"1./2. od. 3./4. Platz",null,null,null,"Scheibe:"]
[null,1,2,3,"Summe","Ges.",null,null,null,1,2,3,"Summe","Ges.",null,null,null,1,2,3,"Summe","Ges."]
[1,null,null,null,null,null,null,null,1,null,null,null,null,null,null,null,1]
[2,null,null,null,null,null,null,null,2,null,null,null,null,null,null,null,2]
[3,null,null,null,null,null,null,null,3,null,null,null,null,null,null,null,3]
[4,null,null,null,null,null,null,null,4,null,null,null,null,null,null,null,4]
[5,null,null,null,null,null,null,null,5,null,null,null,null,null,null,null,5]
["wenn erforderlich",null,null,null,null,null,null,null,"wenn erforderlich",null,null,null,null,null,null,null,"wenn erforderlich"]
["Stechen",null,null,null,null,null,null,null,"Stechen",null,null,null,null,null,null,null,"Stechen"]
[null,null,null,null,null,"gewonnen",null,null,null,null,null,null,null,"gewonnen",null,null,null,null,null,null,null,"gewonnen"]
["Schütze:",null,null,null,null,"verloren",null,null,"Schütze:",null,null,null,null,"verloren",null,null,"Schütze:",null,null,null,null,"verloren"]
[]
["Gegner:",null,"Name:",null,null,null,null,null,"Gegner:",null,"Name:",null,null,null,null,null,"Gegner:",null,"Name:"]
[null,null,"Unterschrift:",null,null,null,null,null,null,null,"Unterschrift:",null,null,null,null,null,null,null,"Unterschrift:"]
[]
[]
[]
[null,null,null,null,null,null,null,null,"1/16 Elimination",null,null,null,{"$f":"'C32_Baum'!$D$88","v":"Scheibe: 9A"},null,null,null,"1/8 Elimination",null,null,null,{"$f":"'C32_Baum'!$I$80","v":"Scheibe: 15A"}]
[null,null,null,null,null,null,null,null,null,1,2,3,"Summe","Ges.",null,null,null,1,2,3,"Summe","Ges."]
[{"$f":"Select!$C$12","v":"Demoturnier"},null,null,null,null,null,null,null,1,null,null,null,null,null,null,null,1]
["Veranstaltung",null,null,null,null,null,null,null,2,null,null,null,null,null,null,null,2]
[{"$f":"Select!$C$13","v":"1. April 2019"},null,null,null,null,null,null,null,3,null,null,null,null,null,null,null,3]
["Datum",null,null,null,null,null,null,null,4,null,null,null,null,null,null,null,4]
[{"$f":"'C32_Baum'!$D$35","v":"Hubmann Gerhard"},null,null,null,null,null,null,null,5,null,null,null,null,null,null,null,5]
["Name",null,null,null,null,null,null,null,"wenn erforderlich",null,null,null,null,null,null,null,"wenn erforderlich"]
[{"$f":"'C32_Baum'!$F$35","v":"EAT-Bogensport"},null,null,null,null,null,null,null,"Stechen",null,null,null,null,null,null,null,"Stechen"]
["Verein",null,null,null,null,null,null,null,null,null,null,null,null,"gewonnen",null,null,null,null,null,null,null,"gewonnen"]
[{"$f":"Select!$C$20","v":"Compound Herren"},null,null,null,null,null,null,null,"Schütze:",null,null,null,null,"verloren",null,null,"Schütze:",null,null,null,null,"verloren"]
["Bogenklasse"]
[null,null,null,null,null,null,null,null,"Gegner:",null,"Name:",null,null,null,null,null,"Gegner:",null,"Name:"]
[null,null,null,null,null,null,null,null,null,null,"Unterschrift:",null,null,null,null,null,null,null,"Unterschrift:"]
[]
[]
["1/4 Finale",null,null,null,{"$f":"'C32_Baum'!$M$76","v":"Scheibe: 23A"},null,null,null,"1/2 Finale",null,null,null,{"$f":"'C32_Baum'!$Q$74","v":"Scheibe: 23"},null,null,null,"1./2. od. 3./4. Platz",null,null,null,"Scheibe:"]
[null,1,2,3,"Summe","Ges.",null,null,null,1,2,3,"Summe","Ges.",null,null,null,1,2,3,"Summe","Ges."]
[1,null,null,null,null,null,null,null,1,null,null,null,null,null,null,null,1]
[2,null,null,null,null,null,null,null,2,null,null,null,null,null,null,null,2]
[3,null,null,null,null,null,null,null,3,null,null,null,null,null,null,null,3]
[4,null,null,null,null,null,null,null,4,null,null,null,null,null,null,null,4]
[5,null,null,null,null,null,null,null,5,null,null,null,null,null,null,null,5]
["wenn erforderlich",null,null,null,null,null,null,null,"wenn erforderlich",null,null,null,null,null,null,null,"wenn erforderlich"]
["Stechen",null,null,null,null,null,null,null,"Stechen",null,null,null,null,null,null,null,"Stechen"]
[null,null,null,null,null,"gewonnen",null,null,null,null,null,null,null,"gewonnen",null,null,null,null,null,null,null,"gewonnen"]
["Schütze:",null,null,null,null,"verloren",null,null,"Schütze:",null,null,null,null,"verloren",null,null,"Schütze:",null,null,null,null,"verloren"]
[]
["Gegner:",null,"Name:",null,null,null,null,null,"Gegner:",null,"Name:",null,null,null,null,null,"Gegner:",null,"Name:"]
[null,null,"Unterschrift:",null,null,null,null,null,null,null,"Unterschrift:",null,null,null,null,null,null,null,"Unterschrift:"]
[]
[]
[]
[null,null,null,null,null,null,null,null,"1/16 Elimination",null,null,null,{"$f":"'C32_Baum'!$D$89","v":"Scheibe: 9B"},null,null,null,"1/8 Elimination",null,null,null,{"$f":"'C32_Baum'!$I$80","v":"Scheibe: 15A"}]
[null,null,null,null,null,null,null,null,null,1,2,3,"Summe","Ges.",null,null,null,1,2,3,"Summe","Ges."]
[{"$f":"Select!$C$12","v":"Demoturnier"},null,null,null,null,null,null,null,1,null,null,null,null,null,null,null,1]
["Veranstaltung",null,null,null,null,null,null,null,2,null,null,null,null,null,null,null,2]
[{"$f":"Select!$C$13","v":"1. April 2019"},null,null,null,null,null,null,null,3,null,null,null,null,null,null,null,3]
["Datum",null,null,null,null,null,null,null,4,null,null,null,null,null,null,null,4]
[{"$f":"'C32_Baum'!$D$36","v":"Nadrai Herbert"},null,null,null,null,null,null,null,5,null,null,null,null,null,null,null,5]
["Name",null,null,null,null,null,null,null,"wenn erforderlich",null,null,null,null,null,null,null,"wenn erforderlich"]
[{"$f":"'C32_Baum'!$F$36","v":"BSC Arcus"},null,null,null,null,null,null,null,"Stechen",null,null,null,null,null,null,null,"Stechen"]
["Verein",null,null,null,null,null,null,null,null,null,null,null,null,"gewonnen",null,null,null,null,null,null,null,"gewonnen"]
[{"$f":"Select!$C$20","v":"Compound Herren"},null,null,null,null,null,null,null,"Schütze:",null,null,null,null,"verloren",null,null,"Schütze:",null,null,null,null,"verloren"]
["Bogenklasse"]
[null,null,null,null,null,null,null,null,"Gegner:",null,"Name:",null,null,null,null,null,"Gegner:",null,"Name:"]
[null,null,null,null,null,null,null,null,null,null,"Unterschrift:",null,null,null,null,null,null,null,"Unterschrift:"]
[]
[]
["1/4 Finale",null,null,null,{"$f":"'C32_Baum'!$M$76","v":"Scheibe: 23A"},null,null,null,"1/2 Finale",null,null,null,{"$f":"'C32_Baum'!$Q$74","v":"Scheibe: 23"},null,null,null,"1./2. od. 3./4. Platz",null,null,null,"Scheibe:"]
[null,1,2,3,"Summe","Ges.",null,null,null,1,2,3,"Summe","Ges.",null,null,null,1,2,3,"Summe","Ges."]
[1,null,null,null,null,null,null,null,1,null,null,null,null,null,null,null,1]
[2,null,null,null,null,null,null,null,2,null,null,null,null,null,null,null,2]
[3,null,null,null,null,null,null,null,3,null,null,null,null,null,null,null,3]
[4,null,null,null,null,null,null,null,4,null,null,null,null,null,null,null,4]
[5,null,null,null,null,null,null,null,5,null,null,null,null,null,null,null,5]
["wenn erforderlich",null,null,null,null,null,null,null,"wenn erforderlich",null,null,null,null,null,null,null,"wenn erforderlich"]
["Stechen",null,null,null,null,null,null,null,"Stechen",null,null,null,null,null,null,null,"Stechen"]
[null,null,null,null,null,"gewonnen",null,null,null,null,null,null,null,"gewonnen",null,null,null,null,null,null,null,"gewonnen"]
["Schütze:",null,null,null,null,"verloren",null,null,"Schütze:",null,null,null,null,"verloren",null,null,"Schütze:",null,null,null,null,"verloren"]
[]
["Gegner:",null,"Name:",null,null,null,null,null,"Gegner:",null,"Name:",null,null,null,null,null,"Gegner:",null,"Name:"]
[null,null,"Unterschrift:",null,null,null,null,null,null,null,"Unterschrift:",null,null,null,null,null,null,null,"Unterschrift:"]
[]
[]
[]
[null,null,null,null,null,null,null,null,"1/16 Elimination",null,null,null,{"$f":"'C32_Baum'!$D$90","v":"Scheibe: 10A"},null,null,null,"1/8 Elimination",null,null,null,{"$f":"'C32_Baum'!$I$81","v":"Scheibe: 15B"}]
[null,null,null,null,null,null,null,null,null,1,2,3,"Summe","Ges.",null,null,null,1,2,3,"Summe","Ges."]
[{"$f":"Select!$C$12","v":"Demoturnier"},null,null,null,null,null,null,null,1,null,null,null,null,null,null,null,1]
["Veranstaltung",null,null,null,null,null,null,null,2,null,null,null,null,null,null,null,2]
[{"$f":"Select!$C$13","v":"1. April 2019"},null,null,null,null,null,null,null,3,null,null,null,null,null,null,null,3]
["Datum",null,null,null,null,null,null,null,4,null,null,null,null,null,null,null,4]
[{"$f":"'C32_Baum'!$D$39","v":"Zimmerbeutel Axel"},null,null,null,null,null,null,null,5,null,null,null,null,null,null,null,5]
["Name",null,null,null,null,null,null,null,"wenn erforderlich",null,null,null,null,null,null,null,"wenn erforderlich"]
[{"$f":"'C32_Baum'!$F$39","v":"3D Bogenplatz Riedersbach"},null,null,null,null,null,null,null,"Stechen",null,null,null,null,null,null,null,"Stechen"]
["Verein",null,null,null,null,null,null,null,null,null,null,null,null,"gewonnen",null,null,null,null,null,null,null,"gewonnen"]
[{"$f":"Select!$C$20","v":"Compound Herren"},null,null,null,null,null,null,null,"Schütze:",null,null,null,null,"verloren",null,null,"Schütze:",null,null,null,null,"verloren"]
["Bogenklasse"]
[null,null,null,null,null,null,null,null,"Gegner:",null,"Name:",null,null,null,null,null,"Gegner:",null,"Name:"]
[null,null,null,null,null,null,null,null,null,null,"Unterschrift:",null,null,null,null,null,null,null,"Unterschrift:"]
[]
[]
["1/4 Finale",null,null,null,{"$f":"'C32_Baum'!$M$76","v":"Scheibe: 23A"},null,null,null,"1/2 Finale",null,null,null,{"$f":"'C32_Baum'!$Q$74","v":"Scheibe: 23"},null,null,null,"1./2. od. 3./4. Platz",null,null,null,"Scheibe:"]
[null,1,2,3,"Summe","Ges.",null,null,null,1,2,3,"Summe","Ges.",null,null,null,1,2,3,"Summe","Ges."]
[1,null,null,null,null,null,null,null,1,null,null,null,null,null,null,null,1]
[2,null,null,null,null,null,null,null,2,null,null,null,null,null,null,null,2]
[3,null,null,null,null,null,null,null,3,null,null,null,null,null,null,null,3]
[4,null,null,null,null,null,null,null,4,null,null,null,null,null,null,null,4]
[5,null,null,null,null,null,null,null,5,null,null,null,null,null,null,null,5]
["wenn erforderlich",null,null,null,null,null,null,null,"wenn erforderlich",null,null,null,null,null,null,null,"wenn erforderlich"]
["Stechen",null,null,null,null,null,null,null,"Stechen",null,null,null,null,null,null,null,"Stechen"]
[null,null,null,null,null,"gewonnen",null,null,null,null,null,null,null,"gewonnen",null,null,null,null,null,null,null,"gewonnen"]
["Schütze:",null,null,null,null,"verloren",null,null,"Schütze:",null,null,null,null,"verloren",null,null,"Schütze:",null,null,null,null,"verloren"]
[]
["Gegner:",null,"Name:",null,null,null,null,null,"Gegner:",null,"Name:",null,null,null,null,null,"Gegner:",null,"Name:"]
[null,null,"Unterschrift:",null,null,null,null,null,null,null,"Unterschrift:",null,null,null,null,null,null,null,"Unterschrift:"]
[]
[]
[]
[null,null,null,null,null,null,null,null,"1/16 Elimination",null,null,null,{"$f":"'C32_Baum'!$D$91","v":"Scheibe: 10B"},null,null,null,"1/8 Elimination",null,null,null,{"$f":"'C32_Baum'!$I$81","v":"Scheibe: 15B"}]
[null,null,null,null,null,null,null,null,null,1,2,3,"Summe","Ges.",null,null,null,1,2,3,"Summe","Ges."]
[{"$f":"Select!$C$12","v":"Demoturnier"},null,null,null,null,null,null,null,1,null,null,null,null,null,null,null,1]
["Veranstaltung",null,null,null,null,null,null,null,2,null,null,null,null,null,null,null,2]
[{"$f":"Select!$C$13","v":"1. April 2019"},null,null,null,null,null,null,null,3,null,null,null,null,null,null,null,3]
["Datum",null,null,null,null,null,null,null,4,null,null,null,null,null,null,null,4]
[{"$f":"'C32_Baum'!$D$40","v":"Wühl Martin"},null,null,null,null,null,null,null,5,null,null,null,null,null,null,null,5]
["Name",null,null,null,null,null,null,null,"wenn erforderlich",null,null,null,null,null,null,null,"wenn erforderlich"]
[{"$f":"'C32_Baum'!$F$40","v":"BSC Fischamend"},null,null,null,null,null,null,null,"Stechen",null,null,null,null,null,null,null,"Stechen"]
["Verein",null,null,null,null,null,null,null,null,null,null,null,null,"gewonnen",null,null,null,null,null,null,null,"gewonnen"]
[{"$f":"Select!$C$20","v":"Compound Herren"},null,null,null,null,null,null,null,"Schütze:",null,null,null,null,"verloren",null,null,"Schütze:",null,null,null,null,"verloren"]
["Bogenklasse"]
[null,null,null,null,null,null,null,null,"Gegner:",null,"Name:",null,null,null,null,null,"Gegner:",null,"Name:"]
[null,null,null,null,null,null,null,null,null,null,"Unterschrift:",null,null,null,null,null,null,null,"Unterschrift:"]
[]
[]
["1/4 Finale",null,null,null,{"$f":"'C32_Baum'!$M$76","v":"Scheibe: 23A"},null,null,null,"1/2 Finale",null,null,null,{"$f":"'C32_Baum'!$Q$74","v":"Scheibe: 23"},null,null,null,"1./2. od. 3./4. Platz",null,null,null,"Scheibe:"]
[null,1,2,3,"Summe","Ges.",null,null,null,1,2,3,"Summe","Ges.",null,null,null,1,2,3,"Summe","Ges."]
[1,null,null,null,null,null,null,null,1,null,null,null,null,null,null,null,1]
[2,null,null,null,null,null,null,null,2,null,null,null,null,null,null,null,2]
[3,null,null,null,null,null,null,null,3,null,null,null,null,null,null,null,3]
[4,null,null,null,null,null,null,null,4,null,null,null,null,null,null,null,4]
[5,null,null,null,null,null,null,null,5,null,null,null,null,null,null,null,5]
["wenn erforderlich",null,null,null,null,null,null,null,"wenn erforderlich",null,null,null,null,null,null,null,"wenn erforderlich"]
["Stechen",null,null,null,null,null,null,null,"Stechen",null,null,null,null,null,null,null,"Stechen"]
[null,null,null,null,null,"gewonnen",null,null,null,null,null,null,null,"gewonnen",null,null,null,null,null,null,null,"gewonnen"]
["Schütze:",null,null,null,null,"verloren",null,null,"Schütze:",null,null,null,null,"verloren",null,null,"Schütze:",null,null,null,null,"verloren"]
[]
["Gegner:",null,"Name:",null,null,null,null,null,"Gegner:",null,"Name:",null,null,null,null,null,"Gegner:",null,"Name:"]
[null,null,"Unterschrift:",null,null,null,null,null,null,null,"Unterschrift:",null,null,null,null,null,null,null,"Unterschrift:"]
[]
[]
[]
[null,null,null,null,null,null,null,null,"1/16 Elimination",null,null,null,{"$f":"'C32_Baum'!$D$92","v":"Scheibe: 11A"},null,null,null,"1/8 Elimination",null,null,null,{"$f":"'C32_Baum'!$I$82","v":"Scheibe: 16A"}]
[null,null,null,null,null,null,null,null,null,1,2,3,"Summe","Ges.",null,null,null,1,2,3,"Summe","Ges."]
[{"$f":"Select!$C$12","v":"Demoturnier"},null,null,null,null,null,null,null,1,null,null,null,null,null,null,null,1]
["Veranstaltung",null,null,null,null,null,null,null,2,null,null,null,null,null,null,null,2]
[{"$f":"Select!$C$13","v":"1. April 2019"},null,null,null,null,null,null,null,3,null,null,null,null,null,null,null,3]
["Datum",null,null,null,null,null,null,null,4,null,null,null,null,null,null,null,4]
[{"$f":"'C32_Baum'!$D$43","v":"Burda Erwin"},null,null,null,null,null,null,null,5,null,null,null,null,null,null,null,5]
["Name",null,null,null,null,null,null,null,"wenn erforderlich",null,null,null,null,null,null,null,"wenn erforderlich"]
[{"$f":"'C32_Baum'!$F$43","v":"BC Golden Arrows"},null,null,null,null,null,null,null,"Stechen",null,null,null,null,null,null,null,"Stechen"]
["Verein",null,null,null,null,null,null,null,null,null,null,null,null,"gewonnen",null,null,null,null,null,null,null,"gewonnen"]
[{"$f":"Select!$C$20","v":"Compound Herren"},null,null,null,null,null,null,null,"Schütze:",null,null,null,null,"verloren",null,null,"Schütze:",null,null,null,null,"verloren"]
["Bogenklasse"]
[null,null,null,null,null,null,null,null,"Gegner:",null,"Name:",null,null,null,null,null,"Gegner:",null,"Name:"]
[null,null,null,null,null,null,null,null,null,null,"Unterschrift:",null,null,null,null,null,null,null,"Unterschrift:"]
[]
[]
["1/4 Finale",null,null,null,{"$f":"'C32_Baum'!$M$77","v":"Scheibe: 23B"},null,null,null,"1/2 Finale",null,null,null,{"$f":"'C32_Baum'!$Q$74","v":"Scheibe: 23"},null,null,null,"1./2. od. 3./4. Platz",null,null,null,"Scheibe:"]
[null,1,2,3,"Summe","Ges.",null,null,null,1,2,3,"Summe","Ges.",null,null,null,1,2,3,"Summe","Ges."]
[1,null,null,null,null,null,null,null,1,null,null,null,null,null,null,null,1]
[2,null,null,null,null,null,null,null,2,null,null,null,null,null,null,null,2]
[3,null,null,null,null,null,null,null,3,null,null,null,null,null,null,null,3]
[4,null,null,null,null,null,null,null,4,null,null,null,null,null,null,null,4]
[5,null,null,null,null,null,null,null,5,null,null,null,null,null,null,null,5]
["wenn erforderlich",null,null,null,null,null,null,null,"wenn erforderlich",null,null,null,null,null,null,null,"wenn erforderlich"]
["Stechen",null,null,null,null,null,null,null,"Stechen",null,null,null,null,null,null,null,"Stechen"]
[null,null,null,null,null,"gewonnen",null,null,null,null,null,null,null,"gewonnen",null,null,null,null,null,null,null,"gewonnen"]
["Schütze:",null,null,null,null,"verloren",null,null,"Schütze:",null,null,null,null,"verloren",null,null,"Schütze:",null,null,null,null,"verloren"]
[]
["Gegner:",null,"Name:",null,null,null,null,null,"Gegner:",null,"Name:",null,null,null,null,null,"Gegner:",null,"Name:"]
[null,null,"Unterschrift:",null,null,null,null,null,null,null,"Unterschrift:",null,null,null,null,null,null,null,"Unterschrift:"]
[]
[]
[]
[null,null,null,null,null,null,null,null,"1/16 Elimination",null,null,null,{"$f":"'C32_Baum'!$D$93","v":"Scheibe: 11B"},null,null,null,"1/8 Elimination",null,null,null,{"$f":"'C32_Baum'!$I$82","v":"Scheibe: 16A"}]
[null,null,null,null,null,null,null,null,null,1,2,3,"Summe","Ges.",null,null,null,1,2,3,"Summe","Ges."]
[{"$f":"Select!$C$12","v":"Demoturnier"},null,null,null,null,null,null,null,1,null,null,null,null,null,null,null,1]
["Veranstaltung",null,null,null,null,null,null,null,2,null,null,null,null,null,null,null,2]
[{"$f":"Select!$C$13","v":"1. April 2019"},null,null,null,null,null,null,null,3,null,null,null,null,null,null,null,3]
["Datum",null,null,null,null,null,null,null,4,null,null,null,null,null,null,null,4]
[{"$f":"'C32_Baum'!$D$44","v":"Daum Stefan"},null,null,null,null,null,null,null,5,null,null,null,null,null,null,null,5]
["Name",null,null,null,null,null,null,null,"wenn erforderlich",null,null,null,null,null,null,null,"wenn erforderlich"]
[{"$f":"'C32_Baum'!$F$44","v":"BSC Sparkasse Jenbach"},null,null,null,null,null,null,null,"Stechen",null,null,null,null,null,null,null,"Stechen"]
["Verein",null,null,null,null,null,null,null,null,null,null,null,null,"gewonnen",null,null,null,null,null,null,null,"gewonnen"]
[{"$f":"Select!$C$20","v":"Compound Herren"},null,null,null,null,null,null,null,"Schütze:",null,null,null,null,"verloren",null,null,"Schütze:",null,null,null,null,"verloren"]
["Bogenklasse"]
[null,null,null,null,null,null,null,null,"Gegner:",null,"Name:",null,null,null,null,null,"Gegner:",null,"Name:"]
[null,null,null,null,null,null,null,null,null,null,"Unterschrift:",null,null,null,null,null,null,null,"Unterschrift:"]
[]
[]
["1/4 Finale",null,null,null,{"$f":"'C32_Baum'!$M$77","v":"Scheibe: 23B"},null,null,null,"1/2 Finale",null,null,null,{"$f":"'C32_Baum'!$Q$74","v":"Scheibe: 23"},null,null,null,"1./2. od. 3./4. Platz",null,null,null,"Scheibe:"]
[null,1,2,3,"Summe","Ges.",null,null,null,1,2,3,"Summe","Ges.",null,null,null,1,2,3,"Summe","Ges."]
[1,null,null,null,null,null,null,null,1,null,null,null,null,null,null,null,1]
[2,null,null,null,null,null,null,null,2,null,null,null,null,null,null,null,2]
[3,null,null,null,null,null,null,null,3,null,null,null,null,null,null,null,3]
[4,null,null,null,null,null,null,null,4,null,null,null,null,null,null,null,4]
[5,null,null,null,null,null,null,null,5,null,null,null,null,null,null,null,5]
["wenn erforderlich",null,null,null,null,null,null,null,"wenn erforderlich",null,null,null,null,null,null,null,"wenn erforderlich"]
["Stechen",null,null,null,null,null,null,null,"Stechen",null,null,null,null,null,null,null,"Stechen"]
[null,null,null,null,null,"gewonnen",null,null,null,null,null,null,null,"gewonnen",null,null,null,null,null,null,null,"gewonnen"]
["Schütze:",null,null,null,null,"verloren",null,null,"Schütze:",null,null,null,null,"verloren",null,null,"Schütze:",null,null,null,null,"verloren"]
[]
["Gegner:",null,"Name:",null,null,null,null,null,"Gegner:",null,"Name:",null,null,null,null,null,"Gegner:",null,"Name:"]
[null,null,"Unterschrift:",null,null,null,null,null,null,null,"Unterschrift:",null,null,null,null,null,null,null,"Unterschrift:"]
[]
[]
[]
[null,null,null,null,null,null,null,null,"1/16 Elimination",null,null,null,{"$f":"'C32_Baum'!$D$94","v":"Scheibe: 12A"},null,null,null,"1/8 Elimination",null,null,null,{"$f":"'C32_Baum'!$I$83","v":"Scheibe: 16B"}]
[null,null,null,null,null,null,null,null,null,1,2,3,"Summe","Ges.",null,null,null,1,2,3,"Summe","Ges."]
[{"$f":"Select!$C$12","v":"Demoturnier"},null,null,null,null,null,null,null,1,null,null,null,null,null,null,null,1]
["Veranstaltung",null,null,null,null,null,null,null,2,null,null,null,null,null,null,null,2]
[{"$f":"Select!$C$13","v":"1. April 2019"},null,null,null,null,null,null,null,3,null,null,null,null,null,null,null,3]
["Datum",null,null,null,null,null,null,null,4,null,null,null,null,null,null,null,4]
[{"$f":"'C32_Baum'!$D$47","v":"Schlechter Hans-Jürgen"},null,null,null,null,null,null,null,5,null,null,null,null,null,null,null,5]
["Name",null,null,null,null,null,null,null,"wenn erforderlich",null,null,null,null,null,null,null,"wenn erforderlich"]
[{"$f":"'C32_Baum'!$F$47","v":"BSV Brixlegg - NAVAJOS"},null,null,null,null,null,null,null,"Stechen",null,null,null,null,null,null,null,"Stechen"]
["Verein",null,null,null,null,null,null,null,null,null,null,null,null,"gewonnen",null,null,null,null,null,null,null,"gewonnen"]
[{"$f":"Select!$C$20","v":"Compound Herren"},null,null,null,null,null,null,null,"Schütze:",null,null,null,null,"verloren",null,null,"Schütze:",null,null,null,null,"verloren"]
["Bogenklasse"]
[null,null,null,null,null,null,null,null,"Gegner:",null,"Name:",null,null,null,null,null,"Gegner:",null,"Name:"]
[null,null,null,null,null,null,null,null,null,null,"Unterschrift:",null,null,null,null,null,null,null,"Unterschrift:"]
[]
[]
["1/4 Finale",null,null,null,{"$f":"'C32_Baum'!$M$77","v":"Scheibe: 23B"},null,null,null,"1/2 Finale",null,null,null,{"$f":"'C32_Baum'!$Q$74","v":"Scheibe: 23"},null,null,null,"1./2. od. 3./4. Platz",null,null,null,"Scheibe:"]
[null,1,2,3,"Summe","Ges.",null,null,null,1,2,3,"Summe","Ges.",null,null,null,1,2,3,"Summe","Ges."]
[1,null,null,null,null,null,null,null,1,null,null,null,null,null,null,null,1]
[2,null,null,null,null,null,null,null,2,null,null,null,null,null,null,null,2]
[3,null,null,null,null,null,null,null,3,null,null,null,null,null,null,null,3]
[4,null,null,null,null,null,null,null,4,null,null,null,null,null,null,null,4]
[5,null,null,null,null,null,null,null,5,null,null,null,null,null,null,null,5]
["wenn erforderlich",null,null,null,null,null,null,null,"wenn erforderlich",null,null,null,null,null,null,null,"wenn erforderlich"]
["Stechen",null,null,null,null,null,null,null,"Stechen",null,null,null,null,null,null,null,"Stechen"]
[null,null,null,null,null,"gewonnen",null,null,null,null,null,null,null,"gewonnen",null,null,null,null,null,null,null,"gewonnen"]
["Schütze:",null,null,null,null,"verloren",null,null,"Schütze:",null,null,null,null,"verloren",null,null,"Schütze:",null,null,null,null,"verloren"]
[]
["Gegner:",null,"Name:",null,null,null,null,null,"Gegner:",null,"Name:",null,null,null,null,null,"Gegner:",null,"Name:"]
[null,null,"Unterschrift:",null,null,null,null,null,null,null,"Unterschrift:",null,null,null,null,null,null,null,"Unterschrift:"]
[]
[]
[]
[null,null,null,null,null,null,null,null,"1/16 Elimination",null,null,null,{"$f":"'C32_Baum'!$D$95","v":"Scheibe: 12B"},null,null,null,"1/8 Elimination",null,null,null,{"$f":"'C32_Baum'!$I$83","v":"Scheibe: 16B"}]
[null,null,null,null,null,null,null,null,null,1,2,3,"Summe","Ges.",null,null,null,1,2,3,"Summe","Ges."]
[{"$f":"Select!$C$12","v":"Demoturnier"},null,null,null,null,null,null,null,1,null,null,null,null,null,null,null,1]
["Veranstaltung",null,null,null,null,null,null,null,2,null,null,null,null,null,null,null,2]
[{"$f":"Select!$C$13","v":"1. April 2019"},null,null,null,null,null,null,null,3,null,null,null,null,null,null,null,3]
["Datum",null,null,null,null,null,null,null,4,null,null,null,null,null,null,null,4]
[{"$f":"'C32_Baum'!$D$48","v":"Schneider Wolfgang"},null,null,null,null,null,null,null,5,null,null,null,null,null,null,null,5]
["Name",null,null,null,null,null,null,null,"wenn erforderlich",null,null,null,null,null,null,null,"wenn erforderlich"]
[{"$f":"'C32_Baum'!$F$48","v":"WBZ Union Zwettl"},null,null,null,null,null,null,null,"Stechen",null,null,null,null,null,null,null,"Stechen"]
["Verein",null,null,null,null,null,null,null,null,null,null,null,null,"gewonnen",null,null,null,null,null,null,null,"gewonnen"]
[{"$f":"Select!$C$20","v":"Compound Herren"},null,null,null,null,null,null,null,"Schütze:",null,null,null,null,"verloren",null,null,"Schütze:",null,null,null,null,"verloren"]
["Bogenklasse"]
[null,null,null,null,null,null,null,null,"Gegner:",null,"Name:",null,null,null,null,null,"Gegner:",null,"Name:"]
[null,null,null,null,null,null,null,null,null,null,"Unterschrift:",null,null,null,null,null,null,null,"Unterschrift:"]
[]
[]
["1/4 Finale",null,null,null,{"$f":"'C32_Baum'!$M$77","v":"Scheibe: 23B"},null,null,null,"1/2 Finale",null,null,null,{"$f":"'C32_Baum'!$Q$74","v":"Scheibe: 23"},null,null,null,"1./2. od. 3./4. Platz",null,null,null,"Scheibe:"]
[null,1,2,3,"Summe","Ges.",null,null,null,1,2,3,"Summe","Ges.",null,null,null,1,2,3,"Summe","Ges."]
[1,null,null,null,null,null,null,null,1,null,null,null,null,null,null,null,1]
[2,null,null,null,null,null,null,null,2,null,null,null,null,null,null,null,2]
[3,null,null,null,null,null,null,null,3,null,null,null,null,null,null,null,3]
[4,null,null,null,null,null,null,null,4,null,null,null,null,null,null,null,4]
[5,null,null,null,null,null,null,null,5,null,null,null,null,null,null,null,5]
["wenn erforderlich",null,null,null,null,null,null,null,"wenn erforderlich",null,null,null,null,null,null,null,"wenn erforderlich"]
["Stechen",null,null,null,null,null,null,null,"Stechen",null,null,null,null,null,null,null,"Stechen"]
[null,null,null,null,null,"gewonnen",null,null,null,null,null,null,null,"gewonnen",null,null,null,null,null,null,null,"gewonnen"]
["Schütze:",null,null,null,null,"verloren",null,null,"Schütze:",null,null,null,null,"verloren",null,null,"Schütze:",null,null,null,null,"verloren"]
[]
["Gegner:",null,"Name:",null,null,null,null,null,"Gegner:",null,"Name:",null,null,null,null,null,"Gegner:",null,"Name:"]
[null,null,"Unterschrift:",null,null,null,null,null,null,null,"Unterschrift:",null,null,null,null,null,null,null,"Unterschrift:"]
[]
[]
[]
[null,null,null,null,null,null,null,null,"1/16 Elimination",null,null,null,{"$f":"'C32_Baum'!$D$96","v":"Scheibe: 13A"},null,null,null,"1/8 Elimination",null,null,null,{"$f":"'C32_Baum'!$I$84","v":"Scheibe: 17A"}]
[null,null,null,null,null,null,null,null,null,1,2,3,"Summe","Ges.",null,null,null,1,2,3,"Summe","Ges."]
[{"$f":"Select!$C$12","v":"Demoturnier"},null,null,null,null,null,null,null,1,null,null,null,null,null,null,null,1]
["Veranstaltung",null,null,null,null,null,null,null,2,null,null,null,null,null,null,null,2]
[{"$f":"Select!$C$13","v":"1. April 2019"},null,null,null,null,null,null,null,3,null,null,null,null,null,null,null,3]
["Datum",null,null,null,null,null,null,null,4,null,null,null,null,null,null,null,4]
[{"$f":"'C32_Baum'!$D$51","v":"Koisegg Johann"},null,null,null,null,null,null,null,5,null,null,null,null,null,null,null,5]
["Name",null,null,null,null,null,null,null,"wenn erforderlich",null,null,null,null,null,null,null,"wenn erforderlich"]
[{"$f":"'C32_Baum'!$F$51","v":"BSC Sparkasse Jenbach"},null,null,null,null,null,null,null,"Stechen",null,null,null,null,null,null,null,"Stechen"]
["Verein",null,null,null,null,null,null,null,null,null,null,null,null,"gewonnen",null,null,null,null,null,null,null,"gewonnen"]
[{"$f":"Select!$C$20","v":"Compound Herren"},null,null,null,null,null,null,null,"Schütze:",null,null,null,null,"verloren",null,null,"Schütze:",null,null,null,null,"verloren"]
["Bogenklasse"]
[null,null,null,null,null,null,null,null,"Gegner:",null,"Name:",null,null,null,null,null,"Gegner:",null,"Name:"]
[null,null,null,null,null,null,null,null,null,null,"Unterschrift:",null,null,null,null,null,null,null,"Unterschrift:"]
[]
[]
["1/4 Finale",null,null,null,{"$f":"'C32_Baum'!$M$78","v":"Scheibe: 24A"},null,null,null,"1/2 Finale",null,null,null,{"$f":"'C32_Baum'!$Q$75","v":"Scheibe: 24"},null,null,null,"1./2. od. 3./4. Platz",null,null,null,"Scheibe:"]
[null,1,2,3,"Summe","Ges.",null,null,null,1,2,3,"Summe","Ges.",null,null,null,1,2,3,"Summe","Ges."]
[1,null,null,null,null,null,null,null,1,null,null,null,null,null,null,null,1]
[2,null,null,null,null,null,null,null,2,null,null,null,null,null,null,null,2]
[3,null,null,null,null,null,null,null,3,null,null,null,null,null,null,null,3]
[4,null,null,null,null,null,null,null,4,null,null,null,null,null,null,null,4]
[5,null,null,null,null,null,null,null,5,null,null,null,null,null,null,null,5]
["wenn erforderlich",null,null,null,null,null,null,null,"wenn erforderlich",null,null,null,null,null,null,null,"wenn erforderlich"]
["Stechen",null,null,null,null,null,null,null,"Stechen",null,null,null,null,null,null,null,"Stechen"]
[null,null,null,null,null,"gewonnen",null,null,null,null,null,null,null,"gewonnen",null,null,null,null,null,null,null,"gewonnen"]
["Schütze:",null,null,null,null,"verloren",null,null,"Schütze:",null,null,null,null,"verloren",null,null,"Schütze:",null,null,null,null,"verloren"]
[]
["Gegner:",null,"Name:",null,null,null,null,null,"Gegner:",null,"Name:",null,null,null,null,null,"Gegner:",null,"Name:"]
[null,null,"Unterschrift:",null,null,null,null,null,null,null,"Unterschrift:",null,null,null,null,null,null,null,"Unterschrift:"]
[]
[]
[]
[null,null,null,null,null,null,null,null,"1/16 Elimination",null,null,null,{"$f":"'C32_Baum'!$D$97","v":"Scheibe: 13B"},null,null,null,"1/8 Elimination",null,null,null,{"$f":"'C32_Baum'!$I$84","v":"Scheibe: 17A"}]
[null,null,null,null,null,null,null,null,null,1,2,3,"Summe","Ges.",null,null,null,1,2,3,"Summe","Ges."]
[{"$f":"Select!$C$12","v":"Demoturnier"},null,null,null,null,null,null,null,1,null,null,null,null,null,null,null,1]
["Veranstaltung",null,null,null,null,null,null,null,2,null,null,null,null,null,null,null,2]
[{"$f":"Select!$C$13","v":"1. April 2019"},null,null,null,null,null,null,null,3,null,null,null,null,null,null,null,3]
["Datum",null,null,null,null,null,null,null,4,null,null,null,null,null,null,null,4]
[{"$f":"'C32_Baum'!$D$52","v":"Steininger Helmut"},null,null,null,null,null,null,null,5,null,null,null,null,null,null,null,5]
["Name",null,null,null,null,null,null,null,"wenn erforderlich",null,null,null,null,null,null,null,"wenn erforderlich"]
[{"$f":"'C32_Baum'!$F$52","v":"UBSC Artemis Wien"},null,null,null,null,null,null,null,"Stechen",null,null,null,null,null,null,null,"Stechen"]
["Verein",null,null,null,null,null,null,null,null,null,null,null,null,"gewonnen",null,null,null,null,null,null,null,"gewonnen"]
[{"$f":"Select!$C$20","v":"Compound Herren"},null,null,null,null,null,null,null,"Schütze:",null,null,null,null,"verloren",null,null,"Schütze:",null,null,null,null,"verloren"]
["Bogenklasse"]
[null,null,null,null,null,null,null,null,"Gegner:",null,"Name:",null,null,null,null,null,"Gegner:",null,"Name:"]
[null,null,null,null,null,null,null,null,null,null,"Unterschrift:",null,null,null,null,null,null,null,"Unterschrift:"]
[]
[]
["1/4 Finale",null,null,null,{"$f":"'C32_Baum'!$M$78","v":"Scheibe: 24A"},null,null,null,"1/2 Finale",null,null,null,{"$f":"'C32_Baum'!$Q$75","v":"Scheibe: 24"},null,null,null,"1./2. od. 3./4. Platz",null,null,null,"Scheibe:"]
[null,1,2,3,"Summe","Ges.",null,null,null,1,2,3,"Summe","Ges.",null,null,null,1,2,3,"Summe","Ges."]
[1,null,null,null,null,null,null,null,1,null,null,null,null,null,null,null,1]
[2,null,null,null,null,null,null,null,2,null,null,null,null,null,null,null,2]
[3,null,null,null,null,null,null,null,3,null,null,null,null,null,null,null,3]
[4,null,null,null,null,null,null,null,4,null,null,null,null,null,null,null,4]
[5,null,null,null,null,null,null,null,5,null,null,null,null,null,null,null,5]
["wenn erforderlich",null,null,null,null,null,null,null,"wenn erforderlich",null,null,null,null,null,null,null,"wenn erforderlich"]
["Stechen",null,null,null,null,null,null,null,"Stechen",null,null,null,null,null,null,null,"Stechen"]
[null,null,null,null,null,"gewonnen",null,null,null,null,null,null,null,"gewonnen",null,null,null,null,null,null,null,"gewonnen"]
["Schütze:",null,null,null,null,"verloren",null,null,"Schütze:",null,null,null,null,"verloren",null,null,"Schütze:",null,null,null,null,"verloren"]
[]
["Gegner:",null,"Name:",null,null,null,null,null,"Gegner:",null,"Name:",null,null,null,null,null,"Gegner:",null,"Name:"]
[null,null,"Unterschrift:",null,null,null,null,null,null,null,"Unterschrift:",null,null,null,null,null,null,null,"Unterschrift:"]
[]
[]
[]
[null,null,null,null,null,null,null,null,"1/16 Elimination",null,null,null,{"$f":"'C32_Baum'!$D$98","v":"Scheibe: 14A"},null,null,null,"1/8 Elimination",null,null,null,{"$f":"'C32_Baum'!$I$85","v":"Scheibe: 17B"}]
[null,null,null,null,null,null,null,null,null,1,2,3,"Summe","Ges.",null,null,null,1,2,3,"Summe","Ges."]
[{"$f":"Select!$C$12","v":"Demoturnier"},null,null,null,null,null,null,null,1,null,null,null,null,null,null,null,1]
["Veranstaltung",null,null,null,null,null,null,null,2,null,null,null,null,null,null,null,2]
[{"$f":"Select!$C$13","v":"1. April 2019"},null,null,null,null,null,null,null,3,null,null,null,null,null,null,null,3]
["Datum",null,null,null,null,null,null,null,4,null,null,null,null,null,null,null,4]
[{"$f":"'C32_Baum'!$D$55","v":"Gruber Werner"},null,null,null,null,null,null,null,5,null,null,null,null,null,null,null,5]
["Name",null,null,null,null,null,null,null,"wenn erforderlich",null,null,null,null,null,null,null,"wenn erforderlich"]
[{"$f":"'C32_Baum'!$F$55","v":"Atus Zeltweg Sektion Bogen"},null,null,null,null,null,null,null,"Stechen",null,null,null,null,null,null,null,"Stechen"]
["Verein",null,null,null,null,null,null,null,null,null,null,null,null,"gewonnen",null,null,null,null,null,null,null,"gewonnen"]
[{"$f":"Select!$C$20","v":"Compound Herren"},null,null,null,null,null,null,null,"Schütze:",null,null,null,null,"verloren",null,null,"Schütze:",null,null,null,null,"verloren"]
["Bogenklasse"]
[null,null,null,null,null,null,null,null,"Gegner:",null,"Name:",null,null,null,null,null,"Gegner:",null,"Name:"]
[null,null,null,null,null,null,null,null,null,null,"Unterschrift:",null,null,null,null,null,null,null,"Unterschrift:"]
[]
[]
["1/4 Finale",null,null,null,{"$f":"'C32_Baum'!$M$78","v":"Scheibe: 24A"},null,null,null,"1/2 Finale",null,null,null,{"$f":"'C32_Baum'!$Q$75","v":"Scheibe: 24"},null,null,null,"1./2. od. 3./4. Platz",null,null,null,"Scheibe:"]
[null,1,2,3,"Summe","Ges.",null,null,null,1,2,3,"Summe","Ges.",null,null,null,1,2,3,"Summe","Ges."]
[1,null,null,null,null,null,null,null,1,null,null,null,null,null,null,null,1]
[2,null,null,null,null,null,null,null,2,null,null,null,null,null,null,null,2]
[3,null,null,null,null,null,null,null,3,null,null,null,null,null,null,null,3]
[4,null,null,null,null,null,null,null,4,null,null,null,null,null,null,null,4]
[5,null,null,null,null,null,null,null,5,null,null,null,null,null,null,null,5]
["wenn erforderlich",null,null,null,null,null,null,null,"wenn erforderlich",null,null,null,null,null,null,null,"wenn erforderlich"]
["Stechen",null,null,null,null,null,null,null,"Stechen",null,null,null,null,null,null,null,"Stechen"]
[null,null,null,null,null,"gewonnen",null,null,null,null,null,null,null,"gewonnen",null,null,null,null,null,null,null,"gewonnen"]
["Schütze:",null,null,null,null,"verloren",null,null,"Schütze:",null,null,null,null,"verloren",null,null,"Schütze:",null,null,null,null,"verloren"]
[]
["Gegner:",null,"Name:",null,null,null,null,null,"Gegner:",null,"Name:",null,null,null,null,null,"Gegner:",null,"Name:"]
[null,null,"Unterschrift:",null,null,null,null,null,null,null,"Unterschrift:",null,null,null,null,null,null,null,"Unterschrift:"]
[]
[]
[]
[null,null,null,null,null,null,null,null,"1/16 Elimination",null,null,null,{"$f":"'C32_Baum'!$D$99","v":"Scheibe: 14B"},null,null,null,"1/8 Elimination",null,null,null,{"$f":"'C32_Baum'!$I$85","v":"Scheibe: 17B"}]
[null,null,null,null,null,null,null,null,null,1,2,3,"Summe","Ges.",null,null,null,1,2,3,"Summe","Ges."]
[{"$f":"Select!$C$12","v":"Demoturnier"},null,null,null,null,null,null,null,1,null,null,null,null,null,null,null,1]
["Veranstaltung",null,null,null,null,null,null,null,2,null,null,null,null,null,null,null,2]
[{"$f":"Select!$C$13","v":"1. April 2019"},null,null,null,null,null,null,null,3,null,null,null,null,null,null,null,3]
["Datum",null,null,null,null,null,null,null,4,null,null,null,null,null,null,null,4]
[{"$f":"'C32_Baum'!$D$56","v":"Linhart Christian"},null,null,null,null,null,null,null,5,null,null,null,null,null,null,null,5]
["Name",null,null,null,null,null,null,null,"wenn erforderlich",null,null,null,null,null,null,null,"wenn erforderlich"]
[{"$f":"'C32_Baum'!$F$56","v":"BSV Stöttera"},null,null,null,null,null,null,null,"Stechen",null,null,null,null,null,null,null,"Stechen"]
["Verein",null,null,null,null,null,null,null,null,null,null,null,null,"gewonnen",null,null,null,null,null,null,null,"gewonnen"]
[{"$f":"Select!$C$20","v":"Compound Herren"},null,null,null,null,null,null,null,"Schütze:",null,null,null,null,"verloren",null,null,"Schütze:",null,null,null,null,"verloren"]
["Bogenklasse"]
[null,null,null,null,null,null,null,null,"Gegner:",null,"Name:",null,null,null,null,null,"Gegner:",null,"Name:"]
[null,null,null,null,null,null,null,null,null,null,"Unterschrift:",null,null,null,null,null,null,null,"Unterschrift:"]
[]
[]
["1/4 Finale",null,null,null,{"$f":"'C32_Baum'!$M$78","v":"Scheibe: 24A"},null,null,null,"1/2 Finale",null,null,null,{"$f":"'C32_Baum'!$Q$75","v":"Scheibe: 24"},null,null,null,"1./2. od. 3./4. Platz",null,null,null,"Scheibe:"]
[null,1,2,3,"Summe","Ges.",null,null,null,1,2,3,"Summe","Ges.",null,null,null,1,2,3,"Summe","Ges."]
[1,null,null,null,null,null,null,null,1,null,null,null,null,null,null,null,1]
[2,null,null,null,null,null,null,null,2,null,null,null,null,null,null,null,2]
[3,null,null,null,null,null,null,null,3,null,null,null,null,null,null,null,3]
[4,null,null,null,null,null,null,null,4,null,null,null,null,null,null,null,4]
[5,null,null,null,null,null,null,null,5,null,null,null,null,null,null,null,5]
["wenn erforderlich",null,null,null,null,null,null,null,"wenn erforderlich",null,null,null,null,null,null,null,"wenn erforderlich"]
["Stechen",null,null,null,null,null,null,null,"Stechen",null,null,null,null,null,null,null,"Stechen"]
[null,null,null,null,null,"gewonnen",null,null,null,null,null,null,null,"gewonnen",null,null,null,null,null,null,null,"gewonnen"]
["Schütze:",null,null,null,null,"verloren",null,null,"Schütze:",null,null,null,null,"verloren",null,null,"Schütze:",null,null,null,null,"verloren"]
[]
["Gegner:",null,"Name:",null,null,null,null,null,"Gegner:",null,"Name:",null,null,null,null,null,"Gegner:",null,"Name:"]
[null,null,"Unterschrift:",null,null,null,null,null,null,null,"Unterschrift:",null,null,null,null,null,null,null,"Unterschrift:"]
[]
[]
[]
[null,null,null,null,null,null,null,null,"1/16 Elimination",null,null,null,{"$f":"'C32_Baum'!$D$100","v":"Scheibe: 15A"},null,null,null,"1/8 Elimination",null,null,null,{"$f":"'C32_Baum'!$I$86","v":"Scheibe: 18A"}]
[null,null,null,null,null,null,null,null,null,1,2,3,"Summe","Ges.",null,null,null,1,2,3,"Summe","Ges."]
[{"$f":"Select!$C$12","v":"Demoturnier"},null,null,null,null,null,null,null,1,null,null,null,null,null,null,null,1]
["Veranstaltung",null,null,null,null,null,null,null,2,null,null,null,null,null,null,null,2]
[{"$f":"Select!$C$13","v":"1. April 2019"},null,null,null,null,null,null,null,3,null,null,null,null,null,null,null,3]
["Datum",null,null,null,null,null,null,null,4,null,null,null,null,null,null,null,4]
[{"$f":"'C32_Baum'!$D$59","v":"Url Marsell"},null,null,null,null,null,null,null,5,null,null,null,null,null,null,null,5]
["Name",null,null,null,null,null,null,null,"wenn erforderlich",null,null,null,null,null,null,null,"wenn erforderlich"]
[{"$f":"'C32_Baum'!$F$59","v":"UBSC Artemis Steiermark"},null,null,null,null,null,null,null,"Stechen",null,null,null,null,null,null,null,"Stechen"]
["Verein",null,null,null,null,null,null,null,null,null,null,null,null,"gewonnen",null,null,null,null,null,null,null,"gewonnen"]
[{"$f":"Select!$C$20","v":"Compound Herren"},null,null,null,null,null,null,null,"Schütze:",null,null,null,null,"verloren",null,null,"Schütze:",null,null,null,null,"verloren"]
["Bogenklasse"]
[null,null,null,null,null,null,null,null,"Gegner:",null,"Name:",null,null,null,null,null,"Gegner:",null,"Name:"]
[null,null,null,null,null,null,null,null,null,null,"Unterschrift:",null,null,null,null,null,null,null,"Unterschrift:"]
[]
[]
["1/4 Finale",null,null,null,{"$f":"'C32_Baum'!$M$79","v":"Scheibe: 24B"},null,null,null,"1/2 Finale",null,null,null,{"$f":"'C32_Baum'!$Q$75","v":"Scheibe: 24"},null,null,null,"1./2. od. 3./4. Platz",null,null,null,"Scheibe:"]
[null,1,2,3,"Summe","Ges.",null,null,null,1,2,3,"Summe","Ges.",null,null,null,1,2,3,"Summe","Ges."]
[1,null,null,null,null,null,null,null,1,null,null,null,null,null,null,null,1]
[2,null,null,null,null,null,null,null,2,null,null,null,null,null,null,null,2]
[3,null,null,null,null,null,null,null,3,null,null,null,null,null,null,null,3]
[4,null,null,null,null,null,null,null,4,null,null,null,null,null,null,null,4]
[5,null,null,null,null,null,null,null,5,null,null,null,null,null,null,null,5]
["wenn erforderlich",null,null,null,null,null,null,null,"wenn erforderlich",null,null,null,null,null,null,null,"wenn erforderlich"]
["Stechen",null,null,null,null,null,null,null,"Stechen",null,null,null,null,null,null,null,"Stechen"]
[null,null,null,null,null,"gewonnen",null,null,null,null,null,null,null,"gewonnen",null,null,null,null,null,null,null,"gewonnen"]
["Schütze:",null,null,null,null,"verloren",null,null,"Schütze:",null,null,null,null,"verloren",null,null,"Schütze:",null,null,null,null,"verloren"]
[]
["Gegner:",null,"Name:",null,null,null,null,null,"Gegner:",null,"Name:",null,null,null,null,null,"Gegner:",null,"Name:"]
[null,null,"Unterschrift:",null,null,null,null,null,null,null,"Unterschrift:",null,null,null,null,null,null,null,"Unterschrift:"]
[]
[]
[]
[null,null,null,null,null,null,null,null,"1/16 Elimination",null,null,null,{"$f":"'C32_Baum'!$D$101","v":"Scheibe: 15B"},null,null,null,"1/8 Elimination",null,null,null,{"$f":"'C32_Baum'!$I$86","v":"Scheibe: 18A"}]
[null,null,null,null,null,null,null,null,null,1,2,3,"Summe","Ges.",null,null,null,1,2,3,"Summe","Ges."]
[{"$f":"Select!$C$12","v":"Demoturnier"},null,null,null,null,null,null,null,1,null,null,null,null,null,null,null,1]
["Veranstaltung",null,null,null,null,null,null,null,2,null,null,null,null,null,null,null,2]
[{"$f":"Select!$C$13","v":"1. April 2019"},null,null,null,null,null,null,null,3,null,null,null,null,null,null,null,3]
["Datum",null,null,null,null,null,null,null,4,null,null,null,null,null,null,null,4]
[{"$f":"'C32_Baum'!$D$60","v":"Postl Markus"},null,null,null,null,null,null,null,5,null,null,null,null,null,null,null,5]
["Name",null,null,null,null,null,null,null,"wenn erforderlich",null,null,null,null,null,null,null,"wenn erforderlich"]
[{"$f":"'C32_Baum'!$F$60","v":"BC Union Graz Seiersberg"},null,null,null,null,null,null,null,"Stechen",null,null,null,null,null,null,null,"Stechen"]
["Verein",null,null,null,null,null,null,null,null,null,null,null,null,"gewonnen",null,null,null,null,null,null,null,"gewonnen"]
[{"$f":"Select!$C$20","v":"Compound Herren"},null,null,null,null,null,null,null,"Schütze:",null,null,null,null,"verloren",null,null,"Schütze:",null,null,null,null,"verloren"]
["Bogenklasse"]
[null,null,null,null,null,null,null,null,"Gegner:",null,"Name:",null,null,null,null,null,"Gegner:",null,"Name:"]
[null,null,null,null,null,null,null,null,null,null,"Unterschrift:",null,null,null,null,null,null,null,"Unterschrift:"]
[]
[]
["1/4 Finale",null,null,null,{"$f":"'C32_Baum'!$M$79","v":"Scheibe: 24B"},null,null,null,"1/2 Finale",null,null,null,{"$f":"'C32_Baum'!$Q$75","v":"Scheibe: 24"},null,null,null,"1./2. od. 3./4. Platz",null,null,null,"Scheibe:"]
[null,1,2,3,"Summe","Ges.",null,null,null,1,2,3,"Summe","Ges.",null,null,null,1,2,3,"Summe","Ges."]
[1,null,null,null,null,null,null,null,1,null,null,null,null,null,null,null,1]
[2,null,null,null,null,null,null,null,2,null,null,null,null,null,null,null,2]
[3,null,null,null,null,null,null,null,3,null,null,null,null,null,null,null,3]
[4,null,null,null,null,null,null,null,4,null,null,null,null,null,null,null,4]
[5,null,null,null,null,null,null,null,5,null,null,null,null,null,null,null,5]
["wenn erforderlich",null,null,null,null,null,null,null,"wenn erforderlich",null,null,null,null,null,null,null,"wenn erforderlich"]
["Stechen",null,null,null,null,null,null,null,"Stechen",null,null,null,null,null,null,null,"Stechen"]
[null,null,null,null,null,"gewonnen",null,null,null,null,null,null,null,"gewonnen",null,null,null,null,null,null,null,"gewonnen"]
["Schütze:",null,null,null,null,"verloren",null,null,"Schütze:",null,null,null,null,"verloren",null,null,"Schütze:",null,null,null,null,"verloren"]
[]
["Gegner:",null,"Name:",null,null,null,null,null,"Gegner:",null,"Name:",null,null,null,null,null,"Gegner:",null,"Name:"]
[null,null,"Unterschrift:",null,null,null,null,null,null,null,"Unterschrift:",null,null,null,null,null,null,null,"Unterschrift:"]
[]
[]
[]
[null,null,null,null,null,null,null,null,"1/16 Elimination",null,null,null,{"$f":"'C32_Baum'!$D$102","v":"Scheibe: 16A"},null,null,null,"1/8 Elimination",null,null,null,{"$f":"'C32_Baum'!$I$87","v":"Scheibe: 18B"}]
[null,null,null,null,null,null,null,null,null,1,2,3,"Summe","Ges.",null,null,null,1,2,3,"Summe","Ges."]
[{"$f":"Select!$C$12","v":"Demoturnier"},null,null,null,null,null,null,null,1,null,null,null,null,null,null,null,1]
["Veranstaltung",null,null,null,null,null,null,null,2,null,null,null,null,null,null,null,2]
[{"$f":"Select!$C$13","v":"1. April 2019"},null,null,null,null,null,null,null,3,null,null,null,null,null,null,null,3]
["Datum",null,null,null,null,null,null,null,4,null,null,null,null,null,null,null,4]
[{"$f":"'C32_Baum'!$D$63","v":"Kuhn Jürgen Hans"},null,null,null,null,null,null,null,5,null,null,null,null,null,null,null,5]
["Name",null,null,null,null,null,null,null,"wenn erforderlich",null,null,null,null,null,null,null,"wenn erforderlich"]
[{"$f":"'C32_Baum'!$F$63","v":"UBC Diana NÖ"},null,null,null,null,null,null,null,"Stechen",null,null,null,null,null,null,null,"Stechen"]
["Verein",null,null,null,null,null,null,null,null,null,null,null,null,"gewonnen",null,null,null,null,null,null,null,"gewonnen"]
[{"$f":"Select!$C$20","v":"Compound Herren"},null,null,null,null,null,null,null,"Schütze:",null,null,null,null,"verloren",null,null,"Schütze:",null,null,null,null,"verloren"]
["Bogenklasse"]
[null,null,null,null,null,null,null,null,"Gegner:",null,"Name:",null,null,null,null,null,"Gegner:",null,"Name:"]
[null,null,null,null,null,null,null,null,null,null,"Unterschrift:",null,null,null,null,null,null,null,"Unterschrift:"]
[]
[]
["1/4 Finale",null,null,null,{"$f":"'C32_Baum'!$M$79","v":"Scheibe: 24B"},null,null,null,"1/2 Finale",null,null,null,{"$f":"'C32_Baum'!$Q$75","v":"Scheibe: 24"},null,null,null,"1./2. od. 3./4. Platz",null,null,null,"Scheibe:"]
[null,1,2,3,"Summe","Ges.",null,null,null,1,2,3,"Summe","Ges.",null,null,null,1,2,3,"Summe","Ges."]
[1,null,null,null,null,null,null,null,1,null,null,null,null,null,null,null,1]
[2,null,null,null,null,null,null,null,2,null,null,null,null,null,null,null,2]
[3,null,null,null,null,null,null,null,3,null,null,null,null,null,null,null,3]
[4,null,null,null,null,null,null,null,4,null,null,null,null,null,null,null,4]
[5,null,null,null,null,null,null,null,5,null,null,null,null,null,null,null,5]
["wenn erforderlich",null,null,null,null,null,null,null,"wenn erforderlich",null,null,null,null,null,null,null,"wenn erforderlich"]
["Stechen",null,null,null,null,null,null,null,"Stechen",null,null,null,null,null,null,null,"Stechen"]
[null,null,null,null,null,"gewonnen",null,null,null,null,null,null,null,"gewonnen",null,null,null,null,null,null,null,"gewonnen"]
["Schütze:",null,null,null,null,"verloren",null,null,"Schütze:",null,null,null,null,"verloren",null,null,"Schütze:",null,null,null,null,"verloren"]
[]
["Gegner:",null,"Name:",null,null,null,null,null,"Gegner:",null,"Name:",null,null,null,null,null,"Gegner:",null,"Name:"]
[null,null,"Unterschrift:",null,null,null,null,null,null,null,"Unterschrift:",null,null,null,null,null,null,null,"Unterschrift:"]
[]
[]
[]
[null,null,null,null,null,null,null,null,"1/16 Elimination",null,null,null,{"$f":"'C32_Baum'!$D$103","v":"Scheibe: 16B"},null,null,null,"1/8 Elimination",null,null,null,{"$f":"'C32_Baum'!$I$87","v":"Scheibe: 18B"}]
[null,null,null,null,null,null,null,null,null,1,2,3,"Summe","Ges.",null,null,null,1,2,3,"Summe","Ges."]
[{"$f":"Select!$C$12","v":"Demoturnier"},null,null,null,null,null,null,null,1,null,null,null,null,null,null,null,1]
["Veranstaltung",null,null,null,null,null,null,null,2,null,null,null,null,null,null,null,2]
[{"$f":"Select!$C$13","v":"1. April 2019"},null,null,null,null,null,null,null,3,null,null,null,null,null,null,null,3]
["Datum",null,null,null,null,null,null,null,4,null,null,null,null,null,null,null,4]
[{"$f":"'C32_Baum'!$D$64","v":"Kanduth Wolfgang"},null,null,null,null,null,null,null,5,null,null,null,null,null,null,null,5]
["Name",null,null,null,null,null,null,null,"wenn erforderlich",null,null,null,null,null,null,null,"wenn erforderlich"]
[{"$f":"'C32_Baum'!$F$64","v":"BC Wildon Weitendorf"},null,null,null,null,null,null,null,"Stechen",null,null,null,null,null,null,null,"Stechen"]
["Verein",null,null,null,null,null,null,null,null,null,null,null,null,"gewonnen",null,null,null,null,null,null,null,"gewonnen"]
[{"$f":"Select!$C$20","v":"Compound Herren"},null,null,null,null,null,null,null,"Schütze:",null,null,null,null,"verloren",null,null,"Schütze:",null,null,null,null,"verloren"]
["Bogenklasse"]
[null,null,null,null,null,null,null,null,"Gegner:",null,"Name:",null,null,null,null,null,"Gegner:",null,"Name:"]
[null,null,null,null,null,null,null,null,null,null,"Unterschrift:",null,null,null,null,null,null,null,"Unterschrift:"]
[]
[]
["1/4 Finale",null,null,null,{"$f":"'C32_Baum'!$M$79","v":"Scheibe: 24B"},null,null,null,"1/2 Finale",null,null,null,{"$f":"'C32_Baum'!$Q$75","v":"Scheibe: 24"},null,null,null,"1./2. od. 3./4. Platz",null,null,null,"Scheibe:"]
[null,1,2,3,"Summe","Ges.",null,null,null,1,2,3,"Summe","Ges.",null,null,null,1,2,3,"Summe","Ges."]
[1,null,null,null,null,null,null,null,1,null,null,null,null,null,null,null,1]
[2,null,null,null,null,null,null,null,2,null,null,null,null,null,null,null,2]
[3,null,null,null,null,null,null,null,3,null,null,null,null,null,null,null,3]
[4,null,null,null,null,null,null,null,4,null,null,null,null,null,null,null,4]
[5,null,null,null,null,null,null,null,5,null,null,null,null,null,null,null,5]
["wenn erforderlich",null,null,null,null,null,null,null,"wenn erforderlich",null,null,null,null,null,null,null,"wenn erforderlich"]
["Stechen",null,null,null,null,null,null,null,"Stechen",null,null,null,null,null,null,null,"Stechen"]
[null,null,null,null,null,"gewonnen",null,null,null,null,null,null,null,"gewonnen",null,null,null,null,null,null,null,"gewonnen"]
["Schütze:",null,null,null,null,"verloren",null,null,"Schütze:",null,null,null,null,"verloren",null,null,"Schütze:",null,null,null,null,"verloren"]
[]
["Gegner:",null,"Name:",null,null,null,null,null,"Gegner:",null,"Name:",null,null,null,null,null,"Gegner:",null,"Name:"]
[null,null,"Unterschrift:",null,null,null,null,null,null,null,"Unterschrift:",null,null,null,null,null,null,null,"Unterschrift:"]

{"sheet":"C32_Ergebnis","index":24,"n_rows":41,"n_cols":19,"rows_kept":41,"cut":false,"hidden":true,"merged":[[6,11,6,18],[1,0,1,3],[1,4,1,9],[2,0,2,3],[4,0,4,9],[6,0,6,3]]}
[]
[{"$f":"Select!$C$12","v":"Demoturnier"},null,null,null,{"$f":"Select!C14","v":"WA-Outdoor"}]
[{"$f":"Select!C13","v":"1. April 2019"}]
[]
["Ergebnisliste"]
[]
[{"$f":"Select!C20","v":"Compound Herren"},null,null,null,null,null,null,null,null,null,null,"!!!!!!!!!!!!!!!!!!!!!!!!!!  SORTIERBEREICH - NICHT ENTFERNEN !!!!!!!!!!!!!!!!!!!!!!!!!!"]
[]
["Pl.",null,"Name","Verein","Quali.","1/16","1/8","1/4","1/2","Finale",null,"SortName","SortVerein","SortQuali","Sort 1/16","Sort1/8","Sort1/4","Sort1/2","SortFinale"]
[{"$f":"IF(C10<>\"\",1,\"\")","v":""},null,null,null,null,null,null,null,null,null,null,{"$f":"'C32_Baum'!U7","v":""},{"$f":"VLOOKUP(L10,C_Quali!$C$10:$H$100,2,FALSE)","v":{"$error":"#N/A"}},{"$f":"VLOOKUP(L10,C_Quali!$C$10:$H$100,6,FALSE)","v":{"$error":"#N/A"}},{"$f":"VLOOKUP(L10,'C32_Baum'!$D$3:$G$64,4,FALSE)","v":{"$error":"#N/A"}},{"$f":"VLOOKUP(L10,'C32_Baum'!$I$5:$K$62,3,FALSE)","v":0},{"$f":"VLOOKUP(L10,'C32_Baum'!$M$9:$O$58,3,FALSE)","v":0},{"$f":"VLOOKUP(L10,'C32_Baum'!$Q$17:$S$50,3,FALSE)","v":0},{"$f":"VLOOKUP(L10,'C32_Baum'!$U$24:$W$42,3,FALSE)","v":0}]
[{"$f":"IF(C11<>\"\",A10+1,\"\")","v":""},null,null,null,null,null,null,null,null,null,null,{"$f":"'C32_Baum'!U9","v":""},{"$f":"VLOOKUP(L11,C_Quali!$C$10:$H$100,2,FALSE)","v":{"$error":"#N/A"}},{"$f":"VLOOKUP(L11,C_Quali!$C$10:$H$100,6,FALSE)","v":{"$error":"#N/A"}},{"$f":"VLOOKUP(L11,'C32_Baum'!$D$3:$G$64,4,FALSE)","v":{"$error":"#N/A"}},{"$f":"VLOOKUP(L11,'C32_Baum'!$I$5:$K$62,3,FALSE)","v":0},{"$f":"VLOOKUP(L11,'C32_Baum'!$M$9:$O$58,3,FALSE)","v":0},{"$f":"VLOOKUP(L11,'C32_Baum'!$Q$17:$S$50,3,FALSE)","v":0},{"$f":"VLOOKUP(L11,'C32_Baum'!$U$24:$W$42,3,FALSE)","v":0}]
["",null,null,null,null,null,null,null,null,null,null,{"$f":"'C32_Baum'!U11","v":""},{"$f":"VLOOKUP(L12,C_Quali!$C$10:$H$100,2,FALSE)","v":{"$error":"#N/A"}},{"$f":"VLOOKUP(L12,C_Quali!$C$10:$H$100,6,FALSE)","v":{"$error":"#N/A"}},{"$f":"VLOOKUP(L12,'C32_Baum'!$D$3:$G$64,4,FALSE)","v":{"$error":"#N/A"}},{"$f":"VLOOKUP(L12,'C32_Baum'!$I$5:$K$62,3,FALSE)","v":0},{"$f":"VLOOKUP(L12,'C32_Baum'!$M$9:$O$58,3,FALSE)","v":0},{"$f":"VLOOKUP(L12,'C32_Baum'!$Q$17:$S$50,3,FALSE)","v":0},{"$f":"VLOOKUP(L12,'C32_Baum'!$U$24:$W$42,3,FALSE)","v":0}]
["",null,null,null,null,null,null,null,null,null,null,{"$f":"IF('C32_Baum'!U11='C32_Baum'!U41,'C32_Baum'!U42,'C32_Baum'!U41)","v":""},{"$f":"VLOOKUP(L13,C_Quali!$C$10:$H$100,2,FALSE)","v":{"$error":"#N/A"}},{"$f":"VLOOKUP(L13,C_Quali!$C$10:$H$100,6,FALSE)","v":{"$error":"#N/A"}},{"$f":"VLOOKUP(L13,'C32_Baum'!$D$3:$G$64,4,FALSE)","v":{"$error":"#N/A"}},{"$f":"VLOOKUP(L13,'C32_Baum'!$I$5:$K$62,3,FALSE)","v":0},{"$f":"VLOOKUP(L13,'C32_Baum'!$M$9:$O$58,3,FALSE)","v":0},{"$f":"VLOOKUP(L13,'C32_Baum'!$Q$17:$S$50,3,FALSE)","v":0},{"$f":"VLOOKUP(L13,'C32_Baum'!$U$24:$W$42,3,FALSE)","v":0}]
["",null,null,null,null,null,null,null,null,null,null,{"$f":"IF('C32_Baum'!Q17='C32_Baum'!M9,'C32_Baum'!M10,'C32_Baum'!M9)","v":""},{"$f":"VLOOKUP(L14,C_Quali!$C$10:$H$100,2,FALSE)","v":{"$error":"#N/A"}},{"$f":"VLOOKUP(L14,C_Quali!$C$10:$H$100,6,FALSE)","v":{"$error":"#N/A"}},{"$f":"VLOOKUP(L14,'C32_Baum'!$D$3:$G$64,4,FALSE)","v":{"$error":"#N/A"}},{"$f":"VLOOKUP(L14,'C32_Baum'!$I$5:$K$62,3,FALSE)","v":0},{"$f":"VLOOKUP(L14,'C32_Baum'!$M$9:$O$58,3,FALSE)","v":0}]
["",null,null,null,null,null,null,null,null,null,null,{"$f":"IF('C32_Baum'!Q18='C32_Baum'!M25,'C32_Baum'!M26,'C32_Baum'!M25)","v":""},{"$f":"VLOOKUP(L15,C_Quali!$C$10:$H$100,2,FALSE)","v":{"$error":"#N/A"}},{"$f":"VLOOKUP(L15,C_Quali!$C$10:$H$100,6,FALSE)","v":{"$error":"#N/A"}},{"$f":"VLOOKUP(L15,'C32_Baum'!$D$3:$G$64,4,FALSE)","v":{"$error":"#N/A"}},{"$f":"VLOOKUP(L15,'C32_Baum'!$I$5:$K$62,3,FALSE)","v":0},{"$f":"VLOOKUP(L15,'C32_Baum'!$M$9:$O$58,3,FALSE)","v":0}]
["",null,null,null,null,null,null,null,null,null,null,{"$f":"IF('C32_Baum'!Q49='C32_Baum'!M41,'C32_Baum'!M42,'C32_Baum'!M41)","v":""},{"$f":"VLOOKUP(L16,C_Quali!$C$10:$H$100,2,FALSE)","v":{"$error":"#N/A"}},{"$f":"VLOOKUP(L16,C_Quali!$C$10:$H$100,6,FALSE)","v":{"$error":"#N/A"}},{"$f":"VLOOKUP(L16,'C32_Baum'!$D$3:$G$64,4,FALSE)","v":{"$error":"#N/A"}},{"$f":"VLOOKUP(L16,'C32_Baum'!$I$5:$K$62,3,FALSE)","v":0},{"$f":"VLOOKUP(L16,'C32_Baum'!$M$9:$O$58,3,FALSE)","v":0}]
["",null,null,null,null,null,null,null,null,null,null,{"$f":"IF('C32_Baum'!Q50='C32_Baum'!M57,'C32_Baum'!M58,'C32_Baum'!M57)","v":""},{"$f":"VLOOKUP(L17,C_Quali!$C$10:$H$100,2,FALSE)","v":{"$error":"#N/A"}},{"$f":"VLOOKUP(L17,C_Quali!$C$10:$H$100,6,FALSE)","v":{"$error":"#N/A"}},{"$f":"VLOOKUP(L17,'C32_Baum'!$D$3:$G$64,4,FALSE)","v":{"$error":"#N/A"}},{"$f":"VLOOKUP(L17,'C32_Baum'!$I$5:$K$62,3,FALSE)","v":0},{"$f":"VLOOKUP(L17,'C32_Baum'!$M$9:$O$58,3,FALSE)","v":0}]
["",null,null,null,null,null,null,null,null,null,null,{"$f":"IF('C32_Baum'!M9='C32_Baum'!I5,'C32_Baum'!I6,'C32_Baum'!I5)","v":""},{"$f":"VLOOKUP(L18,C_Quali!$C$10:$H$100,2,FALSE)","v":{"$error":"#N/A"}},{"$f":"VLOOKUP(L18,C_Quali!$C$10:$H$100,6,FALSE)","v":{"$error":"#N/A"}},{"$f":"VLOOKUP(L18,'C32_Baum'!$D$3:$G$64,4,FALSE)","v":{"$error":"#N/A"}},{"$f":"VLOOKUP(L18,'C32_Baum'!$I$5:$K$62,3,FALSE)","v":0}]
["",null,null,null,null,null,null,null,null,null,null,{"$f":"IF('C32_Baum'!M10='C32_Baum'!I13,'C32_Baum'!I14,'C32_Baum'!I13)","v":""},{"$f":"VLOOKUP(L19,C_Quali!$C$10:$H$100,2,FALSE)","v":{"$error":"#N/A"}},{"$f":"VLOOKUP(L19,C_Quali!$C$10:$H$100,6,FALSE)","v":{"$error":"#N/A"}},{"$f":"VLOOKUP(L19,'C32_Baum'!$D$3:$G$64,4,FALSE)","v":{"$error":"#N/A"}},{"$f":"VLOOKUP(L19,'C32_Baum'!$I$5:$K$62,3,FALSE)","v":0}]
["",null,null,null,null,null,null,null,null,null,null,{"$f":"IF('C32_Baum'!M25='C32_Baum'!I21,'C32_Baum'!I22,'C32_Baum'!I21)","v":""},{"$f":"VLOOKUP(L20,C_Quali!$C$10:$H$100,2,FALSE)","v":{"$error":"#N/A"}},{"$f":"VLOOKUP(L20,C_Quali!$C$10:$H$100,6,FALSE)","v":{"$error":"#N/A"}},{"$f":"VLOOKUP(L20,'C32_Baum'!$D$3:$G$64,4,FALSE)","v":{"$error":"#N/A"}},{"$f":"VLOOKUP(L20,'C32_Baum'!$I$5:$K$62,3,FALSE)","v":0}]
["",null,null,null,null,null,null,null,null,null,null,{"$f":"IF('C32_Baum'!M26='C32_Baum'!I29,'C32_Baum'!I30,'C32_Baum'!I29)","v":""},{"$f":"VLOOKUP(L21,C_Quali!$C$10:$H$100,2,FALSE)","v":{"$error":"#N/A"}},{"$f":"VLOOKUP(L21,C_Quali!$C$10:$H$100,6,FALSE)","v":{"$error":"#N/A"}},{"$f":"VLOOKUP(L21,'C32_Baum'!$D$3:$G$64,4,FALSE)","v":{"$error":"#N/A"}},{"$f":"VLOOKUP(L21,'C32_Baum'!$I$5:$K$62,3,FALSE)","v":0}]
["",null,null,null,null,null,null,null,null,null,null,{"$f":"IF('C32_Baum'!M41='C32_Baum'!I37,'C32_Baum'!I38,'C32_Baum'!I37)","v":""},{"$f":"VLOOKUP(L22,C_Quali!$C$10:$H$100,2,FALSE)","v":{"$error":"#N/A"}},{"$f":"VLOOKUP(L22,C_Quali!$C$10:$H$100,6,FALSE)","v":{"$error":"#N/A"}},{"$f":"VLOOKUP(L22,'C32_Baum'!$D$3:$G$64,4,FALSE)","v":{"$error":"#N/A"}},{"$f":"VLOOKUP(L22,'C32_Baum'!$I$5:$K$62,3,FALSE)","v":0}]
["",null,null,null,null,null,null,null,null,null,null,{"$f":"IF('C32_Baum'!M42='C32_Baum'!I45,'C32_Baum'!I46,'C32_Baum'!I45)","v":""},{"$f":"VLOOKUP(L23,C_Quali!$C$10:$H$100,2,FALSE)","v":{"$error":"#N/A"}},{"$f":"VLOOKUP(L23,C_Quali!$C$10:$H$100,6,FALSE)","v":{"$error":"#N/A"}},{"$f":"VLOOKUP(L23,'C32_Baum'!$D$3:$G$64,4,FALSE)","v":{"$error":"#N/A"}},{"$f":"VLOOKUP(L23,'C32_Baum'!$I$5:$K$62,3,FALSE)","v":0}]
["",null,null,null,null,null,null,null,null,null,null,{"$f":"IF('C32_Baum'!M57='C32_Baum'!I53,'C32_Baum'!I54,'C32_Baum'!I53)","v":""},{"$f":"VLOOKUP(L24,C_Quali!$C$10:$H$100,2,FALSE)","v":{"$error":"#N/A"}},{"$f":"VLOOKUP(L24,C_Quali!$C$10:$H$100,6,FALSE)","v":{"$error":"#N/A"}},{"$f":"VLOOKUP(L24,'C32_Baum'!$D$3:$G$64,4,FALSE)","v":{"$error":"#N/A"}},{"$f":"VLOOKUP(L24,'C32_Baum'!$I$5:$K$62,3,FALSE)","v":0}]
["",null,null,null,null,null,null,null,null,null,null,{"$f":"IF('C32_Baum'!M58='C32_Baum'!I61,'C32_Baum'!I62,'C32_Baum'!I61)","v":""},{"$f":"VLOOKUP(L25,C_Quali!$C$10:$H$100,2,FALSE)","v":{"$error":"#N/A"}},{"$f":"VLOOKUP(L25,C_Quali!$C$10:$H$100,6,FALSE)","v":{"$error":"#N/A"}},{"$f":"VLOOKUP(L25,'C32_Baum'!$D$3:$G$64,4,FALSE)","v":{"$error":"#N/A"}},{"$f":"VLOOKUP(L25,'C32_Baum'!$I$5:$K$62,3,FALSE)","v":0}]
["",null,null,null,null,null,null,null,null,null,null,{"$f":"IF('C32_Baum'!I6='C32_Baum'!D7,'C32_Baum'!D8,'C32_Baum'!D7)","v":"Kolm Martin"},{"$f":"VLOOKUP(L26,C_Quali!$C$10:$H$100,2,FALSE)","v":"WBZ Union Zwettl"},{"$f":"VLOOKUP(L26,C_Quali!$C$10:$H$100,6,FALSE)","v":516},{"$f":"VLOOKUP(L26,'C32_Baum'!$D$3:$G$64,4,FALSE)","v":0}]
["",null,null,null,null,null,null,null,null,null,null,{"$f":"IF('C32_Baum'!I13='C32_Baum'!D11,'C32_Baum'!D12,'C32_Baum'!D11)","v":"Helmer Gerhard"},{"$f":"VLOOKUP(L27,C_Quali!$C$10:$H$100,2,FALSE)","v":"UBC Diana NÖ"},{"$f":"VLOOKUP(L27,C_Quali!$C$10:$H$100,6,FALSE)","v":524},{"$f":"VLOOKUP(L27,'C32_Baum'!$D$3:$G$64,4,FALSE)","v":0}]
["",null,null,null,null,null,null,null,null,null,null,{"$f":"IF('C32_Baum'!I14='C32_Baum'!D15,'C32_Baum'!D16,'C32_Baum'!D15)","v":"Quinz Harald"},{"$f":"VLOOKUP(L28,C_Quali!$C$10:$H$100,2,FALSE)","v":"Atus Zeltweg Sektion Bogen"},{"$f":"VLOOKUP(L28,C_Quali!$C$10:$H$100,6,FALSE)","v":508},{"$f":"VLOOKUP(L28,'C32_Baum'!$D$3:$G$64,4,FALSE)","v":0}]
["",null,null,null,null,null,null,null,null,null,null,{"$f":"IF('C32_Baum'!I21='C32_Baum'!D19,'C32_Baum'!D20,'C32_Baum'!D19)","v":"Traxler Helmuth"},{"$f":"VLOOKUP(L29,C_Quali!$C$10:$H$100,2,FALSE)","v":"UBC Diana NÖ"},{"$f":"VLOOKUP(L29,C_Quali!$C$10:$H$100,6,FALSE)","v":528},{"$f":"VLOOKUP(L29,'C32_Baum'!$D$3:$G$64,4,FALSE)","v":0}]
["",null,null,null,null,null,null,null,null,null,null,{"$f":"IF('C32_Baum'!I22='C32_Baum'!D23,'C32_Baum'!D24,'C32_Baum'!D23)","v":"Lehner Heinz"},{"$f":"VLOOKUP(L30,C_Quali!$C$10:$H$100,2,FALSE)","v":"Salzkammergut Bogensport Club"},{"$f":"VLOOKUP(L30,C_Quali!$C$10:$H$100,6,FALSE)","v":512},{"$f":"VLOOKUP(L30,'C32_Baum'!$D$3:$G$64,4,FALSE)","v":0}]
["",null,null,null,null,null,null,null,null,null,null,{"$f":"IF('C32_Baum'!I29='C32_Baum'!D27,'C32_Baum'!D28,'C32_Baum'!D27)","v":"Zezula Erwin"},{"$f":"VLOOKUP(L31,C_Quali!$C$10:$H$100,2,FALSE)","v":"WBZ Union Zwettl"},{"$f":"VLOOKUP(L31,C_Quali!$C$10:$H$100,6,FALSE)","v":520},{"$f":"VLOOKUP(L31,'C32_Baum'!$D$3:$G$64,4,FALSE)","v":0}]
["",null,null,null,null,null,null,null,null,null,null,{"$f":"IF('C32_Baum'!I38='C32_Baum'!D39,'C32_Baum'!D40,'C32_Baum'!D39)","v":"Zimmerbeutel Axel"},{"$f":"VLOOKUP(L32,C_Quali!$C$10:$H$100,2,FALSE)","v":"3D Bogenplatz Riedersbach"},{"$f":"VLOOKUP(L32,C_Quali!$C$10:$H$100,6,FALSE)","v":514},{"$f":"VLOOKUP(L32,'C32_Baum'!$D$3:$G$64,4,FALSE)","v":0}]
["",null,null,null,null,null,null,null,null,null,null,{"$f":"IF('C32_Baum'!I45='C32_Baum'!D43,'C32_Baum'!D44,'C32_Baum'!D43)","v":"Burda Erwin"},{"$f":"VLOOKUP(L33,C_Quali!$C$10:$H$100,2,FALSE)","v":"BC Golden Arrows"},{"$f":"VLOOKUP(L33,C_Quali!$C$10:$H$100,6,FALSE)","v":522},{"$f":"VLOOKUP(L33,'C32_Baum'!$D$3:$G$64,4,FALSE)","v":0}]
["",null,null,null,null,null,null,null,null,null,null,{"$f":"IF('C32_Baum'!I46='C32_Baum'!D47,'C32_Baum'!D48,'C32_Baum'!D47)","v":"Schlechter Hans-Jürgen"},{"$f":"VLOOKUP(L34,C_Quali!$C$10:$H$100,2,FALSE)","v":"BSV Brixlegg - NAVAJOS"},{"$f":"VLOOKUP(L34,C_Quali!$C$10:$H$100,6,FALSE)","v":506},{"$f":"VLOOKUP(L34,'C32_Baum'!$D$3:$G$64,4,FALSE)","v":0}]
["",null,null,null,null,null,null,null,null,null,null,{"$f":"IF('C32_Baum'!I53='C32_Baum'!D51,'C32_Baum'!D52,'C32_Baum'!D51)","v":"Koisegg Johann"},{"$f":"VLOOKUP(L35,C_Quali!$C$10:$H$100,2,FALSE)","v":"BSC Sparkasse Jenbach"},{"$f":"VLOOKUP(L35,C_Quali!$C$10:$H$100,6,FALSE)","v":526},{"$f":"VLOOKUP(L35,'C32_Baum'!$D$3:$G$64,4,FALSE)","v":0}]
["",null,null,null,null,null,null,null,null,null,null,{"$f":"IF('C32_Baum'!I54='C32_Baum'!D55,'C32_Baum'!D56,'C32_Baum'!D55)","v":"Gruber Werner"},{"$f":"VLOOKUP(L36,C_Quali!$C$10:$H$100,2,FALSE)","v":"Atus Zeltweg Sektion Bogen"},{"$f":"VLOOKUP(L36,C_Quali!$C$10:$H$100,6,FALSE)","v":510},{"$f":"VLOOKUP(L36,'C32_Baum'!$D$3:$G$64,4,FALSE)","v":0}]
["",null,null,null,null,null,null,null,null,null,null,{"$f":"IF('C32_Baum'!I61='C32_Baum'!D59,'C32_Baum'!D60,'C32_Baum'!D59)","v":"Url Marsell"},{"$f":"VLOOKUP(L37,C_Quali!$C$10:$H$100,2,FALSE)","v":"UBSC Artemis Steiermark"},{"$f":"VLOOKUP(L37,C_Quali!$C$10:$H$100,6,FALSE)","v":518},{"$f":"VLOOKUP(L37,'C32_Baum'!$D$3:$G$64,4,FALSE)","v":0}]
["",null,null,null,null,null,null,null,null,null,null,{"$f":"IF('C32_Baum'!I5='C32_Baum'!D3,'C32_Baum'!D4,'C32_Baum'!D3)","v":"Steinwender Alois"},{"$f":"VLOOKUP(L38,C_Quali!$C$10:$H$100,2,FALSE)","v":"Bogensport Lungau"},{"$f":"VLOOKUP(L38,C_Quali!$C$10:$H$100,6,FALSE)","v":532},{"$f":"VLOOKUP(L38,'C32_Baum'!$D$3:$G$64,4,FALSE)","v":0}]
["",null,null,null,null,null,null,null,null,null,null,{"$f":"IF('C32_Baum'!I30='C32_Baum'!D31,'C32_Baum'!D32,'C32_Baum'!D31)","v":"Holzer Gerhard"},{"$f":"VLOOKUP(L39,C_Quali!$C$10:$H$100,2,FALSE)","v":"UBC Diana NÖ"},{"$f":"VLOOKUP(L39,C_Quali!$C$10:$H$100,6,FALSE)","v":504},{"$f":"VLOOKUP(L39,'C32_Baum'!$D$3:$G$64,4,FALSE)","v":0}]
["",null,null,null,null,null,null,null,null,null,null,{"$f":"IF('C32_Baum'!I37='C32_Baum'!D35,'C32_Baum'!D36,'C32_Baum'!D35)","v":"Hubmann Gerhard"},{"$f":"VLOOKUP(L40,C_Quali!$C$10:$H$100,2,FALSE)","v":"EAT-Bogensport"},{"$f":"VLOOKUP(L40,C_Quali!$C$10:$H$100,6,FALSE)","v":530},{"$f":"VLOOKUP(L40,'C32_Baum'!$D$3:$G$64,4,FALSE)","v":0}]
["",null,null,null,null,null,null,null,null,null,null,{"$f":"IF('C32_Baum'!I62='C32_Baum'!D63,'C32_Baum'!D64,'C32_Baum'!D63)","v":"Kuhn Jürgen Hans"},{"$f":"VLOOKUP(L41,C_Quali!$C$10:$H$100,2,FALSE)","v":"UBC Diana NÖ"},{"$f":"VLOOKUP(L41,C_Quali!$C$10:$H$100,6,FALSE)","v":502},{"$f":"VLOOKUP(L41,'C32_Baum'!$D$3:$G$64,4,FALSE)","v":0}]

{"sheet":"C28_Baum","index":25,"n_rows":103,"n_cols":28,"rows_kept":103,"cut":false,"hidden":true,"merged":[[63,20,64,21],[63,19,64,19],[22,16,23,17],[24,16,25,17],[65,2,66,6],[64,7,65,9],[60,12,61,14],[53,16,54,18],[65,10,66,16],[1,13,2,22],[3,13,4,22],[52,20,53,22],[39,16,40,17],[41,16,42,17],[6,19,7,19],[6,22,7,22],[8,22,9,22],[10,22,11,22],[8,19,9,19],[10,19,11,19],[6,20,7,21],[8,20,9,21],[10,20,11,21]]}
[]
[null,"Schb.","Qual.","Name","Land","Verein","Erg.",null,null,null,null,null,null,{"$f":"Select!C12","v":"Demoturnier"}]
[1,null,{"$f":"C_Quali!H10","v":532},{"$f":"C_Quali!C10","v":"Steinwender Alois"},{"$f":"C_Quali!E10","v":"S"},{"$f":"C_Quali!D10","v":"Bogensport Lungau"},"*"]
[null,null,null,null,null,null,null,"Schb","Name","Land","Erg.",null,null,{"$f":"Select!C13","v":"1. April 2019"}]
[null,null,null,null,null,null,null,{"$f":"J72","v":1},{"$f":"IF($G3>$G4,$D3,IF($G4>$G3,$D4,IF(RIGHT($G3,1)=\"*\",$D3,IF(RIGHT($G4,1)=\"*\",$D4,\"\"))))","v":"Steinwender Alois"},{"$f":"IF($G3>$G4,$E3,IF($G4>$G3,$E4,IF(RIGHT($G3,1)=\"*\",$E3,IF(RIGHT($G4,1)=\"*\",$E4,\"\"))))","v":"S"}]
[null,null,null,null,null,null,null,{"$f":"J73","v":2},{"$f":"IF($G7>$G8,$D7,IF($G8>$G7,$D8,IF(RIGHT($G7,1)=\"*\",$D7,IF(RIGHT($G8,1)=\"*\",$D8,\"\"))))","v":""},{"$f":"IF($G7>$G8,$E7,IF($G8>$G7,$E8,IF(RIGHT($G7,1)=\"*\",$E7,IF(RIGHT($G8,1)=\"*\",$E8,\"\"))))","v":""}]
[17,{"$f":"E72","v":"1A"},{"$f":"C_Quali!H26","v":516},{"$f":"C_Quali!C26","v":"Kolm Martin"},{"$f":"C_Quali!E26","v":"NÖ"},{"$f":"C_Quali!D26","v":"WBZ Union Zwettl"},null,null,null,null,null,null,null,null,null,null,null,null,null,"1.",{"$f":"IF($W$24>$W$25,$U$24,IF($W$25>$W$24,$U$25,IF(RIGHT($W$24,1)=\"*\",$U$24,IF(RIGHT($W$25,1)=\"*\",$U$25,\"\"))))","v":""},null,{"$f":"IF($W$24>$W$25,$V$24,IF($W$25>$W$24,$V$25,IF(RIGHT($W$24,1)=\"*\",$V$24,IF(RIGHT($W$25,1)=\"*\",$V$25,\"\"))))","v":""}]
[16,{"$f":"E73","v":"1B"},{"$f":"C_Quali!H25","v":517},{"$f":"C_Quali!C25","v":"Bucher Martin"},{"$f":"C_Quali!E25","v":"ST"},{"$f":"C_Quali!D25","v":"LH Graz"},null,null,null,null,null,"Schb","Name","Land","Erg."]
[null,null,null,null,null,null,null,null,null,null,null,{"$f":"N72","v":11},{"$f":"IF($K5>$K6,$I5,IF($K6>$K5,$I6,IF(RIGHT($K5,1)=\"*\",$I5,IF(RIGHT($K6,1)=\"*\",$I6,\"\"))))","v":""},{"$f":"IF($K5>$K6,$J5,IF($K6>$K5,$J6,IF(RIGHT($K5,1)=\"*\",$J5,IF(RIGHT($K6,1)=\"*\",$J6,\"\"))))","v":""},null,null,null,null,null,"2.",{"$f":"IF($W$24<$W$25,$U$24,IF($W$25<$W$24,$U$25,IF(RIGHT($W$25,1)=\"*\",$U$24,IF(RIGHT($W$24,1)=\"*\",$U$25,\"\"))))","v":""},null,{"$f":"IF($W$24<$W$25,$V$24,IF($W$25<$W$24,$V$25,IF(RIGHT($W$25,1)=\"*\",$V$24,IF(RIGHT($W$24,1)=\"*\",$V$25,\"\"))))","v":""}]
[null,null,null,null,null,null,null,null,null,null,null,{"$f":"N73","v":12},{"$f":"IF($K13>$K14,$I13,IF($K14>$K13,$I14,IF(RIGHT($K13,1)=\"*\",$I13,IF(RIGHT($K14,1)=\"*\",$I14,\"\"))))","v":""},{"$f":"IF($K13>$K14,$J13,IF($K14>$K13,$J14,IF(RIGHT($K13,1)=\"*\",$J13,IF(RIGHT($K14,1)=\"*\",$J14,\"\"))))","v":""}]
[9,{"$f":"E74","v":"2A"},{"$f":"C_Quali!H18","v":524},{"$f":"C_Quali!C18","v":"Helmer Gerhard"},{"$f":"C_Quali!E18","v":"NÖ"},{"$f":"C_Quali!D18","v":"UBC Diana NÖ"},null,null,null,null,null,null,null,null,null,null,null,null,null,"3.",{"$f":"IF($W$41>$W$42,$U$41,IF($W$42>$W$41,$U$42,IF(RIGHT($W$41,1)=\"*\",$U$41,IF(RIGHT($W$42,1)=\"*\",$U$42,\"\"))))","v":""},null,{"$f":"IF($W$41>$W$42,$V$41,IF($W$42>$W$41,$V$42,IF(RIGHT($W$41,1)=\"*\",$V$41,IF(RIGHT($W$42,1)=\"*\",$V$42,\"\"))))","v":""}]
[24,{"$f":"E75","v":"2B"},{"$f":"C_Quali!H33","v":509},{"$f":"C_Quali!C33","v":"Schaden Harald"},{"$f":"C_Quali!E33","v":"ST"},{"$f":"C_Quali!D33","v":"BSC Gaal"}]
[null,null,null,null,null,null,null,{"$f":"J74","v":3},{"$f":"IF($G11>$G12,$D11,IF($G12>$G11,$D12,IF(RIGHT($G11,1)=\"*\",$D11,IF(RIGHT($G12,1)=\"*\",$D12,\"\"))))","v":""},{"$f":"IF($G11>$G12,$E11,IF($G12>$G11,$E12,IF(RIGHT($G11,1)=\"*\",$E11,IF(RIGHT($G12,1)=\"*\",$E12,\"\"))))","v":""}]
[null,null,null,null,null,null,null,{"$f":"J75","v":4},{"$f":"IF($G15>$G16,$D15,IF($G16>$G15,$D16,IF(RIGHT($G15,1)=\"*\",$D15,IF(RIGHT($G16,1)=\"*\",$D16,\"\"))))","v":""},{"$f":"IF($G15>$G16,$E15,IF($G16>$G15,$E16,IF(RIGHT($G15,1)=\"*\",$E15,IF(RIGHT($G16,1)=\"*\",$E16,\"\"))))","v":""}]
[25,{"$f":"E76","v":"3A"},{"$f":"C_Quali!H34","v":508},{"$f":"C_Quali!C34","v":"Quinz Harald"},{"$f":"C_Quali!E34","v":"ST"},{"$f":"C_Quali!D34","v":"Atus Zeltweg Sektion Bogen"}]
[8,{"$f":"E77","v":"3B"},{"$f":"C_Quali!H17","v":525},{"$f":"C_Quali!C17","v":"Richter Oscar"},{"$f":"C_Quali!E17","v":"S"},{"$f":"C_Quali!D17","v":"BC Golden Arrows"},null,null,null,null,null,null,null,null,null,"Schb","Name","Land","Erg."]
[null,null,null,null,null,null,null,null,null,null,null,null,null,null,null,{"$f":"R72","v":"1A"},{"$f":"IF($O9>$O10,$M9,IF($O10>$O9,$M10,IF(RIGHT($O9,1)=\"*\",$M9,IF(RIGHT($O10,1)=\"*\",$M10,\"\"))))","v":""},{"$f":"IF($O9>$O10,$N9,IF($O10>$O9,$N10,IF(RIGHT($O9,1)=\"*\",$N9,IF(RIGHT($O10,1)=\"*\",$N10,\"\"))))","v":""}]
[null,null,null,null,null,null,null,null,null,null,null,null,null,null,null,{"$f":"R73","v":"1B"},{"$f":"IF($O25>$O26,$M25,IF($O26>$O25,$M26,IF(RIGHT($O25,1)=\"*\",$M25,IF(RIGHT($O26,1)=\"*\",$M26,\"\"))))","v":""},{"$f":"IF($O25>$O26,$N25,IF($O26>$O25,$N26,IF(RIGHT($O25,1)=\"*\",$N25,IF(RIGHT($O26,1)=\"*\",$N26,\"\"))))","v":""}]
[5,{"$f":"E78","v":"4A"},{"$f":"C_Quali!H14","v":528},{"$f":"C_Quali!C14","v":"Traxler Helmuth"},{"$f":"C_Quali!E14","v":"NÖ"},{"$f":"C_Quali!D14","v":"UBC Diana NÖ"}]
[28,{"$f":"E79","v":"4B"},{"$f":"C_Quali!H37","v":505},{"$f":"C_Quali!C37","v":"Irnsperger Gerald"},{"$f":"C_Quali!E37","v":"OÖ"},{"$f":"C_Quali!D37","v":"3D Bogenplatz Riedersbach"}]
[null,null,null,null,null,null,null,{"$f":"J76","v":5},{"$f":"IF($G19>$G20,$D19,IF($G20>$G19,$D20,IF(RIGHT($G19,1)=\"*\",$D19,IF(RIGHT($G20,1)=\"*\",$D20,\"\"))))","v":""},{"$f":"IF($G19>$G20,$E19,IF($G20>$G19,$E20,IF(RIGHT($G19,1)=\"*\",$E19,IF(RIGHT($G20,1)=\"*\",$E20,\"\"))))","v":""}]
[null,null,null,null,null,null,null,{"$f":"J77","v":6},{"$f":"IF($G23>$G24,$D23,IF($G24>$G23,$D24,IF(RIGHT($G23,1)=\"*\",$D23,IF(RIGHT($G24,1)=\"*\",$D24,\"\"))))","v":""},{"$f":"IF($G23>$G24,$E23,IF($G24>$G23,$E24,IF(RIGHT($G23,1)=\"*\",$E23,IF(RIGHT($G24,1)=\"*\",$E24,\"\"))))","v":""}]
[21,{"$f":"E80","v":"5A"},{"$f":"C_Quali!H30","v":512},{"$f":"C_Quali!C30","v":"Lehner Heinz"},{"$f":"C_Quali!E30","v":"OÖ"},{"$f":"C_Quali!D30","v":"Salzkammergut Bogensport Club"},null,null,null,null,null,null,null,null,null,null,"Finale",null,null,"Schb","Name","Land","Erg."]
[12,{"$f":"E81","v":"5B"},{"$f":"C_Quali!H21","v":521},{"$f":"C_Quali!C21","v":"Willingshofer August"},{"$f":"C_Quali!E21","v":"K"},{"$f":"C_Quali!D21","v":"BSC Velden"},null,null,null,null,null,null,null,null,null,null,null,null,null,{"$f":"V72","v":13},{"$f":"IF($S17>$S18,$Q17,IF($S18>$S17,$Q18,IF(RIGHT($S17,1)=\"*\",$Q17,IF(RIGHT($S18,1)=\"*\",$Q18,\"\"))))","v":""},{"$f":"IF($S17>$S18,$R17,IF($S18>$S17,$R18,IF(RIGHT($S17,1)=\"*\",$R17,IF(RIGHT($S18,1)=\"*\",$R18,\"\"))))","v":""},null,null,null,null,{"$f":"IF($S17>$S18,$Q17,IF($S18>$S17,$Q18,IF(RIGHT($S17,1)=\"*\",$Q17,IF(RIGHT($S18,1)=\"*\",$Q18,\"\"))))","v":""},{"$f":"IF($S17>$S18,$R17,IF($S18>$S17,$R18,IF(RIGHT($S17,1)=\"*\",$R17,IF(RIGHT($S18,1)=\"*\",$R18,\"\"))))","v":""}]
[null,null,null,null,null,null,null,null,null,null,null,{"$f":"N74","v":13},{"$f":"IF($K21>$K22,$I21,IF($K22>$K21,$I22,IF(RIGHT($K21,1)=\"*\",$I21,IF(RIGHT($K22,1)=\"*\",$I22,\"\"))))","v":""},{"$f":"IF($K21>$K22,$J21,IF($K22>$K21,$J22,IF(RIGHT($K21,1)=\"*\",$J21,IF(RIGHT($K22,1)=\"*\",$J22,\"\"))))","v":""},null,null,"1. und 2. Platz",null,null,{"$f":"V73","v":14},{"$f":"IF($S49>$S50,$Q49,IF($S50>$S49,$Q50,IF(RIGHT($S49,1)=\"*\",$Q49,IF(RIGHT($S50,1)=\"*\",$Q50,\"\"))))","v":""},{"$f":"IF($S49>$S50,$R49,IF($S50>$S49,$R50,IF(RIGHT($S49,1)=\"*\",$R49,IF(RIGHT($S50,1)=\"*\",$R50,\"\"))))","v":""},null,null,null,null,{"$f":"IF($S49>$S50,$Q49,IF($S50>$S49,$Q50,IF(RIGHT($S49,1)=\"*\",$Q49,IF(RIGHT($S50,1)=\"*\",$Q50,\"\"))))","v":""},{"$f":"IF($S49>$S50,$R49,IF($S50>$S49,$R50,IF(RIGHT($S49,1)=\"*\",$R49,IF(RIGHT($S50,1)=\"*\",$R50,\"\"))))","v":""}]
[null,null,null,null,null,null,null,null,null,null,null,{"$f":"N75","v":14},{"$f":"IF($K29>$K30,$I29,IF($K30>$K29,$I30,IF(RIGHT($K29,1)=\"*\",$I29,IF(RIGHT($K30,1)=\"*\",$I30,\"\"))))","v":""},{"$f":"IF($K29>$K30,$J29,IF($K30>$K29,$J30,IF(RIGHT($K29,1)=\"*\",$J29,IF(RIGHT($K30,1)=\"*\",$J30,\"\"))))","v":""}]
[13,{"$f":"E82","v":"6A"},{"$f":"C_Quali!H22","v":520},{"$f":"C_Quali!C22","v":"Zezula Erwin"},{"$f":"C_Quali!E22","v":"NÖ"},{"$f":"C_Quali!D22","v":"WBZ Union Zwettl"}]
[20,{"$f":"E83","v":"6B"},{"$f":"C_Quali!H29","v":513},{"$f":"C_Quali!C29","v":"RAINER Andreas"},{"$f":"C_Quali!E29","v":"ST"},{"$f":"C_Quali!D29","v":"BSC Semriach"}]
[null,null,null,null,null,null,null,{"$f":"J78","v":7},{"$f":"IF($G27>$G28,$D27,IF($G28>$G27,$D28,IF(RIGHT($G27,1)=\"*\",$D27,IF(RIGHT($G28,1)=\"*\",$D28,\"\"))))","v":""},{"$f":"IF($G27>$G28,$E27,IF($G28>$G27,$E28,IF(RIGHT($G27,1)=\"*\",$E27,IF(RIGHT($G28,1)=\"*\",$E28,\"\"))))","v":""}]
[null,null,null,null,null,null,null,{"$f":"J79","v":8},{"$f":"IF($G31>$G32,$D31,IF($G32>$G31,$D32,IF(RIGHT($G31,1)=\"*\",$D31,IF(RIGHT($G32,1)=\"*\",$D32,\"\"))))","v":"Wippel Wolfgang"},{"$f":"IF($G31>$G32,$E31,IF($G32>$G31,$E32,IF(RIGHT($G31,1)=\"*\",$E31,IF(RIGHT($G32,1)=\"*\",$E32,\"\"))))","v":"ST"}]
[]
[4,null,{"$f":"C_Quali!H13","v":529},{"$f":"C_Quali!C13","v":"Wippel Wolfgang"},{"$f":"C_Quali!E13","v":"ST"},{"$f":"C_Quali!D13","v":"BC Union Graz Seiersberg"},"*"]
[]
[]
[3,null,{"$f":"C_Quali!H12","v":530},{"$f":"C_Quali!C12","v":"Hubmann Gerhard"},{"$f":"C_Quali!E12","v":"ST"},{"$f":"C_Quali!D12","v":"EAT-Bogensport"},"*"]
[]
[null,null,null,null,null,null,null,{"$f":"J80","v":9},{"$f":"IF($G35>$G36,$D35,IF($G36>$G35,$D36,IF(RIGHT($G35,1)=\"*\",$D35,IF(RIGHT($G36,1)=\"*\",$D36,\"\"))))","v":"Hubmann Gerhard"},{"$f":"IF($G35>$G36,$E35,IF($G36>$G35,$E36,IF(RIGHT($G35,1)=\"*\",$E35,IF(RIGHT($G36,1)=\"*\",$E36,\"\"))))","v":"ST"}]
[null,null,null,null,null,null,null,{"$f":"J81","v":10},{"$f":"IF($G39>$G40,$D39,IF($G40>$G39,$D40,IF(RIGHT($G39,1)=\"*\",$D39,IF(RIGHT($G40,1)=\"*\",$D40,\"\"))))","v":""},{"$f":"IF($G39>$G40,$E39,IF($G40>$G39,$E40,IF(RIGHT($G39,1)=\"*\",$E39,IF(RIGHT($G40,1)=\"*\",$E40,\"\"))))","v":""}]
[19,{"$f":"E84","v":"7A"},{"$f":"C_Quali!H28","v":514},{"$f":"C_Quali!C28","v":"Zimmerbeutel Axel"},{"$f":"C_Quali!E28","v":"OÖ"},{"$f":"C_Quali!D28","v":"3D Bogenplatz Riedersbach"}]
[14,{"$f":"E85","v":"7B"},{"$f":"C_Quali!H23","v":519},{"$f":"C_Quali!C23","v":"Wühl Martin"},{"$f":"C_Quali!E23","v":"NÖ"},{"$f":"C_Quali!D23","v":"BSC Fischamend"},null,null,null,null,null,null,null,null,null,null,"Finale"]
[null,null,null,null,null,null,null,null,null,null,null,{"$f":"N76","v":15},{"$f":"IF($K37>$K38,$I37,IF($K38>$K37,$I38,IF(RIGHT($K37,1)=\"*\",$I37,IF(RIGHT($K38,1)=\"*\",$I38,\"\"))))","v":""},{"$f":"IF($K37>$K38,$J37,IF($K38>$K37,$J38,IF(RIGHT($K37,1)=\"*\",$J37,IF(RIGHT($K38,1)=\"*\",$J38,\"\"))))","v":""},null,null,null,null,null,{"$f":"V74","v":15},{"$f":"IF($S17>$S18,$Q18,IF($S18>$S17,$Q17,IF(RIGHT($S17,1)=\"*\",$Q18,IF(RIGHT($S18,1)=\"*\",$Q17,\"\"))))","v":""},{"$f":"IF($S17>$S18,$R18,IF($S18>$S17,$R17,IF(RIGHT($S17,1)=\"*\",$R18,IF(RIGHT($S18,1)=\"*\",$R17,\"\"))))","v":""},null,null,null,null,{"$f":"IF($S17>$S18,$Q18,IF($S18>$S17,$Q17,IF(RIGHT($S17,1)=\"*\",$Q18,IF(RIGHT($S18,1)=\"*\",$Q17,\"\"))))","v":""},{"$f":"IF($S17>$S18,$R18,IF($S18>$S17,$R17,IF(RIGHT($S17,1)=\"*\",$R18,IF(RIGHT($S18,1)=\"*\",$R17,\"\"))))","v":""}]
[null,null,null,null,null,null,null,null,null,null,null,{"$f":"N77","v":16},{"$f":"IF($K45>$K46,$I45,IF($K46>$K45,$I46,IF(RIGHT($K45,1)=\"*\",$I45,IF(RIGHT($K46,1)=\"*\",$I46,\"\"))))","v":""},{"$f":"IF($K45>$K46,$J45,IF($K46>$K45,$J46,IF(RIGHT($K45,1)=\"*\",$J45,IF(RIGHT($K46,1)=\"*\",$J46,\"\"))))","v":""},null,null,"3. und 4. Platz",null,null,{"$f":"V75","v":16},{"$f":"IF($S49>$S50,$Q50,IF($S50>$S49,$Q49,IF(RIGHT($S49,1)=\"*\",$Q50,IF(RIGHT($S50,1)=\"*\",$Q49,\"\"))))","v":""},{"$f":"IF($S49>$S50,$R50,IF($S50>$S49,$R49,IF(RIGHT($S49,1)=\"*\",$R50,IF(RIGHT($S50,1)=\"*\",$R49,\"\"))))","v":""},null,null,null,null,{"$f":"IF($S49>$S50,$Q50,IF($S50>$S49,$Q49,IF(RIGHT($S49,1)=\"*\",$Q50,IF(RIGHT($S50,1)=\"*\",$Q49,\"\"))))","v":""},{"$f":"IF($S49>$S50,$R50,IF($S50>$S49,$R49,IF(RIGHT($S49,1)=\"*\",$R50,IF(RIGHT($S50,1)=\"*\",$R49,\"\"))))","v":""}]
[11,{"$f":"E86","v":"8A"},{"$f":"C_Quali!H20","v":522},{"$f":"C_Quali!C20","v":"Burda Erwin"},{"$f":"C_Quali!E20","v":"S"},{"$f":"C_Quali!D20","v":"BC Golden Arrows"}]
[22,{"$f":"E87","v":"8B"},{"$f":"C_Quali!H31","v":511},{"$f":"C_Quali!C31","v":"Daum Stefan"},{"$f":"C_Quali!E31","v":"T"},{"$f":"C_Quali!D31","v":"BSC Sparkasse Jenbach"}]
[null,null,null,null,null,null,null,{"$f":"J82","v":11},{"$f":"IF($G43>$G44,$D43,IF($G44>$G43,$D44,IF(RIGHT($G43,1)=\"*\",$D43,IF(RIGHT($G44,1)=\"*\",$D44,\"\"))))","v":""},{"$f":"IF($G43>$G44,$E43,IF($G44>$G43,$E44,IF(RIGHT($G43,1)=\"*\",$E43,IF(RIGHT($G44,1)=\"*\",$E44,\"\"))))","v":""}]
[null,null,null,null,null,null,null,{"$f":"J83","v":12},{"$f":"IF($G47>$G48,$D47,IF($G48>$G47,$D48,IF(RIGHT($G47,1)=\"*\",$D47,IF(RIGHT($G48,1)=\"*\",$D48,\"\"))))","v":""},{"$f":"IF($G47>$G48,$E47,IF($G48>$G47,$E48,IF(RIGHT($G47,1)=\"*\",$E47,IF(RIGHT($G48,1)=\"*\",$E48,\"\"))))","v":""}]
[27,{"$f":"E88","v":"9A"},{"$f":"C_Quali!H36","v":506},{"$f":"C_Quali!C36","v":"Schlechter Hans-Jürgen"},{"$f":"C_Quali!E36","v":"T"},{"$f":"C_Quali!D36","v":"BSV Brixlegg - NAVAJOS"}]
[6,{"$f":"E89","v":"9B"},{"$f":"C_Quali!H15","v":527},{"$f":"C_Quali!C15","v":"Schneider Wolfgang"},{"$f":"C_Quali!E15","v":"NÖ"},{"$f":"C_Quali!D15","v":"WBZ Union Zwettl"}]
[null,null,null,null,null,null,null,null,null,null,null,null,null,null,null,{"$f":"R74","v":"2A"},{"$f":"IF($O41>$O42,$M41,IF($O42>$O41,$M42,IF(RIGHT($O41,1)=\"*\",$M41,IF(RIGHT($O42,1)=\"*\",$M42,\"\"))))","v":""},{"$f":"IF($O41>$O42,$N41,IF($O42>$O41,$N42,IF(RIGHT($O41,1)=\"*\",$N41,IF(RIGHT($O42,1)=\"*\",$N42,\"\"))))","v":""}]
[null,null,null,null,null,null,null,null,null,null,null,null,null,null,null,{"$f":"R75","v":"2B"},{"$f":"IF($O57>$O58,$M57,IF($O58>$O57,$M58,IF(RIGHT($O57,1)=\"*\",$M57,IF(RIGHT($O58,1)=\"*\",$M58,\"\"))))","v":""},{"$f":"IF($O57>$O58,$N57,IF($O58>$O57,$N58,IF(RIGHT($O57,1)=\"*\",$N57,IF(RIGHT($O58,1)=\"*\",$N58,\"\"))))","v":""}]
[7,{"$f":"E90","v":"10A"},{"$f":"C_Quali!H16","v":526},{"$f":"C_Quali!C16","v":"Koisegg Johann"},{"$f":"C_Quali!E16","v":"T"},{"$f":"C_Quali!D16","v":"BSC Sparkasse Jenbach"}]
[26,{"$f":"E91","v":"10B"},{"$f":"C_Quali!H35","v":507},{"$f":"C_Quali!C35","v":"Steininger Helmut"},{"$f":"C_Quali!E35","v":"W"},{"$f":"C_Quali!D35","v":"UBSC Artemis Wien"}]
[null,null,null,null,null,null,null,{"$f":"J84","v":13},{"$f":"IF($G51>$G52,$D51,IF($G52>$G51,$D52,IF(RIGHT($G51,1)=\"*\",$D51,IF(RIGHT($G52,1)=\"*\",$D52,\"\"))))","v":""},{"$f":"IF($G51>$G52,$E51,IF($G52>$G51,$E52,IF(RIGHT($G51,1)=\"*\",$E51,IF(RIGHT($G52,1)=\"*\",$E52,\"\"))))","v":""},null,null,null,null,null,null,null,null,null,null,"Finale"]
[null,null,null,null,null,null,null,{"$f":"J85","v":14},{"$f":"IF($G55>$G56,$D55,IF($G56>$G55,$D56,IF(RIGHT($G55,1)=\"*\",$D55,IF(RIGHT($G56,1)=\"*\",$D56,\"\"))))","v":""},{"$f":"IF($G55>$G56,$E55,IF($G56>$G55,$E56,IF(RIGHT($G55,1)=\"*\",$E55,IF(RIGHT($G56,1)=\"*\",$E56,\"\"))))","v":""},null,null,null,null,null,null,"1/2 Finale"]
[23,{"$f":"E92","v":"11A"},{"$f":"C_Quali!H32","v":510},{"$f":"C_Quali!C32","v":"Gruber Werner"},{"$f":"C_Quali!E32","v":"ST"},{"$f":"C_Quali!D32","v":"Atus Zeltweg Sektion Bogen"}]
[10,{"$f":"E93","v":"11B"},{"$f":"C_Quali!H19","v":523},{"$f":"C_Quali!C19","v":"Linhart Christian"},{"$f":"C_Quali!E19","v":"B"},{"$f":"C_Quali!D19","v":"BSV Stöttera"}]
[null,null,null,null,null,null,null,null,null,null,null,{"$f":"N78","v":17},{"$f":"IF($K53>$K54,$I53,IF($K54>$K53,$I54,IF(RIGHT($K53,1)=\"*\",$I53,IF(RIGHT($K54,1)=\"*\",$I54,\"\"))))","v":""},{"$f":"IF($K53>$K54,$J53,IF($K54>$K53,$J54,IF(RIGHT($K53,1)=\"*\",$J53,IF(RIGHT($K54,1)=\"*\",$J54,\"\"))))","v":""}]
[null,null,null,null,null,null,null,null,null,null,null,{"$f":"N79","v":18},{"$f":"IF($K61>$K62,$I61,IF($K62>$K61,$I62,IF(RIGHT($K61,1)=\"*\",$I61,IF(RIGHT($K62,1)=\"*\",$I62,\"\"))))","v":""},{"$f":"IF($K61>$K62,$J61,IF($K62>$K61,$J62,IF(RIGHT($K61,1)=\"*\",$J61,IF(RIGHT($K62,1)=\"*\",$J62,\"\"))))","v":""}]
[15,{"$f":"E94","v":"12A"},{"$f":"C_Quali!H24","v":518},{"$f":"C_Quali!C24","v":"Url Marsell"},{"$f":"C_Quali!E24","v":"ST"},{"$f":"C_Quali!D24","v":"UBSC Artemis Steiermark"}]
[18,{"$f":"E95","v":"12B"},{"$f":"C_Quali!H27","v":515},{"$f":"C_Quali!C27","v":"Postl Markus"},{"$f":"C_Quali!E27","v":"ST"},{"$f":"C_Quali!D27","v":"BC Union Graz Seiersberg"}]
[null,null,null,null,null,null,null,{"$f":"J86","v":15},{"$f":"IF($G59>$G60,$D59,IF($G60>$G59,$D60,IF(RIGHT($G59,1)=\"*\",$D59,IF(RIGHT($G60,1)=\"*\",$D60,\"\"))))","v":""},{"$f":"IF($G59>$G60,$E59,IF($G60>$G59,$E60,IF(RIGHT($G59,1)=\"*\",$E59,IF(RIGHT($G60,1)=\"*\",$E60,\"\"))))","v":""},null,null,"1/4 Finale"]
[null,null,null,null,null,null,null,{"$f":"J87","v":16},{"$f":"IF($G63>$G64,$D63,IF($G64>$G63,$D64,IF(RIGHT($G63,1)=\"*\",$D63,IF(RIGHT($G64,1)=\"*\",$D64,\"\"))))","v":"Kanduth Wolfgang"},{"$f":"IF($G63>$G64,$E63,IF($G64>$G63,$E64,IF(RIGHT($G63,1)=\"*\",$E63,IF(RIGHT($G64,1)=\"*\",$E64,\"\"))))","v":"ST"}]
[]
[2,null,{"$f":"C_Quali!H11","v":531},{"$f":"C_Quali!C11","v":"Kanduth Wolfgang"},{"$f":"C_Quali!E11","v":"ST"},{"$f":"C_Quali!D11","v":"BC Wildon Weitendorf"},"*",null,null,null,null,null,null,null,null,null,null,null,null,"*","= Im Stechen gewonnen"]
[null,null,null,null,null,null,null,"1/8 Elimination"]
[null,null,"1/12 Elimination",null,null,null,null,null,null,null,{"$f":"Select!$C$20","v":"Compound Herren"}]
[]
[]
[]
[]
[null,null,null,"Scheibe:"]
[null,null,1,{"$f":"CONCATENATE($D$71,\" \",E72)","v":"Scheibe: 1A"},"1A",null,null,1,{"$f":"CONCATENATE($D$71,\" \",J72)","v":"Scheibe: 1"},1,null,1,{"$f":"CONCATENATE($D$71,\" \",N72)","v":"Scheibe: 11"},11,null,1,{"$f":"CONCATENATE($D$71,\" \",R72)","v":"Scheibe: 1A"},"1A",null,1,{"$f":"CONCATENATE($D$71,\" \",V72)","v":"Scheibe: 13"},13]
[null,null,null,"Scheibe: 1B",{"$f":"IF(RIGHT(E72,1)=\"A\",CONCATENATE(LEFT(E72,LEN(E72)-1),\"B\"),E72+1)","v":"1B"},null,null,null,"Scheibe: 2",{"$f":"IF(RIGHT(J72,1)=\"A\",CONCATENATE(LEFT(J72,LEN(J72)-1),\"B\"),J72+1)","v":2},null,null,"Scheibe: 12",{"$f":"IF(RIGHT(N72,1)=\"A\",CONCATENATE(LEFT(N72,LEN(N72)-1),\"B\"),N72+1)","v":12},null,null,{"$f":"CONCATENATE($D$71,\" \",R73)","v":"Scheibe: 1B"},{"$f":"IF(RIGHT(R72,1)=\"A\",CONCATENATE(LEFT(R72,LEN(R72)-1),\"B\"),R72+1)","v":"1B"},null,null,{"$f":"CONCATENATE($D$71,\" \",V73)","v":"Scheibe: 14"},{"$f":"IF(RIGHT(V72,1)=\"A\",CONCATENATE(LEFT(V72,LEN(V72)-1),\"B\"),V72+1)","v":14}]
[null,null,{"$f":"C72+1","v":2},"Scheibe: 2A",{"$f":"IF(RIGHT(E73,1)=\"B\",CONCATENATE(LEFT(E73,LEN(E73)-1)+1,\"A\"),E73+1)","v":"2A"},null,null,{"$f":"H72+1","v":2},"Scheibe: 3",{"$f":"IF(RIGHT(J73,1)=\"B\",CONCATENATE(LEFT(J73,LEN(J73)-1)+1,\"A\"),J73+1)","v":3},null,{"$f":"L72+1","v":2},"Scheibe: 13",{"$f":"IF(RIGHT(N73,1)=\"B\",CONCATENATE(LEFT(N73,LEN(N73)-1)+1,\"A\"),N73+1)","v":13},null,{"$f":"P72+1","v":2},{"$f":"CONCATENATE($D$71,\" \",R74)","v":"Scheibe: 2A"},{"$f":"IF(RIGHT(R73,1)=\"B\",CONCATENATE(LEFT(R73,LEN(R73)-1)+1,\"A\"),R73+1)","v":"2A"},null,{"$f":"T72+1","v":2},{"$f":"CONCATENATE($D$71,\" \",V74)","v":"Scheibe: 15"},15]
[null,null,null,"Scheibe: 2B",{"$f":"IF(RIGHT(E74,1)=\"A\",CONCATENATE(LEFT(E74,LEN(E74)-1),\"B\"),E74+1)","v":"2B"},null,null,null,"Scheibe: 4",{"$f":"IF(RIGHT(J74,1)=\"A\",CONCATENATE(LEFT(J74,LEN(J74)-1),\"B\"),J74+1)","v":4},null,null,"Scheibe: 14",{"$f":"IF(RIGHT(N74,1)=\"A\",CONCATENATE(LEFT(N74,LEN(N74)-1),\"B\"),N74+1)","v":14},null,null,{"$f":"CONCATENATE($D$71,\" \",R75)","v":"Scheibe: 2B"},{"$f":"IF(RIGHT(R74,1)=\"A\",CONCATENATE(LEFT(R74,LEN(R74)-1),\"B\"),R74+1)","v":"2B"},null,null,{"$f":"CONCATENATE($D$71,\" \",V75)","v":"Scheibe: 16"},{"$f":"IF(RIGHT(V74,1)=\"A\",CONCATENATE(LEFT(V74,LEN(V74)-1),\"B\"),V74+1)","v":16}]
[null,null,{"$f":"C74+1","v":3},"Scheibe: 3A",{"$f":"IF(RIGHT(E75,1)=\"B\",CONCATENATE(LEFT(E75,LEN(E75)-1)+1,\"A\"),E75+1)","v":"3A"},null,null,{"$f":"H74+1","v":3},"Scheibe: 5",{"$f":"IF(RIGHT(J75,1)=\"B\",CONCATENATE(LEFT(J75,LEN(J75)-1)+1,\"A\"),J75+1)","v":5},null,{"$f":"L74+1","v":3},"Scheibe: 15",{"$f":"IF(RIGHT(N75,1)=\"B\",CONCATENATE(LEFT(N75,LEN(N75)-1)+1,\"A\"),N75+1)","v":15}]
[null,null,null,"Scheibe: 3B",{"$f":"IF(RIGHT(E76,1)=\"A\",CONCATENATE(LEFT(E76,LEN(E76)-1),\"B\"),E76+1)","v":"3B"},null,null,null,"Scheibe: 6",{"$f":"IF(RIGHT(J76,1)=\"A\",CONCATENATE(LEFT(J76,LEN(J76)-1),\"B\"),J76+1)","v":6},null,null,"Scheibe: 16",{"$f":"IF(RIGHT(N76,1)=\"A\",CONCATENATE(LEFT(N76,LEN(N76)-1),\"B\"),N76+1)","v":16}]
[null,null,{"$f":"C76+1","v":4},"Scheibe: 4A",{"$f":"IF(RIGHT(E77,1)=\"B\",CONCATENATE(LEFT(E77,LEN(E77)-1)+1,\"A\"),E77+1)","v":"4A"},null,null,{"$f":"H76+1","v":4},"Scheibe: 7",{"$f":"IF(RIGHT(J77,1)=\"B\",CONCATENATE(LEFT(J77,LEN(J77)-1)+1,\"A\"),J77+1)","v":7},null,{"$f":"L76+1","v":4},"Scheibe: 17",{"$f":"IF(RIGHT(N77,1)=\"B\",CONCATENATE(LEFT(N77,LEN(N77)-1)+1,\"A\"),N77+1)","v":17}]
[null,null,null,"Scheibe: 4B",{"$f":"IF(RIGHT(E78,1)=\"A\",CONCATENATE(LEFT(E78,LEN(E78)-1),\"B\"),E78+1)","v":"4B"},null,null,null,"Scheibe: 8",{"$f":"IF(RIGHT(J78,1)=\"A\",CONCATENATE(LEFT(J78,LEN(J78)-1),\"B\"),J78+1)","v":8},null,null,"Scheibe: 18",{"$f":"IF(RIGHT(N78,1)=\"A\",CONCATENATE(LEFT(N78,LEN(N78)-1),\"B\"),N78+1)","v":18}]
[null,null,{"$f":"C78+1","v":5},"Scheibe: 5A",{"$f":"IF(RIGHT(E79,1)=\"B\",CONCATENATE(LEFT(E79,LEN(E79)-1)+1,\"A\"),E79+1)","v":"5A"},null,null,{"$f":"H78+1","v":5},"Scheibe: 9",{"$f":"IF(RIGHT(J79,1)=\"B\",CONCATENATE(LEFT(J79,LEN(J79)-1)+1,\"A\"),J79+1)","v":9}]
[null,null,null,"Scheibe: 5B",{"$f":"IF(RIGHT(E80,1)=\"A\",CONCATENATE(LEFT(E80,LEN(E80)-1),\"B\"),E80+1)","v":"5B"},null,null,null,"Scheibe: 10",{"$f":"IF(RIGHT(J80,1)=\"A\",CONCATENATE(LEFT(J80,LEN(J80)-1),\"B\"),J80+1)","v":10}]
[null,null,{"$f":"C80+1","v":6},"Scheibe: 6A",{"$f":"IF(RIGHT(E81,1)=\"B\",CONCATENATE(LEFT(E81,LEN(E81)-1)+1,\"A\"),E81+1)","v":"6A"},null,null,{"$f":"H80+1","v":6},"Scheibe: 11",{"$f":"IF(RIGHT(J81,1)=\"B\",CONCATENATE(LEFT(J81,LEN(J81)-1)+1,\"A\"),J81+1)","v":11}]
[null,null,null,"Scheibe: 6B",{"$f":"IF(RIGHT(E82,1)=\"A\",CONCATENATE(LEFT(E82,LEN(E82)-1),\"B\"),E82+1)","v":"6B"},null,null,null,"Scheibe: 12",{"$f":"IF(RIGHT(J82,1)=\"A\",CONCATENATE(LEFT(J82,LEN(J82)-1),\"B\"),J82+1)","v":12}]
[null,null,{"$f":"C82+1","v":7},"Scheibe: 7A",{"$f":"IF(RIGHT(E83,1)=\"B\",CONCATENATE(LEFT(E83,LEN(E83)-1)+1,\"A\"),E83+1)","v":"7A"},null,null,{"$f":"H82+1","v":7},"Scheibe: 13",{"$f":"IF(RIGHT(J83,1)=\"B\",CONCATENATE(LEFT(J83,LEN(J83)-1)+1,\"A\"),J83+1)","v":13}]
[null,null,null,"Scheibe: 7B",{"$f":"IF(RIGHT(E84,1)=\"A\",CONCATENATE(LEFT(E84,LEN(E84)-1),\"B\"),E84+1)","v":"7B"},null,null,null,"Scheibe: 14",{"$f":"IF(RIGHT(J84,1)=\"A\",CONCATENATE(LEFT(J84,LEN(J84)-1),\"B\"),J84+1)","v":14}]
[null,null,{"$f":"C84+1","v":8},"Scheibe: 8A",{"$f":"IF(RIGHT(E85,1)=\"B\",CONCATENATE(LEFT(E85,LEN(E85)-1)+1,\"A\"),E85+1)","v":"8A"},null,null,{"$f":"H84+1","v":8},"Scheibe: 15",{"$f":"IF(RIGHT(J85,1)=\"B\",CONCATENATE(LEFT(J85,LEN(J85)-1)+1,\"A\"),J85+1)","v":15}]
[null,null,null,"Scheibe: 8B",{"$f":"IF(RIGHT(E86,1)=\"A\",CONCATENATE(LEFT(E86,LEN(E86)-1),\"B\"),E86+1)","v":"8B"},null,null,null,"Scheibe: 16",{"$f":"IF(RIGHT(J86,1)=\"A\",CONCATENATE(LEFT(J86,LEN(J86)-1),\"B\"),J86+1)","v":16}]
[null,null,{"$f":"C86+1","v":9},"Scheibe: 9A",{"$f":"IF(RIGHT(E87,1)=\"B\",CONCATENATE(LEFT(E87,LEN(E87)-1)+1,\"A\"),E87+1)","v":"9A"}]
[null,null,null,"Scheibe: 9B",{"$f":"IF(RIGHT(E88,1)=\"A\",CONCATENATE(LEFT(E88,LEN(E88)-1),\"B\"),E88+1)","v":"9B"}]
[null,null,{"$f":"C88+1","v":10},"Scheibe: 10A",{"$f":"IF(RIGHT(E89,1)=\"B\",CONCATENATE(LEFT(E89,LEN(E89)-1)+1,\"A\"),E89+1)","v":"10A"}]
[null,null,null,"Scheibe: 10B",{"$f":"IF(RIGHT(E90,1)=\"A\",CONCATENATE(LEFT(E90,LEN(E90)-1),\"B\"),E90+1)","v":"10B"}]
[null,null,{"$f":"C90+1","v":11},"Scheibe: 11A",{"$f":"IF(RIGHT(E91,1)=\"B\",CONCATENATE(LEFT(E91,LEN(E91)-1)+1,\"A\"),E91+1)","v":"11A"}]
[null,null,null,"Scheibe: 11B",{"$f":"IF(RIGHT(E92,1)=\"A\",CONCATENATE(LEFT(E92,LEN(E92)-1),\"B\"),E92+1)","v":"11B"}]
[null,null,{"$f":"C92+1","v":12},"Scheibe: 12A",{"$f":"IF(RIGHT(E93,1)=\"B\",CONCATENATE(LEFT(E93,LEN(E93)-1)+1,\"A\"),E93+1)","v":"12A"}]
[null,null,null,"Scheibe: 12B",{"$f":"IF(RIGHT(E94,1)=\"A\",CONCATENATE(LEFT(E94,LEN(E94)-1),\"B\"),E94+1)","v":"12B"}]
[null,null,{"$f":"C94+1","v":13},"Scheibe: 13A",{"$f":"IF(RIGHT(E95,1)=\"B\",CONCATENATE(LEFT(E95,LEN(E95)-1)+1,\"A\"),E95+1)","v":"13A"}]
[null,null,null,"Scheibe: 13B",{"$f":"IF(RIGHT(E96,1)=\"A\",CONCATENATE(LEFT(E96,LEN(E96)-1),\"B\"),E96+1)","v":"13B"}]
[null,null,{"$f":"C96+1","v":14},"Scheibe: 14A",{"$f":"IF(RIGHT(E97,1)=\"B\",CONCATENATE(LEFT(E97,LEN(E97)-1)+1,\"A\"),E97+1)","v":"14A"}]
[null,null,null,"Scheibe: 14B",{"$f":"IF(RIGHT(E98,1)=\"A\",CONCATENATE(LEFT(E98,LEN(E98)-1),\"B\"),E98+1)","v":"14B"}]
[null,null,{"$f":"C98+1","v":15},"Scheibe: 15A",{"$f":"IF(RIGHT(E99,1)=\"B\",CONCATENATE(LEFT(E99,LEN(E99)-1)+1,\"A\"),E99+1)","v":"15A"}]
[null,null,null,"Scheibe: 15B",{"$f":"IF(RIGHT(E100,1)=\"A\",CONCATENATE(LEFT(E100,LEN(E100)-1),\"B\"),E100+1)","v":"15B"}]
[null,null,{"$f":"C100+1","v":16},"Scheibe: 16A",{"$f":"IF(RIGHT(E101,1)=\"B\",CONCATENATE(LEFT(E101,LEN(E101)-1)+1,\"A\"),E101+1)","v":"16A"}]
[null,null,null,"Scheibe: 16B",{"$f":"IF(RIGHT(E102,1)=\"A\",CONCATENATE(LEFT(E102,LEN(E102)-1),\"B\"),E102+1)","v":"16B"}]

{"sheet":"C28","index":26,"n_rows":922,"n_cols":22,"rows_kept":922,"cut":false,"hidden":true,"merged":[[446,16,446,19],[446,20,446,22],[447,5,447,6],[447,13,447,14],[447,21,447,22],[446,0,446,3],[446,4,446,6],[446,8,446,11],[446,12,446,14],[438,0,438,6],[439,0,439,6],[440,0,440,6],[441,0,441,6],[434,0,434,6],[435,0,435,6],[436,0,436,6],[437,0,437,6],[431,13,431,14],[431,21,431,22],[432,0,432,6],[433,0,433,6],[430,8,430,11],[430,12,430,14],[430,16,430,19],[430,20,430,22],[413,16,413,19],[413,20,413,22],[414,5,414,6],[414,13,414,14],[414,21,414,22],[413,0,413,3],[413,4,413,6],[413,8,413,11],[413,12,413,14],[405,0,405,6],[406,0,406,6],[407,0,407,6],[408,0,408,6],[401,0,401,6],[402,0,402,6],[403,0,403,6],[404,0,404,6],[398,13,398,14],[398,21,398,22],[399,0,399,6],[400,0,400,6],[397,8,397,11],[397,12,397,14],[397,16,397,19],[397,20,397,22],[380,16,380,19],[380,20,380,22],[381,5,381,6],[381,13,381,14],[381,21,381,22],[380,0,380,3],[380,4,380,6],[380,8,380,11],[380,12,380,14],[372,0,372,6],[373,0,373,6],[374,0,374,6],[375,0,375,6],[368,0,368,6],[369,0,369,6],[370,0,370,6],[371,0,371,6],[365,13,365,14],[365,21,365,22],[366,0,366,6],[367,0,367,6],[364,8,364,11],[364,12,364,14],[364,16,364,19],[364,20,364,22],[347,16,347,19],[347,20,347,22],[348,5,348,6],[348,13,348,14],[348,21,348,22],[347,0,347,3],[347,4,347,6],[347,8,347,11],[347,12,347,14],[339,0,339,6],[340,0,340,6],[341,0,341,6],[342,0,342,6],[335,0,335,6],[336,0,336,6],[337,0,337,6],[338,0,338,6],[332,13,332,14],[332,21,332,22],[333,0,333,6],[334,0,334,6],[331,8,331,11],[331,12,331,14],[331,16,331,19],[331,20,331,22],[314,16,314,19],[314,20,314,22],[315,5,315,6],[315,13,315,14],[315,21,315,22],[314,0,314,3],[314,4,314,6],[314,8,314,11],[314,12,314,14],[306,0,306,6],[307,0,307,6],[308,0,308,6],[309,0,309,6],[302,0,302,6],[303,0,303,6],[304,0,304,6],[305,0,305,6],[299,13,299,14],[298,20,298,22],[281,16,281,19],[281,20,281,22],[282,5,282,6],[282,13,282,14],[282,21,282,22],[281,0,281,3],[281,4,281,6],[281,8,281,11],[281,12,281,14],[34,8,34,11],[34,12,34,14],[34,16,34,19],[34,20,34,22],[35,13,35,14],[240,0,240,6],[241,0,241,6],[242,0,242,6],[243,0,243,6],[236,0,236,6],[237,0,237,6],[238,0,238,6],[239,0,239,6],[233,21,233,22],[234,0,234,6],[235,0,235,6],[233,13,233,14],[35,21,35,22],[36,0,36,6],[37,0,37,6],[38,0,38,6],[39,0,39,6],[40,0,40,6],[41,0,41,6],[17,4,17,6],[17,8,17,11],[17,12,17,14],[2,13,2,14],[17,16,17,19],[17,20,17,22],[18,5,18,6],[2,21,2,22],[18,13,18,14],[18,21,18,22],[3,0,3,6],[4,0,4,6],[5,0,5,6],[12,0,12,6],[17,0,17,3],[1,8,1,11],[1,12,1,14],[1,16,1,19],[1,20,1,22],[10,0,10,6],[11,0,11,6],[6,0,6,6],[7,0,7,6],[8,0,8,6],[9,0,9,6],[42,0,42,6],[43,0,43,6],[44,0,44,6],[45,0,45,6],[50,0,50,3],[50,4,50,6],[50,8,50,11],[50,12,50,14],[50,16,50,19],[50,20,50,22],[51,5,51,6],[51,13,51,14],[51,21,51,22],[67,8,67,11],[67,12,67,14],[67,16,67,19],[67,20,67,22],[68,13,68,14],[68,21,68,22],[69,0,69,6],[70,0,70,6],[71,0,71,6],[72,0,72,6],[73,0,73,6],[74,0,74,6],[75,0,75,6],[76,0,76,6],[77,0,77,6],[78,0,78,6],[83,0,83,3],[83,4,83,6],[83,8,83,11],[83,12,83,14],[83,16,83,19],[83,20,83,22],[84,5,84,6],[84,13,84,14],[84,21,84,22],[100,8,100,11],[100,12,100,14],[100,16,100,19],[100,20,100,22],[101,13,101,14],[101,21,101,22],[102,0,102,6],[103,0,103,6],[104,0,104,6],[105,0,105,6],[106,0,106,6],[107,0,107,6],[108,0,108,6],[109,0,109,6],[110,0,110,6],[111,0,111,6],[116,0,116,3],[116,4,116,6],[116,8,116,11],[116,12,116,14],[116,16,116,19],[116,20,116,22],[117,5,117,6],[117,13,117,14],[117,21,117,22],[133,8,133,11],[133,12,133,14],[133,16,133,19],[133,20,133,22],[134,13,134,14],[134,21,134,22],[135,0,135,6],[136,0,136,6],[137,0,137,6],[138,0,138,6],[139,0,139,6],[140,0,140,6],[141,0,141,6],[142,0,142,6],[143,0,143,6],[144,0,144,6],[149,0,149,3],[149,4,149,6],[149,8,149,11],[149,12,149,14],[149,16,149,19],[149,20,149,22],[150,5,150,6],[150,13,150,14],[150,21,150,22],[166,8,166,11],[166,12,166,14],[166,16,166,19],[166,20,166,22],[167,13,167,14],[167,21,167,22],[168,0,168,6],[169,0,169,6],[170,0,170,6],[171,0,171,6],[172,0,172,6],[173,0,173,6],[174,0,174,6],[175,0,175,6],[176,0,176,6],[177,0,177,6],[182,0,182,3],[182,4,182,6],[182,8,182,11],[182,12,182,14],[182,16,182,19],[182,20,182,22],[183,5,183,6],[183,13,183,14],[183,21,183,22],[199,8,199,11],[199,12,199,14],[199,16,199,19],[199,20,199,22],[200,13,200,14],[200,21,200,22],[201,0,201,6],[202,0,202,6],[203,0,203,6],[204,0,204,6],[205,0,205,6],[206,0,206,6],[207,0,207,6],[208,0,208,6],[209,0,209,6],[210,0,210,6],[215,0,215,3],[215,4,215,6],[215,8,215,11],[215,12,215,14],[215,16,215,19],[215,20,215,22],[216,5,216,6],[216,13,216,14],[216,21,216,22],[463,8,463,11],[463,12,463,14],[463,16,463,19],[463,20,463,22],[249,21,249,22],[248,4,248,6],[248,8,248,11],[248,12,248,14],[273,0,273,6],[274,0,274,6],[275,0,275,6],[276,0,276,6],[269,0,269,6],[270,0,270,6],[271,0,271,6],[272,0,272,6],[266,13,266,14],[464,13,464,14],[464,21,464,22],[232,8,232,11],[232,12,232,14],[232,16,232,19],[232,20,232,22],[266,21,266,22],[267,0,267,6],[268,0,268,6],[265,8,265,11],[265,12,265,14],[265,16,265,19],[265,20,265,22],[248,16,248,19],[248,20,248,22],[249,5,249,6],[249,13,249,14],[248,0,248,3],[299,21,299,22],[300,0,300,6],[301,0,301,6],[298,8,298,11],[298,12,298,14],[298,16,298,19],[465,0,465,6],[466,0,466,6],[467,0,467,6],[468,0,468,6],[469,0,469,6],[470,0,470,6],[471,0,471,6],[472,0,472,6],[473,0,473,6],[474,0,474,6],[479,0,479,3],[479,4,479,6],[479,8,479,11],[479,12,479,14],[479,16,479,19],[479,20,479,22],[480,5,480,6],[480,13,480,14],[480,21,480,22],[496,8,496,11],[496,12,496,14],[496,16,496,19],[496,20,496,22],[497,13,497,14],[497,21,497,22],[498,0,498,6],[499,0,499,6],[500,0,500,6],[501,0,501,6],[502,0,502,6],[503,0,503,6],[504,0,504,6],[505,0,505,6],[506,0,506,6],[507,0,507,6],[512,0,512,3],[512,4,512,6],[512,8,512,11],[512,12,512,14],[512,16,512,19],[512,20,512,22],[513,5,513,6],[513,13,513,14],[513,21,513,22],[529,8,529,11],[529,12,529,14],[529,16,529,19],[529,20,529,22],[530,13,530,14],[530,21,530,22],[531,0,531,6],[532,0,532,6],[533,0,533,6],[534,0,534,6],[535,0,535,6],[536,0,536,6],[537,0,537,6],[538,0,538,6],[539,0,539,6],[540,0,540,6],[545,0,545,3],[545,4,545,6],[545,8,545,11],[545,12,545,14],[545,16,545,19],[545,20,545,22],[546,5,546,6],[546,13,546,14],[546,21,546,22],[562,8,562,11],[562,12,562,14],[562,16,562,19],[562,20,562,22],[563,13,563,14],[563,21,563,22],[564,0,564,6],[565,0,565,6],[566,0,566,6],[567,0,567,6],[568,0,568,6],[569,0,569,6],[570,0,570,6],[571,0,571,6],[572,0,572,6],[573,0,573,6],[578,0,578,3],[578,4,578,6],[578,8,578,11],[578,12,578,14],[578,16,578,19],[578,20,578,22],[579,5,579,6],[579,13,579,14],[579,21,579,22],[595,8,595,11],[595,12,595,14],[595,16,595,19],[595,20,595,22],[596,13,596,14],[596,21,596,22],[597,0,597,6],[598,0,598,6],[599,0,599,6],[600,0,600,6],[601,0,601,6],[602,0,602,6],[603,0,603,6],[604,0,604,6],[605,0,605,6],[606,0,606,6],[611,0,611,3],[611,4,611,6],[611,8,611,11],[611,12,611,14],[611,16,611,19],[611,20,611,22],[612,5,612,6],[612,13,612,14],[612,21,612,22],[628,8,628,11],[628,12,628,14],[628,16,628,19],[628,20,628,22],[629,13,629,14],[629,21,629,22],[630,0,630,6],[631,0,631,6],[632,0,632,6],[633,0,633,6],[634,0,634,6],[635,0,635,6],[636,0,636,6],[637,0,637,6],[638,0,638,6],[639,0,639,6],[644,0,644,3],[644,4,644,6],[644,8,644,11],[644,12,644,14],[644,16,644,19],[644,20,644,22],[645,5,645,6],[645,13,645,14],[645,21,645,22],[661,8,661,11],[661,12,661,14],[661,16,661,19],[661,20,661,22],[662,13,662,14],[662,21,662,22],[663,0,663,6],[664,0,664,6],[665,0,665,6],[666,0,666,6],[667,0,667,6],[668,0,668,6],[669,0,669,6],[670,0,670,6],[671,0,671,6],[672,0,672,6],[677,0,677,3],[677,4,677,6],[677,8,677,11],[677,12,677,14],[677,16,677,19],[677,20,677,22],[678,5,678,6],[678,13,678,14],[678,21,678,22],[694,8,694,11],[694,12,694,14],[694,16,694,19],[694,20,694,22],[695,13,695,14],[695,21,695,22],[696,0,696,6],[697,0,697,6],[698,0,698,6],[699,0,699,6],[700,0,700,6],[701,0,701,6],[702,0,702,6],[703,0,703,6],[704,0,704,6],[705,0,705,6],[710,0,710,3],[710,4,710,6],[710,8,710,11],[710,12,710,14],[710,16,710,19],[710,20,710,22],[711,5,711,6],[711,13,711,14],[711,21,711,22],[727,8,727,11],[727,12,727,14],[727,16,727,19],[727,20,727,22],[728,13,728,14],[728,21,728,22],[729,0,729,6],[730,0,730,6],[731,0,731,6],[732,0,732,6],[733,0,733,6],[734,0,734,6],[735,0,735,6],[736,0,736,6],[737,0,737,6],[738,0,738,6],[743,0,743,3],[743,4,743,6],[743,8,743,11],[743,12,743,14],[743,16,743,19],[743,20,743,22],[744,5,744,6],[744,13,744,14],[744,21,744,22],[760,8,760,11],[760,12,760,14],[760,16,760,19],[760,20,760,22],[761,13,761,14],[761,21,761,22],[762,0,762,6],[763,0,763,6],[764,0,764,6],[765,0,765,6],[766,0,766,6],[767,0,767,6],[768,0,768,6],[769,0,769,6],[770,0,770,6],[771,0,771,6],[776,0,776,3],[776,4,776,6],[776,8,776,11],[776,12,776,14],[776,16,776,19],[776,20,776,22],[777,5,777,6],[777,13,777,14],[777,21,777,22],[793,8,793,11],[793,12,793,14],[793,16,793,19],[793,20,793,22],[794,13,794,14],[794,21,794,22],[795,0,795,6],[796,0,796,6],[797,0,797,6],[798,0,798,6],[799,0,799,6],[800,0,800,6],[801,0,801,6],[802,0,802,6],[803,0,803,6],[804,0,804,6],[809,0,809,3],[809,4,809,6],[809,8,809,11],[809,12,809,14],[809,16,809,19],[809,20,809,22],[810,5,810,6],[810,13,810,14],[810,21,810,22],[826,8,826,11],[826,12,826,14],[826,16,826,19],[826,20,826,22],[827,13,827,14],[827,21,827,22],[828,0,828,6],[829,0,829,6],[830,0,830,6],[831,0,831,6],[832,0,832,6],[833,0,833,6],[834,0,834,6],[835,0,835,6],[836,0,836,6],[837,0,837,6],[842,0,842,3],[842,4,842,6],[842,8,842,11],[842,12,842,14],[842,16,842,19],[842,20,842,22],[843,5,843,6],[843,13,843,14],[843,21,843,22],[859,8,859,11],[859,12,859,14],[859,16,859,19],[859,20,859,22],[860,13,860,14],[860,21,860,22],[861,0,861,6],[862,0,862,6],[863,0,863,6],[864,0,864,6],[865,0,865,6],[866,0,866,6],[867,0,867,6],[868,0,868,6],[869,0,869,6],[870,0,870,6],[875,0,875,3],[875,4,875,6],[875,8,875,11],[875,12,875,14],[875,16,875,19],[875,20,875,22],[876,5,876,6],[876,13,876,14],[876,21,876,22],[892,8,892,11],[892,12,892,14],[892,16,892,19],[892,20,892,22],[893,13,893,14],[893,21,893,22],[894,0,894,6],[895,0,895,6],[896,0,896,6],[908,8,908,11],[908,12,908,14],[908,16,908,19],[908,20,908,22],[909,5,909,6],[909,13,909,14],[909,21,909,22],[897,0,897,6],[898,0,898,6],[899,0,899,6],[900,0,900,6],[901,0,901,6],[902,0,902,6],[903,0,903,6],[908,0,908,3],[908,4,908,6]]}
[]
[null,null,null,null,null,null,null,null,"1/12 Elimination",null,null,null,"Freilos",null,null,null,"1/8 Elimination",null,null,null,{"$f":"'C28_Baum'!$I$72","v":"Scheibe: 1"}]
[null,null,null,null,null,null,null,null,null,1,2,3,"Summe","Ges.",null,null,null,1,2,3,"Summe","Ges."]
[{"$f":"Select!$C$12","v":"Demoturnier"},null,null,null,null,null,null,null,1,null,null,null,null,null,null,null,1]
["Veranstaltung",null,null,null,null,null,null,null,2,null,null,null,null,null,null,null,2]
[{"$f":"Select!$C$13","v":"1. April 2019"},null,null,null,null,null,null,null,3,null,null,null,null,null,null,null,3]
["Datum",null,null,null,null,null,null,null,4,null,null,null,null,null,null,null,4]
[{"$f":"'C28_Baum'!$D$3","v":"Steinwender Alois"},null,null,null,null,null,null,null,5,null,null,null,null,null,null,null,5]
["Name",null,null,null,null,null,null,null,"wenn erforderlich",null,null,null,null,null,null,null,"wenn erforderlich"]
[{"$f":"'C28_Baum'!$F$3","v":"Bogensport Lungau"},null,null,null,null,null,null,null,"Stechen",null,null,null,null,null,null,null,"Stechen"]
["Verein",null,null,null,null,null,null,null,null,null,null,null,null,"gewonnen",null,null,null,null,null,null,null,"gewonnen"]
[{"$f":"Select!$C$20","v":"Compound Herren"},null,null,null,null,null,null,null,"Schütze:",null,null,null,null,"verloren",null,null,"Schütze:",null,null,null,null,"verloren"]
["Bogenklasse"]
[null,null,null,null,null,null,null,null,"Gegner:",null,"Name:",null,null,null,null,null,"Gegner:",null,"Name:"]
[null,null,null,null,null,null,null,null,null,null,"Unterschrift:",null,null,null,null,null,null,null,"Unterschrift:"]
[]
[]
["1/4 Finale",null,null,null,{"$f":"'C28_Baum'!$M$72","v":"Scheibe: 11"},null,null,null,"1/2 Finale",null,null,null,{"$f":"'C28_Baum'!$Q$72","v":"Scheibe: 1A"},null,null,null,"1./2. od. 3./4. Platz",null,null,null,"Scheibe:"]
[null,1,2,3,"Summe","Ges.",null,null,null,1,2,3,"Summe","Ges.",null,null,null,1,2,3,"Summe","Ges."]
[1,null,null,null,null,null,null,null,1,null,null,null,null,null,null,null,1]
[2,null,null,null,null,null,null,null,2,null,null,null,null,null,null,null,2]
[3,null,null,null,null,null,null,null,3,null,null,null,null,null,null,null,3]
[4,null,null,null,null,null,null,null,4,null,null,null,null,null,null,null,4]
[5,null,null,null,null,null,null,null,5,null,null,null,null,null,null,null,5]
["wenn erforderlich",null,null,null,null,null,null,null,"wenn erforderlich",null,null,null,null,null,null,null,"wenn erforderlich"]
["Stechen",null,null,null,null,null,null,null,"Stechen",null,null,null,null,null,null,null,"Stechen"]
[null,null,null,null,null,"gewonnen",null,null,null,null,null,null,null,"gewonnen",null,null,null,null,null,null,null,"gewonnen"]
["Schütze:",null,null,null,null,"verloren",null,null,"Schütze:",null,null,null,null,"verloren",null,null,"Schütze:",null,null,null,null,"verloren"]
[]
["Gegner:",null,"Name:",null,null,null,null,null,"Gegner:",null,"Name:",null,null,null,null,null,"Gegner:",null,"Name:"]
[null,null,"Unterschrift:",null,null,null,null,null,null,null,"Unterschrift:",null,null,null,null,null,null,null,"Unterschrift:"]
[]
[]
[]
[null,null,null,null,null,null,null,null,"1/12 Elimination",null,null,null,{"$f":"'C28_Baum'!$D$72","v":"Scheibe: 1A"},null,null,null,"1/8 Elimination",null,null,null,{"$f":"'C28_Baum'!$I$73","v":"Scheibe: 2"}]
[null,null,null,null,null,null,null,null,null,1,2,3,"Summe","Ges.",null,null,null,1,2,3,"Summe","Ges."]
[{"$f":"Select!$C$12","v":"Demoturnier"},null,null,null,null,null,null,null,1,null,null,null,null,null,null,null,1]
["Veranstaltung",null,null,null,null,null,null,null,2,null,null,null,null,null,null,null,2]
[{"$f":"Select!$C$13","v":"1. April 2019"},null,null,null,null,null,null,null,3,null,null,null,null,null,null,null,3]
["Datum",null,null,null,null,null,null,null,4,null,null,null,null,null,null,null,4]
[{"$f":"'C28_Baum'!$D$7","v":"Kolm Martin"},null,null,null,null,null,null,null,5,null,null,null,null,null,null,null,5]
["Name",null,null,null,null,null,null,null,"wenn erforderlich",null,null,null,null,null,null,null,"wenn erforderlich"]
[{"$f":"'C28_Baum'!$F$7","v":"WBZ Union Zwettl"},null,null,null,null,null,null,null,"Stechen",null,null,null,null,null,null,null,"Stechen"]
["Verein",null,null,null,null,null,null,null,null,null,null,null,null,"gewonnen",null,null,null,null,null,null,null,"gewonnen"]
[{"$f":"Select!$C$20","v":"Compound Herren"},null,null,null,null,null,null,null,"Schütze:",null,null,null,null,"verloren",null,null,"Schütze:",null,null,null,null,"verloren"]
["Bogenklasse"]
[null,null,null,null,null,null,null,null,"Gegner:",null,"Name:",{"$f":"'C28_Baum'!D8","v":"Bucher Martin"},null,null,null,null,"Gegner:",null,"Name:"]
[null,null,null,null,null,null,null,null,null,null,"Unterschrift:",null,null,null,null,null,null,null,"Unterschrift:"]
[]
[]
["1/4 Finale",null,null,null,{"$f":"'C28_Baum'!$M$72","v":"Scheibe: 11"},null,null,null,"1/2 Finale",null,null,null,{"$f":"'C28_Baum'!$Q$72","v":"Scheibe: 1A"},null,null,null,"1./2. od. 3./4. Platz",null,null,null,"Scheibe:"]
[null,1,2,3,"Summe","Ges.",null,null,null,1,2,3,"Summe","Ges.",null,null,null,1,2,3,"Summe","Ges."]
[1,null,null,null,null,null,null,null,1,null,null,null,null,null,null,null,1]
[2,null,null,null,null,null,null,null,2,null,null,null,null,null,null,null,2]
[3,null,null,null,null,null,null,null,3,null,null,null,null,null,null,null,3]
[4,null,null,null,null,null,null,null,4,null,null,null,null,null,null,null,4]
[5,null,null,null,null,null,null,null,5,null,null,null,null,null,null,null,5]
["wenn erforderlich",null,null,null,null,null,null,null,"wenn erforderlich",null,null,null,null,null,null,null,"wenn erforderlich"]
["Stechen",null,null,null,null,null,null,null,"Stechen",null,null,null,null,null,null,null,"Stechen"]
[null,null,null,null,null,"gewonnen",null,null,null,null,null,null,null,"gewonnen",null,null,null,null,null,null,null,"gewonnen"]
["Schütze:",null,null,null,null,"verloren",null,null,"Schütze:",null,null,null,null,"verloren",null,null,"Schütze:",null,null,null,null,"verloren"]
[]
["Gegner:",null,"Name:",null,null,null,null,null,"Gegner:",null,"Name:",null,null,null,null,null,"Gegner:",null,"Name:"]
[null,null,"Unterschrift:",null,null,null,null,null,null,null,"Unterschrift:",null,null,null,null,null,null,null,"Unterschrift:"]
[]
[]
[]
[null,null,null,null,null,null,null,null,"1/12 Elimination",null,null,null,{"$f":"'C28_Baum'!$D$73","v":"Scheibe: 1B"},null,null,null,"1/8 Elimination",null,null,null,{"$f":"'C28_Baum'!$I$73","v":"Scheibe: 2"}]
[null,null,null,null,null,null,null,null,null,1,2,3,"Summe","Ges.",null,null,null,1,2,3,"Summe","Ges."]
[{"$f":"Select!$C$12","v":"Demoturnier"},null,null,null,null,null,null,null,1,null,null,null,null,null,null,null,1]
["Veranstaltung",null,null,null,null,null,null,null,2,null,null,null,null,null,null,null,2]
[{"$f":"Select!$C$13","v":"1. April 2019"},null,null,null,null,null,null,null,3,null,null,null,null,null,null,null,3]
["Datum",null,null,null,null,null,null,null,4,null,null,null,null,null,null,null,4]
[{"$f":"'C28_Baum'!$D$8","v":"Bucher Martin"},null,null,null,null,null,null,null,5,null,null,null,null,null,null,null,5]
["Name",null,null,null,null,null,null,null,"wenn erforderlich",null,null,null,null,null,null,null,"wenn erforderlich"]
[{"$f":"'C28_Baum'!$F$8","v":"LH Graz"},null,null,null,null,null,null,null,"Stechen",null,null,null,null,null,null,null,"Stechen"]
["Verein",null,null,null,null,null,null,null,null,null,null,null,null,"gewonnen",null,null,null,null,null,null,null,"gewonnen"]
[{"$f":"Select!$C$20","v":"Compound Herren"},null,null,null,null,null,null,null,"Schütze:",null,null,null,null,"verloren",null,null,"Schütze:",null,null,null,null,"verloren"]
["Bogenklasse"]
[null,null,null,null,null,null,null,null,"Gegner:",null,"Name:",{"$f":"'C28_Baum'!D7","v":"Kolm Martin"},null,null,null,null,"Gegner:",null,"Name:"]
[null,null,null,null,null,null,null,null,null,null,"Unterschrift:",null,null,null,null,null,null,null,"Unterschrift:"]
[]
[]
["1/4 Finale",null,null,null,{"$f":"'C28_Baum'!$M$72","v":"Scheibe: 11"},null,null,null,"1/2 Finale",null,null,null,{"$f":"'C28_Baum'!$Q$72","v":"Scheibe: 1A"},null,null,null,"1./2. od. 3./4. Platz",null,null,null,"Scheibe:"]
[null,1,2,3,"Summe","Ges.",null,null,null,1,2,3,"Summe","Ges.",null,null,null,1,2,3,"Summe","Ges."]
[1,null,null,null,null,null,null,null,1,null,null,null,null,null,null,null,1]
[2,null,null,null,null,null,null,null,2,null,null,null,null,null,null,null,2]
[3,null,null,null,null,null,null,null,3,null,null,null,null,null,null,null,3]
[4,null,null,null,null,null,null,null,4,null,null,null,null,null,null,null,4]
[5,null,null,null,null,null,null,null,5,null,null,null,null,null,null,null,5]
["wenn erforderlich",null,null,null,null,null,null,null,"wenn erforderlich",null,null,null,null,null,null,null,"wenn erforderlich"]
["Stechen",null,null,null,null,null,null,null,"Stechen",null,null,null,null,null,null,null,"Stechen"]
[null,null,null,null,null,"gewonnen",null,null,null,null,null,null,null,"gewonnen",null,null,null,null,null,null,null,"gewonnen"]
["Schütze:",null,null,null,null,"verloren",null,null,"Schütze:",null,null,null,null,"verloren",null,null,"Schütze:",null,null,null,null,"verloren"]
[]
["Gegner:",null,"Name:",null,null,null,null,null,"Gegner:",null,"Name:",null,null,null,null,null,"Gegner:",null,"Name:"]
[null,null,"Unterschrift:",null,null,null,null,null,null,null,"Unterschrift:",null,null,null,null,null,null,null,"Unterschrift:"]
[]
[]
[]
[null,null,null,null,null,null,null,null,"1/12 Elimination",null,null,null,{"$f":"'C28_Baum'!$D$74","v":"Scheibe: 2A"},null,null,null,"1/8 Elimination",null,null,null,{"$f":"'C28_Baum'!$I$74","v":"Scheibe: 3"}]
[null,null,null,null,null,null,null,null,null,1,2,3,"Summe","Ges.",null,null,null,1,2,3,"Summe","Ges."]
[{"$f":"Select!$C$12","v":"Demoturnier"},null,null,null,null,null,null,null,1,null,null,null,null,null,null,null,1]
["Veranstaltung",null,null,null,null,null,null,null,2,null,null,null,null,null,null,null,2]
[{"$f":"Select!$C$13","v":"1. April 2019"},null,null,null,null,null,null,null,3,null,null,null,null,null,null,null,3]
["Datum",null,null,null,null,null,null,null,4,null,null,null,null,null,null,null,4]
[{"$f":"'C28_Baum'!$D$11","v":"Helmer Gerhard"},null,null,null,null,null,null,null,5,null,null,null,null,null,null,null,5]
["Name",null,null,null,null,null,null,null,"wenn erforderlich",null,null,null,null,null,null,null,"wenn erforderlich"]
[{"$f":"'C28_Baum'!$F$11","v":"UBC Diana NÖ"},null,null,null,null,null,null,null,"Stechen",null,null,null,null,null,null,null,"Stechen"]
["Verein",null,null,null,null,null,null,null,null,null,null,null,null,"gewonnen",null,null,null,null,null,null,null,"gewonnen"]
[{"$f":"Select!$C$20","v":"Compound Herren"},null,null,null,null,null,null,null,"Schütze:",null,null,null,null,"verloren",null,null,"Schütze:",null,null,null,null,"verloren"]
["Bogenklasse"]
[null,null,null,null,null,null,null,null,"Gegner:",null,"Name:",{"$f":"'C28_Baum'!D12","v":"Schaden Harald"},null,null,null,null,"Gegner:",null,"Name:"]
[null,null,null,null,null,null,null,null,null,null,"Unterschrift:",null,null,null,null,null,null,null,"Unterschrift:"]
[]
[]
["1/4 Finale",null,null,null,{"$f":"'C28_Baum'!$M$73","v":"Scheibe: 12"},null,null,null,"1/2 Finale",null,null,null,{"$f":"'C28_Baum'!$Q$72","v":"Scheibe: 1A"},null,null,null,"1./2. od. 3./4. Platz",null,null,null,"Scheibe:"]
[null,1,2,3,"Summe","Ges.",null,null,null,1,2,3,"Summe","Ges.",null,null,null,1,2,3,"Summe","Ges."]
[1,null,null,null,null,null,null,null,1,null,null,null,null,null,null,null,1]
[2,null,null,null,null,null,null,null,2,null,null,null,null,null,null,null,2]
[3,null,null,null,null,null,null,null,3,null,null,null,null,null,null,null,3]
[4,null,null,null,null,null,null,null,4,null,null,null,null,null,null,null,4]
[5,null,null,null,null,null,null,null,5,null,null,null,null,null,null,null,5]
["wenn erforderlich",null,null,null,null,null,null,null,"wenn erforderlich",null,null,null,null,null,null,null,"wenn erforderlich"]
["Stechen",null,null,null,null,null,null,null,"Stechen",null,null,null,null,null,null,null,"Stechen"]
[null,null,null,null,null,"gewonnen",null,null,null,null,null,null,null,"gewonnen",null,null,null,null,null,null,null,"gewonnen"]
["Schütze:",null,null,null,null,"verloren",null,null,"Schütze:",null,null,null,null,"verloren",null,null,"Schütze:",null,null,null,null,"verloren"]
[]
["Gegner:",null,"Name:",null,null,null,null,null,"Gegner:",null,"Name:",null,null,null,null,null,"Gegner:",null,"Name:"]
[null,null,"Unterschrift:",null,null,null,null,null,null,null,"Unterschrift:",null,null,null,null,null,null,null,"Unterschrift:"]
[]
[]
[]
[null,null,null,null,null,null,null,null,"1/12 Elimination",null,null,null,{"$f":"'C28_Baum'!$D$75","v":"Scheibe: 2B"},null,null,null,"1/8 Elimination",null,null,null,{"$f":"'C28_Baum'!$I$74","v":"Scheibe: 3"}]
[null,null,null,null,null,null,null,null,null,1,2,3,"Summe","Ges.",null,null,null,1,2,3,"Summe","Ges."]
[{"$f":"Select!$C$12","v":"Demoturnier"},null,null,null,null,null,null,null,1,null,null,null,null,null,null,null,1]
["Veranstaltung",null,null,null,null,null,null,null,2,null,null,null,null,null,null,null,2]
[{"$f":"Select!$C$13","v":"1. April 2019"},null,null,null,null,null,null,null,3,null,null,null,null,null,null,null,3]
["Datum",null,null,null,null,null,null,null,4,null,null,null,null,null,null,null,4]
[{"$f":"'C28_Baum'!$D$12","v":"Schaden Harald"},null,null,null,null,null,null,null,5,null,null,null,null,null,null,null,5]
["Name",null,null,null,null,null,null,null,"wenn erforderlich",null,null,null,null,null,null,null,"wenn erforderlich"]
[{"$f":"'C28_Baum'!$F$12","v":"BSC Gaal"},null,null,null,null,null,null,null,"Stechen",null,null,null,null,null,null,null,"Stechen"]
["Verein",null,null,null,null,null,null,null,null,null,null,null,null,"gewonnen",null,null,null,null,null,null,null,"gewonnen"]
[{"$f":"Select!$C$20","v":"Compound Herren"},null,null,null,null,null,null,null,"Schütze:",null,null,null,null,"verloren",null,null,"Schütze:",null,null,null,null,"verloren"]
["Bogenklasse"]
[null,null,null,null,null,null,null,null,"Gegner:",null,"Name:",{"$f":"'C28_Baum'!D11","v":"Helmer Gerhard"},null,null,null,null,"Gegner:",null,"Name:"]
[null,null,null,null,null,null,null,null,null,null,"Unterschrift:",null,null,null,null,null,null,null,"Unterschrift:"]
[]
[]
["1/4 Finale",null,null,null,{"$f":"'C28_Baum'!$M$73","v":"Scheibe: 12"},null,null,null,"1/2 Finale",null,null,null,{"$f":"'C28_Baum'!$Q$72","v":"Scheibe: 1A"},null,null,null,"1./2. od. 3./4. Platz",null,null,null,"Scheibe:"]
[null,1,2,3,"Summe","Ges.",null,null,null,1,2,3,"Summe","Ges.",null,null,null,1,2,3,"Summe","Ges."]
[1,null,null,null,null,null,null,null,1,null,null,null,null,null,null,null,1]
[2,null,null,null,null,null,null,null,2,null,null,null,null,null,null,null,2]
[3,null,null,null,null,null,null,null,3,null,null,null,null,null,null,null,3]
[4,null,null,null,null,null,null,null,4,null,null,null,null,null,null,null,4]
[5,null,null,null,null,null,null,null,5,null,null,null,null,null,null,null,5]
["wenn erforderlich",null,null,null,null,null,null,null,"wenn erforderlich",null,null,null,null,null,null,null,"wenn erforderlich"]
["Stechen",null,null,null,null,null,null,null,"Stechen",null,null,null,null,null,null,null,"Stechen"]
[null,null,null,null,null,"gewonnen",null,null,null,null,null,null,null,"gewonnen",null,null,null,null,null,null,null,"gewonnen"]
["Schütze:",null,null,null,null,"verloren",null,null,"Schütze:",null,null,null,null,"verloren",null,null,"Schütze:",null,null,null,null,"verloren"]
[]
["Gegner:",null,"Name:",null,null,null,null,null,"Gegner:",null,"Name:",null,null,null,null,null,"Gegner:",null,"Name:"]
[null,null,"Unterschrift:",null,null,null,null,null,null,null,"Unterschrift:",null,null,null,null,null,null,null,"Unterschrift:"]
[]
[]
[]
[null,null,null,null,null,null,null,null,"1/12 Elimination",null,null,null,{"$f":"'C28_Baum'!$D$76","v":"Scheibe: 3A"},null,null,null,"1/8 Elimination",null,null,null,{"$f":"'C28_Baum'!$I$75","v":"Scheibe: 4"}]
[null,null,null,null,null,null,null,null,null,1,2,3,"Summe","Ges.",null,null,null,1,2,3,"Summe","Ges."]
[{"$f":"Select!$C$12","v":"Demoturnier"},null,null,null,null,null,null,null,1,null,null,null,null,null,null,null,1]
["Veranstaltung",null,null,null,null,null,null,null,2,null,null,null,null,null,null,null,2]
[{"$f":"Select!$C$13","v":"1. April 2019"},null,null,null,null,null,null,null,3,null,null,null,null,null,null,null,3]
["Datum",null,null,null,null,null,null,null,4,null,null,null,null,null,null,null,4]
[{"$f":"'C28_Baum'!$D$15","v":"Quinz Harald"},null,null,null,null,null,null,null,5,null,null,null,null,null,null,null,5]
["Name",null,null,null,null,null,null,null,"wenn erforderlich",null,null,null,null,null,null,null,"wenn erforderlich"]
[{"$f":"'C28_Baum'!$F$15","v":"Atus Zeltweg Sektion Bogen"},null,null,null,null,null,null,null,"Stechen",null,null,null,null,null,null,null,"Stechen"]
["Verein",null,null,null,null,null,null,null,null,null,null,null,null,"gewonnen",null,null,null,null,null,null,null,"gewonnen"]
[{"$f":"Select!$C$20","v":"Compound Herren"},null,null,null,null,null,null,null,"Schütze:",null,null,null,null,"verloren",null,null,"Schütze:",null,null,null,null,"verloren"]
["Bogenklasse"]
[null,null,null,null,null,null,null,null,"Gegner:",null,"Name:",{"$f":"'C28_Baum'!D16","v":"Richter Oscar"},null,null,null,null,"Gegner:",null,"Name:"]
[null,null,null,null,null,null,null,null,null,null,"Unterschrift:",null,null,null,null,null,null,null,"Unterschrift:"]
[]
[]
["1/4 Finale",null,null,null,{"$f":"'C28_Baum'!$M$73","v":"Scheibe: 12"},null,null,null,"1/2 Finale",null,null,null,{"$f":"'C28_Baum'!$Q$72","v":"Scheibe: 1A"},null,null,null,"1./2. od. 3./4. Platz",null,null,null,"Scheibe:"]
[null,1,2,3,"Summe","Ges.",null,null,null,1,2,3,"Summe","Ges.",null,null,null,1,2,3,"Summe","Ges."]
[1,null,null,null,null,null,null,null,1,null,null,null,null,null,null,null,1]
[2,null,null,null,null,null,null,null,2,null,null,null,null,null,null,null,2]
[3,null,null,null,null,null,null,null,3,null,null,null,null,null,null,null,3]
[4,null,null,null,null,null,null,null,4,null,null,null,null,null,null,null,4]
[5,null,null,null,null,null,null,null,5,null,null,null,null,null,null,null,5]
["wenn erforderlich",null,null,null,null,null,null,null,"wenn erforderlich",null,null,null,null,null,null,null,"wenn erforderlich"]
["Stechen",null,null,null,null,null,null,null,"Stechen",null,null,null,null,null,null,null,"Stechen"]
[null,null,null,null,null,"gewonnen",null,null,null,null,null,null,null,"gewonnen",null,null,null,null,null,null,null,"gewonnen"]
["Schütze:",null,null,null,null,"verloren",null,null,"Schütze:",null,null,null,null,"verloren",null,null,"Schütze:",null,null,null,null,"verloren"]
[]
["Gegner:",null,"Name:",null,null,null,null,null,"Gegner:",null,"Name:",null,null,null,null,null,"Gegner:",null,"Name:"]
[null,null,"Unterschrift:",null,null,null,null,null,null,null,"Unterschrift:",null,null,null,null,null,null,null,"Unterschrift:"]
[]
[]
[]
[null,null,null,null,null,null,null,null,"1/12 Elimination",null,null,null,{"$f":"'C28_Baum'!$D$77","v":"Scheibe: 3B"},null,null,null,"1/8 Elimination",null,null,null,{"$f":"'C28_Baum'!$I$75","v":"Scheibe: 4"}]
[null,null,null,null,null,null,null,null,null,1,2,3,"Summe","Ges.",null,null,null,1,2,3,"Summe","Ges."]
[{"$f":"Select!$C$12","v":"Demoturnier"},null,null,null,null,null,null,null,1,null,null,null,null,null,null,null,1]
["Veranstaltung",null,null,null,null,null,null,null,2,null,null,null,null,null,null,null,2]
[{"$f":"Select!$C$13","v":"1. April 2019"},null,null,null,null,null,null,null,3,null,null,null,null,null,null,null,3]
["Datum",null,null,null,null,null,null,null,4,null,null,null,null,null,null,null,4]
[{"$f":"'C28_Baum'!$D$16","v":"Richter Oscar"},null,null,null,null,null,null,null,5,null,null,null,null,null,null,null,5]
["Name",null,null,null,null,null,null,null,"wenn erforderlich",null,null,null,null,null,null,null,"wenn erforderlich"]
[{"$f":"'C28_Baum'!$F$16","v":"BC Golden Arrows"},null,null,null,null,null,null,null,"Stechen",null,null,null,null,null,null,null,"Stechen"]
["Verein",null,null,null,null,null,null,null,null,null,null,null,null,"gewonnen",null,null,null,null,null,null,null,"gewonnen"]
[{"$f":"Select!$C$20","v":"Compound Herren"},null,null,null,null,null,null,null,"Schütze:",null,null,null,null,"verloren",null,null,"Schütze:",null,null,null,null,"verloren"]
["Bogenklasse"]
[null,null,null,null,null,null,null,null,"Gegner:",null,"Name:",{"$f":"'C28_Baum'!D15","v":"Quinz Harald"},null,null,null,null,"Gegner:",null,"Name:"]
[null,null,null,null,null,null,null,null,null,null,"Unterschrift:",null,null,null,null,null,null,null,"Unterschrift:"]
[]
[]
["1/4 Finale",null,null,null,{"$f":"'C28_Baum'!$M$73","v":"Scheibe: 12"},null,null,null,"1/2 Finale",null,null,null,{"$f":"'C28_Baum'!$Q$72","v":"Scheibe: 1A"},null,null,null,"1./2. od. 3./4. Platz",null,null,null,"Scheibe:"]
[null,1,2,3,"Summe","Ges.",null,null,null,1,2,3,"Summe","Ges.",null,null,null,1,2,3,"Summe","Ges."]
[1,null,null,null,null,null,null,null,1,null,null,null,null,null,null,null,1]
[2,null,null,null,null,null,null,null,2,null,null,null,null,null,null,null,2]
[3,null,null,null,null,null,null,null,3,null,null,null,null,null,null,null,3]
[4,null,null,null,null,null,null,null,4,null,null,null,null,null,null,null,4]
[5,null,null,null,null,null,null,null,5,null,null,null,null,null,null,null,5]
["wenn erforderlich",null,null,null,null,null,null,null,"wenn erforderlich",null,null,null,null,null,null,null,"wenn erforderlich"]
["Stechen",null,null,null,null,null,null,null,"Stechen",null,null,null,null,null,null,null,"Stechen"]
[null,null,null,null,null,"gewonnen",null,null,null,null,null,null,null,"gewonnen",null,null,null,null,null,null,null,"gewonnen"]
["Schütze:",null,null,null,null,"verloren",null,null,"Schütze:",null,null,null,null,"verloren",null,null,"Schütze:",null,null,null,null,"verloren"]
[]
["Gegner:",null,"Name:",null,null,null,null,null,"Gegner:",null,"Name:",null,null,null,null,null,"Gegner:",null,"Name:"]
[null,null,"Unterschrift:",null,null,null,null,null,null,null,"Unterschrift:",null,null,null,null,null,null,null,"Unterschrift:"]
[]
[]
[]
[null,null,null,null,null,null,null,null,"1/12 Elimination",null,null,null,{"$f":"'C28_Baum'!$D$78","v":"Scheibe: 4A"},null,null,null,"1/8 Elimination",null,null,null,{"$f":"'C28_Baum'!$I$76","v":"Scheibe: 5"}]
[null,null,null,null,null,null,null,null,null,1,2,3,"Summe","Ges.",null,null,null,1,2,3,"Summe","Ges."]
[{"$f":"Select!$C$12","v":"Demoturnier"},null,null,null,null,null,null,null,1,null,null,null,null,null,null,null,1]
["Veranstaltung",null,null,null,null,null,null,null,2,null,null,null,null,null,null,null,2]
[{"$f":"Select!$C$13","v":"1. April 2019"},null,null,null,null,null,null,null,3,null,null,null,null,null,null,null,3]
["Datum",null,null,null,null,null,null,null,4,null,null,null,null,null,null,null,4]
[{"$f":"'C28_Baum'!$D$19","v":"Traxler Helmuth"},null,null,null,null,null,null,null,5,null,null,null,null,null,null,null,5]
["Name",null,null,null,null,null,null,null,"wenn erforderlich",null,null,null,null,null,null,null,"wenn erforderlich"]
[{"$f":"'C28_Baum'!$F$19","v":"UBC Diana NÖ"},null,null,null,null,null,null,null,"Stechen",null,null,null,null,null,null,null,"Stechen"]
["Verein",null,null,null,null,null,null,null,null,null,null,null,null,"gewonnen",null,null,null,null,null,null,null,"gewonnen"]
[{"$f":"Select!$C$20","v":"Compound Herren"},null,null,null,null,null,null,null,"Schütze:",null,null,null,null,"verloren",null,null,"Schütze:",null,null,null,null,"verloren"]
["Bogenklasse"]
[null,null,null,null,null,null,null,null,"Gegner:",null,"Name:",{"$f":"'C28_Baum'!D20","v":"Irnsperger Gerald"},null,null,null,null,"Gegner:",null,"Name:"]
[null,null,null,null,null,null,null,null,null,null,"Unterschrift:",null,null,null,null,null,null,null,"Unterschrift:"]
[]
[]
["1/4 Finale",null,null,null,{"$f":"'C28_Baum'!$M$74","v":"Scheibe: 13"},null,null,null,"1/2 Finale",null,null,null,{"$f":"'C28_Baum'!$Q$73","v":"Scheibe: 1B"},null,null,null,"1./2. od. 3./4. Platz",null,null,null,"Scheibe:"]
[null,1,2,3,"Summe","Ges.",null,null,null,1,2,3,"Summe","Ges.",null,null,null,1,2,3,"Summe","Ges."]
[1,null,null,null,null,null,null,null,1,null,null,null,null,null,null,null,1]
[2,null,null,null,null,null,null,null,2,null,null,null,null,null,null,null,2]
[3,null,null,null,null,null,null,null,3,null,null,null,null,null,null,null,3]
[4,null,null,null,null,null,null,null,4,null,null,null,null,null,null,null,4]
[5,null,null,null,null,null,null,null,5,null,null,null,null,null,null,null,5]
["wenn erforderlich",null,null,null,null,null,null,null,"wenn erforderlich",null,null,null,null,null,null,null,"wenn erforderlich"]
["Stechen",null,null,null,null,null,null,null,"Stechen",null,null,null,null,null,null,null,"Stechen"]
[null,null,null,null,null,"gewonnen",null,null,null,null,null,null,null,"gewonnen",null,null,null,null,null,null,null,"gewonnen"]
["Schütze:",null,null,null,null,"verloren",null,null,"Schütze:",null,null,null,null,"verloren",null,null,"Schütze:",null,null,null,null,"verloren"]
[]
["Gegner:",null,"Name:",null,null,null,null,null,"Gegner:",null,"Name:",null,null,null,null,null,"Gegner:",null,"Name:"]
[null,null,"Unterschrift:",null,null,null,null,null,null,null,"Unterschrift:",null,null,null,null,null,null,null,"Unterschrift:"]
[]
[]
[]
[null,null,null,null,null,null,null,null,"1/12 Elimination",null,null,null,{"$f":"'C28_Baum'!$D$79","v":"Scheibe: 4B"},null,null,null,"1/8 Elimination",null,null,null,{"$f":"'C28_Baum'!$I$76","v":"Scheibe: 5"}]
[null,null,null,null,null,null,null,null,null,1,2,3,"Summe","Ges.",null,null,null,1,2,3,"Summe","Ges."]
[{"$f":"Select!$C$12","v":"Demoturnier"},null,null,null,null,null,null,null,1,null,null,null,null,null,null,null,1]
["Veranstaltung",null,null,null,null,null,null,null,2,null,null,null,null,null,null,null,2]
[{"$f":"Select!$C$13","v":"1. April 2019"},null,null,null,null,null,null,null,3,null,null,null,null,null,null,null,3]
["Datum",null,null,null,null,null,null,null,4,null,null,null,null,null,null,null,4]
[{"$f":"'C28_Baum'!$D$20","v":"Irnsperger Gerald"},null,null,null,null,null,null,null,5,null,null,null,null,null,null,null,5]
["Name",null,null,null,null,null,null,null,"wenn erforderlich",null,null,null,null,null,null,null,"wenn erforderlich"]
[{"$f":"'C28_Baum'!$F$20","v":"3D Bogenplatz Riedersbach"},null,null,null,null,null,null,null,"Stechen",null,null,null,null,null,null,null,"Stechen"]
["Verein",null,null,null,null,null,null,null,null,null,null,null,null,"gewonnen",null,null,null,null,null,null,null,"gewonnen"]
[{"$f":"Select!$C$20","v":"Compound Herren"},null,null,null,null,null,null,null,"Schütze:",null,null,null,null,"verloren",null,null,"Schütze:",null,null,null,null,"verloren"]
["Bogenklasse"]
[null,null,null,null,null,null,null,null,"Gegner:",null,"Name:",{"$f":"'C28_Baum'!D19","v":"Traxler Helmuth"},null,null,null,null,"Gegner:",null,"Name:"]
[null,null,null,null,null,null,null,null,null,null,"Unterschrift:",null,null,null,null,null,null,null,"Unterschrift:"]
[]
[]
["1/4 Finale",null,null,null,{"$f":"'C28_Baum'!$M$74","v":"Scheibe: 13"},null,null,null,"1/2 Finale",null,null,null,{"$f":"'C28_Baum'!$Q$73","v":"Scheibe: 1B"},null,null,null,"1./2. od. 3./4. Platz",null,null,null,"Scheibe:"]
[null,1,2,3,"Summe","Ges.",null,null,null,1,2,3,"Summe","Ges.",null,null,null,1,2,3,"Summe","Ges."]
[1,null,null,null,null,null,null,null,1,null,null,null,null,null,null,null,1]
[2,null,null,null,null,null,null,null,2,null,null,null,null,null,null,null,2]
[3,null,null,null,null,null,null,null,3,null,null,null,null,null,null,null,3]
[4,null,null,null,null,null,null,null,4,null,null,null,null,null,null,null,4]
[5,null,null,null,null,null,null,null,5,null,null,null,null,null,null,null,5]
["wenn erforderlich",null,null,null,null,null,null,null,"wenn erforderlich",null,null,null,null,null,null,null,"wenn erforderlich"]
["Stechen",null,null,null,null,null,null,null,"Stechen",null,null,null,null,null,null,null,"Stechen"]
[null,null,null,null,null,"gewonnen",null,null,null,null,null,null,null,"gewonnen",null,null,null,null,null,null,null,"gewonnen"]
["Schütze:",null,null,null,null,"verloren",null,null,"Schütze:",null,null,null,null,"verloren",null,null,"Schütze:",null,null,null,null,"verloren"]
[]
["Gegner:",null,"Name:",null,null,null,null,null,"Gegner:",null,"Name:",null,null,null,null,null,"Gegner:",null,"Name:"]
[null,null,"Unterschrift:",null,null,null,null,null,null,null,"Unterschrift:",null,null,null,null,null,null,null,"Unterschrift:"]
[]
[]
[]
[null,null,null,null,null,null,null,null,"1/12 Elimination",null,null,null,{"$f":"'C28_Baum'!$D$80","v":"Scheibe: 5A"},null,null,null,"1/8 Elimination",null,null,null,{"$f":"'C28_Baum'!$I$77","v":"Scheibe: 6"}]
[null,null,null,null,null,null,null,null,null,1,2,3,"Summe","Ges.",null,null,null,1,2,3,"Summe","Ges."]
[{"$f":"Select!$C$12","v":"Demoturnier"},null,null,null,null,null,null,null,1,null,null,null,null,null,null,null,1]
["Veranstaltung",null,null,null,null,null,null,null,2,null,null,null,null,null,null,null,2]
[{"$f":"Select!$C$13","v":"1. April 2019"},null,null,null,null,null,null,null,3,null,null,null,null,null,null,null,3]
["Datum",null,null,null,null,null,null,null,4,null,null,null,null,null,null,null,4]
[{"$f":"'C28_Baum'!$D$23","v":"Lehner Heinz"},null,null,null,null,null,null,null,5,null,null,null,null,null,null,null,5]
["Name",null,null,null,null,null,null,null,"wenn erforderlich",null,null,null,null,null,null,null,"wenn erforderlich"]
[{"$f":"'C28_Baum'!$F$23","v":"Salzkammergut Bogensport Club"},null,null,null,null,null,null,null,"Stechen",null,null,null,null,null,null,null,"Stechen"]
["Verein",null,null,null,null,null,null,null,null,null,null,null,null,"gewonnen",null,null,null,null,null,null,null,"gewonnen"]
[{"$f":"Select!$C$20","v":"Compound Herren"},null,null,null,null,null,null,null,"Schütze:",null,null,null,null,"verloren",null,null,"Schütze:",null,null,null,null,"verloren"]
["Bogenklasse"]
[null,null,null,null,null,null,null,null,"Gegner:",null,"Name:",{"$f":"'C28_Baum'!D24","v":"Willingshofer August"},null,null,null,null,"Gegner:",null,"Name:"]
[null,null,null,null,null,null,null,null,null,null,"Unterschrift:",null,null,null,null,null,null,null,"Unterschrift:"]
[]
[]
["1/4 Finale",null,null,null,{"$f":"'C28_Baum'!$M$74","v":"Scheibe: 13"},null,null,null,"1/2 Finale",null,null,null,{"$f":"'C28_Baum'!$Q$73","v":"Scheibe: 1B"},null,null,null,"1./2. od. 3./4. Platz",null,null,null,"Scheibe:"]
[null,1,2,3,"Summe","Ges.",null,null,null,1,2,3,"Summe","Ges.",null,null,null,1,2,3,"Summe","Ges."]
[1,null,null,null,null,null,null,null,1,null,null,null,null,null,null,null,1]
[2,null,null,null,null,null,null,null,2,null,null,null,null,null,null,null,2]
[3,null,null,null,null,null,null,null,3,null,null,null,null,null,null,null,3]
[4,null,null,null,null,null,null,null,4,null,null,null,null,null,null,null,4]
[5,null,null,null,null,null,null,null,5,null,null,null,null,null,null,null,5]
["wenn erforderlich",null,null,null,null,null,null,null,"wenn erforderlich",null,null,null,null,null,null,null,"wenn erforderlich"]
["Stechen",null,null,null,null,null,null,null,"Stechen",null,null,null,null,null,null,null,"Stechen"]
[null,null,null,null,null,"gewonnen",null,null,null,null,null,null,null,"gewonnen",null,null,null,null,null,null,null,"gewonnen"]
["Schütze:",null,null,null,null,"verloren",null,null,"Schütze:",null,null,null,null,"verloren",null,null,"Schütze:",null,null,null,null,"verloren"]
[]
["Gegner:",null,"Name:",null,null,null,null,null,"Gegner:",null,"Name:",null,null,null,null,null,"Gegner:",null,"Name:"]
[null,null,"Unterschrift:",null,null,null,null,null,null,null,"Unterschrift:",null,null,null,null,null,null,null,"Unterschrift:"]
[]
[]
[]
[null,null,null,null,null,null,null,null,"1/12 Elimination",null,null,null,{"$f":"'C28_Baum'!$D$81","v":"Scheibe: 5B"},null,null,null,"1/8 Elimination",null,null,null,{"$f":"'C28_Baum'!$I$77","v":"Scheibe: 6"}]
[null,null,null,null,null,null,null,null,null,1,2,3,"Summe","Ges.",null,null,null,1,2,3,"Summe","Ges."]
[{"$f":"Select!$C$12","v":"Demoturnier"},null,null,null,null,null,null,null,1,null,null,null,null,null,null,null,1]
["Veranstaltung",null,null,null,null,null,null,null,2,null,null,null,null,null,null,null,2]
[{"$f":"Select!$C$13","v":"1. April 2019"},null,null,null,null,null,null,null,3,null,null,null,null,null,null,null,3]
["Datum",null,null,null,null,null,null,null,4,null,null,null,null,null,null,null,4]
[{"$f":"'C28_Baum'!$D$24","v":"Willingshofer August"},null,null,null,null,null,null,null,5,null,null,null,null,null,null,null,5]
["Name",null,null,null,null,null,null,null,"wenn erforderlich",null,null,null,null,null,null,null,"wenn erforderlich"]
[{"$f":"'C28_Baum'!$F$24","v":"BSC Velden"},null,null,null,null,null,null,null,"Stechen",null,null,null,null,null,null,null,"Stechen"]
["Verein",null,null,null,null,null,null,null,null,null,null,null,null,"gewonnen",null,null,null,null,null,null,null,"gewonnen"]
[{"$f":"Select!$C$20","v":"Compound Herren"},null,null,null,null,null,null,null,"Schütze:",null,null,null,null,"verloren",null,null,"Schütze:",null,null,null,null,"verloren"]
["Bogenklasse"]
[null,null,null,null,null,null,null,null,"Gegner:",null,"Name:",{"$f":"'C28_Baum'!D23","v":"Lehner Heinz"},null,null,null,null,"Gegner:",null,"Name:"]
[null,null,null,null,null,null,null,null,null,null,"Unterschrift:",null,null,null,null,null,null,null,"Unterschrift:"]
[]
[]
["1/4 Finale",null,null,null,{"$f":"'C28_Baum'!$M$74","v":"Scheibe: 13"},null,null,null,"1/2 Finale",null,null,null,{"$f":"'C28_Baum'!$Q$73","v":"Scheibe: 1B"},null,null,null,"1./2. od. 3./4. Platz",null,null,null,"Scheibe:"]
[null,1,2,3,"Summe","Ges.",null,null,null,1,2,3,"Summe","Ges.",null,null,null,1,2,3,"Summe","Ges."]
[1,null,null,null,null,null,null,null,1,null,null,null,null,null,null,null,1]
[2,null,null,null,null,null,null,null,2,null,null,null,null,null,null,null,2]
[3,null,null,null,null,null,null,null,3,null,null,null,null,null,null,null,3]
[4,null,null,null,null,null,null,null,4,null,null,null,null,null,null,null,4]
[5,null,null,null,null,null,null,null,5,null,null,null,null,null,null,null,5]
["wenn erforderlich",null,null,null,null,null,null,null,"wenn erforderlich",null,null,null,null,null,null,null,"wenn erforderlich"]
["Stechen",null,null,null,null,null,null,null,"Stechen",null,null,null,null,null,null,null,"Stechen"]
[null,null,null,null,null,"gewonnen",null,null,null,null,null,null,null,"gewonnen",null,null,null,null,null,null,null,"gewonnen"]
["Schütze:",null,null,null,null,"verloren",null,null,"Schütze:",null,null,null,null,"verloren",null,null,"Schütze:",null,null,null,null,"verloren"]
[]
["Gegner:",null,"Name:",null,null,null,null,null,"Gegner:",null,"Name:",null,null,null,null,null,"Gegner:",null,"Name:"]
[null,null,"Unterschrift:",null,null,null,null,null,null,null,"Unterschrift:",null,null,null,null,null,null,null,"Unterschrift:"]
[]
[]
[]
[null,null,null,null,null,null,null,null,"1/12 Elimination",null,null,null,{"$f":"'C28_Baum'!$D$82","v":"Scheibe: 6A"},null,null,null,"1/8 Elimination",null,null,null,{"$f":"'C28_Baum'!$I$78","v":"Scheibe: 7"}]
[null,null,null,null,null,null,null,null,null,1,2,3,"Summe","Ges.",null,null,null,1,2,3,"Summe","Ges."]
[{"$f":"Select!$C$12","v":"Demoturnier"},null,null,null,null,null,null,null,1,null,null,null,null,null,null,null,1]
["Veranstaltung",null,null,null,null,null,null,null,2,null,null,null,null,null,null,null,2]
[{"$f":"Select!$C$13","v":"1. April 2019"},null,null,null,null,null,null,null,3,null,null,null,null,null,null,null,3]
["Datum",null,null,null,null,null,null,null,4,null,null,null,null,null,null,null,4]
[{"$f":"'C28_Baum'!$D$27","v":"Zezula Erwin"},null,null,null,null,null,null,null,5,null,null,null,null,null,null,null,5]
["Name",null,null,null,null,null,null,null,"wenn erforderlich",null,null,null,null,null,null,null,"wenn erforderlich"]
[{"$f":"'C28_Baum'!$F$27","v":"WBZ Union Zwettl"},null,null,null,null,null,null,null,"Stechen",null,null,null,null,null,null,null,"Stechen"]
["Verein",null,null,null,null,null,null,null,null,null,null,null,null,"gewonnen",null,null,null,null,null,null,null,"gewonnen"]
[{"$f":"Select!$C$20","v":"Compound Herren"},null,null,null,null,null,null,null,"Schütze:",null,null,null,null,"verloren",null,null,"Schütze:",null,null,null,null,"verloren"]
["Bogenklasse"]
[null,null,null,null,null,null,null,null,"Gegner:",null,"Name:",{"$f":"'C28_Baum'!D28","v":"RAINER Andreas"},null,null,null,null,"Gegner:",null,"Name:"]
[null,null,null,null,null,null,null,null,null,null,"Unterschrift:",null,null,null,null,null,null,null,"Unterschrift:"]
[]
[]
["1/4 Finale",null,null,null,{"$f":"'C28_Baum'!$M$75","v":"Scheibe: 14"},null,null,null,"1/2 Finale",null,null,null,{"$f":"'C28_Baum'!$Q$73","v":"Scheibe: 1B"},null,null,null,"1./2. od. 3./4. Platz",null,null,null,"Scheibe:"]
[null,1,2,3,"Summe","Ges.",null,null,null,1,2,3,"Summe","Ges.",null,null,null,1,2,3,"Summe","Ges."]
[1,null,null,null,null,null,null,null,1,null,null,null,null,null,null,null,1]
[2,null,null,null,null,null,null,null,2,null,null,null,null,null,null,null,2]
[3,null,null,null,null,null,null,null,3,null,null,null,null,null,null,null,3]
[4,null,null,null,null,null,null,null,4,null,null,null,null,null,null,null,4]
[5,null,null,null,null,null,null,null,5,null,null,null,null,null,null,null,5]
["wenn erforderlich",null,null,null,null,null,null,null,"wenn erforderlich",null,null,null,null,null,null,null,"wenn erforderlich"]
["Stechen",null,null,null,null,null,null,null,"Stechen",null,null,null,null,null,null,null,"Stechen"]
[null,null,null,null,null,"gewonnen",null,null,null,null,null,null,null,"gewonnen",null,null,null,null,null,null,null,"gewonnen"]
["Schütze:",null,null,null,null,"verloren",null,null,"Schütze:",null,null,null,null,"verloren",null,null,"Schütze:",null,null,null,null,"verloren"]
[]
["Gegner:",null,"Name:",null,null,null,null,null,"Gegner:",null,"Name:",null,null,null,null,null,"Gegner:",null,"Name:"]
[null,null,"Unterschrift:",null,null,null,null,null,null,null,"Unterschrift:",null,null,null,null,null,null,null,"Unterschrift:"]
[]
[]
[]
[null,null,null,null,null,null,null,null,"1/12 Elimination",null,null,null,{"$f":"'C28_Baum'!$D$83","v":"Scheibe: 6B"},null,null,null,"1/8 Elimination",null,null,null,{"$f":"'C28_Baum'!$I$78","v":"Scheibe: 7"}]
[null,null,null,null,null,null,null,null,null,1,2,3,"Summe","Ges.",null,null,null,1,2,3,"Summe","Ges."]
[{"$f":"Select!$C$12","v":"Demoturnier"},null,null,null,null,null,null,null,1,null,null,null,null,null,null,null,1]
["Veranstaltung",null,null,null,null,null,null,null,2,null,null,null,null,null,null,null,2]
[{"$f":"Select!$C$13","v":"1. April 2019"},null,null,null,null,null,null,null,3,null,null,null,null,null,null,null,3]
["Datum",null,null,null,null,null,null,null,4,null,null,null,null,null,null,null,4]
[{"$f":"'C28_Baum'!$D$28","v":"RAINER Andreas"},null,null,null,null,null,null,null,5,null,null,null,null,null,null,null,5]
["Name",null,null,null,null,null,null,null,"wenn erforderlich",null,null,null,null,null,null,null,"wenn erforderlich"]
[{"$f":"'C28_Baum'!$F$28","v":"BSC Semriach"},null,null,null,null,null,null,null,"Stechen",null,null,null,null,null,null,null,"Stechen"]
["Verein",null,null,null,null,null,null,null,null,null,null,null,null,"gewonnen",null,null,null,null,null,null,null,"gewonnen"]
[{"$f":"Select!$C$20","v":"Compound Herren"},null,null,null,null,null,null,null,"Schütze:",null,null,null,null,"verloren",null,null,"Schütze:",null,null,null,null,"verloren"]
["Bogenklasse"]
[null,null,null,null,null,null,null,null,"Gegner:",null,"Name:",{"$f":"'C28_Baum'!D27","v":"Zezula Erwin"},null,null,null,null,"Gegner:",null,"Name:"]
[null,null,null,null,null,null,null,null,null,null,"Unterschrift:",null,null,null,null,null,null,null,"Unterschrift:"]
[]
[]
["1/4 Finale",null,null,null,{"$f":"'C28_Baum'!$M$75","v":"Scheibe: 14"},null,null,null,"1/2 Finale",null,null,null,{"$f":"'C28_Baum'!$Q$73","v":"Scheibe: 1B"},null,null,null,"1./2. od. 3./4. Platz",null,null,null,"Scheibe:"]
[null,1,2,3,"Summe","Ges.",null,null,null,1,2,3,"Summe","Ges.",null,null,null,1,2,3,"Summe","Ges."]
[1,null,null,null,null,null,null,null,1,null,null,null,null,null,null,null,1]
[2,null,null,null,null,null,null,null,2,null,null,null,null,null,null,null,2]
[3,null,null,null,null,null,null,null,3,null,null,null,null,null,null,null,3]
[4,null,null,null,null,null,null,null,4,null,null,null,null,null,null,null,4]
[5,null,null,null,null,null,null,null,5,null,null,null,null,null,null,null,5]
["wenn erforderlich",null,null,null,null,null,null,null,"wenn erforderlich",null,null,null,null,null,null,null,"wenn erforderlich"]
["Stechen",null,null,null,null,null,null,null,"Stechen",null,null,null,null,null,null,null,"Stechen"]
[null,null,null,null,null,"gewonnen",null,null,null,null,null,null,null,"gewonnen",null,null,null,null,null,null,null,"gewonnen"]
["Schütze:",null,null,null,null,"verloren",null,null,"Schütze:",null,null,null,null,"verloren",null,null,"Schütze:",null,null,null,null,"verloren"]
[]
["Gegner:",null,"Name:",null,null,null,null,null,"Gegner:",null,"Name:",null,null,null,null,null,"Gegner:",null,"Name:"]
[null,null,"Unterschrift:",null,null,null,null,null,null,null,"Unterschrift:",null,null,null,null,null,null,null,"Unterschrift:"]
[]
[]
[]
[null,null,null,null,null,null,null,null,"1/12 Elimination",null,null,null,"Freilos",null,null,null,"1/8 Elimination",null,null,null,{"$f":"'C28_Baum'!$I$79","v":"Scheibe: 8"}]
[null,null,null,null,null,null,null,null,null,1,2,3,"Summe","Ges.",null,null,null,1,2,3,"Summe","Ges."]
[{"$f":"Select!$C$12","v":"Demoturnier"},null,null,null,null,null,null,null,1,null,null,null,null,null,null,null,1]
["Veranstaltung",null,null,null,null,null,null,null,2,null,null,null,null,null,null,null,2]
[{"$f":"Select!$C$13","v":"1. April 2019"},null,null,null,null,null,null,null,3,null,null,null,null,null,null,null,3]
["Datum",null,null,null,null,null,null,null,4,null,null,null,null,null,null,null,4]
[{"$f":"'C28_Baum'!$D$32","v":"Wippel Wolfgang"},null,null,null,null,null,null,null,5,null,null,null,null,null,null,null,5]
["Name",null,null,null,null,null,null,null,"wenn erforderlich",null,null,null,null,null,null,null,"wenn erforderlich"]
[{"$f":"'C28_Baum'!$F$32","v":"BC Union Graz Seiersberg"},null,null,null,null,null,null,null,"Stechen",null,null,null,null,null,null,null,"Stechen"]
["Verein",null,null,null,null,null,null,null,null,null,null,null,null,"gewonnen",null,null,null,null,null,null,null,"gewonnen"]
[{"$f":"Select!$C$20","v":"Compound Herren"},null,null,null,null,null,null,null,"Schütze:",null,null,null,null,"verloren",null,null,"Schütze:",null,null,null,null,"verloren"]
["Bogenklasse"]
[null,null,null,null,null,null,null,null,"Gegner:",null,"Name:",null,null,null,null,null,"Gegner:",null,"Name:"]
[null,null,null,null,null,null,null,null,null,null,"Unterschrift:",null,null,null,null,null,null,null,"Unterschrift:"]
[]
[]
["1/4 Finale",null,null,null,{"$f":"'C28_Baum'!$M$75","v":"Scheibe: 14"},null,null,null,"1/2 Finale",null,null,null,{"$f":"'C28_Baum'!$Q$73","v":"Scheibe: 1B"},null,null,null,"1./2. od. 3./4. Platz",null,null,null,"Scheibe:"]
[null,1,2,3,"Summe","Ges.",null,null,null,1,2,3,"Summe","Ges.",null,null,null,1,2,3,"Summe","Ges."]
[1,null,null,null,null,null,null,null,1,null,null,null,null,null,null,null,1]
[2,null,null,null,null,null,null,null,2,null,null,null,null,null,null,null,2]
[3,null,null,null,null,null,null,null,3,null,null,null,null,null,null,null,3]
[4,null,null,null,null,null,null,null,4,null,null,null,null,null,null,null,4]
[5,null,null,null,null,null,null,null,5,null,null,null,null,null,null,null,5]
["wenn erforderlich",null,null,null,null,null,null,null,"wenn erforderlich",null,null,null,null,null,null,null,"wenn erforderlich"]
["Stechen",null,null,null,null,null,null,null,"Stechen",null,null,null,null,null,null,null,"Stechen"]
[null,null,null,null,null,"gewonnen",null,null,null,null,null,null,null,"gewonnen",null,null,null,null,null,null,null,"gewonnen"]
["Schütze:",null,null,null,null,"verloren",null,null,"Schütze:",null,null,null,null,"verloren",null,null,"Schütze:",null,null,null,null,"verloren"]
[]
["Gegner:",null,"Name:",null,null,null,null,null,"Gegner:",null,"Name:",null,null,null,null,null,"Gegner:",null,"Name:"]
[null,null,"Unterschrift:",null,null,null,null,null,null,null,"Unterschrift:",null,null,null,null,null,null,null,"Unterschrift:"]
[]
[]
[]
[null,null,null,null,null,null,null,null,"1/12 Elimination",null,null,null,"Freilos",null,null,null,"1/8 Elimination",null,null,null,{"$f":"'C28_Baum'!$I$80","v":"Scheibe: 9"}]
[null,null,null,null,null,null,null,null,null,1,2,3,"Summe","Ges.",null,null,null,1,2,3,"Summe","Ges."]
[{"$f":"Select!$C$12","v":"Demoturnier"},null,null,null,null,null,null,null,1,null,null,null,null,null,null,null,1]
["Veranstaltung",null,null,null,null,null,null,null,2,null,null,null,null,null,null,null,2]
[{"$f":"Select!$C$13","v":"1. April 2019"},null,null,null,null,null,null,null,3,null,null,null,null,null,null,null,3]
["Datum",null,null,null,null,null,null,null,4,null,null,null,null,null,null,null,4]
[{"$f":"'C28_Baum'!$D$35","v":"Hubmann Gerhard"},null,null,null,null,null,null,null,5,null,null,null,null,null,null,null,5]
["Name",null,null,null,null,null,null,null,"wenn erforderlich",null,null,null,null,null,null,null,"wenn erforderlich"]
[{"$f":"'C28_Baum'!$F$35","v":"EAT-Bogensport"},null,null,null,null,null,null,null,"Stechen",null,null,null,null,null,null,null,"Stechen"]
["Verein",null,null,null,null,null,null,null,null,null,null,null,null,"gewonnen",null,null,null,null,null,null,null,"gewonnen"]
[{"$f":"Select!$C$20","v":"Compound Herren"},null,null,null,null,null,null,null,"Schütze:",null,null,null,null,"verloren",null,null,"Schütze:",null,null,null,null,"verloren"]
["Bogenklasse"]
[null,null,null,null,null,null,null,null,"Gegner:",null,"Name:",null,null,null,null,null,"Gegner:",null,"Name:"]
[null,null,null,null,null,null,null,null,null,null,"Unterschrift:",null,null,null,null,null,null,null,"Unterschrift:"]
[]
[]
["1/4 Finale",null,null,null,{"$f":"'C28_Baum'!$M$76","v":"Scheibe: 15"},null,null,null,"1/2 Finale",null,null,null,{"$f":"'C28_Baum'!$Q$74","v":"Scheibe: 2A"},null,null,null,"1./2. od. 3./4. Platz",null,null,null,"Scheibe:"]
[null,1,2,3,"Summe","Ges.",null,null,null,1,2,3,"Summe","Ges.",null,null,null,1,2,3,"Summe","Ges."]
[1,null,null,null,null,null,null,null,1,null,null,null,null,null,null,null,1]
[2,null,null,null,null,null,null,null,2,null,null,null,null,null,null,null,2]
[3,null,null,null,null,null,null,null,3,null,null,null,null,null,null,null,3]
[4,null,null,null,null,null,null,null,4,null,null,null,null,null,null,null,4]
[5,null,null,null,null,null,null,null,5,null,null,null,null,null,null,null,5]
["wenn erforderlich",null,null,null,null,null,null,null,"wenn erforderlich",null,null,null,null,null,null,null,"wenn erforderlich"]
["Stechen",null,null,null,null,null,null,null,"Stechen",null,null,null,null,null,null,null,"Stechen"]
[null,null,null,null,null,"gewonnen",null,null,null,null,null,null,null,"gewonnen",null,null,null,null,null,null,null,"gewonnen"]
["Schütze:",null,null,null,null,"verloren",null,null,"Schütze:",null,null,null,null,"verloren",null,null,"Schütze:",null,null,null,null,"verloren"]
[]
["Gegner:",null,"Name:",null,null,null,null,null,"Gegner:",null,"Name:",null,null,null,null,null,"Gegner:",null,"Name:"]
[null,null,"Unterschrift:",null,null,null,null,null,null,null,"Unterschrift:",null,null,null,null,null,null,null,"Unterschrift:"]
[]
[]
[]
[null,null,null,null,null,null,null,null,"1/12 Elimination",null,null,null,{"$f":"'C28_Baum'!$D$84","v":"Scheibe: 7A"},null,null,null,"1/8 Elimination",null,null,null,{"$f":"'C28_Baum'!$I$81","v":"Scheibe: 10"}]
[null,null,null,null,null,null,null,null,null,1,2,3,"Summe","Ges.",null,null,null,1,2,3,"Summe","Ges."]
[{"$f":"Select!$C$12","v":"Demoturnier"},null,null,null,null,null,null,null,1,null,null,null,null,null,null,null,1]
["Veranstaltung",null,null,null,null,null,null,null,2,null,null,null,null,null,null,null,2]
[{"$f":"Select!$C$13","v":"1. April 2019"},null,null,null,null,null,null,null,3,null,null,null,null,null,null,null,3]
["Datum",null,null,null,null,null,null,null,4,null,null,null,null,null,null,null,4]
[{"$f":"'C28_Baum'!$D$39","v":"Zimmerbeutel Axel"},null,null,null,null,null,null,null,5,null,null,null,null,null,null,null,5]
["Name",null,null,null,null,null,null,null,"wenn erforderlich",null,null,null,null,null,null,null,"wenn erforderlich"]
[{"$f":"'C28_Baum'!$F$39","v":"3D Bogenplatz Riedersbach"},null,null,null,null,null,null,null,"Stechen",null,null,null,null,null,null,null,"Stechen"]
["Verein",null,null,null,null,null,null,null,null,null,null,null,null,"gewonnen",null,null,null,null,null,null,null,"gewonnen"]
[{"$f":"Select!$C$20","v":"Compound Herren"},null,null,null,null,null,null,null,"Schütze:",null,null,null,null,"verloren",null,null,"Schütze:",null,null,null,null,"verloren"]
["Bogenklasse"]
[null,null,null,null,null,null,null,null,"Gegner:",null,"Name:",{"$f":"'C28_Baum'!D40","v":"Wühl Martin"},null,null,null,null,"Gegner:",null,"Name:"]
[null,null,null,null,null,null,null,null,null,null,"Unterschrift:",null,null,null,null,null,null,null,"Unterschrift:"]
[]
[]
["1/4 Finale",null,null,null,{"$f":"'C28_Baum'!$M$76","v":"Scheibe: 15"},null,null,null,"1/2 Finale",null,null,null,{"$f":"'C28_Baum'!$Q$74","v":"Scheibe: 2A"},null,null,null,"1./2. od. 3./4. Platz",null,null,null,"Scheibe:"]
[null,1,2,3,"Summe","Ges.",null,null,null,1,2,3,"Summe","Ges.",null,null,null,1,2,3,"Summe","Ges."]
[1,null,null,null,null,null,null,null,1,null,null,null,null,null,null,null,1]
[2,null,null,null,null,null,null,null,2,null,null,null,null,null,null,null,2]
[3,null,null,null,null,null,null,null,3,null,null,null,null,null,null,null,3]
[4,null,null,null,null,null,null,null,4,null,null,null,null,null,null,null,4]
[5,null,null,null,null,null,null,null,5,null,null,null,null,null,null,null,5]
["wenn erforderlich",null,null,null,null,null,null,null,"wenn erforderlich",null,null,null,null,null,null,null,"wenn erforderlich"]
["Stechen",null,null,null,null,null,null,null,"Stechen",null,null,null,null,null,null,null,"Stechen"]
[null,null,null,null,null,"gewonnen",null,null,null,null,null,null,null,"gewonnen",null,null,null,null,null,null,null,"gewonnen"]
["Schütze:",null,null,null,null,"verloren",null,null,"Schütze:",null,null,null,null,"verloren",null,null,"Schütze:",null,null,null,null,"verloren"]
[]
["Gegner:",null,"Name:",null,null,null,null,null,"Gegner:",null,"Name:",null,null,null,null,null,"Gegner:",null,"Name:"]
[null,null,"Unterschrift:",null,null,null,null,null,null,null,"Unterschrift:",null,null,null,null,null,null,null,"Unterschrift:"]
[]
[]
[]
[null,null,null,null,null,null,null,null,"1/12 Elimination",null,null,null,{"$f":"'C28_Baum'!$D$85","v":"Scheibe: 7B"},null,null,null,"1/8 Elimination",null,null,null,{"$f":"'C28_Baum'!$I$81","v":"Scheibe: 10"}]
[null,null,null,null,null,null,null,null,null,1,2,3,"Summe","Ges.",null,null,null,1,2,3,"Summe","Ges."]
[{"$f":"Select!$C$12","v":"Demoturnier"},null,null,null,null,null,null,null,1,null,null,null,null,null,null,null,1]
["Veranstaltung",null,null,null,null,null,null,null,2,null,null,null,null,null,null,null,2]
[{"$f":"Select!$C$13","v":"1. April 2019"},null,null,null,null,null,null,null,3,null,null,null,null,null,null,null,3]
["Datum",null,null,null,null,null,null,null,4,null,null,null,null,null,null,null,4]
[{"$f":"'C28_Baum'!$D$40","v":"Wühl Martin"},null,null,null,null,null,null,null,5,null,null,null,null,null,null,null,5]
["Name",null,null,null,null,null,null,null,"wenn erforderlich",null,null,null,null,null,null,null,"wenn erforderlich"]
[{"$f":"'C28_Baum'!$F$40","v":"BSC Fischamend"},null,null,null,null,null,null,null,"Stechen",null,null,null,null,null,null,null,"Stechen"]
["Verein",null,null,null,null,null,null,null,null,null,null,null,null,"gewonnen",null,null,null,null,null,null,null,"gewonnen"]
[{"$f":"Select!$C$20","v":"Compound Herren"},null,null,null,null,null,null,null,"Schütze:",null,null,null,null,"verloren",null,null,"Schütze:",null,null,null,null,"verloren"]
["Bogenklasse"]
[null,null,null,null,null,null,null,null,"Gegner:",null,"Name:",{"$f":"'C28_Baum'!D39","v":"Zimmerbeutel Axel"},null,null,null,null,"Gegner:",null,"Name:"]
[null,null,null,null,null,null,null,null,null,null,"Unterschrift:",null,null,null,null,null,null,null,"Unterschrift:"]
[]
[]
["1/4 Finale",null,null,null,{"$f":"'C28_Baum'!$M$76","v":"Scheibe: 15"},null,null,null,"1/2 Finale",null,null,null,{"$f":"'C28_Baum'!$Q$74","v":"Scheibe: 2A"},null,null,null,"1./2. od. 3./4. Platz",null,null,null,"Scheibe:"]
[null,1,2,3,"Summe","Ges.",null,null,null,1,2,3,"Summe","Ges.",null,null,null,1,2,3,"Summe","Ges."]
[1,null,null,null,null,null,null,null,1,null,null,null,null,null,null,null,1]
[2,null,null,null,null,null,null,null,2,null,null,null,null,null,null,null,2]
[3,null,null,null,null,null,null,null,3,null,null,null,null,null,null,null,3]
[4,null,null,null,null,null,null,null,4,null,null,null,null,null,null,null,4]
[5,null,null,null,null,null,null,null,5,null,null,null,null,null,null,null,5]
["wenn erforderlich",null,null,null,null,null,null,null,"wenn erforderlich",null,null,null,null,null,null,null,"wenn erforderlich"]
["Stechen",null,null,null,null,null,null,null,"Stechen",null,null,null,null,null,null,null,"Stechen"]
[null,null,null,null,null,"gewonnen",null,null,null,null,null,null,null,"gewonnen",null,null,null,null,null,null,null,"gewonnen"]
["Schütze:",null,null,null,null,"verloren",null,null,"Schütze:",null,null,null,null,"verloren",null,null,"Schütze:",null,null,null,null,"verloren"]
[]
["Gegner:",null,"Name:",null,null,null,null,null,"Gegner:",null,"Name:",null,null,null,null,null,"Gegner:",null,"Name:"]
[null,null,"Unterschrift:",null,null,null,null,null,null,null,"Unterschrift:",null,null,null,null,null,null,null,"Unterschrift:"]
[]
[]
[]
[null,null,null,null,null,null,null,null,"1/12 Elimination",null,null,null,{"$f":"'C28_Baum'!$D$86","v":"Scheibe: 8A"},null,null,null,"1/8 Elimination",null,null,null,{"$f":"'C28_Baum'!$I$82","v":"Scheibe: 11"}]
[null,null,null,null,null,null,null,null,null,1,2,3,"Summe","Ges.",null,null,null,1,2,3,"Summe","Ges."]
[{"$f":"Select!$C$12","v":"Demoturnier"},null,null,null,null,null,null,null,1,null,null,null,null,null,null,null,1]
["Veranstaltung",null,null,null,null,null,null,null,2,null,null,null,null,null,null,null,2]
[{"$f":"Select!$C$13","v":"1. April 2019"},null,null,null,null,null,null,null,3,null,null,null,null,null,null,null,3]
["Datum",null,null,null,null,null,null,null,4,null,null,null,null,null,null,null,4]
[{"$f":"'C28_Baum'!$D$43","v":"Burda Erwin"},null,null,null,null,null,null,null,5,null,null,null,null,null,null,null,5]
["Name",null,null,null,null,null,null,null,"wenn erforderlich",null,null,null,null,null,null,null,"wenn erforderlich"]
[{"$f":"'C28_Baum'!$F$43","v":"BC Golden Arrows"},null,null,null,null,null,null,null,"Stechen",null,null,null,null,null,null,null,"Stechen"]
["Verein",null,null,null,null,null,null,null,null,null,null,null,null,"gewonnen",null,null,null,null,null,null,null,"gewonnen"]
[{"$f":"Select!$C$20","v":"Compound Herren"},null,null,null,null,null,null,null,"Schütze:",null,null,null,null,"verloren",null,null,"Schütze:",null,null,null,null,"verloren"]
["Bogenklasse"]
[null,null,null,null,null,null,null,null,"Gegner:",null,"Name:",{"$f":"'C28_Baum'!D44","v":"Daum Stefan"},null,null,null,null,"Gegner:",null,"Name:"]
[null,null,null,null,null,null,null,null,null,null,"Unterschrift:",null,null,null,null,null,null,null,"Unterschrift:"]
[]
[]
["1/4 Finale",null,null,null,{"$f":"'C28_Baum'!$M$77","v":"Scheibe: 16"},null,null,null,"1/2 Finale",null,null,null,{"$f":"'C28_Baum'!$Q$74","v":"Scheibe: 2A"},null,null,null,"1./2. od. 3./4. Platz",null,null,null,"Scheibe:"]
[null,1,2,3,"Summe","Ges.",null,null,null,1,2,3,"Summe","Ges.",null,null,null,1,2,3,"Summe","Ges."]
[1,null,null,null,null,null,null,null,1,null,null,null,null,null,null,null,1]
[2,null,null,null,null,null,null,null,2,null,null,null,null,null,null,null,2]
[3,null,null,null,null,null,null,null,3,null,null,null,null,null,null,null,3]
[4,null,null,null,null,null,null,null,4,null,null,null,null,null,null,null,4]
[5,null,null,null,null,null,null,null,5,null,null,null,null,null,null,null,5]
["wenn erforderlich",null,null,null,null,null,null,null,"wenn erforderlich",null,null,null,null,null,null,null,"wenn erforderlich"]
["Stechen",null,null,null,null,null,null,null,"Stechen",null,null,null,null,null,null,null,"Stechen"]
[null,null,null,null,null,"gewonnen",null,null,null,null,null,null,null,"gewonnen",null,null,null,null,null,null,null,"gewonnen"]
["Schütze:",null,null,null,null,"verloren",null,null,"Schütze:",null,null,null,null,"verloren",null,null,"Schütze:",null,null,null,null,"verloren"]
[]
["Gegner:",null,"Name:",null,null,null,null,null,"Gegner:",null,"Name:",null,null,null,null,null,"Gegner:",null,"Name:"]
[null,null,"Unterschrift:",null,null,null,null,null,null,null,"Unterschrift:",null,null,null,null,null,null,null,"Unterschrift:"]
[]
[]
[]
[null,null,null,null,null,null,null,null,"1/12 Elimination",null,null,null,{"$f":"'C28_Baum'!$D$87","v":"Scheibe: 8B"},null,null,null,"1/8 Elimination",null,null,null,{"$f":"'C28_Baum'!$I$82","v":"Scheibe: 11"}]
[null,null,null,null,null,null,null,null,null,1,2,3,"Summe","Ges.",null,null,null,1,2,3,"Summe","Ges."]
[{"$f":"Select!$C$12","v":"Demoturnier"},null,null,null,null,null,null,null,1,null,null,null,null,null,null,null,1]
["Veranstaltung",null,null,null,null,null,null,null,2,null,null,null,null,null,null,null,2]
[{"$f":"Select!$C$13","v":"1. April 2019"},null,null,null,null,null,null,null,3,null,null,null,null,null,null,null,3]
["Datum",null,null,null,null,null,null,null,4,null,null,null,null,null,null,null,4]
[{"$f":"'C28_Baum'!$D$44","v":"Daum Stefan"},null,null,null,null,null,null,null,5,null,null,null,null,null,null,null,5]
["Name",null,null,null,null,null,null,null,"wenn erforderlich",null,null,null,null,null,null,null,"wenn erforderlich"]
[{"$f":"'C28_Baum'!$F$44","v":"BSC Sparkasse Jenbach"},null,null,null,null,null,null,null,"Stechen",null,null,null,null,null,null,null,"Stechen"]
["Verein",null,null,null,null,null,null,null,null,null,null,null,null,"gewonnen",null,null,null,null,null,null,null,"gewonnen"]
[{"$f":"Select!$C$20","v":"Compound Herren"},null,null,null,null,null,null,null,"Schütze:",null,null,null,null,"verloren",null,null,"Schütze:",null,null,null,null,"verloren"]
["Bogenklasse"]
[null,null,null,null,null,null,null,null,"Gegner:",null,"Name:",{"$f":"'C28_Baum'!D43","v":"Burda Erwin"},null,null,null,null,"Gegner:",null,"Name:"]
[null,null,null,null,null,null,null,null,null,null,"Unterschrift:",null,null,null,null,null,null,null,"Unterschrift:"]
[]
[]
["1/4 Finale",null,null,null,{"$f":"'C28_Baum'!$M$77","v":"Scheibe: 16"},null,null,null,"1/2 Finale",null,null,null,{"$f":"'C28_Baum'!$Q$74","v":"Scheibe: 2A"},null,null,null,"1./2. od. 3./4. Platz",null,null,null,"Scheibe:"]
[null,1,2,3,"Summe","Ges.",null,null,null,1,2,3,"Summe","Ges.",null,null,null,1,2,3,"Summe","Ges."]
[1,null,null,null,null,null,null,null,1,null,null,null,null,null,null,null,1]
[2,null,null,null,null,null,null,null,2,null,null,null,null,null,null,null,2]
[3,null,null,null,null,null,null,null,3,null,null,null,null,null,null,null,3]
[4,null,null,null,null,null,null,null,4,null,null,null,null,null,null,null,4]
[5,null,null,null,null,null,null,null,5,null,null,null,null,null,null,null,5]
["wenn erforderlich",null,null,null,null,null,null,null,"wenn erforderlich",null,null,null,null,null,null,null,"wenn erforderlich"]
["Stechen",null,null,null,null,null,null,null,"Stechen",null,null,null,null,null,null,null,"Stechen"]
[null,null,null,null,null,"gewonnen",null,null,null,null,null,null,null,"gewonnen",null,null,null,null,null,null,null,"gewonnen"]
["Schütze:",null,null,null,null,"verloren",null,null,"Schütze:",null,null,null,null,"verloren",null,null,"Schütze:",null,null,null,null,"verloren"]
[]
["Gegner:",null,"Name:",null,null,null,null,null,"Gegner:",null,"Name:",null,null,null,null,null,"Gegner:",null,"Name:"]
[null,null,"Unterschrift:",null,null,null,null,null,null,null,"Unterschrift:",null,null,null,null,null,null,null,"Unterschrift:"]
[]
[]
[]
[null,null,null,null,null,null,null,null,"1/12 Elimination",null,null,null,{"$f":"'C28_Baum'!$D$88","v":"Scheibe: 9A"},null,null,null,"1/8 Elimination",null,null,null,{"$f":"'C28_Baum'!$I$83","v":"Scheibe: 12"}]
[null,null,null,null,null,null,null,null,null,1,2,3,"Summe","Ges.",null,null,null,1,2,3,"Summe","Ges."]
[{"$f":"Select!$C$12","v":"Demoturnier"},null,null,null,null,null,null,null,1,null,null,null,null,null,null,null,1]
["Veranstaltung",null,null,null,null,null,null,null,2,null,null,null,null,null,null,null,2]
[{"$f":"Select!$C$13","v":"1. April 2019"},null,null,null,null,null,null,null,3,null,null,null,null,null,null,null,3]
["Datum",null,null,null,null,null,null,null,4,null,null,null,null,null,null,null,4]
[{"$f":"'C28_Baum'!$D$47","v":"Schlechter Hans-Jürgen"},null,null,null,null,null,null,null,5,null,null,null,null,null,null,null,5]
["Name",null,null,null,null,null,null,null,"wenn erforderlich",null,null,null,null,null,null,null,"wenn erforderlich"]
[{"$f":"'C28_Baum'!$F$47","v":"BSV Brixlegg - NAVAJOS"},null,null,null,null,null,null,null,"Stechen",null,null,null,null,null,null,null,"Stechen"]
["Verein",null,null,null,null,null,null,null,null,null,null,null,null,"gewonnen",null,null,null,null,null,null,null,"gewonnen"]
[{"$f":"Select!$C$20","v":"Compound Herren"},null,null,null,null,null,null,null,"Schütze:",null,null,null,null,"verloren",null,null,"Schütze:",null,null,null,null,"verloren"]
["Bogenklasse"]
[null,null,null,null,null,null,null,null,"Gegner:",null,"Name:",{"$f":"'C28_Baum'!D48","v":"Schneider Wolfgang"},null,null,null,null,"Gegner:",null,"Name:"]
[null,null,null,null,null,null,null,null,null,null,"Unterschrift:",null,null,null,null,null,null,null,"Unterschrift:"]
[]
[]
["1/4 Finale",null,null,null,{"$f":"'C28_Baum'!$M$77","v":"Scheibe: 16"},null,null,null,"1/2 Finale",null,null,null,{"$f":"'C28_Baum'!$Q$74","v":"Scheibe: 2A"},null,null,null,"1./2. od. 3./4. Platz",null,null,null,"Scheibe:"]
[null,1,2,3,"Summe","Ges.",null,null,null,1,2,3,"Summe","Ges.",null,null,null,1,2,3,"Summe","Ges."]
[1,null,null,null,null,null,null,null,1,null,null,null,null,null,null,null,1]
[2,null,null,null,null,null,null,null,2,null,null,null,null,null,null,null,2]
[3,null,null,null,null,null,null,null,3,null,null,null,null,null,null,null,3]
[4,null,null,null,null,null,null,null,4,null,null,null,null,null,null,null,4]
[5,null,null,null,null,null,null,null,5,null,null,null,null,null,null,null,5]
["wenn erforderlich",null,null,null,null,null,null,null,"wenn erforderlich",null,null,null,null,null,null,null,"wenn erforderlich"]
["Stechen",null,null,null,null,null,null,null,"Stechen",null,null,null,null,null,null,null,"Stechen"]
[null,null,null,null,null,"gewonnen",null,null,null,null,null,null,null,"gewonnen",null,null,null,null,null,null,null,"gewonnen"]
["Schütze:",null,null,null,null,"verloren",null,null,"Schütze:",null,null,null,null,"verloren",null,null,"Schütze:",null,null,null,null,"verloren"]
[]
["Gegner:",null,"Name:",null,null,null,null,null,"Gegner:",null,"Name:",null,null,null,null,null,"Gegner:",null,"Name:"]
[null,null,"Unterschrift:",null,null,null,null,null,null,null,"Unterschrift:",null,null,null,null,null,null,null,"Unterschrift:"]
[]
[]
[]
[null,null,null,null,null,null,null,null,"1/12 Elimination",null,null,null,{"$f":"'C28_Baum'!$D$89","v":"Scheibe: 9B"},null,null,null,"1/8 Elimination",null,null,null,{"$f":"'C28_Baum'!$I$83","v":"Scheibe: 12"}]
[null,null,null,null,null,null,null,null,null,1,2,3,"Summe","Ges.",null,null,null,1,2,3,"Summe","Ges."]
[{"$f":"Select!$C$12","v":"Demoturnier"},null,null,null,null,null,null,null,1,null,null,null,null,null,null,null,1]
["Veranstaltung",null,null,null,null,null,null,null,2,null,null,null,null,null,null,null,2]
[{"$f":"Select!$C$13","v":"1. April 2019"},null,null,null,null,null,null,null,3,null,null,null,null,null,null,null,3]
["Datum",null,null,null,null,null,null,null,4,null,null,null,null,null,null,null,4]
[{"$f":"'C28_Baum'!$D$48","v":"Schneider Wolfgang"},null,null,null,null,null,null,null,5,null,null,null,null,null,null,null,5]
["Name",null,null,null,null,null,null,null,"wenn erforderlich",null,null,null,null,null,null,null,"wenn erforderlich"]
[{"$f":"'C28_Baum'!$F$48","v":"WBZ Union Zwettl"},null,null,null,null,null,null,null,"Stechen",null,null,null,null,null,null,null,"Stechen"]
["Verein",null,null,null,null,null,null,null,null,null,null,null,null,"gewonnen",null,null,null,null,null,null,null,"gewonnen"]
[{"$f":"Select!$C$20","v":"Compound Herren"},null,null,null,null,null,null,null,"Schütze:",null,null,null,null,"verloren",null,null,"Schütze:",null,null,null,null,"verloren"]
["Bogenklasse"]
[null,null,null,null,null,null,null,null,"Gegner:",null,"Name:",{"$f":"'C28_Baum'!D47","v":"Schlechter Hans-Jürgen"},null,null,null,null,"Gegner:",null,"Name:"]
[null,null,null,null,null,null,null,null,null,null,"Unterschrift:",null,null,null,null,null,null,null,"Unterschrift:"]
[]
[]
["1/4 Finale",null,null,null,{"$f":"'C28_Baum'!$M$77","v":"Scheibe: 16"},null,null,null,"1/2 Finale",null,null,null,{"$f":"'C28_Baum'!$Q$74","v":"Scheibe: 2A"},null,null,null,"1./2. od. 3./4. Platz",null,null,null,"Scheibe:"]
[null,1,2,3,"Summe","Ges.",null,null,null,1,2,3,"Summe","Ges.",null,null,null,1,2,3,"Summe","Ges."]
[1,null,null,null,null,null,null,null,1,null,null,null,null,null,null,null,1]
[2,null,null,null,null,null,null,null,2,null,null,null,null,null,null,null,2]
[3,null,null,null,null,null,null,null,3,null,null,null,null,null,null,null,3]
[4,null,null,null,null,null,null,null,4,null,null,null,null,null,null,null,4]
[5,null,null,null,null,null,null,null,5,null,null,null,null,null,null,null,5]
["wenn erforderlich",null,null,null,null,null,null,null,"wenn erforderlich",null,null,null,null,null,null,null,"wenn erforderlich"]
["Stechen",null,null,null,null,null,null,null,"Stechen",null,null,null,null,null,null,null,"Stechen"]
[null,null,null,null,null,"gewonnen",null,null,null,null,null,null,null,"gewonnen",null,null,null,null,null,null,null,"gewonnen"]
["Schütze:",null,null,null,null,"verloren",null,null,"Schütze:",null,null,null,null,"verloren",null,null,"Schütze:",null,null,null,null,"verloren"]
[]
["Gegner:",null,"Name:",null,null,null,null,null,"Gegner:",null,"Name:",null,null,null,null,null,"Gegner:",null,"Name:"]
[null,null,"Unterschrift:",null,null,null,null,null,null,null,"Unterschrift:",null,null,null,null,null,null,null,"Unterschrift:"]
[]
[]
[]
[null,null,null,null,null,null,null,null,"1/12 Elimination",null,null,null,{"$f":"'C28_Baum'!$D$90","v":"Scheibe: 10A"},null,null,null,"1/8 Elimination",null,null,null,{"$f":"'C28_Baum'!$I$84","v":"Scheibe: 13"}]
[null,null,null,null,null,null,null,null,null,1,2,3,"Summe","Ges.",null,null,null,1,2,3,"Summe","Ges."]
[{"$f":"Select!$C$12","v":"Demoturnier"},null,null,null,null,null,null,null,1,null,null,null,null,null,null,null,1]
["Veranstaltung",null,null,null,null,null,null,null,2,null,null,null,null,null,null,null,2]
[{"$f":"Select!$C$13","v":"1. April 2019"},null,null,null,null,null,null,null,3,null,null,null,null,null,null,null,3]
["Datum",null,null,null,null,null,null,null,4,null,null,null,null,null,null,null,4]
[{"$f":"'C28_Baum'!$D$51","v":"Koisegg Johann"},null,null,null,null,null,null,null,5,null,null,null,null,null,null,null,5]
["Name",null,null,null,null,null,null,null,"wenn erforderlich",null,null,null,null,null,null,null,"wenn erforderlich"]
[{"$f":"'C28_Baum'!$F$51","v":"BSC Sparkasse Jenbach"},null,null,null,null,null,null,null,"Stechen",null,null,null,null,null,null,null,"Stechen"]
["Verein",null,null,null,null,null,null,null,null,null,null,null,null,"gewonnen",null,null,null,null,null,null,null,"gewonnen"]
[{"$f":"Select!$C$20","v":"Compound Herren"},null,null,null,null,null,null,null,"Schütze:",null,null,null,null,"verloren",null,null,"Schütze:",null,null,null,null,"verloren"]
["Bogenklasse"]
[null,null,null,null,null,null,null,null,"Gegner:",null,"Name:",{"$f":"'C28_Baum'!D52","v":"Steininger Helmut"},null,null,null,null,"Gegner:",null,"Name:"]
[null,null,null,null,null,null,null,null,null,null,"Unterschrift:",null,null,null,null,null,null,null,"Unterschrift:"]
[]
[]
["1/4 Finale",null,null,null,{"$f":"'C28_Baum'!$M$78","v":"Scheibe: 17"},null,null,null,"1/2 Finale",null,null,null,{"$f":"'C28_Baum'!$Q$75","v":"Scheibe: 2B"},null,null,null,"1./2. od. 3./4. Platz",null,null,null,"Scheibe:"]
[null,1,2,3,"Summe","Ges.",null,null,null,1,2,3,"Summe","Ges.",null,null,null,1,2,3,"Summe","Ges."]
[1,null,null,null,null,null,null,null,1,null,null,null,null,null,null,null,1]
[2,null,null,null,null,null,null,null,2,null,null,null,null,null,null,null,2]
[3,null,null,null,null,null,null,null,3,null,null,null,null,null,null,null,3]
[4,null,null,null,null,null,null,null,4,null,null,null,null,null,null,null,4]
[5,null,null,null,null,null,null,null,5,null,null,null,null,null,null,null,5]
["wenn erforderlich",null,null,null,null,null,null,null,"wenn erforderlich",null,null,null,null,null,null,null,"wenn erforderlich"]
["Stechen",null,null,null,null,null,null,null,"Stechen",null,null,null,null,null,null,null,"Stechen"]
[null,null,null,null,null,"gewonnen",null,null,null,null,null,null,null,"gewonnen",null,null,null,null,null,null,null,"gewonnen"]
["Schütze:",null,null,null,null,"verloren",null,null,"Schütze:",null,null,null,null,"verloren",null,null,"Schütze:",null,null,null,null,"verloren"]
[]
["Gegner:",null,"Name:",null,null,null,null,null,"Gegner:",null,"Name:",null,null,null,null,null,"Gegner:",null,"Name:"]
[null,null,"Unterschrift:",null,null,null,null,null,null,null,"Unterschrift:",null,null,null,null,null,null,null,"Unterschrift:"]
[]
[]
[]
[null,null,null,null,null,null,null,null,"1/12 Elimination",null,null,null,{"$f":"'C28_Baum'!$D$91","v":"Scheibe: 10B"},null,null,null,"1/8 Elimination",null,null,null,{"$f":"'C28_Baum'!$I$84","v":"Scheibe: 13"}]
[null,null,null,null,null,null,null,null,null,1,2,3,"Summe","Ges.",null,null,null,1,2,3,"Summe","Ges."]
[{"$f":"Select!$C$12","v":"Demoturnier"},null,null,null,null,null,null,null,1,null,null,null,null,null,null,null,1]
["Veranstaltung",null,null,null,null,null,null,null,2,null,null,null,null,null,null,null,2]
[{"$f":"Select!$C$13","v":"1. April 2019"},null,null,null,null,null,null,null,3,null,null,null,null,null,null,null,3]
["Datum",null,null,null,null,null,null,null,4,null,null,null,null,null,null,null,4]
[{"$f":"'C28_Baum'!$D$52","v":"Steininger Helmut"},null,null,null,null,null,null,null,5,null,null,null,null,null,null,null,5]
["Name",null,null,null,null,null,null,null,"wenn erforderlich",null,null,null,null,null,null,null,"wenn erforderlich"]
[{"$f":"'C28_Baum'!$F$52","v":"UBSC Artemis Wien"},null,null,null,null,null,null,null,"Stechen",null,null,null,null,null,null,null,"Stechen"]
["Verein",null,null,null,null,null,null,null,null,null,null,null,null,"gewonnen",null,null,null,null,null,null,null,"gewonnen"]
[{"$f":"Select!$C$20","v":"Compound Herren"},null,null,null,null,null,null,null,"Schütze:",null,null,null,null,"verloren",null,null,"Schütze:",null,null,null,null,"verloren"]
["Bogenklasse"]
[null,null,null,null,null,null,null,null,"Gegner:",null,"Name:",{"$f":"'C28_Baum'!D51","v":"Koisegg Johann"},null,null,null,null,"Gegner:",null,"Name:"]
[null,null,null,null,null,null,null,null,null,null,"Unterschrift:",null,null,null,null,null,null,null,"Unterschrift:"]
[]
[]
["1/4 Finale",null,null,null,{"$f":"'C28_Baum'!$M$78","v":"Scheibe: 17"},null,null,null,"1/2 Finale",null,null,null,{"$f":"'C28_Baum'!$Q$75","v":"Scheibe: 2B"},null,null,null,"1./2. od. 3./4. Platz",null,null,null,"Scheibe:"]
[null,1,2,3,"Summe","Ges.",null,null,null,1,2,3,"Summe","Ges.",null,null,null,1,2,3,"Summe","Ges."]
[1,null,null,null,null,null,null,null,1,null,null,null,null,null,null,null,1]
[2,null,null,null,null,null,null,null,2,null,null,null,null,null,null,null,2]
[3,null,null,null,null,null,null,null,3,null,null,null,null,null,null,null,3]
[4,null,null,null,null,null,null,null,4,null,null,null,null,null,null,null,4]
[5,null,null,null,null,null,null,null,5,null,null,null,null,null,null,null,5]
["wenn erforderlich",null,null,null,null,null,null,null,"wenn erforderlich",null,null,null,null,null,null,null,"wenn erforderlich"]
["Stechen",null,null,null,null,null,null,null,"Stechen",null,null,null,null,null,null,null,"Stechen"]
[null,null,null,null,null,"gewonnen",null,null,null,null,null,null,null,"gewonnen",null,null,null,null,null,null,null,"gewonnen"]
["Schütze:",null,null,null,null,"verloren",null,null,"Schütze:",null,null,null,null,"verloren",null,null,"Schütze:",null,null,null,null,"verloren"]
[]
["Gegner:",null,"Name:",null,null,null,null,null,"Gegner:",null,"Name:",null,null,null,null,null,"Gegner:",null,"Name:"]
[null,null,"Unterschrift:",null,null,null,null,null,null,null,"Unterschrift:",null,null,null,null,null,null,null,"Unterschrift:"]
[]
[]
[]
[null,null,null,null,null,null,null,null,"1/12 Elimination",null,null,null,{"$f":"'C28_Baum'!$D$92","v":"Scheibe: 11A"},null,null,null,"1/8 Elimination",null,null,null,{"$f":"'C28_Baum'!$I$85","v":"Scheibe: 14"}]
[null,null,null,null,null,null,null,null,null,1,2,3,"Summe","Ges.",null,null,null,1,2,3,"Summe","Ges."]
[{"$f":"Select!$C$12","v":"Demoturnier"},null,null,null,null,null,null,null,1,null,null,null,null,null,null,null,1]
["Veranstaltung",null,null,null,null,null,null,null,2,null,null,null,null,null,null,null,2]
[{"$f":"Select!$C$13","v":"1. April 2019"},null,null,null,null,null,null,null,3,null,null,null,null,null,null,null,3]
["Datum",null,null,null,null,null,null,null,4,null,null,null,null,null,null,null,4]
[{"$f":"'C28_Baum'!$D$55","v":"Gruber Werner"},null,null,null,null,null,null,null,5,null,null,null,null,null,null,null,5]
["Name",null,null,null,null,null,null,null,"wenn erforderlich",null,null,null,null,null,null,null,"wenn erforderlich"]
[{"$f":"'C28_Baum'!$F$55","v":"Atus Zeltweg Sektion Bogen"},null,null,null,null,null,null,null,"Stechen",null,null,null,null,null,null,null,"Stechen"]
["Verein",null,null,null,null,null,null,null,null,null,null,null,null,"gewonnen",null,null,null,null,null,null,null,"gewonnen"]
[{"$f":"Select!$C$20","v":"Compound Herren"},null,null,null,null,null,null,null,"Schütze:",null,null,null,null,"verloren",null,null,"Schütze:",null,null,null,null,"verloren"]
["Bogenklasse"]
[null,null,null,null,null,null,null,null,"Gegner:",null,"Name:",{"$f":"'C28_Baum'!D56","v":"Linhart Christian"},null,null,null,null,"Gegner:",null,"Name:"]
[null,null,null,null,null,null,null,null,null,null,"Unterschrift:",null,null,null,null,null,null,null,"Unterschrift:"]
[]
[]
["1/4 Finale",null,null,null,{"$f":"'C28_Baum'!$M$78","v":"Scheibe: 17"},null,null,null,"1/2 Finale",null,null,null,{"$f":"'C28_Baum'!$Q$75","v":"Scheibe: 2B"},null,null,null,"1./2. od. 3./4. Platz",null,null,null,"Scheibe:"]
[null,1,2,3,"Summe","Ges.",null,null,null,1,2,3,"Summe","Ges.",null,null,null,1,2,3,"Summe","Ges."]
[1,null,null,null,null,null,null,null,1,null,null,null,null,null,null,null,1]
[2,null,null,null,null,null,null,null,2,null,null,null,null,null,null,null,2]
[3,null,null,null,null,null,null,null,3,null,null,null,null,null,null,null,3]
[4,null,null,null,null,null,null,null,4,null,null,null,null,null,null,null,4]
[5,null,null,null,null,null,null,null,5,null,null,null,null,null,null,null,5]
["wenn erforderlich",null,null,null,null,null,null,null,"wenn erforderlich",null,null,null,null,null,null,null,"wenn erforderlich"]
["Stechen",null,null,null,null,null,null,null,"Stechen",null,null,null,null,null,null,null,"Stechen"]
[null,null,null,null,null,"gewonnen",null,null,null,null,null,null,null,"gewonnen",null,null,null,null,null,null,null,"gewonnen"]
["Schütze:",null,null,null,null,"verloren",null,null,"Schütze:",null,null,null,null,"verloren",null,null,"Schütze:",null,null,null,null,"verloren"]
[]
["Gegner:",null,"Name:",null,null,null,null,null,"Gegner:",null,"Name:",null,null,null,null,null,"Gegner:",null,"Name:"]
[null,null,"Unterschrift:",null,null,null,null,null,null,null,"Unterschrift:",null,null,null,null,null,null,null,"Unterschrift:"]
[]
[]
[]
[null,null,null,null,null,null,null,null,"1/12 Elimination",null,null,null,{"$f":"'C28_Baum'!$D$93","v":"Scheibe: 11B"},null,null,null,"1/8 Elimination",null,null,null,{"$f":"'C28_Baum'!$I$85","v":"Scheibe: 14"}]
[null,null,null,null,null,null,null,null,null,1,2,3,"Summe","Ges.",null,null,null,1,2,3,"Summe","Ges."]
[{"$f":"Select!$C$12","v":"Demoturnier"},null,null,null,null,null,null,null,1,null,null,null,null,null,null,null,1]
["Veranstaltung",null,null,null,null,null,null,null,2,null,null,null,null,null,null,null,2]
[{"$f":"Select!$C$13","v":"1. April 2019"},null,null,null,null,null,null,null,3,null,null,null,null,null,null,null,3]
["Datum",null,null,null,null,null,null,null,4,null,null,null,null,null,null,null,4]
[{"$f":"'C28_Baum'!$D$56","v":"Linhart Christian"},null,null,null,null,null,null,null,5,null,null,null,null,null,null,null,5]
["Name",null,null,null,null,null,null,null,"wenn erforderlich",null,null,null,null,null,null,null,"wenn erforderlich"]
[{"$f":"'C28_Baum'!$F$56","v":"BSV Stöttera"},null,null,null,null,null,null,null,"Stechen",null,null,null,null,null,null,null,"Stechen"]
["Verein",null,null,null,null,null,null,null,null,null,null,null,null,"gewonnen",null,null,null,null,null,null,null,"gewonnen"]
[{"$f":"Select!$C$20","v":"Compound Herren"},null,null,null,null,null,null,null,"Schütze:",null,null,null,null,"verloren",null,null,"Schütze:",null,null,null,null,"verloren"]
["Bogenklasse"]
[null,null,null,null,null,null,null,null,"Gegner:",null,"Name:",{"$f":"'C28_Baum'!D55","v":"Gruber Werner"},null,null,null,null,"Gegner:",null,"Name:"]
[null,null,null,null,null,null,null,null,null,null,"Unterschrift:",null,null,null,null,null,null,null,"Unterschrift:"]
[]
[]
["1/4 Finale",null,null,null,{"$f":"'C28_Baum'!$M$78","v":"Scheibe: 17"},null,null,null,"1/2 Finale",null,null,null,{"$f":"'C28_Baum'!$Q$75","v":"Scheibe: 2B"},null,null,null,"1./2. od. 3./4. Platz",null,null,null,"Scheibe:"]
[null,1,2,3,"Summe","Ges.",null,null,null,1,2,3,"Summe","Ges.",null,null,null,1,2,3,"Summe","Ges."]
[1,null,null,null,null,null,null,null,1,null,null,null,null,null,null,null,1]
[2,null,null,null,null,null,null,null,2,null,null,null,null,null,null,null,2]
[3,null,null,null,null,null,null,null,3,null,null,null,null,null,null,null,3]
[4,null,null,null,null,null,null,null,4,null,null,null,null,null,null,null,4]
[5,null,null,null,null,null,null,null,5,null,null,null,null,null,null,null,5]
["wenn erforderlich",null,null,null,null,null,null,null,"wenn erforderlich",null,null,null,null,null,null,null,"wenn erforderlich"]
["Stechen",null,null,null,null,null,null,null,"Stechen",null,null,null,null,null,null,null,"Stechen"]
[null,null,null,null,null,"gewonnen",null,null,null,null,null,null,null,"gewonnen",null,null,null,null,null,null,null,"gewonnen"]
["Schütze:",null,null,null,null,"verloren",null,null,"Schütze:",null,null,null,null,"verloren",null,null,"Schütze:",null,null,null,null,"verloren"]
[]
["Gegner:",null,"Name:",null,null,null,null,null,"Gegner:",null,"Name:",null,null,null,null,null,"Gegner:",null,"Name:"]
[null,null,"Unterschrift:",null,null,null,null,null,null,null,"Unterschrift:",null,null,null,null,null,null,null,"Unterschrift:"]
[]
[]
[]
[null,null,null,null,null,null,null,null,"1/12 Elimination",null,null,null,{"$f":"'C28_Baum'!$D$94","v":"Scheibe: 12A"},null,null,null,"1/8 Elimination",null,null,null,{"$f":"'C28_Baum'!$I$86","v":"Scheibe: 15"}]
[null,null,null,null,null,null,null,null,null,1,2,3,"Summe","Ges.",null,null,null,1,2,3,"Summe","Ges."]
[{"$f":"Select!$C$12","v":"Demoturnier"},null,null,null,null,null,null,null,1,null,null,null,null,null,null,null,1]
["Veranstaltung",null,null,null,null,null,null,null,2,null,null,null,null,null,null,null,2]
[{"$f":"Select!$C$13","v":"1. April 2019"},null,null,null,null,null,null,null,3,null,null,null,null,null,null,null,3]
["Datum",null,null,null,null,null,null,null,4,null,null,null,null,null,null,null,4]
[{"$f":"'C28_Baum'!$D$59","v":"Url Marsell"},null,null,null,null,null,null,null,5,null,null,null,null,null,null,null,5]
["Name",null,null,null,null,null,null,null,"wenn erforderlich",null,null,null,null,null,null,null,"wenn erforderlich"]
[{"$f":"'C28_Baum'!$F$59","v":"UBSC Artemis Steiermark"},null,null,null,null,null,null,null,"Stechen",null,null,null,null,null,null,null,"Stechen"]
["Verein",null,null,null,null,null,null,null,null,null,null,null,null,"gewonnen",null,null,null,null,null,null,null,"gewonnen"]
[{"$f":"Select!$C$20","v":"Compound Herren"},null,null,null,null,null,null,null,"Schütze:",null,null,null,null,"verloren",null,null,"Schütze:",null,null,null,null,"verloren"]
["Bogenklasse"]
[null,null,null,null,null,null,null,null,"Gegner:",null,"Name:",{"$f":"'C28_Baum'!D60","v":"Postl Markus"},null,null,null,null,"Gegner:",null,"Name:"]
[null,null,null,null,null,null,null,null,null,null,"Unterschrift:",null,null,null,null,null,null,null,"Unterschrift:"]
[]
[]
["1/4 Finale",null,null,null,{"$f":"'C28_Baum'!$M$79","v":"Scheibe: 18"},null,null,null,"1/2 Finale",null,null,null,{"$f":"'C28_Baum'!$Q$75","v":"Scheibe: 2B"},null,null,null,"1./2. od. 3./4. Platz",null,null,null,"Scheibe:"]
[null,1,2,3,"Summe","Ges.",null,null,null,1,2,3,"Summe","Ges.",null,null,null,1,2,3,"Summe","Ges."]
[1,null,null,null,null,null,null,null,1,null,null,null,null,null,null,null,1]
[2,null,null,null,null,null,null,null,2,null,null,null,null,null,null,null,2]
[3,null,null,null,null,null,null,null,3,null,null,null,null,null,null,null,3]
[4,null,null,null,null,null,null,null,4,null,null,null,null,null,null,null,4]
[5,null,null,null,null,null,null,null,5,null,null,null,null,null,null,null,5]
["wenn erforderlich",null,null,null,null,null,null,null,"wenn erforderlich",null,null,null,null,null,null,null,"wenn erforderlich"]
["Stechen",null,null,null,null,null,null,null,"Stechen",null,null,null,null,null,null,null,"Stechen"]
[null,null,null,null,null,"gewonnen",null,null,null,null,null,null,null,"gewonnen",null,null,null,null,null,null,null,"gewonnen"]
["Schütze:",null,null,null,null,"verloren",null,null,"Schütze:",null,null,null,null,"verloren",null,null,"Schütze:",null,null,null,null,"verloren"]
[]
["Gegner:",null,"Name:",null,null,null,null,null,"Gegner:",null,"Name:",null,null,null,null,null,"Gegner:",null,"Name:"]
[null,null,"Unterschrift:",null,null,null,null,null,null,null,"Unterschrift:",null,null,null,null,null,null,null,"Unterschrift:"]
[]
[]
[]
[null,null,null,null,null,null,null,null,"1/12 Elimination",null,null,null,{"$f":"'C28_Baum'!$D$95","v":"Scheibe: 12B"},null,null,null,"1/8 Elimination",null,null,null,{"$f":"'C28_Baum'!$I$86","v":"Scheibe: 15"}]
[null,null,null,null,null,null,null,null,null,1,2,3,"Summe","Ges.",null,null,null,1,2,3,"Summe","Ges."]
[{"$f":"Select!$C$12","v":"Demoturnier"},null,null,null,null,null,null,null,1,null,null,null,null,null,null,null,1]
["Veranstaltung",null,null,null,null,null,null,null,2,null,null,null,null,null,null,null,2]
[{"$f":"Select!$C$13","v":"1. April 2019"},null,null,null,null,null,null,null,3,null,null,null,null,null,null,null,3]
["Datum",null,null,null,null,null,null,null,4,null,null,null,null,null,null,null,4]
[{"$f":"'C28_Baum'!$D$60","v":"Postl Markus"},null,null,null,null,null,null,null,5,null,null,null,null,null,null,null,5]
["Name",null,null,null,null,null,null,null,"wenn erforderlich",null,null,null,null,null,null,null,"wenn erforderlich"]
[{"$f":"'C28_Baum'!$F$60","v":"BC Union Graz Seiersberg"},null,null,null,null,null,null,null,"Stechen",null,null,null,null,null,null,null,"Stechen"]
["Verein",null,null,null,null,null,null,null,null,null,null,null,null,"gewonnen",null,null,null,null,null,null,null,"gewonnen"]
[{"$f":"Select!$C$20","v":"Compound Herren"},null,null,null,null,null,null,null,"Schütze:",null,null,null,null,"verloren",null,null,"Schütze:",null,null,null,null,"verloren"]
["Bogenklasse"]
[null,null,null,null,null,null,null,null,"Gegner:",null,"Name:",{"$f":"'C28_Baum'!D59","v":"Url Marsell"},null,null,null,null,"Gegner:",null,"Name:"]
[null,null,null,null,null,null,null,null,null,null,"Unterschrift:",null,null,null,null,null,null,null,"Unterschrift:"]
[]
[]
["1/4 Finale",null,null,null,{"$f":"'C28_Baum'!$M$79","v":"Scheibe: 18"},null,null,null,"1/2 Finale",null,null,null,{"$f":"'C28_Baum'!$Q$75","v":"Scheibe: 2B"},null,null,null,"1./2. od. 3./4. Platz",null,null,null,"Scheibe:"]
[null,1,2,3,"Summe","Ges.",null,null,null,1,2,3,"Summe","Ges.",null,null,null,1,2,3,"Summe","Ges."]
[1,null,null,null,null,null,null,null,1,null,null,null,null,null,null,null,1]
[2,null,null,null,null,null,null,null,2,null,null,null,null,null,null,null,2]
[3,null,null,null,null,null,null,null,3,null,null,null,null,null,null,null,3]
[4,null,null,null,null,null,null,null,4,null,null,null,null,null,null,null,4]
[5,null,null,null,null,null,null,null,5,null,null,null,null,null,null,null,5]
["wenn erforderlich",null,null,null,null,null,null,null,"wenn erforderlich",null,null,null,null,null,null,null,"wenn erforderlich"]
["Stechen",null,null,null,null,null,null,null,"Stechen",null,null,null,null,null,null,null,"Stechen"]
[null,null,null,null,null,"gewonnen",null,null,null,null,null,null,null,"gewonnen",null,null,null,null,null,null,null,"gewonnen"]
["Schütze:",null,null,null,null,"verloren",null,null,"Schütze:",null,null,null,null,"verloren",null,null,"Schütze:",null,null,null,null,"verloren"]
[]
["Gegner:",null,"Name:",null,null,null,null,null,"Gegner:",null,"Name:",null,null,null,null,null,"Gegner:",null,"Name:"]
[null,null,"Unterschrift:",null,null,null,null,null,null,null,"Unterschrift:",null,null,null,null,null,null,null,"Unterschrift:"]
[]
[]
[]
[null,null,null,null,null,null,null,null,"1/12 Elimination",null,null,null,"Freilos",null,null,null,"1/8 Elimination",null,null,null,{"$f":"'C28_Baum'!$I$87","v":"Scheibe: 16"}]
[null,null,null,null,null,null,null,null,null,1,2,3,"Summe","Ges.",null,null,null,1,2,3,"Summe","Ges."]
[{"$f":"Select!$C$12","v":"Demoturnier"},null,null,null,null,null,null,null,1,null,null,null,null,null,null,null,1]
["Veranstaltung",null,null,null,null,null,null,null,2,null,null,null,null,null,null,null,2]
[{"$f":"Select!$C$13","v":"1. April 2019"},null,null,null,null,null,null,null,3,null,null,null,null,null,null,null,3]
["Datum",null,null,null,null,null,null,null,4,null,null,null,null,null,null,null,4]
[{"$f":"'C28_Baum'!$D$64","v":"Kanduth Wolfgang"},null,null,null,null,null,null,null,5,null,null,null,null,null,null,null,5]
["Name",null,null,null,null,null,null,null,"wenn erforderlich",null,null,null,null,null,null,null,"wenn erforderlich"]
[{"$f":"'C28_Baum'!$F$64","v":"BC Wildon Weitendorf"},null,null,null,null,null,null,null,"Stechen",null,null,null,null,null,null,null,"Stechen"]
["Verein",null,null,null,null,null,null,null,null,null,null,null,null,"gewonnen",null,null,null,null,null,null,null,"gewonnen"]
[{"$f":"Select!$C$20","v":"Compound Herren"},null,null,null,null,null,null,null,"Schütze:",null,null,null,null,"verloren",null,null,"Schütze:",null,null,null,null,"verloren"]
["Bogenklasse"]
[null,null,null,null,null,null,null,null,"Gegner:",null,"Name:",null,null,null,null,null,"Gegner:",null,"Name:"]
[null,null,null,null,null,null,null,null,null,null,"Unterschrift:",null,null,null,null,null,null,null,"Unterschrift:"]
[]
[]
["1/4 Finale",null,null,null,{"$f":"'C28_Baum'!$M$79","v":"Scheibe: 18"},null,null,null,"1/2 Finale",null,null,null,{"$f":"'C28_Baum'!$Q$75","v":"Scheibe: 2B"},null,null,null,"1./2. od. 3./4. Platz",null,null,null,"Scheibe:"]
[null,1,2,3,"Summe","Ges.",null,null,null,1,2,3,"Summe","Ges.",null,null,null,1,2,3,"Summe","Ges."]
[1,null,null,null,null,null,null,null,1,null,null,null,null,null,null,null,1]
[2,null,null,null,null,null,null,null,2,null,null,null,null,null,null,null,2]
[3,null,null,null,null,null,null,null,3,null,null,null,null,null,null,null,3]
[4,null,null,null,null,null,null,null,4,null,null,null,null,null,null,null,4]
[5,null,null,null,null,null,null,null,5,null,null,null,null,null,null,null,5]
["wenn erforderlich",null,null,null,null,null,null,null,"wenn erforderlich",null,null,null,null,null,null,null,"wenn erforderlich"]
["Stechen",null,null,null,null,null,null,null,"Stechen",null,null,null,null,null,null,null,"Stechen"]
[null,null,null,null,null,"gewonnen",null,null,null,null,null,null,null,"gewonnen",null,null,null,null,null,null,null,"gewonnen"]
["Schütze:",null,null,null,null,"verloren",null,null,"Schütze:",null,null,null,null,"verloren",null,null,"Schütze:",null,null,null,null,"verloren"]
[]
["Gegner:",null,"Name:",null,null,null,null,null,"Gegner:",null,"Name:",null,null,null,null,null,"Gegner:",null,"Name:"]
[null,null,"Unterschrift:",null,null,null,null,null,null,null,"Unterschrift:",null,null,null,null,null,null,null,"Unterschrift:"]

{"sheet":"C28_Ergebnis","index":27,"n_rows":37,"n_cols":19,"rows_kept":37,"cut":false,"hidden":true,"merged":[[6,11,6,18],[6,0,6,3],[2,0,2,3],[1,0,1,3],[4,0,4,9],[1,4,1,9]]}
[]
[{"$f":"Select!$C$12","v":"Demoturnier"},null,null,null,{"$f":"Select!C14","v":"WA-Outdoor"}]
[{"$f":"Select!C13","v":"1. April 2019"}]
[]
["Ergebnisliste"]
[]
[{"$f":"Select!C20","v":"Compound Herren"},null,null,null,null,null,null,null,null,null,null,"!!!!!!!!!!!!!!!!!!!!!!!!!!  SORTIERBEREICH - NICHT ENTFERNEN !!!!!!!!!!!!!!!!!!!!!!!!!!"]
[]
["Pl.",null,"Name","Verein","Quali.","1/12","1/8","1/4","1/2","Finale",null,"SortName","SortVerein","SortQuali","Sort 1/12","Sort1/8","Sort1/4","Sort1/2","SortFinale"]
[{"$f":"IF(C10<>\"\",1,\"\")","v":""},null,null,null,null,null,null,null,null,null,null,{"$f":"'C28_Baum'!U7","v":""},{"$f":"VLOOKUP(L10,C_Quali!$C$10:$H$100,2,FALSE)","v":{"$error":"#N/A"}},{"$f":"VLOOKUP(L10,C_Quali!$C$10:$H$100,6,FALSE)","v":{"$error":"#N/A"}},{"$f":"VLOOKUP(L10,'C28_Baum'!$D$3:$G$64,4,FALSE)","v":{"$error":"#N/A"}},{"$f":"VLOOKUP(L10,'C28_Baum'!$I$5:$K$62,3,FALSE)","v":0},{"$f":"VLOOKUP(L10,'C28_Baum'!$M$9:$O$58,3,FALSE)","v":0},{"$f":"VLOOKUP(L10,'C28_Baum'!$Q$17:$S$50,3,FALSE)","v":0},{"$f":"VLOOKUP(L10,'C28_Baum'!$U$24:$W$42,3,FALSE)","v":0}]
[{"$f":"IF(C11<>\"\",A10+1,\"\")","v":""},null,null,null,null,null,null,null,null,null,null,{"$f":"'C28_Baum'!U9","v":""},{"$f":"VLOOKUP(L11,C_Quali!$C$10:$H$100,2,FALSE)","v":{"$error":"#N/A"}},{"$f":"VLOOKUP(L11,C_Quali!$C$10:$H$100,6,FALSE)","v":{"$error":"#N/A"}},{"$f":"VLOOKUP(L11,'C28_Baum'!$D$3:$G$64,4,FALSE)","v":{"$error":"#N/A"}},{"$f":"VLOOKUP(L11,'C28_Baum'!$I$5:$K$62,3,FALSE)","v":0},{"$f":"VLOOKUP(L11,'C28_Baum'!$M$9:$O$58,3,FALSE)","v":0},{"$f":"VLOOKUP(L11,'C28_Baum'!$Q$17:$S$50,3,FALSE)","v":0},{"$f":"VLOOKUP(L11,'C28_Baum'!$U$24:$W$42,3,FALSE)","v":0}]
["",null,null,null,null,null,null,null,null,null,null,{"$f":"'C28_Baum'!U11","v":""},{"$f":"VLOOKUP(L12,C_Quali!$C$10:$H$100,2,FALSE)","v":{"$error":"#N/A"}},{"$f":"VLOOKUP(L12,C_Quali!$C$10:$H$100,6,FALSE)","v":{"$error":"#N/A"}},{"$f":"VLOOKUP(L12,'C28_Baum'!$D$3:$G$64,4,FALSE)","v":{"$error":"#N/A"}},{"$f":"VLOOKUP(L12,'C28_Baum'!$I$5:$K$62,3,FALSE)","v":0},{"$f":"VLOOKUP(L12,'C28_Baum'!$M$9:$O$58,3,FALSE)","v":0},{"$f":"VLOOKUP(L12,'C28_Baum'!$Q$17:$S$50,3,FALSE)","v":0},{"$f":"VLOOKUP(L12,'C28_Baum'!$U$24:$W$42,3,FALSE)","v":0}]
["",null,null,null,null,null,null,null,null,null,null,{"$f":"IF('C28_Baum'!U11='C28_Baum'!U41,'C28_Baum'!U42,'C28_Baum'!U41)","v":""},{"$f":"VLOOKUP(L13,C_Quali!$C$10:$H$100,2,FALSE)","v":{"$error":"#N/A"}},{"$f":"VLOOKUP(L13,C_Quali!$C$10:$H$100,6,FALSE)","v":{"$error":"#N/A"}},{"$f":"VLOOKUP(L13,'C28_Baum'!$D$3:$G$64,4,FALSE)","v":{"$error":"#N/A"}},{"$f":"VLOOKUP(L13,'C28_Baum'!$I$5:$K$62,3,FALSE)","v":0},{"$f":"VLOOKUP(L13,'C28_Baum'!$M$9:$O$58,3,FALSE)","v":0},{"$f":"VLOOKUP(L13,'C28_Baum'!$Q$17:$S$50,3,FALSE)","v":0},{"$f":"VLOOKUP(L13,'C28_Baum'!$U$24:$W$42,3,FALSE)","v":0}]
["",null,null,null,null,null,null,null,null,null,null,{"$f":"IF('C28_Baum'!Q17='C28_Baum'!M9,'C28_Baum'!M10,'C28_Baum'!M9)","v":""},{"$f":"VLOOKUP(L14,C_Quali!$C$10:$H$100,2,FALSE)","v":{"$error":"#N/A"}},{"$f":"VLOOKUP(L14,C_Quali!$C$10:$H$100,6,FALSE)","v":{"$error":"#N/A"}},{"$f":"VLOOKUP(L14,'C28_Baum'!$D$3:$G$64,4,FALSE)","v":{"$error":"#N/A"}},{"$f":"VLOOKUP(L14,'C28_Baum'!$I$5:$K$62,3,FALSE)","v":0},{"$f":"VLOOKUP(L14,'C28_Baum'!$M$9:$O$58,3,FALSE)","v":0}]
["",null,null,null,null,null,null,null,null,null,null,{"$f":"IF('C28_Baum'!Q18='C28_Baum'!M25,'C28_Baum'!M26,'C28_Baum'!M25)","v":""},{"$f":"VLOOKUP(L15,C_Quali!$C$10:$H$100,2,FALSE)","v":{"$error":"#N/A"}},{"$f":"VLOOKUP(L15,C_Quali!$C$10:$H$100,6,FALSE)","v":{"$error":"#N/A"}},{"$f":"VLOOKUP(L15,'C28_Baum'!$D$3:$G$64,4,FALSE)","v":{"$error":"#N/A"}},{"$f":"VLOOKUP(L15,'C28_Baum'!$I$5:$K$62,3,FALSE)","v":0},{"$f":"VLOOKUP(L15,'C28_Baum'!$M$9:$O$58,3,FALSE)","v":0}]
["",null,null,null,null,null,null,null,null,null,null,{"$f":"IF('C28_Baum'!Q49='C28_Baum'!M41,'C28_Baum'!M42,'C28_Baum'!M41)","v":""},{"$f":"VLOOKUP(L16,C_Quali!$C$10:$H$100,2,FALSE)","v":{"$error":"#N/A"}},{"$f":"VLOOKUP(L16,C_Quali!$C$10:$H$100,6,FALSE)","v":{"$error":"#N/A"}},{"$f":"VLOOKUP(L16,'C28_Baum'!$D$3:$G$64,4,FALSE)","v":{"$error":"#N/A"}},{"$f":"VLOOKUP(L16,'C28_Baum'!$I$5:$K$62,3,FALSE)","v":0},{"$f":"VLOOKUP(L16,'C28_Baum'!$M$9:$O$58,3,FALSE)","v":0}]
["",null,null,null,null,null,null,null,null,null,null,{"$f":"IF('C28_Baum'!Q50='C28_Baum'!M57,'C28_Baum'!M58,'C28_Baum'!M57)","v":""},{"$f":"VLOOKUP(L17,C_Quali!$C$10:$H$100,2,FALSE)","v":{"$error":"#N/A"}},{"$f":"VLOOKUP(L17,C_Quali!$C$10:$H$100,6,FALSE)","v":{"$error":"#N/A"}},{"$f":"VLOOKUP(L17,'C28_Baum'!$D$3:$G$64,4,FALSE)","v":{"$error":"#N/A"}},{"$f":"VLOOKUP(L17,'C28_Baum'!$I$5:$K$62,3,FALSE)","v":0},{"$f":"VLOOKUP(L17,'C28_Baum'!$M$9:$O$58,3,FALSE)","v":0}]
["",null,null,null,null,null,null,null,null,null,null,{"$f":"IF('C28_Baum'!M9='C28_Baum'!I5,'C28_Baum'!I6,'C28_Baum'!I5)","v":"Steinwender Alois"},{"$f":"VLOOKUP(L18,C_Quali!$C$10:$H$100,2,FALSE)","v":"Bogensport Lungau"},{"$f":"VLOOKUP(L18,C_Quali!$C$10:$H$100,6,FALSE)","v":532},{"$f":"VLOOKUP(L18,'C28_Baum'!$D$3:$G$64,4,FALSE)","v":"*"},{"$f":"VLOOKUP(L18,'C28_Baum'!$I$5:$K$62,3,FALSE)","v":0}]
["",null,null,null,null,null,null,null,null,null,null,{"$f":"IF('C28_Baum'!M10='C28_Baum'!I13,'C28_Baum'!I14,'C28_Baum'!I13)","v":""},{"$f":"VLOOKUP(L19,C_Quali!$C$10:$H$100,2,FALSE)","v":{"$error":"#N/A"}},{"$f":"VLOOKUP(L19,C_Quali!$C$10:$H$100,6,FALSE)","v":{"$error":"#N/A"}},{"$f":"VLOOKUP(L19,'C28_Baum'!$D$3:$G$64,4,FALSE)","v":{"$error":"#N/A"}},{"$f":"VLOOKUP(L19,'C28_Baum'!$I$5:$K$62,3,FALSE)","v":0}]
["",null,null,null,null,null,null,null,null,null,null,{"$f":"IF('C28_Baum'!M25='C28_Baum'!I21,'C28_Baum'!I22,'C28_Baum'!I21)","v":""},{"$f":"VLOOKUP(L20,C_Quali!$C$10:$H$100,2,FALSE)","v":{"$error":"#N/A"}},{"$f":"VLOOKUP(L20,C_Quali!$C$10:$H$100,6,FALSE)","v":{"$error":"#N/A"}},{"$f":"VLOOKUP(L20,'C28_Baum'!$D$3:$G$64,4,FALSE)","v":{"$error":"#N/A"}},{"$f":"VLOOKUP(L20,'C28_Baum'!$I$5:$K$62,3,FALSE)","v":0}]
["",null,null,null,null,null,null,null,null,null,null,{"$f":"IF('C28_Baum'!M26='C28_Baum'!I29,'C28_Baum'!I30,'C28_Baum'!I29)","v":"Wippel Wolfgang"},{"$f":"VLOOKUP(L21,C_Quali!$C$10:$H$100,2,FALSE)","v":"BC Union Graz Seiersberg"},{"$f":"VLOOKUP(L21,C_Quali!$C$10:$H$100,6,FALSE)","v":529},{"$f":"VLOOKUP(L21,'C28_Baum'!$D$3:$G$64,4,FALSE)","v":"*"},{"$f":"VLOOKUP(L21,'C28_Baum'!$I$5:$K$62,3,FALSE)","v":0}]
["",null,null,null,null,null,null,null,null,null,null,{"$f":"IF('C28_Baum'!M41='C28_Baum'!I37,'C28_Baum'!I38,'C28_Baum'!I37)","v":"Hubmann Gerhard"},{"$f":"VLOOKUP(L22,C_Quali!$C$10:$H$100,2,FALSE)","v":"EAT-Bogensport"},{"$f":"VLOOKUP(L22,C_Quali!$C$10:$H$100,6,FALSE)","v":530},{"$f":"VLOOKUP(L22,'C28_Baum'!$D$3:$G$64,4,FALSE)","v":"*"},{"$f":"VLOOKUP(L22,'C28_Baum'!$I$5:$K$62,3,FALSE)","v":0}]
["",null,null,null,null,null,null,null,null,null,null,{"$f":"IF('C28_Baum'!M42='C28_Baum'!I45,'C28_Baum'!I46,'C28_Baum'!I45)","v":""},{"$f":"VLOOKUP(L23,C_Quali!$C$10:$H$100,2,FALSE)","v":{"$error":"#N/A"}},{"$f":"VLOOKUP(L23,C_Quali!$C$10:$H$100,6,FALSE)","v":{"$error":"#N/A"}},{"$f":"VLOOKUP(L23,'C28_Baum'!$D$3:$G$64,4,FALSE)","v":{"$error":"#N/A"}},{"$f":"VLOOKUP(L23,'C28_Baum'!$I$5:$K$62,3,FALSE)","v":0}]
["",null,null,null,null,null,null,null,null,null,null,{"$f":"IF('C28_Baum'!M57='C28_Baum'!I53,'C28_Baum'!I54,'C28_Baum'!I53)","v":""},{"$f":"VLOOKUP(L24,C_Quali!$C$10:$H$100,2,FALSE)","v":{"$error":"#N/A"}},{"$f":"VLOOKUP(L24,C_Quali!$C$10:$H$100,6,FALSE)","v":{"$error":"#N/A"}},{"$f":"VLOOKUP(L24,'C28_Baum'!$D$3:$G$64,4,FALSE)","v":{"$error":"#N/A"}},{"$f":"VLOOKUP(L24,'C28_Baum'!$I$5:$K$62,3,FALSE)","v":0}]
["",null,null,null,null,null,null,null,null,null,null,{"$f":"IF('C28_Baum'!M58='C28_Baum'!I61,'C28_Baum'!I62,'C28_Baum'!I61)","v":"Kanduth Wolfgang"},{"$f":"VLOOKUP(L25,C_Quali!$C$10:$H$100,2,FALSE)","v":"BC Wildon Weitendorf"},{"$f":"VLOOKUP(L25,C_Quali!$C$10:$H$100,6,FALSE)","v":531},{"$f":"VLOOKUP(L25,'C28_Baum'!$D$3:$G$64,4,FALSE)","v":"*"},{"$f":"VLOOKUP(L25,'C28_Baum'!$I$5:$K$62,3,FALSE)","v":0}]
["",null,null,null,null,null,null,null,null,null,null,{"$f":"IF('C28_Baum'!I6='C28_Baum'!D7,'C28_Baum'!D8,'C28_Baum'!D7)","v":"Kolm Martin"},{"$f":"VLOOKUP(L26,C_Quali!$C$10:$H$100,2,FALSE)","v":"WBZ Union Zwettl"},{"$f":"VLOOKUP(L26,C_Quali!$C$10:$H$100,6,FALSE)","v":516},{"$f":"VLOOKUP(L26,'C28_Baum'!$D$3:$G$64,4,FALSE)","v":0}]
["",null,null,null,null,null,null,null,null,null,null,{"$f":"IF('C28_Baum'!I13='C28_Baum'!D11,'C28_Baum'!D12,'C28_Baum'!D11)","v":"Helmer Gerhard"},{"$f":"VLOOKUP(L27,C_Quali!$C$10:$H$100,2,FALSE)","v":"UBC Diana NÖ"},{"$f":"VLOOKUP(L27,C_Quali!$C$10:$H$100,6,FALSE)","v":524},{"$f":"VLOOKUP(L27,'C28_Baum'!$D$3:$G$64,4,FALSE)","v":0}]
["",null,null,null,null,null,null,null,null,null,null,{"$f":"IF('C28_Baum'!I14='C28_Baum'!D15,'C28_Baum'!D16,'C28_Baum'!D15)","v":"Quinz Harald"},{"$f":"VLOOKUP(L28,C_Quali!$C$10:$H$100,2,FALSE)","v":"Atus Zeltweg Sektion Bogen"},{"$f":"VLOOKUP(L28,C_Quali!$C$10:$H$100,6,FALSE)","v":508},{"$f":"VLOOKUP(L28,'C28_Baum'!$D$3:$G$64,4,FALSE)","v":0}]
["",null,null,null,null,null,null,null,null,null,null,{"$f":"IF('C28_Baum'!I21='C28_Baum'!D19,'C28_Baum'!D20,'C28_Baum'!D19)","v":"Traxler Helmuth"},{"$f":"VLOOKUP(L29,C_Quali!$C$10:$H$100,2,FALSE)","v":"UBC Diana NÖ"},{"$f":"VLOOKUP(L29,C_Quali!$C$10:$H$100,6,FALSE)","v":528},{"$f":"VLOOKUP(L29,'C28_Baum'!$D$3:$G$64,4,FALSE)","v":0}]
["",null,null,null,null,null,null,null,null,null,null,{"$f":"IF('C28_Baum'!I22='C28_Baum'!D23,'C28_Baum'!D24,'C28_Baum'!D23)","v":"Lehner Heinz"},{"$f":"VLOOKUP(L30,C_Quali!$C$10:$H$100,2,FALSE)","v":"Salzkammergut Bogensport Club"},{"$f":"VLOOKUP(L30,C_Quali!$C$10:$H$100,6,FALSE)","v":512},{"$f":"VLOOKUP(L30,'C28_Baum'!$D$3:$G$64,4,FALSE)","v":0}]
["",null,null,null,null,null,null,null,null,null,null,{"$f":"IF('C28_Baum'!I29='C28_Baum'!D27,'C28_Baum'!D28,'C28_Baum'!D27)","v":"Zezula Erwin"},{"$f":"VLOOKUP(L31,C_Quali!$C$10:$H$100,2,FALSE)","v":"WBZ Union Zwettl"},{"$f":"VLOOKUP(L31,C_Quali!$C$10:$H$100,6,FALSE)","v":520},{"$f":"VLOOKUP(L31,'C28_Baum'!$D$3:$G$64,4,FALSE)","v":0}]
["",null,null,null,null,null,null,null,null,null,null,{"$f":"IF('C28_Baum'!I38='C28_Baum'!D39,'C28_Baum'!D40,'C28_Baum'!D39)","v":"Zimmerbeutel Axel"},{"$f":"VLOOKUP(L32,C_Quali!$C$10:$H$100,2,FALSE)","v":"3D Bogenplatz Riedersbach"},{"$f":"VLOOKUP(L32,C_Quali!$C$10:$H$100,6,FALSE)","v":514},{"$f":"VLOOKUP(L32,'C28_Baum'!$D$3:$G$64,4,FALSE)","v":0}]
["",null,null,null,null,null,null,null,null,null,null,{"$f":"IF('C28_Baum'!I45='C28_Baum'!D43,'C28_Baum'!D44,'C28_Baum'!D43)","v":"Burda Erwin"},{"$f":"VLOOKUP(L33,C_Quali!$C$10:$H$100,2,FALSE)","v":"BC Golden Arrows"},{"$f":"VLOOKUP(L33,C_Quali!$C$10:$H$100,6,FALSE)","v":522},{"$f":"VLOOKUP(L33,'C28_Baum'!$D$3:$G$64,4,FALSE)","v":0}]
["",null,null,null,null,null,null,null,null,null,null,{"$f":"IF('C28_Baum'!I46='C28_Baum'!D47,'C28_Baum'!D48,'C28_Baum'!D47)","v":"Schlechter Hans-Jürgen"},{"$f":"VLOOKUP(L34,C_Quali!$C$10:$H$100,2,FALSE)","v":"BSV Brixlegg - NAVAJOS"},{"$f":"VLOOKUP(L34,C_Quali!$C$10:$H$100,6,FALSE)","v":506},{"$f":"VLOOKUP(L34,'C28_Baum'!$D$3:$G$64,4,FALSE)","v":0}]
["",null,null,null,null,null,null,null,null,null,null,{"$f":"IF('C28_Baum'!I53='C28_Baum'!D51,'C28_Baum'!D52,'C28_Baum'!D51)","v":"Koisegg Johann"},{"$f":"VLOOKUP(L35,C_Quali!$C$10:$H$100,2,FALSE)","v":"BSC Sparkasse Jenbach"},{"$f":"VLOOKUP(L35,C_Quali!$C$10:$H$100,6,FALSE)","v":526},{"$f":"VLOOKUP(L35,'C28_Baum'!$D$3:$G$64,4,FALSE)","v":0}]
["",null,null,null,null,null,null,null,null,null,null,{"$f":"IF('C28_Baum'!I54='C28_Baum'!D55,'C28_Baum'!D56,'C28_Baum'!D55)","v":"Gruber Werner"},{"$f":"VLOOKUP(L36,C_Quali!$C$10:$H$100,2,FALSE)","v":"Atus Zeltweg Sektion Bogen"},{"$f":"VLOOKUP(L36,C_Quali!$C$10:$H$100,6,FALSE)","v":510},{"$f":"VLOOKUP(L36,'C28_Baum'!$D$3:$G$64,4,FALSE)","v":0}]
["",null,null,null,null,null,null,null,null,null,null,{"$f":"IF('C28_Baum'!I61='C28_Baum'!D59,'C28_Baum'!D60,'C28_Baum'!D59)","v":"Url Marsell"},{"$f":"VLOOKUP(L37,C_Quali!$C$10:$H$100,2,FALSE)","v":"UBSC Artemis Steiermark"},{"$f":"VLOOKUP(L37,C_Quali!$C$10:$H$100,6,FALSE)","v":518},{"$f":"VLOOKUP(L37,'C28_Baum'!$D$3:$G$64,4,FALSE)","v":0}]

{"sheet":"C16_Baum","index":28,"n_rows":70,"n_cols":16,"rows_kept":70,"cut":false,"hidden":true,"merged":[[5,5,6,5],[7,5,8,5],[17,5,18,5],[19,5,20,5],[38,1,39,1],[14,1,15,1],[16,1,17,1],[20,1,21,1],[22,1,23,1],[40,1,41,1],[44,1,45,1],[46,1,47,1],[26,1,27,1],[28,1,29,1],[32,1,33,1],[34,1,35,1],[2,1,3,1],[4,1,5,1],[8,1,9,1],[10,1,11,1],[1,10,2,15],[3,10,4,15],[6,13,7,13],[8,13,9,13],[10,13,11,13],[6,14,6,15],[7,14,7,15],[8,14,8,15],[9,14,9,15],[10,14,10,15],[11,14,11,15],[11,9,12,9],[41,10,42,11],[45,14,46,15],[20,13,21,13],[22,13,23,13],[26,13,27,13],[28,13,29,13],[38,14,39,15],[13,9,14,9],[35,9,36,9],[37,9,38,9],[47,6,48,7],[49,2,50,3],[29,5,30,5],[31,5,32,5],[41,5,42,5],[43,5,44,5]]}
[]
[null,"Schb","Name","Erg.",null,null,null,null,null,null,{"$f":"Select!C12","v":"Demoturnier"}]
[null,{"$f":"D55","v":"1A"},{"$f":"C_Quali!C10","v":"Steinwender Alois"}]
[1,null,{"$f":"C_Quali!D10","v":"Bogensport Lungau"},{"$f":"C_Quali!H10","v":532},"Quali.",null,null,null,null,null,{"$f":"Select!C13","v":"1. April 2019"}]
[16,{"$f":"D56","v":"1B"},{"$f":"C_Quali!C25","v":"Bucher Martin"},null,null,"Schb","Name","Erg."]
[null,null,{"$f":"C_Quali!D25","v":"LH Graz"},{"$f":"C_Quali!H25","v":517},"Quali.",{"$f":"H55","v":"6A"},{"$f":"IF($D3>$D5,$C3,IF($D5>$D3,$C5,IF(RIGHT($D3,1)=\"*\",$C3,IF(RIGHT($D5,1)=\"*\",$C5,\"\"))))","v":""}]
[null,null,null,null,null,null,{"$f":"IF($D3>$D5,$C4,IF($D5>$D3,$C6,IF(RIGHT($D3,1)=\"*\",$C4,IF(RIGHT($D5,1)=\"*\",$C6,\"\"))))","v":""},null,null,null,null,null,null,"1.",{"$f":"IF($P$21>$P$23,$O$21,IF($P$23>$P$21,$O$23,IF(RIGHT($P$21,1)=\"*\",$O$21,IF(RIGHT($P$23,1)=\"*\",$O$23,\"\"))))","v":""}]
[null,null,null,null,null,{"$f":"H56","v":"6B"},{"$f":"IF($D9>$D11,$C9,IF($D11>$D9,$C11,IF(RIGHT($D9,1)=\"*\",$C9,IF(RIGHT($D11,1)=\"*\",$C11,\"\"))))","v":""},null,null,null,null,null,null,null,{"$f":"IF($P$21>$P$23,$O$22,IF($P$23>$P$21,$O$24,IF(RIGHT($P$21,1)=\"*\",$O$22,IF(RIGHT($P$23,1)=\"*\",$O$24,\"\"))))","v":""}]
[null,{"$f":"D57","v":"2A"},{"$f":"C_Quali!C18","v":"Helmer Gerhard"},null,null,null,{"$f":"IF($D9>$D11,$C10,IF($D11>$D9,$C12,IF(RIGHT($D9,1)=\"*\",$C10,IF(RIGHT($D11,1)=\"*\",$C12,\"\"))))","v":""},null,null,null,null,null,null,"2.",{"$f":"IF($P$21<$P$23,$O$21,IF($P$23<$P$21,$O$23,IF(RIGHT($P$23,1)=\"*\",$O$21,IF(RIGHT($P$21,1)=\"*\",$O$23,\"\"))))","v":""}]
[9,null,{"$f":"C_Quali!D18","v":"UBC Diana NÖ"},{"$f":"C_Quali!H18","v":524},"Quali.",null,null,null,null,null,null,null,null,null,{"$f":"IF($P$21<$P$23,$O$22,IF($P$23<$P$21,$O$24,IF(RIGHT($P$21,1)=\"\",$O$22,IF(RIGHT($P$23,1)=\"\",$O$24,\"\"))))","v":""}]
[8,{"$f":"D58","v":"2B"},{"$f":"C_Quali!C17","v":"Richter Oscar"},null,null,null,null,null,null,"Schb","Name","Erg.",null,"3.",{"$f":"IF($P$27>$P$29,$O$27,IF($P$29>$P$27,$O$29,IF(RIGHT($P$27,1)=\"*\",$O$27,IF(RIGHT($P$29,1)=\"*\",$O$29,\"\"))))","v":""}]
[null,null,{"$f":"C_Quali!D17","v":"BC Golden Arrows"},{"$f":"C_Quali!H17","v":525},"Quali.",null,null,null,null,{"$f":"L55","v":6},{"$f":"IF($H6>$H8,$G6,IF($H8>$H6,$G8,IF(RIGHT($H6,1)=\"*\",$G6,IF(RIGHT($H8,1)=\"*\",$G8,\"\"))))","v":""},null,null,null,{"$f":"IF($P$27>$P$29,$O$28,IF($P$29>$P$27,$O$30,IF(RIGHT($P$27,1)=\"*\",$O$28,IF(RIGHT($P$29,1)=\"*\",$O$30,\"\"))))","v":""}]
[null,null,null,null,null,null,null,null,null,null,{"$f":"IF($H6>$H8,$G7,IF($H8>$H6,$G9,IF(RIGHT($H6,1)=\"*\",$G7,IF(RIGHT($H8,1)=\"*\",$G9,\"\"))))","v":""}]
[null,null,null,null,null,null,null,null,null,{"$f":"L56","v":7},{"$f":"IF($H18>$H20,$G18,IF($H20>$H18,$G20,IF(RIGHT($H18,1)=\"*\",$G18,IF(RIGHT($H20,1)=\"*\",$G20,\"\"))))","v":""}]
[null,{"$f":"D59","v":"3A"},{"$f":"C_Quali!C14","v":"Traxler Helmuth"},null,null,null,null,null,null,null,{"$f":"IF($H18>$H20,$G19,IF($H20>$H18,$G21,IF(RIGHT($H18,1)=\"*\",$G19,IF(RIGHT($H20,1)=\"*\",$G21,\"\"))))","v":""}]
[5,null,{"$f":"C_Quali!D14","v":"UBC Diana NÖ"},{"$f":"C_Quali!H14","v":528},"Quali."]
[12,{"$f":"D60","v":"3B"},{"$f":"C_Quali!C21","v":"Willingshofer August"}]
[null,null,{"$f":"C_Quali!D21","v":"BSC Velden"},{"$f":"C_Quali!H21","v":521},"Quali.",{"$f":"H57","v":"7A"},{"$f":"IF($D15>$D17,$C15,IF($D17>$D15,$C17,IF(RIGHT($D15,1)=\"*\",$C15,IF(RIGHT($D17,1)=\"*\",$C17,\"\"))))","v":""},null,null,null,null,null,null,null,""]
[null,null,null,null,null,null,{"$f":"IF($D15>$D17,$C16,IF($D17>$D15,$C18,IF(RIGHT($D15,1)=\"*\",$C16,IF(RIGHT($D17,1)=\"*\",$C18,\"\"))))","v":""},null,null,null,null,null,null,null,""]
[null,null,null,null,null,{"$f":"H58","v":"7B"},{"$f":"IF($D21>$D23,$C21,IF($D23>$D21,$C23,IF(RIGHT($D21,1)=\"*\",$C21,IF(RIGHT($D23,1)=\"*\",$C23,\"\"))))","v":""},null,null,null,null,null,null,"Schb","Name","Erg."]
[null,{"$f":"D61","v":"4A"},{"$f":"C_Quali!C22","v":"Zezula Erwin"},null,null,null,{"$f":"IF($D21>$D23,$C22,IF($D23>$D21,$C24,IF(RIGHT($D21,1)=\"*\",$C22,IF(RIGHT($D23,1)=\"*\",$C24,\"\"))))","v":""},null,null,null,null,null,null,{"$f":"P55","v":1},{"$f":"IF($L12>$L14,$K12,IF($L14>$L12,$K14,IF(RIGHT($L12,1)=\"*\",$K12,IF(RIGHT($L14,1)=\"*\",$K14,\"\"))))","v":""}]
[13,null,{"$f":"C_Quali!D22","v":"WBZ Union Zwettl"},{"$f":"C_Quali!H22","v":520},"Quali.",null,null,null,null,null,null,"Finale",null,null,{"$f":"IF($L12>$L14,$K13,IF($L14>$L12,$K15,IF(RIGHT($L12,1)=\"*\",$K13,IF(RIGHT($L14,1)=\"*\",$K15,\"\"))))","v":""}]
[4,{"$f":"D62","v":"4B"},{"$f":"C_Quali!C13","v":"Wippel Wolfgang"},null,null,null,null,null,null,null,null,"1. und 2. Platz",null,{"$f":"P56","v":2},{"$f":"IF($L36>$L38,$K36,IF($L38>$L36,$K38,IF(RIGHT($L36,1)=\"*\",$K36,IF(RIGHT($L38,1)=\"*\",$K38,\"\"))))","v":""}]
[null,null,{"$f":"C_Quali!D13","v":"BC Union Graz Seiersberg"},{"$f":"C_Quali!H13","v":529},"Quali.",null,null,null,null,null,null,null,null,null,{"$f":"IF($L36>$L38,$K37,IF($L38>$L36,$K39,IF(RIGHT($L36,1)=\"*\",$K37,IF(RIGHT($L38,1)=\"*\",$K39,\"\"))))","v":""}]
[]
[]
[null,{"$f":"D63","v":"5A"},{"$f":"C_Quali!C12","v":"Hubmann Gerhard"},null,null,null,null,null,null,null,null,null,null,{"$f":"P57","v":1},{"$f":"IF($L12<$L14,$K12,IF($L14<$L12,$K14,IF(RIGHT($L12,1)=\"*\",$K14,IF(RIGHT($L14,1)=\"*\",$K12,\"\"))))","v":""}]
[3,null,{"$f":"C_Quali!D12","v":"EAT-Bogensport"},{"$f":"C_Quali!H12","v":530},"Quali.",null,null,null,null,null,null,"Finale",null,null,{"$f":"IF($L12<$L14,$K13,IF($L14<$L12,$K15,IF(RIGHT($L12,1)=\"*\",$K12,IF(RIGHT($L14,1)=\"*\",$K14,\"\"))))","v":""}]
[14,{"$f":"D64","v":"5B"},{"$f":"C_Quali!C23","v":"Wühl Martin"},null,null,null,null,null,null,null,null,"3. und 4. Platz",null,{"$f":"P58","v":2},{"$f":"IF($L36<$L38,$K36,IF($L38<$L36,$K38,IF(RIGHT($L36,1)=\"*\",$K38,IF(RIGHT($L38,1)=\"*\",$K36,\"\"))))","v":""}]
[null,null,{"$f":"C_Quali!D23","v":"BSC Fischamend"},{"$f":"C_Quali!H23","v":519},"Quali.",{"$f":"H59","v":"8A"},{"$f":"IF($D27>$D29,$C27,IF($D29>$D27,$C29,IF(RIGHT($D27,1)=\"*\",$C27,IF(RIGHT($D29,1)=\"*\",$C29,\"\"))))","v":""},null,null,null,null,null,null,null,{"$f":"IF($L36<$L38,$K37,IF($L38<$L36,$K39,IF(RIGHT($L36,1)=\"*\",$K39,IF(RIGHT($L38,1)=\"*\",$K37,\"\"))))","v":""}]
[null,null,null,null,null,null,{"$f":"IF($D27>$D29,$C28,IF($D29>$D27,$C30,IF(RIGHT($D27,1)=\"*\",$C28,IF(RIGHT($D29,1)=\"*\",$C30,\"\"))))","v":""}]
[null,null,null,null,null,{"$f":"H60","v":"8B"},{"$f":"IF($D33>$D35,$C33,IF($D35>$D33,$C35,IF(RIGHT($D33,1)=\"*\",$C33,IF(RIGHT($D35,1)=\"*\",$C35,\"\"))))","v":""}]
[null,{"$f":"D65","v":"6A"},{"$f":"C_Quali!C20","v":"Burda Erwin"},null,null,null,{"$f":"IF($D33>$D35,$C34,IF($D35>$D33,$C36,IF(RIGHT($D33,1)=\"*\",$C34,IF(RIGHT($D35,1)=\"*\",$C36,\"\"))))","v":""}]
[11,null,{"$f":"C_Quali!D20","v":"BC Golden Arrows"},{"$f":"C_Quali!H20","v":522},"Quali."]
[6,{"$f":"D66","v":"6B"},{"$f":"C_Quali!C15","v":"Schneider Wolfgang"}]
[null,null,{"$f":"C_Quali!D15","v":"WBZ Union Zwettl"},{"$f":"C_Quali!H15","v":527},"Quali.",null,null,null,null,{"$f":"L57","v":8},{"$f":"IF($H30>$H32,$G30,IF($H32>$H30,$G32,IF(RIGHT($H30,1)=\"*\",$G30,IF(RIGHT($H32,1)=\"*\",$G32,\"\"))))","v":""}]
[null,null,null,null,null,null,null,null,null,null,{"$f":"IF($H30>$H32,$G31,IF($H32>$H30,$G33,IF(RIGHT($H30,1)=\"*\",$G31,IF(RIGHT($H32,1)=\"*\",$G33,\"\"))))","v":""}]
[null,null,null,null,null,null,null,null,null,{"$f":"L58","v":9},{"$f":"IF($H42>$H44,$G42,IF($H44>$H42,$G44,IF(RIGHT($H42,1)=\"*\",$G42,IF(RIGHT($H44,1)=\"*\",$G44,\"\"))))","v":""}]
[null,{"$f":"D67","v":"7A"},{"$f":"C_Quali!C16","v":"Koisegg Johann"},null,null,null,null,null,null,null,{"$f":"IF($H42>$H44,$G43,IF($H44>$H42,$G45,IF(RIGHT($H42,1)=\"*\",$G43,IF(RIGHT($H44,1)=\"*\",$G45,\"\"))))","v":""},null,null,null,"Finale"]
[7,null,{"$f":"C_Quali!D16","v":"BSC Sparkasse Jenbach"},{"$f":"C_Quali!H16","v":526},"Quali."]
[10,{"$f":"D68","v":"7B"},{"$f":"C_Quali!C19","v":"Linhart Christian"}]
[null,null,{"$f":"C_Quali!D19","v":"BSV Stöttera"},{"$f":"C_Quali!H19","v":523},"Quali.",{"$f":"H61","v":"9A"},{"$f":"IF($D39>$D41,$C39,IF($D41>$D39,$C41,IF(RIGHT($D39,1)=\"*\",$C39,IF(RIGHT($D41,1)=\"*\",$C41,\"\"))))","v":""},null,null,null,"1/2 Finale"]
[null,null,null,null,null,null,{"$f":"IF($D39>$D41,$C40,IF($D41>$D39,$C42,IF(RIGHT($D39,1)=\"*\",$C40,IF(RIGHT($D41,1)=\"*\",$C42,\"\"))))","v":""}]
[null,null,null,null,null,{"$f":"H62","v":"9B"},{"$f":"IF($D45>$D47,$C45,IF($D47>$D45,$C47,IF(RIGHT($D45,1)=\"*\",$C45,IF(RIGHT($D47,1)=\"*\",$C47,\"\"))))","v":""}]
[null,{"$f":"D69","v":"8A"},{"$f":"C_Quali!C24","v":"Url Marsell"},null,null,null,{"$f":"IF($D45>$D47,$C46,IF($D47>$D45,$C48,IF(RIGHT($D45,1)=\"*\",$C46,IF(RIGHT($D47,1)=\"*\",$C48,\"\"))))","v":""}]
[15,null,{"$f":"C_Quali!D24","v":"UBSC Artemis Steiermark"},{"$f":"C_Quali!H24","v":518},"Quali.",null,null,null,null,null,null,null,null,null,{"$f":"Select!$C$20","v":"Compound Herren"}]
[2,{"$f":"D70","v":"8B"},{"$f":"C_Quali!C11","v":"Kanduth Wolfgang"}]
[null,null,{"$f":"C_Quali!D11","v":"BC Wildon Weitendorf"},{"$f":"C_Quali!H11","v":531},"Quali.",null,"1/4 Finale"]
[null,null,null,null,null,null,null,null,null,null,null,null,null,"*","= Im Stechen gewonnen"]
[null,null,"1/8 Elimination"]
[]
[]
[]
[null,null,"Scheibe:"]
[null,1,{"$f":"CONCATENATE($C$54,\" \",D55)","v":"Scheibe: 1A"},"1A",null,1,{"$f":"CONCATENATE($C$54,\" \",H55)","v":"Scheibe: 6A"},"6A",null,1,{"$f":"CONCATENATE($C$54,\" \",L55)","v":"Scheibe: 6"},6,null,1,{"$f":"CONCATENATE($C$54,\" \",P55)","v":"Scheibe: 1"},1]
[null,null,"Scheibe: 1B",{"$f":"IF(RIGHT(D55,1)=\"A\",CONCATENATE(LEFT(D55,LEN(D55)-1),\"B\"),D55+1)","v":"1B"},null,null,"Scheibe: 6B",{"$f":"IF(RIGHT(H55,1)=\"A\",CONCATENATE(LEFT(H55,LEN(H55)-1),\"B\"),H55+1)","v":"6B"},null,null,{"$f":"CONCATENATE($C$54,\" \",L56)","v":"Scheibe: 7"},{"$f":"IF(RIGHT(L55,1)=\"A\",CONCATENATE(LEFT(L55,LEN(L55)-1),\"B\"),L55+1)","v":7},null,null,{"$f":"CONCATENATE($C$54,\" \",P56)","v":"Scheibe: 2"},{"$f":"IF(RIGHT(P55,1)=\"A\",CONCATENATE(LEFT(P55,LEN(P55)-1),\"B\"),P55+1)","v":2}]
[null,{"$f":"B55+1","v":2},"Scheibe: 2A",{"$f":"IF(RIGHT(D56,1)=\"B\",CONCATENATE(LEFT(D56,LEN(D56)-1)+1,\"A\"),D56+1)","v":"2A"},null,{"$f":"F55+1","v":2},"Scheibe: 7A",{"$f":"IF(RIGHT(H56,1)=\"B\",CONCATENATE(LEFT(H56,LEN(H56)-1)+1,\"A\"),H56+1)","v":"7A"},null,{"$f":"J55+1","v":2},{"$f":"CONCATENATE($C$54,\" \",L57)","v":"Scheibe: 8"},{"$f":"IF(RIGHT(L56,1)=\"B\",CONCATENATE(LEFT(L56,LEN(L56)-1)+1,\"A\"),L56+1)","v":8},null,{"$f":"N55+1","v":2},{"$f":"CONCATENATE($C$54,\" \",P57)","v":"Scheibe: 1"},1]
[null,null,"Scheibe: 2B",{"$f":"IF(RIGHT(D57,1)=\"A\",CONCATENATE(LEFT(D57,LEN(D57)-1),\"B\"),D57+1)","v":"2B"},null,null,"Scheibe: 7B",{"$f":"IF(RIGHT(H57,1)=\"A\",CONCATENATE(LEFT(H57,LEN(H57)-1),\"B\"),H57+1)","v":"7B"},null,null,{"$f":"CONCATENATE($C$54,\" \",L58)","v":"Scheibe: 9"},{"$f":"IF(RIGHT(L57,1)=\"A\",CONCATENATE(LEFT(L57,LEN(L57)-1),\"B\"),L57+1)","v":9},null,null,{"$f":"CONCATENATE($C$54,\" \",P58)","v":"Scheibe: 2"},{"$f":"IF(RIGHT(P57,1)=\"A\",CONCATENATE(LEFT(P57,LEN(P57)-1),\"B\"),P57+1)","v":2}]
[null,{"$f":"B57+1","v":3},"Scheibe: 3A",{"$f":"IF(RIGHT(D58,1)=\"B\",CONCATENATE(LEFT(D58,LEN(D58)-1)+1,\"A\"),D58+1)","v":"3A"},null,{"$f":"F57+1","v":3},"Scheibe: 8A",{"$f":"IF(RIGHT(H58,1)=\"B\",CONCATENATE(LEFT(H58,LEN(H58)-1)+1,\"A\"),H58+1)","v":"8A"}]
[null,null,"Scheibe: 3B",{"$f":"IF(RIGHT(D59,1)=\"A\",CONCATENATE(LEFT(D59,LEN(D59)-1),\"B\"),D59+1)","v":"3B"},null,null,"Scheibe: 8B",{"$f":"IF(RIGHT(H59,1)=\"A\",CONCATENATE(LEFT(H59,LEN(H59)-1),\"B\"),H59+1)","v":"8B"}]
[null,{"$f":"B59+1","v":4},"Scheibe: 4A",{"$f":"IF(RIGHT(D60,1)=\"B\",CONCATENATE(LEFT(D60,LEN(D60)-1)+1,\"A\"),D60+1)","v":"4A"},null,{"$f":"F59+1","v":4},"Scheibe: 9A",{"$f":"IF(RIGHT(H60,1)=\"B\",CONCATENATE(LEFT(H60,LEN(H60)-1)+1,\"A\"),H60+1)","v":"9A"}]
[null,null,"Scheibe: 4B",{"$f":"IF(RIGHT(D61,1)=\"A\",CONCATENATE(LEFT(D61,LEN(D61)-1),\"B\"),D61+1)","v":"4B"},null,null,"Scheibe: 9B",{"$f":"IF(RIGHT(H61,1)=\"A\",CONCATENATE(LEFT(H61,LEN(H61)-1),\"B\"),H61+1)","v":"9B"}]
[null,{"$f":"B61+1","v":5},"Scheibe: 5A",{"$f":"IF(RIGHT(D62,1)=\"B\",CONCATENATE(LEFT(D62,LEN(D62)-1)+1,\"A\"),D62+1)","v":"5A"},null,null," "]
[null,null,"Scheibe: 5B",{"$f":"IF(RIGHT(D63,1)=\"A\",CONCATENATE(LEFT(D63,LEN(D63)-1),\"B\"),D63+1)","v":"5B"},null,null," "]
[null,{"$f":"B63+1","v":6},"Scheibe: 6A",{"$f":"IF(RIGHT(D64,1)=\"B\",CONCATENATE(LEFT(D64,LEN(D64)-1)+1,\"A\"),D64+1)","v":"6A"},null,null," "]
[null,null,"Scheibe: 6B",{"$f":"IF(RIGHT(D65,1)=\"A\",CONCATENATE(LEFT(D65,LEN(D65)-1),\"B\"),D65+1)","v":"6B"},null,null," "]
[null,{"$f":"B65+1","v":7},"Scheibe: 7A",{"$f":"IF(RIGHT(D66,1)=\"B\",CONCATENATE(LEFT(D66,LEN(D66)-1)+1,\"A\"),D66+1)","v":"7A"},null,null," "]
[null,null,"Scheibe: 7B",{"$f":"IF(RIGHT(D67,1)=\"A\",CONCATENATE(LEFT(D67,LEN(D67)-1),\"B\"),D67+1)","v":"7B"},null,null," "]
[null,{"$f":"B67+1","v":8},"Scheibe: 8A",{"$f":"IF(RIGHT(D68,1)=\"B\",CONCATENATE(LEFT(D68,LEN(D68)-1)+1,\"A\"),D68+1)","v":"8A"},null,null," "]
[null,null,"Scheibe: 8B",{"$f":"IF(RIGHT(D69,1)=\"A\",CONCATENATE(LEFT(D69,LEN(D69)-1),\"B\"),D69+1)","v":"8B"},null,null," "]

{"sheet":"C16","index":29,"n_rows":526,"n_cols":22,"rows_kept":526,"cut":false,"hidden":true,"merged":[[512,16,512,19],[512,20,512,22],[513,5,513,6],[513,13,513,14],[513,21,513,22],[512,0,512,3],[512,4,512,6],[512,8,512,11],[512,12,512,14],[504,0,504,6],[505,0,505,6],[506,0,506,6],[507,0,507,6],[500,0,500,6],[501,0,501,6],[502,0,502,6],[503,0,503,6],[497,13,497,14],[497,21,497,22],[498,0,498,6],[499,0,499,6],[496,8,496,11],[496,12,496,14],[496,16,496,19],[496,20,496,22],[479,16,479,19],[479,20,479,22],[480,5,480,6],[480,13,480,14],[480,21,480,22],[479,0,479,3],[479,4,479,6],[479,8,479,11],[479,12,479,14],[471,0,471,6],[472,0,472,6],[473,0,473,6],[474,0,474,6],[467,0,467,6],[468,0,468,6],[469,0,469,6],[470,0,470,6],[464,13,464,14],[464,21,464,22],[465,0,465,6],[466,0,466,6],[463,8,463,11],[463,12,463,14],[463,16,463,19],[463,20,463,22],[446,16,446,19],[446,20,446,22],[447,5,447,6],[447,13,447,14],[447,21,447,22],[446,0,446,3],[446,4,446,6],[446,8,446,11],[446,12,446,14],[438,0,438,6],[439,0,439,6],[440,0,440,6],[441,0,441,6],[434,0,434,6],[435,0,435,6],[436,0,436,6],[437,0,437,6],[431,13,431,14],[431,21,431,22],[432,0,432,6],[433,0,433,6],[430,8,430,11],[430,12,430,14],[430,16,430,19],[430,20,430,22],[413,16,413,19],[413,20,413,22],[414,5,414,6],[414,13,414,14],[414,21,414,22],[413,0,413,3],[413,4,413,6],[413,8,413,11],[413,12,413,14],[405,0,405,6],[406,0,406,6],[407,0,407,6],[408,0,408,6],[401,0,401,6],[402,0,402,6],[403,0,403,6],[404,0,404,6],[398,13,398,14],[398,21,398,22],[399,0,399,6],[400,0,400,6],[397,8,397,11],[397,12,397,14],[397,16,397,19],[397,20,397,22],[380,16,380,19],[380,20,380,22],[381,5,381,6],[381,13,381,14],[381,21,381,22],[380,0,380,3],[380,4,380,6],[380,8,380,11],[380,12,380,14],[372,0,372,6],[373,0,373,6],[374,0,374,6],[375,0,375,6],[368,0,368,6],[369,0,369,6],[370,0,370,6],[371,0,371,6],[365,13,365,14],[365,21,365,22],[366,0,366,6],[367,0,367,6],[364,8,364,11],[364,12,364,14],[364,16,364,19],[364,20,364,22],[347,16,347,19],[347,20,347,22],[348,5,348,6],[348,13,348,14],[348,21,348,22],[347,0,347,3],[347,4,347,6],[347,8,347,11],[347,12,347,14],[339,0,339,6],[340,0,340,6],[341,0,341,6],[342,0,342,6],[335,0,335,6],[336,0,336,6],[337,0,337,6],[338,0,338,6],[332,13,332,14],[332,21,332,22],[333,0,333,6],[334,0,334,6],[331,8,331,11],[331,12,331,14],[331,16,331,19],[331,20,331,22],[314,16,314,19],[314,20,314,22],[315,5,315,6],[315,13,315,14],[315,21,315,22],[314,0,314,3],[314,4,314,6],[314,8,314,11],[314,12,314,14],[306,0,306,6],[307,0,307,6],[308,0,308,6],[309,0,309,6],[302,0,302,6],[303,0,303,6],[304,0,304,6],[305,0,305,6],[299,13,299,14],[299,21,299,22],[300,0,300,6],[301,0,301,6],[298,8,298,11],[298,12,298,14],[298,16,298,19],[298,20,298,22],[281,16,281,19],[281,20,281,22],[282,5,282,6],[282,13,282,14],[282,21,282,22],[281,0,281,3],[281,4,281,6],[281,8,281,11],[281,12,281,14],[273,0,273,6],[274,0,274,6],[275,0,275,6],[276,0,276,6],[269,0,269,6],[270,0,270,6],[271,0,271,6],[272,0,272,6],[266,21,266,22],[267,0,267,6],[268,0,268,6],[266,13,266,14],[265,8,265,11],[265,12,265,14],[265,16,265,19],[265,20,265,22],[17,4,17,6],[17,8,17,11],[17,12,17,14],[2,13,2,14],[17,16,17,19],[17,20,17,22],[18,5,18,6],[2,21,2,22],[18,13,18,14],[18,21,18,22],[3,0,3,6],[4,0,4,6],[5,0,5,6],[12,0,12,6],[17,0,17,3],[34,8,34,11],[34,12,34,14],[34,16,34,19],[34,20,34,22],[35,13,35,14],[1,8,1,11],[1,12,1,14],[1,16,1,19],[1,20,1,22],[10,0,10,6],[11,0,11,6],[6,0,6,6],[7,0,7,6],[8,0,8,6],[9,0,9,6],[35,21,35,22],[36,0,36,6],[37,0,37,6],[38,0,38,6],[39,0,39,6],[40,0,40,6],[41,0,41,6],[42,0,42,6],[43,0,43,6],[44,0,44,6],[45,0,45,6],[50,0,50,3],[50,4,50,6],[50,8,50,11],[50,12,50,14],[50,16,50,19],[50,20,50,22],[51,5,51,6],[51,13,51,14],[51,21,51,22],[67,8,67,11],[67,12,67,14],[67,16,67,19],[67,20,67,22],[68,13,68,14],[68,21,68,22],[69,0,69,6],[70,0,70,6],[71,0,71,6],[72,0,72,6],[73,0,73,6],[74,0,74,6],[75,0,75,6],[76,0,76,6],[77,0,77,6],[78,0,78,6],[83,0,83,3],[83,4,83,6],[83,8,83,11],[83,12,83,14],[83,16,83,19],[83,20,83,22],[84,5,84,6],[84,13,84,14],[84,21,84,22],[100,8,100,11],[100,12,100,14],[100,16,100,19],[100,20,100,22],[101,13,101,14],[101,21,101,22],[102,0,102,6],[103,0,103,6],[104,0,104,6],[105,0,105,6],[106,0,106,6],[107,0,107,6],[108,0,108,6],[109,0,109,6],[110,0,110,6],[111,0,111,6],[116,0,116,3],[116,4,116,6],[116,8,116,11],[116,12,116,14],[116,16,116,19],[116,20,116,22],[117,5,117,6],[117,13,117,14],[117,21,117,22],[133,8,133,11],[133,12,133,14],[133,16,133,19],[133,20,133,22],[134,13,134,14],[134,21,134,22],[135,0,135,6],[136,0,136,6],[137,0,137,6],[138,0,138,6],[139,0,139,6],[140,0,140,6],[141,0,141,6],[142,0,142,6],[143,0,143,6],[144,0,144,6],[149,0,149,3],[149,4,149,6],[149,8,149,11],[149,12,149,14],[149,16,149,19],[149,20,149,22],[150,5,150,6],[150,13,150,14],[150,21,150,22],[166,8,166,11],[166,12,166,14],[166,16,166,19],[166,20,166,22],[167,13,167,14],[167,21,167,22],[168,0,168,6],[169,0,169,6],[170,0,170,6],[171,0,171,6],[172,0,172,6],[173,0,173,6],[174,0,174,6],[175,0,175,6],[176,0,176,6],[177,0,177,6],[182,0,182,3],[182,4,182,6],[182,8,182,11],[182,12,182,14],[182,16,182,19],[182,20,182,22],[183,5,183,6],[183,13,183,14],[183,21,183,22],[199,8,199,11],[199,12,199,14],[199,16,199,19],[199,20,199,22],[200,13,200,14],[200,21,200,22],[201,0,201,6],[202,0,202,6],[203,0,203,6],[204,0,204,6],[205,0,205,6],[206,0,206,6],[207,0,207,6],[208,0,208,6],[209,0,209,6],[210,0,210,6],[215,0,215,3],[215,4,215,6],[215,8,215,11],[215,12,215,14],[215,16,215,19],[215,20,215,22],[216,5,216,6],[216,13,216,14],[216,21,216,22],[232,8,232,11],[232,12,232,14],[232,16,232,19],[232,20,232,22],[233,13,233,14],[233,21,233,22],[234,0,234,6],[235,0,235,6],[236,0,236,6],[237,0,237,6],[238,0,238,6],[239,0,239,6],[240,0,240,6],[241,0,241,6],[242,0,242,6],[243,0,243,6],[248,0,248,3],[248,4,248,6],[248,8,248,11],[248,12,248,14],[248,16,248,19],[248,20,248,22],[249,5,249,6],[249,13,249,14],[249,21,249,22]]}
[]
[null,null,null,null,null,null,null,null,"1/16 Elimination",null,null,null,null,null,null,null,"1/8 Elimination",null,null,null,{"$f":"'C16_Baum'!$C$55","v":"Scheibe: 1A"}]
[null,null,null,null,null,null,null,null,null,1,2,3,"Summe","Ges.",null,null,null,1,2,3,"Summe","Ges."]
[{"$f":"Select!$C$12","v":"Demoturnier"},null,null,null,null,null,null,null,1,null,null,null,null,null,null,null,1]
["Veranstaltung",null,null,null,null,null,null,null,2,null,null,null,null,null,null,null,2]
[{"$f":"Select!$C$13","v":"1. April 2019"},null,null,null,null,null,null,null,3,null,null,null,null,null,null,null,3]
["Datum",null,null,null,null,null,null,null,4,null,null,null,null,null,null,null,4]
[{"$f":"'C16_Baum'!$C$3","v":"Steinwender Alois"},null,null,null,null,null,null,null,5,null,null,null,null,null,null,null,5]
["Name",null,null,null,null,null,null,null,"wenn erforderlich",null,null,null,null,null,null,null,"wenn erforderlich"]
[{"$f":"'C16_Baum'!$C$4","v":"Bogensport Lungau"},null,null,null,null,null,null,null,"Stechen",null,null,null,null,null,null,null,"Stechen"]
["Verein",null,null,null,null,null,null,null,null,null,null,null,null,"gewonnen",null,null,null,null,null,null,null,"gewonnen"]
[{"$f":"Select!$C$20","v":"Compound Herren"},null,null,null,null,null,null,null,"Schütze:",null,null,null,null,"verloren",null,null,"Schütze:",null,null,null,null,"verloren"]
["Bogenklasse"]
[null,null,null,null,null,null,null,null,"Gegner:",null,"Name:",null,null,null,null,null,"Gegner:",null,"Name:",{"$f":"'C16_Baum'!C5","v":"Bucher Martin"}]
[null,null,null,null,null,null,null,null,null,null,"Unterschrift:",null,null,null,null,null,null,null,"Unterschrift:"]
[]
[]
["1/4 Finale",null,null,null,{"$f":"'C16_Baum'!$G$55","v":"Scheibe: 6A"},null,null,null,"1/2 Finale",null,null,null,{"$f":"'C16_Baum'!$K$55","v":"Scheibe: 6"},null,null,null,"1./2. od. 3./4. Platz",null,null,null,"Scheibe:"]
[null,1,2,3,"Summe","Ges.",null,null,null,1,2,3,"Summe","Ges.",null,null,null,1,2,3,"Summe","Ges."]
[1,null,null,null,null,null,null,null,1,null,null,null,null,null,null,null,1]
[2,null,null,null,null,null,null,null,2,null,null,null,null,null,null,null,2]
[3,null,null,null,null,null,null,null,3,null,null,null,null,null,null,null,3]
[4,null,null,null,null,null,null,null,4,null,null,null,null,null,null,null,4]
[5,null,null,null,null,null,null,null,5,null,null,null,null,null,null,null,5]
["wenn erforderlich",null,null,null,null,null,null,null,"wenn erforderlich",null,null,null,null,null,null,null,"wenn erforderlich"]
["Stechen",null,null,null,null,null,null,null,"Stechen",null,null,null,null,null,null,null,"Stechen"]
[null,null,null,null,null,"gewonnen",null,null,null,null,null,null,null,"gewonnen",null,null,null,null,null,null,null,"gewonnen"]
["Schütze:",null,null,null,null,"verloren",null,null,"Schütze:",null,null,null,null,"verloren",null,null,"Schütze:",null,null,null,null,"verloren"]
[]
["Gegner:",null,"Name:",null,null,null,null,null,"Gegner:",null,"Name:",null,null,null,null,null,"Gegner:",null,"Name:"]
[null,null,"Unterschrift:",null,null,null,null,null,null,null,"Unterschrift:",null,null,null,null,null,null,null,"Unterschrift:"]
[]
[]
[]
[null,null,null,null,null,null,null,null,"1/16 Elimination",null,null,null,null,null,null,null,"1/8 Elimination",null,null,null,{"$f":"'C16_Baum'!$C$56","v":"Scheibe: 1B"}]
[null,null,null,null,null,null,null,null,null,1,2,3,"Summe","Ges.",null,null,null,1,2,3,"Summe","Ges."]
[{"$f":"Select!$C$12","v":"Demoturnier"},null,null,null,null,null,null,null,1,null,null,null,null,null,null,null,1]
["Veranstaltung",null,null,null,null,null,null,null,2,null,null,null,null,null,null,null,2]
[{"$f":"Select!$C$13","v":"1. April 2019"},null,null,null,null,null,null,null,3,null,null,null,null,null,null,null,3]
["Datum",null,null,null,null,null,null,null,4,null,null,null,null,null,null,null,4]
[{"$f":"'C16_Baum'!$C$5","v":"Bucher Martin"},null,null,null,null,null,null,null,5,null,null,null,null,null,null,null,5]
["Name",null,null,null,null,null,null,null,"wenn erforderlich",null,null,null,null,null,null,null,"wenn erforderlich"]
[{"$f":"'C16_Baum'!$C$6","v":"LH Graz"},null,null,null,null,null,null,null,"Stechen",null,null,null,null,null,null,null,"Stechen"]
["Verein",null,null,null,null,null,null,null,null,null,null,null,null,"gewonnen",null,null,null,null,null,null,null,"gewonnen"]
[{"$f":"Select!$C$20","v":"Compound Herren"},null,null,null,null,null,null,null,"Schütze:",null,null,null,null,"verloren",null,null,"Schütze:",null,null,null,null,"verloren"]
["Bogenklasse"]
[null,null,null,null,null,null,null,null,"Gegner:",null,"Name:",null,null,null,null,null,"Gegner:",null,"Name:",{"$f":"'C16_Baum'!C3","v":"Steinwender Alois"}]
[null,null,null,null,null,null,null,null,null,null,"Unterschrift:",null,null,null,null,null,null,null,"Unterschrift:"]
[]
[]
["1/4 Finale",null,null,null,{"$f":"'C16_Baum'!$G$55","v":"Scheibe: 6A"},null,null,null,"1/2 Finale",null,null,null,{"$f":"'C16_Baum'!$K$55","v":"Scheibe: 6"},null,null,null,"1./2. od. 3./4. Platz",null,null,null,"Scheibe:"]
[null,1,2,3,"Summe","Ges.",null,null,null,1,2,3,"Summe","Ges.",null,null,null,1,2,3,"Summe","Ges."]
[1,null,null,null,null,null,null,null,1,null,null,null,null,null,null,null,1]
[2,null,null,null,null,null,null,null,2,null,null,null,null,null,null,null,2]
[3,null,null,null,null,null,null,null,3,null,null,null,null,null,null,null,3]
[4,null,null,null,null,null,null,null,4,null,null,null,null,null,null,null,4]
[5,null,null,null,null,null,null,null,5,null,null,null,null,null,null,null,5]
["wenn erforderlich",null,null,null,null,null,null,null,"wenn erforderlich",null,null,null,null,null,null,null,"wenn erforderlich"]
["Stechen",null,null,null,null,null,null,null,"Stechen",null,null,null,null,null,null,null,"Stechen"]
[null,null,null,null,null,"gewonnen",null,null,null,null,null,null,null,"gewonnen",null,null,null,null,null,null,null,"gewonnen"]
["Schütze:",null,null,null,null,"verloren",null,null,"Schütze:",null,null,null,null,"verloren",null,null,"Schütze:",null,null,null,null,"verloren"]
[]
["Gegner:",null,"Name:",null,null,null,null,null,"Gegner:",null,"Name:",null,null,null,null,null,"Gegner:",null,"Name:"]
[null,null,"Unterschrift:",null,null,null,null,null,null,null,"Unterschrift:",null,null,null,null,null,null,null,"Unterschrift:"]
[]
[]
[]
[null,null,null,null,null,null,null,null,"1/16 Elimination",null,null,null,null,null,null,null,"1/8 Elimination",null,null,null,{"$f":"'C16_Baum'!$C$57","v":"Scheibe: 2A"}]
[null,null,null,null,null,null,null,null,null,1,2,3,"Summe","Ges.",null,null,null,1,2,3,"Summe","Ges."]
[{"$f":"Select!$C$12","v":"Demoturnier"},null,null,null,null,null,null,null,1,null,null,null,null,null,null,null,1]
["Veranstaltung",null,null,null,null,null,null,null,2,null,null,null,null,null,null,null,2]
[{"$f":"Select!$C$13","v":"1. April 2019"},null,null,null,null,null,null,null,3,null,null,null,null,null,null,null,3]
["Datum",null,null,null,null,null,null,null,4,null,null,null,null,null,null,null,4]
[{"$f":"'C16_Baum'!$C$9","v":"Helmer Gerhard"},null,null,null,null,null,null,null,5,null,null,null,null,null,null,null,5]
["Name",null,null,null,null,null,null,null,"wenn erforderlich",null,null,null,null,null,null,null,"wenn erforderlich"]
[{"$f":"'C16_Baum'!$C$10","v":"UBC Diana NÖ"},null,null,null,null,null,null,null,"Stechen",null,null,null,null,null,null,null,"Stechen"]
["Verein",null,null,null,null,null,null,null,null,null,null,null,null,"gewonnen",null,null,null,null,null,null,null,"gewonnen"]
[{"$f":"Select!$C$20","v":"Compound Herren"},null,null,null,null,null,null,null,"Schütze:",null,null,null,null,"verloren",null,null,"Schütze:",null,null,null,null,"verloren"]
["Bogenklasse"]
[null,null,null,null,null,null,null,null,"Gegner:",null,"Name:",null,null,null,null,null,"Gegner:",null,"Name:",{"$f":"'C16_Baum'!C11","v":"Richter Oscar"}]
[null,null,null,null,null,null,null,null,null,null,"Unterschrift:",null,null,null,null,null,null,null,"Unterschrift:"]
[]
[]
["1/4 Finale",null,null,null,{"$f":"'C16_Baum'!$G$56","v":"Scheibe: 6B"},null,null,null,"1/2 Finale",null,null,null,{"$f":"'C16_Baum'!$K$55","v":"Scheibe: 6"},null,null,null,"1./2. od. 3./4. Platz",null,null,null,"Scheibe:"]
[null,1,2,3,"Summe","Ges.",null,null,null,1,2,3,"Summe","Ges.",null,null,null,1,2,3,"Summe","Ges."]
[1,null,null,null,null,null,null,null,1,null,null,null,null,null,null,null,1]
[2,null,null,null,null,null,null,null,2,null,null,null,null,null,null,null,2]
[3,null,null,null,null,null,null,null,3,null,null,null,null,null,null,null,3]
[4,null,null,null,null,null,null,null,4,null,null,null,null,null,null,null,4]
[5,null,null,null,null,null,null,null,5,null,null,null,null,null,null,null,5]
["wenn erforderlich",null,null,null,null,null,null,null,"wenn erforderlich",null,null,null,null,null,null,null,"wenn erforderlich"]
["Stechen",null,null,null,null,null,null,null,"Stechen",null,null,null,null,null,null,null,"Stechen"]
[null,null,null,null,null,"gewonnen",null,null,null,null,null,null,null,"gewonnen",null,null,null,null,null,null,null,"gewonnen"]
["Schütze:",null,null,null,null,"verloren",null,null,"Schütze:",null,null,null,null,"verloren",null,null,"Schütze:",null,null,null,null,"verloren"]
[]
["Gegner:",null,"Name:",null,null,null,null,null,"Gegner:",null,"Name:",null,null,null,null,null,"Gegner:",null,"Name:"]
[null,null,"Unterschrift:",null,null,null,null,null,null,null,"Unterschrift:",null,null,null,null,null,null,null,"Unterschrift:"]
[]
[]
[]
[null,null,null,null,null,null,null,null,"1/16 Elimination",null,null,null,null,null,null,null,"1/8 Elimination",null,null,null,{"$f":"'C16_Baum'!$C$58","v":"Scheibe: 2B"}]
[null,null,null,null,null,null,null,null,null,1,2,3,"Summe","Ges.",null,null,null,1,2,3,"Summe","Ges."]
[{"$f":"Select!$C$12","v":"Demoturnier"},null,null,null,null,null,null,null,1,null,null,null,null,null,null,null,1]
["Veranstaltung",null,null,null,null,null,null,null,2,null,null,null,null,null,null,null,2]
[{"$f":"Select!$C$13","v":"1. April 2019"},null,null,null,null,null,null,null,3,null,null,null,null,null,null,null,3]
["Datum",null,null,null,null,null,null,null,4,null,null,null,null,null,null,null,4]
[{"$f":"'C16_Baum'!$C$11","v":"Richter Oscar"},null,null,null,null,null,null,null,5,null,null,null,null,null,null,null,5]
["Name",null,null,null,null,null,null,null,"wenn erforderlich",null,null,null,null,null,null,null,"wenn erforderlich"]
[{"$f":"'C16_Baum'!$C$12","v":"BC Golden Arrows"},null,null,null,null,null,null,null,"Stechen",null,null,null,null,null,null,null,"Stechen"]
["Verein",null,null,null,null,null,null,null,null,null,null,null,null,"gewonnen",null,null,null,null,null,null,null,"gewonnen"]
[{"$f":"Select!$C$20","v":"Compound Herren"},null,null,null,null,null,null,null,"Schütze:",null,null,null,null,"verloren",null,null,"Schütze:",null,null,null,null,"verloren"]
["Bogenklasse"]
[null,null,null,null,null,null,null,null,"Gegner:",null,"Name:",null,null,null,null,null,"Gegner:",null,"Name:",{"$f":"'C16_Baum'!C9","v":"Helmer Gerhard"}]
[null,null,null,null,null,null,null,null,null,null,"Unterschrift:",null,null,null,null,null,null,null,"Unterschrift:"]
[]
[]
["1/4 Finale",null,null,null,{"$f":"'C16_Baum'!$G$56","v":"Scheibe: 6B"},null,null,null,"1/2 Finale",null,null,null,{"$f":"'C16_Baum'!$K$55","v":"Scheibe: 6"},null,null,null,"1./2. od. 3./4. Platz",null,null,null,"Scheibe:"]
[null,1,2,3,"Summe","Ges.",null,null,null,1,2,3,"Summe","Ges.",null,null,null,1,2,3,"Summe","Ges."]
[1,null,null,null,null,null,null,null,1,null,null,null,null,null,null,null,1]
[2,null,null,null,null,null,null,null,2,null,null,null,null,null,null,null,2]
[3,null,null,null,null,null,null,null,3,null,null,null,null,null,null,null,3]
[4,null,null,null,null,null,null,null,4,null,null,null,null,null,null,null,4]
[5,null,null,null,null,null,null,null,5,null,null,null,null,null,null,null,5]
["wenn erforderlich",null,null,null,null,null,null,null,"wenn erforderlich",null,null,null,null,null,null,null,"wenn erforderlich"]
["Stechen",null,null,null,null,null,null,null,"Stechen",null,null,null,null,null,null,null,"Stechen"]
[null,null,null,null,null,"gewonnen",null,null,null,null,null,null,null,"gewonnen",null,null,null,null,null,null,null,"gewonnen"]
["Schütze:",null,null,null,null,"verloren",null,null,"Schütze:",null,null,null,null,"verloren",null,null,"Schütze:",null,null,null,null,"verloren"]
[]
["Gegner:",null,"Name:",null,null,null,null,null,"Gegner:",null,"Name:",null,null,null,null,null,"Gegner:",null,"Name:"]
[null,null,"Unterschrift:",null,null,null,null,null,null,null,"Unterschrift:",null,null,null,null,null,null,null,"Unterschrift:"]
[]
[]
[]
[null,null,null,null,null,null,null,null,"1/16 Elimination",null,null,null,null,null,null,null,"1/8 Elimination",null,null,null,{"$f":"'C16_Baum'!$C$59","v":"Scheibe: 3A"}]
[null,null,null,null,null,null,null,null,null,1,2,3,"Summe","Ges.",null,null,null,1,2,3,"Summe","Ges."]
[{"$f":"Select!$C$12","v":"Demoturnier"},null,null,null,null,null,null,null,1,null,null,null,null,null,null,null,1]
["Veranstaltung",null,null,null,null,null,null,null,2,null,null,null,null,null,null,null,2]
[{"$f":"Select!$C$13","v":"1. April 2019"},null,null,null,null,null,null,null,3,null,null,null,null,null,null,null,3]
["Datum",null,null,null,null,null,null,null,4,null,null,null,null,null,null,null,4]
[{"$f":"'C16_Baum'!$C$15","v":"Traxler Helmuth"},null,null,null,null,null,null,null,5,null,null,null,null,null,null,null,5]
["Name",null,null,null,null,null,null,null,"wenn erforderlich",null,null,null,null,null,null,null,"wenn erforderlich"]
[{"$f":"'C16_Baum'!$C$16","v":"UBC Diana NÖ"},null,null,null,null,null,null,null,"Stechen",null,null,null,null,null,null,null,"Stechen"]
["Verein",null,null,null,null,null,null,null,null,null,null,null,null,"gewonnen",null,null,null,null,null,null,null,"gewonnen"]
[{"$f":"Select!$C$20","v":"Compound Herren"},null,null,null,null,null,null,null,"Schütze:",null,null,null,null,"verloren",null,null,"Schütze:",null,null,null,null,"verloren"]
["Bogenklasse"]
[null,null,null,null,null,null,null,null,"Gegner:",null,"Name:",null,null,null,null,null,"Gegner:",null,"Name:",{"$f":"'C16_Baum'!C17","v":"Willingshofer August"}]
[null,null,null,null,null,null,null,null,null,null,"Unterschrift:",null,null,null,null,null,null,null,"Unterschrift:"]
[]
[]
["1/4 Finale",null,null,null,{"$f":"'C16_Baum'!$G$57","v":"Scheibe: 7A"},null,null,null,"1/2 Finale",null,null,null,{"$f":"'C16_Baum'!$K$56","v":"Scheibe: 7"},null,null,null,"1./2. od. 3./4. Platz",null,null,null,"Scheibe:"]
[null,1,2,3,"Summe","Ges.",null,null,null,1,2,3,"Summe","Ges.",null,null,null,1,2,3,"Summe","Ges."]
[1,null,null,null,null,null,null,null,1,null,null,null,null,null,null,null,1]
[2,null,null,null,null,null,null,null,2,null,null,null,null,null,null,null,2]
[3,null,null,null,null,null,null,null,3,null,null,null,null,null,null,null,3]
[4,null,null,null,null,null,null,null,4,null,null,null,null,null,null,null,4]
[5,null,null,null,null,null,null,null,5,null,null,null,null,null,null,null,5]
["wenn erforderlich",null,null,null,null,null,null,null,"wenn erforderlich",null,null,null,null,null,null,null,"wenn erforderlich"]
["Stechen",null,null,null,null,null,null,null,"Stechen",null,null,null,null,null,null,null,"Stechen"]
[null,null,null,null,null,"gewonnen",null,null,null,null,null,null,null,"gewonnen",null,null,null,null,null,null,null,"gewonnen"]
["Schütze:",null,null,null,null,"verloren",null,null,"Schütze:",null,null,null,null,"verloren",null,null,"Schütze:",null,null,null,null,"verloren"]
[]
["Gegner:",null,"Name:",null,null,null,null,null,"Gegner:",null,"Name:",null,null,null,null,null,"Gegner:",null,"Name:"]
[null,null,"Unterschrift:",null,null,null,null,null,null,null,"Unterschrift:",null,null,null,null,null,null,null,"Unterschrift:"]
[]
[]
[]
[null,null,null,null,null,null,null,null,"1/16 Elimination",null,null,null,null,null,null,null,"1/8 Elimination",null,null,null,{"$f":"'C16_Baum'!$C$60","v":"Scheibe: 3B"}]
[null,null,null,null,null,null,null,null,null,1,2,3,"Summe","Ges.",null,null,null,1,2,3,"Summe","Ges."]
[{"$f":"Select!$C$12","v":"Demoturnier"},null,null,null,null,null,null,null,1,null,null,null,null,null,null,null,1]
["Veranstaltung",null,null,null,null,null,null,null,2,null,null,null,null,null,null,null,2]
[{"$f":"Select!$C$13","v":"1. April 2019"},null,null,null,null,null,null,null,3,null,null,null,null,null,null,null,3]
["Datum",null,null,null,null,null,null,null,4,null,null,null,null,null,null,null,4]
[{"$f":"'C16_Baum'!$C$17","v":"Willingshofer August"},null,null,null,null,null,null,null,5,null,null,null,null,null,null,null,5]
["Name",null,null,null,null,null,null,null,"wenn erforderlich",null,null,null,null,null,null,null,"wenn erforderlich"]
[{"$f":"'C16_Baum'!$C$18","v":"BSC Velden"},null,null,null,null,null,null,null,"Stechen",null,null,null,null,null,null,null,"Stechen"]
["Verein",null,null,null,null,null,null,null,null,null,null,null,null,"gewonnen",null,null,null,null,null,null,null,"gewonnen"]
[{"$f":"Select!$C$20","v":"Compound Herren"},null,null,null,null,null,null,null,"Schütze:",null,null,null,null,"verloren",null,null,"Schütze:",null,null,null,null,"verloren"]
["Bogenklasse"]
[null,null,null,null,null,null,null,null,"Gegner:",null,"Name:",null,null,null,null,null,"Gegner:",null,"Name:",{"$f":"'C16_Baum'!C15","v":"Traxler Helmuth"}]
[null,null,null,null,null,null,null,null,null,null,"Unterschrift:",null,null,null,null,null,null,null,"Unterschrift:"]
[]
[]
["1/4 Finale",null,null,null,{"$f":"'C16_Baum'!$G$57","v":"Scheibe: 7A"},null,null,null,"1/2 Finale",null,null,null,{"$f":"'C16_Baum'!$K$56","v":"Scheibe: 7"},null,null,null,"1./2. od. 3./4. Platz",null,null,null,"Scheibe:"]
[null,1,2,3,"Summe","Ges.",null,null,null,1,2,3,"Summe","Ges.",null,null,null,1,2,3,"Summe","Ges."]
[1,null,null,null,null,null,null,null,1,null,null,null,null,null,null,null,1]
[2,null,null,null,null,null,null,null,2,null,null,null,null,null,null,null,2]
[3,null,null,null,null,null,null,null,3,null,null,null,null,null,null,null,3]
[4,null,null,null,null,null,null,null,4,null,null,null,null,null,null,null,4]
[5,null,null,null,null,null,null,null,5,null,null,null,null,null,null,null,5]
["wenn erforderlich",null,null,null,null,null,null,null,"wenn erforderlich",null,null,null,null,null,null,null,"wenn erforderlich"]
["Stechen",null,null,null,null,null,null,null,"Stechen",null,null,null,null,null,null,null,"Stechen"]
[null,null,null,null,null,"gewonnen",null,null,null,null,null,null,null,"gewonnen",null,null,null,null,null,null,null,"gewonnen"]
["Schütze:",null,null,null,null,"verloren",null,null,"Schütze:",null,null,null,null,"verloren",null,null,"Schütze:",null,null,null,null,"verloren"]
[]
["Gegner:",null,"Name:",null,null,null,null,null,"Gegner:",null,"Name:",null,null,null,null,null,"Gegner:",null,"Name:"]
[null,null,"Unterschrift:",null,null,null,null,null,null,null,"Unterschrift:",null,null,null,null,null,null,null,"Unterschrift:"]
[]
[]
[]
[null,null,null,null,null,null,null,null,"1/16 Elimination",null,null,null,null,null,null,null,"1/8 Elimination",null,null,null,{"$f":"'C16_Baum'!$C$61","v":"Scheibe: 4A"}]
[null,null,null,null,null,null,null,null,null,1,2,3,"Summe","Ges.",null,null,null,1,2,3,"Summe","Ges."]
[{"$f":"Select!$C$12","v":"Demoturnier"},null,null,null,null,null,null,null,1,null,null,null,null,null,null,null,1]
["Veranstaltung",null,null,null,null,null,null,null,2,null,null,null,null,null,null,null,2]
[{"$f":"Select!$C$13","v":"1. April 2019"},null,null,null,null,null,null,null,3,null,null,null,null,null,null,null,3]
["Datum",null,null,null,null,null,null,null,4,null,null,null,null,null,null,null,4]
[{"$f":"'C16_Baum'!$C$21","v":"Zezula Erwin"},null,null,null,null,null,null,null,5,null,null,null,null,null,null,null,5]
["Name",null,null,null,null,null,null,null,"wenn erforderlich",null,null,null,null,null,null,null,"wenn erforderlich"]
[{"$f":"'C16_Baum'!$C$22","v":"WBZ Union Zwettl"},null,null,null,null,null,null,null,"Stechen",null,null,null,null,null,null,null,"Stechen"]
["Verein",null,null,null,null,null,null,null,null,null,null,null,null,"gewonnen",null,null,null,null,null,null,null,"gewonnen"]
[{"$f":"Select!$C$20","v":"Compound Herren"},null,null,null,null,null,null,null,"Schütze:",null,null,null,null,"verloren",null,null,"Schütze:",null,null,null,null,"verloren"]
["Bogenklasse"]
[null,null,null,null,null,null,null,null,"Gegner:",null,"Name:",null,null,null,null,null,"Gegner:",null,"Name:",{"$f":"'C16_Baum'!C23","v":"Wippel Wolfgang"}]
[null,null,null,null,null,null,null,null,null,null,"Unterschrift:",null,null,null,null,null,null,null,"Unterschrift:"]
[]
[]
["1/4 Finale",null,null,null,{"$f":"'C16_Baum'!$G$58","v":"Scheibe: 7B"},null,null,null,"1/2 Finale",null,null,null,{"$f":"'C16_Baum'!$K$56","v":"Scheibe: 7"},null,null,null,"1./2. od. 3./4. Platz",null,null,null,"Scheibe:"]
[null,1,2,3,"Summe","Ges.",null,null,null,1,2,3,"Summe","Ges.",null,null,null,1,2,3,"Summe","Ges."]
[1,null,null,null,null,null,null,null,1,null,null,null,null,null,null,null,1]
[2,null,null,null,null,null,null,null,2,null,null,null,null,null,null,null,2]
[3,null,null,null,null,null,null,null,3,null,null,null,null,null,null,null,3]
[4,null,null,null,null,null,null,null,4,null,null,null,null,null,null,null,4]
[5,null,null,null,null,null,null,null,5,null,null,null,null,null,null,null,5]
["wenn erforderlich",null,null,null,null,null,null,null,"wenn erforderlich",null,null,null,null,null,null,null,"wenn erforderlich"]
["Stechen",null,null,null,null,null,null,null,"Stechen",null,null,null,null,null,null,null,"Stechen"]
[null,null,null,null,null,"gewonnen",null,null,null,null,null,null,null,"gewonnen",null,null,null,null,null,null,null,"gewonnen"]
["Schütze:",null,null,null,null,"verloren",null,null,"Schütze:",null,null,null,null,"verloren",null,null,"Schütze:",null,null,null,null,"verloren"]
[]
["Gegner:",null,"Name:",null,null,null,null,null,"Gegner:",null,"Name:",null,null,null,null,null,"Gegner:",null,"Name:"]
[null,null,"Unterschrift:",null,null,null,null,null,null,null,"Unterschrift:",null,null,null,null,null,null,null,"Unterschrift:"]
[]
[]
[]
[null,null,null,null,null,null,null,null,"1/16 Elimination",null,null,null,null,null,null,null,"1/8 Elimination",null,null,null,{"$f":"'C16_Baum'!$C$62","v":"Scheibe: 4B"}]
[null,null,null,null,null,null,null,null,null,1,2,3,"Summe","Ges.",null,null,null,1,2,3,"Summe","Ges."]
[{"$f":"Select!$C$12","v":"Demoturnier"},null,null,null,null,null,null,null,1,null,null,null,null,null,null,null,1]
["Veranstaltung",null,null,null,null,null,null,null,2,null,null,null,null,null,null,null,2]
[{"$f":"Select!$C$13","v":"1. April 2019"},null,null,null,null,null,null,null,3,null,null,null,null,null,null,null,3]
["Datum",null,null,null,null,null,null,null,4,null,null,null,null,null,null,null,4]
[{"$f":"'C16_Baum'!$C$23","v":"Wippel Wolfgang"},null,null,null,null,null,null,null,5,null,null,null,null,null,null,null,5]
["Name",null,null,null,null,null,null,null,"wenn erforderlich",null,null,null,null,null,null,null,"wenn erforderlich"]
[{"$f":"'C16_Baum'!$C$24","v":"BC Union Graz Seiersberg"},null,null,null,null,null,null,null,"Stechen",null,null,null,null,null,null,null,"Stechen"]
["Verein",null,null,null,null,null,null,null,null,null,null,null,null,"gewonnen",null,null,null,null,null,null,null,"gewonnen"]
[{"$f":"Select!$C$20","v":"Compound Herren"},null,null,null,null,null,null,null,"Schütze:",null,null,null,null,"verloren",null,null,"Schütze:",null,null,null,null,"verloren"]
["Bogenklasse"]
[null,null,null,null,null,null,null,null,"Gegner:",null,"Name:",null,null,null,null,null,"Gegner:",null,"Name:",{"$f":"'C16_Baum'!C21","v":"Zezula Erwin"}]
[null,null,null,null,null,null,null,null,null,null,"Unterschrift:",null,null,null,null,null,null,null,"Unterschrift:"]
[]
[]
["1/4 Finale",null,null,null,{"$f":"'C16_Baum'!$G$58","v":"Scheibe: 7B"},null,null,null,"1/2 Finale",null,null,null,{"$f":"'C16_Baum'!$K$56","v":"Scheibe: 7"},null,null,null,"1./2. od. 3./4. Platz",null,null,null,"Scheibe:"]
[null,1,2,3,"Summe","Ges.",null,null,null,1,2,3,"Summe","Ges.",null,null,null,1,2,3,"Summe","Ges."]
[1,null,null,null,null,null,null,null,1,null,null,null,null,null,null,null,1]
[2,null,null,null,null,null,null,null,2,null,null,null,null,null,null,null,2]
[3,null,null,null,null,null,null,null,3,null,null,null,null,null,null,null,3]
[4,null,null,null,null,null,null,null,4,null,null,null,null,null,null,null,4]
[5,null,null,null,null,null,null,null,5,null,null,null,null,null,null,null,5]
["wenn erforderlich",null,null,null,null,null,null,null,"wenn erforderlich",null,null,null,null,null,null,null,"wenn erforderlich"]
["Stechen",null,null,null,null,null,null,null,"Stechen",null,null,null,null,null,null,null,"Stechen"]
[null,null,null,null,null,"gewonnen",null,null,null,null,null,null,null,"gewonnen",null,null,null,null,null,null,null,"gewonnen"]
["Schütze:",null,null,null,null,"verloren",null,null,"Schütze:",null,null,null,null,"verloren",null,null,"Schütze:",null,null,null,null,"verloren"]
[]
["Gegner:",null,"Name:",null,null,null,null,null,"Gegner:",null,"Name:",null,null,null,null,null,"Gegner:",null,"Name:"]
[null,null,"Unterschrift:",null,null,null,null,null,null,null,"Unterschrift:",null,null,null,null,null,null,null,"Unterschrift:"]
[]
[]
[]
[null,null,null,null,null,null,null,null,"1/16 Elimination",null,null,null,null,null,null,null,"1/8 Elimination",null,null,null,{"$f":"'C16_Baum'!$C$63","v":"Scheibe: 5A"}]
[null,null,null,null,null,null,null,null,null,1,2,3,"Summe","Ges.",null,null,null,1,2,3,"Summe","Ges."]
[{"$f":"Select!$C$12","v":"Demoturnier"},null,null,null,null,null,null,null,1,null,null,null,null,null,null,null,1]
["Veranstaltung",null,null,null,null,null,null,null,2,null,null,null,null,null,null,null,2]
[{"$f":"Select!$C$13","v":"1. April 2019"},null,null,null,null,null,null,null,3,null,null,null,null,null,null,null,3]
["Datum",null,null,null,null,null,null,null,4,null,null,null,null,null,null,null,4]
[{"$f":"'C16_Baum'!$C$27","v":"Hubmann Gerhard"},null,null,null,null,null,null,null,5,null,null,null,null,null,null,null,5]
["Name",null,null,null,null,null,null,null,"wenn erforderlich",null,null,null,null,null,null,null,"wenn erforderlich"]
[{"$f":"'C16_Baum'!$C$28","v":"EAT-Bogensport"},null,null,null,null,null,null,null,"Stechen",null,null,null,null,null,null,null,"Stechen"]
["Verein",null,null,null,null,null,null,null,null,null,null,null,null,"gewonnen",null,null,null,null,null,null,null,"gewonnen"]
[{"$f":"Select!$C$20","v":"Compound Herren"},null,null,null,null,null,null,null,"Schütze:",null,null,null,null,"verloren",null,null,"Schütze:",null,null,null,null,"verloren"]
["Bogenklasse"]
[null,null,null,null,null,null,null,null,"Gegner:",null,"Name:",null,null,null,null,null,"Gegner:",null,"Name:",{"$f":"'C16_Baum'!C29","v":"Wühl Martin"}]
[null,null,null,null,null,null,null,null,null,null,"Unterschrift:",null,null,null,null,null,null,null,"Unterschrift:"]
[]
[]
["1/4 Finale",null,null,null,{"$f":"'C16_Baum'!$G$59","v":"Scheibe: 8A"},null,null,null,"1/2 Finale",null,null,null,{"$f":"'C16_Baum'!$K$57","v":"Scheibe: 8"},null,null,null,"1./2. od. 3./4. Platz",null,null,null,"Scheibe:"]
[null,1,2,3,"Summe","Ges.",null,null,null,1,2,3,"Summe","Ges.",null,null,null,1,2,3,"Summe","Ges."]
[1,null,null,null,null,null,null,null,1,null,null,null,null,null,null,null,1]
[2,null,null,null,null,null,null,null,2,null,null,null,null,null,null,null,2]
[3,null,null,null,null,null,null,null,3,null,null,null,null,null,null,null,3]
[4,null,null,null,null,null,null,null,4,null,null,null,null,null,null,null,4]
[5,null,null,null,null,null,null,null,5,null,null,null,null,null,null,null,5]
["wenn erforderlich",null,null,null,null,null,null,null,"wenn erforderlich",null,null,null,null,null,null,null,"wenn erforderlich"]
["Stechen",null,null,null,null,null,null,null,"Stechen",null,null,null,null,null,null,null,"Stechen"]
[null,null,null,null,null,"gewonnen",null,null,null,null,null,null,null,"gewonnen",null,null,null,null,null,null,null,"gewonnen"]
["Schütze:",null,null,null,null,"verloren",null,null,"Schütze:",null,null,null,null,"verloren",null,null,"Schütze:",null,null,null,null,"verloren"]
[]
["Gegner:",null,"Name:",null,null,null,null,null,"Gegner:",null,"Name:",null,null,null,null,null,"Gegner:",null,"Name:"]
[null,null,"Unterschrift:",null,null,null,null,null,null,null,"Unterschrift:",null,null,null,null,null,null,null,"Unterschrift:"]
[]
[]
[]
[null,null,null,null,null,null,null,null,"1/16 Elimination",null,null,null,null,null,null,null,"1/8 Elimination",null,null,null,{"$f":"'C16_Baum'!$C$64","v":"Scheibe: 5B"}]
[null,null,null,null,null,null,null,null,null,1,2,3,"Summe","Ges.",null,null,null,1,2,3,"Summe","Ges."]
[{"$f":"Select!$C$12","v":"Demoturnier"},null,null,null,null,null,null,null,1,null,null,null,null,null,null,null,1]
["Veranstaltung",null,null,null,null,null,null,null,2,null,null,null,null,null,null,null,2]
[{"$f":"Select!$C$13","v":"1. April 2019"},null,null,null,null,null,null,null,3,null,null,null,null,null,null,null,3]
["Datum",null,null,null,null,null,null,null,4,null,null,null,null,null,null,null,4]
[{"$f":"'C16_Baum'!$C$29","v":"Wühl Martin"},null,null,null,null,null,null,null,5,null,null,null,null,null,null,null,5]
["Name",null,null,null,null,null,null,null,"wenn erforderlich",null,null,null,null,null,null,null,"wenn erforderlich"]
[{"$f":"'C16_Baum'!$C$30","v":"BSC Fischamend"},null,null,null,null,null,null,null,"Stechen",null,null,null,null,null,null,null,"Stechen"]
["Verein",null,null,null,null,null,null,null,null,null,null,null,null,"gewonnen",null,null,null,null,null,null,null,"gewonnen"]
[{"$f":"Select!$C$20","v":"Compound Herren"},null,null,null,null,null,null,null,"Schütze:",null,null,null,null,"verloren",null,null,"Schütze:",null,null,null,null,"verloren"]
["Bogenklasse"]
[null,null,null,null,null,null,null,null,"Gegner:",null,"Name:",null,null,null,null,null,"Gegner:",null,"Name:",{"$f":"'C16_Baum'!C27","v":"Hubmann Gerhard"}]
[null,null,null,null,null,null,null,null,null,null,"Unterschrift:",null,null,null,null,null,null,null,"Unterschrift:"]
[]
[]
["1/4 Finale",null,null,null,{"$f":"'C16_Baum'!$G$59","v":"Scheibe: 8A"},null,null,null,"1/2 Finale",null,null,null,{"$f":"'C16_Baum'!$K$57","v":"Scheibe: 8"},null,null,null,"1./2. od. 3./4. Platz",null,null,null,"Scheibe:"]
[null,1,2,3,"Summe","Ges.",null,null,null,1,2,3,"Summe","Ges.",null,null,null,1,2,3,"Summe","Ges."]
[1,null,null,null,null,null,null,null,1,null,null,null,null,null,null,null,1]
[2,null,null,null,null,null,null,null,2,null,null,null,null,null,null,null,2]
[3,null,null,null,null,null,null,null,3,null,null,null,null,null,null,null,3]
[4,null,null,null,null,null,null,null,4,null,null,null,null,null,null,null,4]
[5,null,null,null,null,null,null,null,5,null,null,null,null,null,null,null,5]
["wenn erforderlich",null,null,null,null,null,null,null,"wenn erforderlich",null,null,null,null,null,null,null,"wenn erforderlich"]
["Stechen",null,null,null,null,null,null,null,"Stechen",null,null,null,null,null,null,null,"Stechen"]
[null,null,null,null,null,"gewonnen",null,null,null,null,null,null,null,"gewonnen",null,null,null,null,null,null,null,"gewonnen"]
["Schütze:",null,null,null,null,"verloren",null,null,"Schütze:",null,null,null,null,"verloren",null,null,"Schütze:",null,null,null,null,"verloren"]
[]
["Gegner:",null,"Name:",null,null,null,null,null,"Gegner:",null,"Name:",null,null,null,null,null,"Gegner:",null,"Name:"]
[null,null,"Unterschrift:",null,null,null,null,null,null,null,"Unterschrift:",null,null,null,null,null,null,null,"Unterschrift:"]
[]
[]
[]
[null,null,null,null,null,null,null,null,"1/16 Elimination",null,null,null,null,null,null,null,"1/8 Elimination",null,null,null,{"$f":"'C16_Baum'!$C$65","v":"Scheibe: 6A"}]
[null,null,null,null,null,null,null,null,null,1,2,3,"Summe","Ges.",null,null,null,1,2,3,"Summe","Ges."]
[{"$f":"Select!$C$12","v":"Demoturnier"},null,null,null,null,null,null,null,1,null,null,null,null,null,null,null,1]
["Veranstaltung",null,null,null,null,null,null,null,2,null,null,null,null,null,null,null,2]
[{"$f":"Select!$C$13","v":"1. April 2019"},null,null,null,null,null,null,null,3,null,null,null,null,null,null,null,3]
["Datum",null,null,null,null,null,null,null,4,null,null,null,null,null,null,null,4]
[{"$f":"'C16_Baum'!$C$33","v":"Burda Erwin"},null,null,null,null,null,null,null,5,null,null,null,null,null,null,null,5]
["Name",null,null,null,null,null,null,null,"wenn erforderlich",null,null,null,null,null,null,null,"wenn erforderlich"]
[{"$f":"'C16_Baum'!$C$34","v":"BC Golden Arrows"},null,null,null,null,null,null,null,"Stechen",null,null,null,null,null,null,null,"Stechen"]
["Verein",null,null,null,null,null,null,null,null,null,null,null,null,"gewonnen",null,null,null,null,null,null,null,"gewonnen"]
[{"$f":"Select!$C$20","v":"Compound Herren"},null,null,null,null,null,null,null,"Schütze:",null,null,null,null,"verloren",null,null,"Schütze:",null,null,null,null,"verloren"]
["Bogenklasse"]
[null,null,null,null,null,null,null,null,"Gegner:",null,"Name:",null,null,null,null,null,"Gegner:",null,"Name:",{"$f":"'C16_Baum'!C35","v":"Schneider Wolfgang"}]
[null,null,null,null,null,null,null,null,null,null,"Unterschrift:",null,null,null,null,null,null,null,"Unterschrift:"]
[]
[]
["1/4 Finale",null,null,null,{"$f":"'C16_Baum'!$G$60","v":"Scheibe: 8B"},null,null,null,"1/2 Finale",null,null,null,{"$f":"'C16_Baum'!$K$57","v":"Scheibe: 8"},null,null,null,"1./2. od. 3./4. Platz",null,null,null,"Scheibe:"]
[null,1,2,3,"Summe","Ges.",null,null,null,1,2,3,"Summe","Ges.",null,null,null,1,2,3,"Summe","Ges."]
[1,null,null,null,null,null,null,null,1,null,null,null,null,null,null,null,1]
[2,null,null,null,null,null,null,null,2,null,null,null,null,null,null,null,2]
[3,null,null,null,null,null,null,null,3,null,null,null,null,null,null,null,3]
[4,null,null,null,null,null,null,null,4,null,null,null,null,null,null,null,4]
[5,null,null,null,null,null,null,null,5,null,null,null,null,null,null,null,5]
["wenn erforderlich",null,null,null,null,null,null,null,"wenn erforderlich",null,null,null,null,null,null,null,"wenn erforderlich"]
["Stechen",null,null,null,null,null,null,null,"Stechen",null,null,null,null,null,null,null,"Stechen"]
[null,null,null,null,null,"gewonnen",null,null,null,null,null,null,null,"gewonnen",null,null,null,null,null,null,null,"gewonnen"]
["Schütze:",null,null,null,null,"verloren",null,null,"Schütze:",null,null,null,null,"verloren",null,null,"Schütze:",null,null,null,null,"verloren"]
[]
["Gegner:",null,"Name:",null,null,null,null,null,"Gegner:",null,"Name:",null,null,null,null,null,"Gegner:",null,"Name:"]
[null,null,"Unterschrift:",null,null,null,null,null,null,null,"Unterschrift:",null,null,null,null,null,null,null,"Unterschrift:"]
[]
[]
[]
[null,null,null,null,null,null,null,null,"1/16 Elimination",null,null,null,null,null,null,null,"1/8 Elimination",null,null,null,{"$f":"'C16_Baum'!$C$66","v":"Scheibe: 6B"}]
[null,null,null,null,null,null,null,null,null,1,2,3,"Summe","Ges.",null,null,null,1,2,3,"Summe","Ges."]
[{"$f":"Select!$C$12","v":"Demoturnier"},null,null,null,null,null,null,null,1,null,null,null,null,null,null,null,1]
["Veranstaltung",null,null,null,null,null,null,null,2,null,null,null,null,null,null,null,2]
[{"$f":"Select!$C$13","v":"1. April 2019"},null,null,null,null,null,null,null,3,null,null,null,null,null,null,null,3]
["Datum",null,null,null,null,null,null,null,4,null,null,null,null,null,null,null,4]
[{"$f":"'C16_Baum'!$C$35","v":"Schneider Wolfgang"},null,null,null,null,null,null,null,5,null,null,null,null,null,null,null,5]
["Name",null,null,null,null,null,null,null,"wenn erforderlich",null,null,null,null,null,null,null,"wenn erforderlich"]
[{"$f":"'C16_Baum'!$C$36","v":"WBZ Union Zwettl"},null,null,null,null,null,null,null,"Stechen",null,null,null,null,null,null,null,"Stechen"]
["Verein",null,null,null,null,null,null,null,null,null,null,null,null,"gewonnen",null,null,null,null,null,null,null,"gewonnen"]
[{"$f":"Select!$C$20","v":"Compound Herren"},null,null,null,null,null,null,null,"Schütze:",null,null,null,null,"verloren",null,null,"Schütze:",null,null,null,null,"verloren"]
["Bogenklasse"]
[null,null,null,null,null,null,null,null,"Gegner:",null,"Name:",null,null,null,null,null,"Gegner:",null,"Name:",{"$f":"'C16_Baum'!C33","v":"Burda Erwin"}]
[null,null,null,null,null,null,null,null,null,null,"Unterschrift:",null,null,null,null,null,null,null,"Unterschrift:"]
[]
[]
["1/4 Finale",null,null,null,{"$f":"'C16_Baum'!$G$60","v":"Scheibe: 8B"},null,null,null,"1/2 Finale",null,null,null,{"$f":"'C16_Baum'!$K$57","v":"Scheibe: 8"},null,null,null,"1./2. od. 3./4. Platz",null,null,null,"Scheibe:"]
[null,1,2,3,"Summe","Ges.",null,null,null,1,2,3,"Summe","Ges.",null,null,null,1,2,3,"Summe","Ges."]
[1,null,null,null,null,null,null,null,1,null,null,null,null,null,null,null,1]
[2,null,null,null,null,null,null,null,2,null,null,null,null,null,null,null,2]
[3,null,null,null,null,null,null,null,3,null,null,null,null,null,null,null,3]
[4,null,null,null,null,null,null,null,4,null,null,null,null,null,null,null,4]
[5,null,null,null,null,null,null,null,5,null,null,null,null,null,null,null,5]
["wenn erforderlich",null,null,null,null,null,null,null,"wenn erforderlich",null,null,null,null,null,null,null,"wenn erforderlich"]
["Stechen",null,null,null,null,null,null,null,"Stechen",null,null,null,null,null,null,null,"Stechen"]
[null,null,null,null,null,"gewonnen",null,null,null,null,null,null,null,"gewonnen",null,null,null,null,null,null,null,"gewonnen"]
["Schütze:",null,null,null,null,"verloren",null,null,"Schütze:",null,null,null,null,"verloren",null,null,"Schütze:",null,null,null,null,"verloren"]
[]
["Gegner:",null,"Name:",null,null,null,null,null,"Gegner:",null,"Name:",null,null,null,null,null,"Gegner:",null,"Name:"]
[null,null,"Unterschrift:",null,null,null,null,null,null,null,"Unterschrift:",null,null,null,null,null,null,null,"Unterschrift:"]
[]
[]
[]
[null,null,null,null,null,null,null,null,"1/16 Elimination",null,null,null,null,null,null,null,"1/8 Elimination",null,null,null,{"$f":"'C16_Baum'!$C$67","v":"Scheibe: 7A"}]
[null,null,null,null,null,null,null,null,null,1,2,3,"Summe","Ges.",null,null,null,1,2,3,"Summe","Ges."]
[{"$f":"Select!$C$12","v":"Demoturnier"},null,null,null,null,null,null,null,1,null,null,null,null,null,null,null,1]
["Veranstaltung",null,null,null,null,null,null,null,2,null,null,null,null,null,null,null,2]
[{"$f":"Select!$C$13","v":"1. April 2019"},null,null,null,null,null,null,null,3,null,null,null,null,null,null,null,3]
["Datum",null,null,null,null,null,null,null,4,null,null,null,null,null,null,null,4]
[{"$f":"'C16_Baum'!$C$39","v":"Koisegg Johann"},null,null,null,null,null,null,null,5,null,null,null,null,null,null,null,5]
["Name",null,null,null,null,null,null,null,"wenn erforderlich",null,null,null,null,null,null,null,"wenn erforderlich"]
[{"$f":"'C16_Baum'!$C$40","v":"BSC Sparkasse Jenbach"},null,null,null,null,null,null,null,"Stechen",null,null,null,null,null,null,null,"Stechen"]
["Verein",null,null,null,null,null,null,null,null,null,null,null,null,"gewonnen",null,null,null,null,null,null,null,"gewonnen"]
[{"$f":"Select!$C$20","v":"Compound Herren"},null,null,null,null,null,null,null,"Schütze:",null,null,null,null,"verloren",null,null,"Schütze:",null,null,null,null,"verloren"]
["Bogenklasse"]
[null,null,null,null,null,null,null,null,"Gegner:",null,"Name:",null,null,null,null,null,"Gegner:",null,"Name:",{"$f":"'C16_Baum'!C41","v":"Linhart Christian"}]
[null,null,null,null,null,null,null,null,null,null,"Unterschrift:",null,null,null,null,null,null,null,"Unterschrift:"]
[]
[]
["1/4 Finale",null,null,null,{"$f":"'C16_Baum'!$G$61","v":"Scheibe: 9A"},null,null,null,"1/2 Finale",null,null,null,{"$f":"'C16_Baum'!$K$58","v":"Scheibe: 9"},null,null,null,"1./2. od. 3./4. Platz",null,null,null,"Scheibe:"]
[null,1,2,3,"Summe","Ges.",null,null,null,1,2,3,"Summe","Ges.",null,null,null,1,2,3,"Summe","Ges."]
[1,null,null,null,null,null,null,null,1,null,null,null,null,null,null,null,1]
[2,null,null,null,null,null,null,null,2,null,null,null,null,null,null,null,2]
[3,null,null,null,null,null,null,null,3,null,null,null,null,null,null,null,3]
[4,null,null,null,null,null,null,null,4,null,null,null,null,null,null,null,4]
[5,null,null,null,null,null,null,null,5,null,null,null,null,null,null,null,5]
["wenn erforderlich",null,null,null,null,null,null,null,"wenn erforderlich",null,null,null,null,null,null,null,"wenn erforderlich"]
["Stechen",null,null,null,null,null,null,null,"Stechen",null,null,null,null,null,null,null,"Stechen"]
[null,null,null,null,null,"gewonnen",null,null,null,null,null,null,null,"gewonnen",null,null,null,null,null,null,null,"gewonnen"]
["Schütze:",null,null,null,null,"verloren",null,null,"Schütze:",null,null,null,null,"verloren",null,null,"Schütze:",null,null,null,null,"verloren"]
[]
["Gegner:",null,"Name:",null,null,null,null,null,"Gegner:",null,"Name:",null,null,null,null,null,"Gegner:",null,"Name:"]
[null,null,"Unterschrift:",null,null,null,null,null,null,null,"Unterschrift:",null,null,null,null,null,null,null,"Unterschrift:"]
[]
[]
[]
[null,null,null,null,null,null,null,null,"1/16 Elimination",null,null,null,null,null,null,null,"1/8 Elimination",null,null,null,{"$f":"'C16_Baum'!$C$68","v":"Scheibe: 7B"}]
[null,null,null,null,null,null,null,null,null,1,2,3,"Summe","Ges.",null,null,null,1,2,3,"Summe","Ges."]
[{"$f":"Select!$C$12","v":"Demoturnier"},null,null,null,null,null,null,null,1,null,null,null,null,null,null,null,1]
["Veranstaltung",null,null,null,null,null,null,null,2,null,null,null,null,null,null,null,2]
[{"$f":"Select!$C$13","v":"1. April 2019"},null,null,null,null,null,null,null,3,null,null,null,null,null,null,null,3]
["Datum",null,null,null,null,null,null,null,4,null,null,null,null,null,null,null,4]
[{"$f":"'C16_Baum'!$C$41","v":"Linhart Christian"},null,null,null,null,null,null,null,5,null,null,null,null,null,null,null,5]
["Name",null,null,null,null,null,null,null,"wenn erforderlich",null,null,null,null,null,null,null,"wenn erforderlich"]
[{"$f":"'C16_Baum'!$C$42","v":"BSV Stöttera"},null,null,null,null,null,null,null,"Stechen",null,null,null,null,null,null,null,"Stechen"]
["Verein",null,null,null,null,null,null,null,null,null,null,null,null,"gewonnen",null,null,null,null,null,null,null,"gewonnen"]
[{"$f":"Select!$C$20","v":"Compound Herren"},null,null,null,null,null,null,null,"Schütze:",null,null,null,null,"verloren",null,null,"Schütze:",null,null,null,null,"verloren"]
["Bogenklasse"]
[null,null,null,null,null,null,null,null,"Gegner:",null,"Name:",null,null,null,null,null,"Gegner:",null,"Name:",{"$f":"'C16_Baum'!C39","v":"Koisegg Johann"}]
[null,null,null,null,null,null,null,null,null,null,"Unterschrift:",null,null,null,null,null,null,null,"Unterschrift:"]
[]
[]
["1/4 Finale",null,null,null,{"$f":"'C16_Baum'!$G$61","v":"Scheibe: 9A"},null,null,null,"1/2 Finale",null,null,null,{"$f":"'C16_Baum'!$K$58","v":"Scheibe: 9"},null,null,null,"1./2. od. 3./4. Platz",null,null,null,"Scheibe:"]
[null,1,2,3,"Summe","Ges.",null,null,null,1,2,3,"Summe","Ges.",null,null,null,1,2,3,"Summe","Ges."]
[1,null,null,null,null,null,null,null,1,null,null,null,null,null,null,null,1]
[2,null,null,null,null,null,null,null,2,null,null,null,null,null,null,null,2]
[3,null,null,null,null,null,null,null,3,null,null,null,null,null,null,null,3]
[4,null,null,null,null,null,null,null,4,null,null,null,null,null,null,null,4]
[5,null,null,null,null,null,null,null,5,null,null,null,null,null,null,null,5]
["wenn erforderlich",null,null,null,null,null,null,null,"wenn erforderlich",null,null,null,null,null,null,null,"wenn erforderlich"]
["Stechen",null,null,null,null,null,null,null,"Stechen",null,null,null,null,null,null,null,"Stechen"]
[null,null,null,null,null,"gewonnen",null,null,null,null,null,null,null,"gewonnen",null,null,null,null,null,null,null,"gewonnen"]
["Schütze:",null,null,null,null,"verloren",null,null,"Schütze:",null,null,null,null,"verloren",null,null,"Schütze:",null,null,null,null,"verloren"]
[]
["Gegner:",null,"Name:",null,null,null,null,null,"Gegner:",null,"Name:",null,null,null,null,null,"Gegner:",null,"Name:"]
[null,null,"Unterschrift:",null,null,null,null,null,null,null,"Unterschrift:",null,null,null,null,null,null,null,"Unterschrift:"]
[]
[]
[]
[null,null,null,null,null,null,null,null,"1/16 Elimination",null,null,null,null,null,null,null,"1/8 Elimination",null,null,null,{"$f":"'C16_Baum'!$C$69","v":"Scheibe: 8A"}]
[null,null,null,null,null,null,null,null,null,1,2,3,"Summe","Ges.",null,null,null,1,2,3,"Summe","Ges."]
[{"$f":"Select!$C$12","v":"Demoturnier"},null,null,null,null,null,null,null,1,null,null,null,null,null,null,null,1]
["Veranstaltung",null,null,null,null,null,null,null,2,null,null,null,null,null,null,null,2]
[{"$f":"Select!$C$13","v":"1. April 2019"},null,null,null,null,null,null,null,3,null,null,null,null,null,null,null,3]
["Datum",null,null,null,null,null,null,null,4,null,null,null,null,null,null,null,4]
[{"$f":"'C16_Baum'!$C$45","v":"Url Marsell"},null,null,null,null,null,null,null,5,null,null,null,null,null,null,null,5]
["Name",null,null,null,null,null,null,null,"wenn erforderlich",null,null,null,null,null,null,null,"wenn erforderlich"]
[{"$f":"'C16_Baum'!$C$46","v":"UBSC Artemis Steiermark"},null,null,null,null,null,null,null,"Stechen",null,null,null,null,null,null,null,"Stechen"]
["Verein",null,null,null,null,null,null,null,null,null,null,null,null,"gewonnen",null,null,null,null,null,null,null,"gewonnen"]
[{"$f":"Select!$C$20","v":"Compound Herren"},null,null,null,null,null,null,null,"Schütze:",null,null,null,null,"verloren",null,null,"Schütze:",null,null,null,null,"verloren"]
["Bogenklasse"]
[null,null,null,null,null,null,null,null,"Gegner:",null,"Name:",null,null,null,null,null,"Gegner:",null,"Name:",{"$f":"'C16_Baum'!C47","v":"Kanduth Wolfgang"}]
[null,null,null,null,null,null,null,null,null,null,"Unterschrift:",null,null,null,null,null,null,null,"Unterschrift:"]
[]
[]
["1/4 Finale",null,null,null,{"$f":"'C16_Baum'!$G$62","v":"Scheibe: 9B"},null,null,null,"1/2 Finale",null,null,null,{"$f":"'C16_Baum'!$K$58","v":"Scheibe: 9"},null,null,null,"1./2. od. 3./4. Platz",null,null,null,"Scheibe:"]
[null,1,2,3,"Summe","Ges.",null,null,null,1,2,3,"Summe","Ges.",null,null,null,1,2,3,"Summe","Ges."]
[1,null,null,null,null,null,null,null,1,null,null,null,null,null,null,null,1]
[2,null,null,null,null,null,null,null,2,null,null,null,null,null,null,null,2]
[3,null,null,null,null,null,null,null,3,null,null,null,null,null,null,null,3]
[4,null,null,null,null,null,null,null,4,null,null,null,null,null,null,null,4]
[5,null,null,null,null,null,null,null,5,null,null,null,null,null,null,null,5]
["wenn erforderlich",null,null,null,null,null,null,null,"wenn erforderlich",null,null,null,null,null,null,null,"wenn erforderlich"]
["Stechen",null,null,null,null,null,null,null,"Stechen",null,null,null,null,null,null,null,"Stechen"]
[null,null,null,null,null,"gewonnen",null,null,null,null,null,null,null,"gewonnen",null,null,null,null,null,null,null,"gewonnen"]
["Schütze:",null,null,null,null,"verloren",null,null,"Schütze:",null,null,null,null,"verloren",null,null,"Schütze:",null,null,null,null,"verloren"]
[]
["Gegner:",null,"Name:",null,null,null,null,null,"Gegner:",null,"Name:",null,null,null,null,null,"Gegner:",null,"Name:"]
[null,null,"Unterschrift:",null,null,null,null,null,null,null,"Unterschrift:",null,null,null,null,null,null,null,"Unterschrift:"]
[]
[]
[]
[null,null,null,null,null,null,null,null,"1/16 Elimination",null,null,null,null,null,null,null,"1/8 Elimination",null,null,null,{"$f":"'C16_Baum'!$C$70","v":"Scheibe: 8B"}]
[null,null,null,null,null,null,null,null,null,1,2,3,"Summe","Ges.",null,null,null,1,2,3,"Summe","Ges."]
[{"$f":"Select!$C$12","v":"Demoturnier"},null,null,null,null,null,null,null,1,null,null,null,null,null,null,null,1]
["Veranstaltung",null,null,null,null,null,null,null,2,null,null,null,null,null,null,null,2]
[{"$f":"Select!$C$13","v":"1. April 2019"},null,null,null,null,null,null,null,3,null,null,null,null,null,null,null,3]
["Datum",null,null,null,null,null,null,null,4,null,null,null,null,null,null,null,4]
[{"$f":"'C16_Baum'!$C$47","v":"Kanduth Wolfgang"},null,null,null,null,null,null,null,5,null,null,null,null,null,null,null,5]
["Name",null,null,null,null,null,null,null,"wenn erforderlich",null,null,null,null,null,null,null,"wenn erforderlich"]
[{"$f":"'C16_Baum'!$C$48","v":"BC Wildon Weitendorf"},null,null,null,null,null,null,null,"Stechen",null,null,null,null,null,null,null,"Stechen"]
["Verein",null,null,null,null,null,null,null,null,null,null,null,null,"gewonnen",null,null,null,null,null,null,null,"gewonnen"]
[{"$f":"Select!$C$20","v":"Compound Herren"},null,null,null,null,null,null,null,"Schütze:",null,null,null,null,"verloren",null,null,"Schütze:",null,null,null,null,"verloren"]
["Bogenklasse"]
[null,null,null,null,null,null,null,null,"Gegner:",null,"Name:",null,null,null,null,null,"Gegner:",null,"Name:",{"$f":"'C16_Baum'!C45","v":"Url Marsell"}]
[null,null,null,null,null,null,null,null,null,null,"Unterschrift:",null,null,null,null,null,null,null,"Unterschrift:"]
[]
[]
["1/4 Finale",null,null,null,{"$f":"'C16_Baum'!$G$62","v":"Scheibe: 9B"},null,null,null,"1/2 Finale",null,null,null,{"$f":"'C16_Baum'!$K$58","v":"Scheibe: 9"},null,null,null,"1./2. od. 3./4. Platz",null,null,null,"Scheibe:"]
[null,1,2,3,"Summe","Ges.",null,null,null,1,2,3,"Summe","Ges.",null,null,null,1,2,3,"Summe","Ges."]
[1,null,null,null,null,null,null,null,1,null,null,null,null,null,null,null,1]
[2,null,null,null,null,null,null,null,2,null,null,null,null,null,null,null,2]
[3,null,null,null,null,null,null,null,3,null,null,null,null,null,null,null,3]
[4,null,null,null,null,null,null,null,4,null,null,null,null,null,null,null,4]
[5,null,null,null,null,null,null,null,5,null,null,null,null,null,null,null,5]
["wenn erforderlich",null,null,null,null,null,null,null,"wenn erforderlich",null,null,null,null,null,null,null,"wenn erforderlich"]
["Stechen",null,null,null,null,null,null,null,"Stechen",null,null,null,null,null,null,null,"Stechen"]
[null,null,null,null,null,"gewonnen",null,null,null,null,null,null,null,"gewonnen",null,null,null,null,null,null,null,"gewonnen"]
["Schütze:",null,null,null,null,"verloren",null,null,"Schütze:",null,null,null,null,"verloren",null,null,"Schütze:",null,null,null,null,"verloren"]
[]
["Gegner:",null,"Name:",null,null,null,null,null,"Gegner:",null,"Name:",null,null,null,null,null,"Gegner:",null,"Name:"]
[null,null,"Unterschrift:",null,null,null,null,null,null,null,"Unterschrift:",null,null,null,null,null,null,null,"Unterschrift:"]

{"sheet":"C16_Ergebnis","index":30,"n_rows":25,"n_cols":17,"rows_kept":25,"cut":false,"hidden":true,"merged":[[6,10,6,16],[6,0,6,3],[2,0,2,3],[1,0,1,3],[4,0,4,8],[1,4,1,8]]}
[]
[{"$f":"Select!$C$12","v":"Demoturnier"},null,null,null,{"$f":"Select!C14","v":"WA-Outdoor"}]
[{"$f":"Select!C13","v":"1. April 2019"}]
[]
["Ergebnisliste"]
[]
[{"$f":"Select!C20","v":"Compound Herren"},null,null,null,null,null,null,null,null,null,"!!!!!!!!!!!!!!!!!!!!!!!!!!  SORTIERBEREICH - NICHT ENTFERNEN !!!!!!!!!!!!!!!!!!!!!!!!!!"]
[]
["Pl.",null,"Name","Verein","Quali.","1/8","1/4","1/2","Finale",null,"SortName","SortVerein","SortQuali","Sort1/8","Sort1/4","Sort1/2","SortFinale"]
[{"$f":"IF(C10<>\"\",1,\"\")","v":""},null,"","",{"$error":"#N/A"},{"$error":"#N/A"},0,0,0,null,{"$f":"IF('C16_Baum'!$P$21>'C16_Baum'!$P$23,'C16_Baum'!$O$21,IF('C16_Baum'!$P$23>'C16_Baum'!$P$21,'C16_Baum'!$O$23,IF(RIGHT('C16_Baum'!$P$21,1)=\"*\",'C16_Baum'!$O$21,IF(RIGHT('C16_Baum'!$P$23,1)=\"*\",'C16_Baum'!$O$23,\"\"))))","v":""},{"$f":"IF('C16_Baum'!$P$21>'C16_Baum'!$P$23,'C16_Baum'!$O$22,IF('C16_Baum'!$P$23>'C16_Baum'!$P$21,'C16_Baum'!$O$24,IF(RIGHT('C16_Baum'!$P$21,1)=\"*\",'C16_Baum'!$O$22,IF(RIGHT('C16_Baum'!$P$23,1)=\"*\",'C16_Baum'!$O$24,\"\"))))","v":""},{"$f":"VLOOKUP(K10,C_Quali!$C$10:$H$100,6,FALSE)","v":{"$error":"#N/A"}},{"$f":"VLOOKUP(K10,'C16_Baum'!$C$3:$D$48,2,FALSE)","v":{"$error":"#N/A"}},{"$f":"VLOOKUP(K10,'C16_Baum'!$G$6:$H$45,2,FALSE)","v":0},{"$f":"VLOOKUP(K10,'C16_Baum'!$K$12:$L$39,2,FALSE)","v":0},{"$f":"VLOOKUP(K10,'C16_Baum'!$O$21:$P$30,2,FALSE)","v":0}]
[{"$f":"IF(C11<>\"\",A10+1,\"\")","v":""},null,"","",{"$error":"#N/A"},{"$error":"#N/A"},0,0,0,null,{"$f":"IF('C16_Baum'!$P$21<'C16_Baum'!$P$23,'C16_Baum'!$O$21,IF('C16_Baum'!$P$23<'C16_Baum'!$P$21,'C16_Baum'!$O$23,IF(RIGHT('C16_Baum'!$P$21,1)=\"*\",'C16_Baum'!$O$23,IF(RIGHT('C16_Baum'!$P$23,1)=\"*\",'C16_Baum'!$O$21,\"\"))))","v":""},{"$f":"IF('C16_Baum'!$P$21<'C16_Baum'!$P$23,'C16_Baum'!$O$22,IF('C16_Baum'!$P$23<'C16_Baum'!$P$21,'C16_Baum'!$O$24,IF(RIGHT('C16_Baum'!$P$21,1)=\"*\",'C16_Baum'!$O$24,IF(RIGHT('C16_Baum'!$P$23,1)=\"*\",'C16_Baum'!$O$22,\"\"))))","v":""},{"$f":"VLOOKUP(K11,C_Quali!$C$10:$H$100,6,FALSE)","v":{"$error":"#N/A"}},{"$f":"VLOOKUP(K11,'C16_Baum'!$C$3:$D$48,2,FALSE)","v":{"$error":"#N/A"}},{"$f":"VLOOKUP(K11,'C16_Baum'!$G$6:$H$45,2,FALSE)","v":0},{"$f":"VLOOKUP(K11,'C16_Baum'!$K$12:$L$39,2,FALSE)","v":0},{"$f":"VLOOKUP(K11,'C16_Baum'!$O$21:$P$30,2,FALSE)","v":0}]
["",null,"","",{"$error":"#N/A"},{"$error":"#N/A"},0,0,0,null,{"$f":"IF('C16_Baum'!$P$27>'C16_Baum'!$P$29,'C16_Baum'!$O$27,IF('C16_Baum'!$P$29>'C16_Baum'!$P$27,'C16_Baum'!$O$29,IF(RIGHT('C16_Baum'!$P$27,1)=\"*\",'C16_Baum'!$O$27,IF(RIGHT('C16_Baum'!$P$29,1)=\"*\",'C16_Baum'!$O$29,\"\"))))","v":""},{"$f":"IF('C16_Baum'!$P$27>'C16_Baum'!$P$29,'C16_Baum'!$O$28,IF('C16_Baum'!$P$29>'C16_Baum'!$P$27,'C16_Baum'!$O$30,IF(RIGHT('C16_Baum'!$P$27,1)=\"*\",'C16_Baum'!$O$28,IF(RIGHT('C16_Baum'!$P$29,1)=\"*\",'C16_Baum'!$O$30,\"\"))))","v":""},{"$f":"VLOOKUP(K12,C_Quali!$C$10:$H$100,6,FALSE)","v":{"$error":"#N/A"}},{"$f":"VLOOKUP(K12,'C16_Baum'!$C$3:$D$48,2,FALSE)","v":{"$error":"#N/A"}},{"$f":"VLOOKUP(K12,'C16_Baum'!$G$6:$H$45,2,FALSE)","v":0},{"$f":"VLOOKUP(K12,'C16_Baum'!$K$12:$L$39,2,FALSE)","v":0},{"$f":"VLOOKUP(K12,'C16_Baum'!$O$21:$P$30,2,FALSE)","v":0}]
["",null,"","",{"$error":"#N/A"},{"$error":"#N/A"},0,0,0,null,{"$f":"IF('C16_Baum'!$P$27<'C16_Baum'!$P$29,'C16_Baum'!$O$27,IF('C16_Baum'!$P$29<'C16_Baum'!$P$27,'C16_Baum'!$O$29,IF(RIGHT('C16_Baum'!$P$27,1)=\"*\",'C16_Baum'!$O$29,IF(RIGHT('C16_Baum'!$P$29,1)=\"*\",'C16_Baum'!$O$27,\"\"))))","v":""},{"$f":"IF('C16_Baum'!$P$27<'C16_Baum'!$P$29,'C16_Baum'!$O$28,IF('C16_Baum'!$P$29<'C16_Baum'!$P$27,'C16_Baum'!$O$30,IF(RIGHT('C16_Baum'!$P$27,1)=\"*\",'C16_Baum'!$O$30,IF(RIGHT('C16_Baum'!$P$29,1)=\"*\",'C16_Baum'!$O$28,\"\"))))","v":""},{"$f":"VLOOKUP(K13,C_Quali!$C$10:$H$100,6,FALSE)","v":{"$error":"#N/A"}},{"$f":"VLOOKUP(K13,'C16_Baum'!$C$3:$D$48,2,FALSE)","v":{"$error":"#N/A"}},{"$f":"VLOOKUP(K13,'C16_Baum'!$G$6:$H$45,2,FALSE)","v":0},{"$f":"VLOOKUP(K13,'C16_Baum'!$K$12:$L$39,2,FALSE)","v":0},{"$f":"VLOOKUP(K13,'C16_Baum'!$O$21:$P$30,2,FALSE)","v":0}]
["",null,"","",{"$error":"#N/A"},{"$error":"#N/A"},0,null,null,null,{"$f":"IF('C16_Baum'!$H$6<'C16_Baum'!$H$8,'C16_Baum'!$G$6,IF('C16_Baum'!$H$8<'C16_Baum'!$H$6,'C16_Baum'!$G$8,IF(RIGHT('C16_Baum'!$H$6,1)=\"*\",'C16_Baum'!$G$8,IF(RIGHT('C16_Baum'!$H$8,1)=\"*\",'C16_Baum'!$G$6,\"\"))))","v":""},{"$f":"IF('C16_Baum'!$H$6<'C16_Baum'!$H$8,'C16_Baum'!$G$7,IF('C16_Baum'!$H$8<'C16_Baum'!$H$6,'C16_Baum'!$G$9,IF(RIGHT('C16_Baum'!$H$6,1)=\"*\",'C16_Baum'!$G$9,IF(RIGHT('C16_Baum'!$H$8,1)=\"*\",'C16_Baum'!$G$7,\"\"))))","v":""},{"$f":"VLOOKUP(K14,C_Quali!$C$10:$H$100,6,FALSE)","v":{"$error":"#N/A"}},{"$f":"VLOOKUP(K14,'C16_Baum'!$C$3:$D$48,2,FALSE)","v":{"$error":"#N/A"}},{"$f":"VLOOKUP(K14,'C16_Baum'!$G$6:$H$45,2,FALSE)","v":0}]
["",null,"","",{"$error":"#N/A"},{"$error":"#N/A"},0,null,null,null,{"$f":"IF('C16_Baum'!$H$18<'C16_Baum'!$H$20,'C16_Baum'!$G$18,IF('C16_Baum'!$H$20<'C16_Baum'!$H$18,'C16_Baum'!$G$20,IF(RIGHT('C16_Baum'!$H$18,1)=\"*\",'C16_Baum'!$G$20,IF(RIGHT('C16_Baum'!$H$20,1)=\"*\",'C16_Baum'!$G$18,\"\"))))","v":""},{"$f":"IF('C16_Baum'!$H$18<'C16_Baum'!$H$20,'C16_Baum'!$G$19,IF('C16_Baum'!$H$20<'C16_Baum'!$H$18,'C16_Baum'!$G$21,IF(RIGHT('C16_Baum'!$H$18,1)=\"*\",'C16_Baum'!$G$21,IF(RIGHT('C16_Baum'!$H$20,1)=\"*\",'C16_Baum'!$G$19,\"\"))))","v":""},{"$f":"VLOOKUP(K15,C_Quali!$C$10:$H$100,6,FALSE)","v":{"$error":"#N/A"}},{"$f":"VLOOKUP(K15,'C16_Baum'!$C$3:$D$48,2,FALSE)","v":{"$error":"#N/A"}},{"$f":"VLOOKUP(K15,'C16_Baum'!$G$6:$H$45,2,FALSE)","v":0}]
["",null,"","",{"$error":"#N/A"},{"$error":"#N/A"},0,null,null,null,{"$f":"IF('C16_Baum'!$H$30<'C16_Baum'!$H$32,'C16_Baum'!$G$30,IF('C16_Baum'!$H$32<'C16_Baum'!$H$30,'C16_Baum'!$G$32,IF(RIGHT('C16_Baum'!$H$30,1)=\"*\",'C16_Baum'!$G$32,IF(RIGHT('C16_Baum'!$H$32,1)=\"*\",'C16_Baum'!$G$30,\"\"))))","v":""},{"$f":"IF('C16_Baum'!$H$30<'C16_Baum'!$H$32,'C16_Baum'!$G$31,IF('C16_Baum'!$H$32<'C16_Baum'!$H$30,'C16_Baum'!$G$33,IF(RIGHT('C16_Baum'!$H$30,1)=\"*\",'C16_Baum'!$G$33,IF(RIGHT('C16_Baum'!$H$32,1)=\"*\",'C16_Baum'!$G$31,\"\"))))","v":""},{"$f":"VLOOKUP(K16,C_Quali!$C$10:$H$100,6,FALSE)","v":{"$error":"#N/A"}},{"$f":"VLOOKUP(K16,'C16_Baum'!$C$3:$D$48,2,FALSE)","v":{"$error":"#N/A"}},{"$f":"VLOOKUP(K16,'C16_Baum'!$G$6:$H$45,2,FALSE)","v":0}]
["",null,"","",{"$error":"#N/A"},{"$error":"#N/A"},0,null,null,null,{"$f":"IF('C16_Baum'!$H$42<'C16_Baum'!$H$44,'C16_Baum'!$G$42,IF('C16_Baum'!$H$44<'C16_Baum'!$H$42,'C16_Baum'!$G$44,IF(RIGHT('C16_Baum'!$H$42,1)=\"*\",'C16_Baum'!$G$44,IF(RIGHT('C16_Baum'!$H$44,1)=\"*\",'C16_Baum'!$G$42,\"\"))))","v":""},{"$f":"IF('C16_Baum'!$H$42<'C16_Baum'!$H$44,'C16_Baum'!$G$43,IF('C16_Baum'!$H$44<'C16_Baum'!$H$42,'C16_Baum'!$G$45,IF(RIGHT('C16_Baum'!$H$42,1)=\"*\",'C16_Baum'!$G$45,IF(RIGHT('C16_Baum'!$H$44,1)=\"*\",'C16_Baum'!$G$43,\"\"))))","v":""},{"$f":"VLOOKUP(K17,C_Quali!$C$10:$H$100,6,FALSE)","v":{"$error":"#N/A"}},{"$f":"VLOOKUP(K17,'C16_Baum'!$C$3:$D$48,2,FALSE)","v":{"$error":"#N/A"}},{"$f":"VLOOKUP(K17,'C16_Baum'!$G$6:$H$45,2,FALSE)","v":0}]
["",null,"","",{"$error":"#N/A"},{"$error":"#N/A"},null,null,null,null,{"$f":"IF('C16_Baum'!$D$3<'C16_Baum'!$D$5,'C16_Baum'!$C$3,IF('C16_Baum'!$D$5<'C16_Baum'!$D$3,'C16_Baum'!$C$5,IF(RIGHT('C16_Baum'!$D$3,1)=\"*\",'C16_Baum'!$C$5,IF(RIGHT('C16_Baum'!$D$5,1)=\"*\",'C16_Baum'!$C$3,\"\"))))","v":""},{"$f":"IF('C16_Baum'!$D$3<'C16_Baum'!$D$5,'C16_Baum'!$C$4,IF('C16_Baum'!$D$5<'C16_Baum'!$D$3,'C16_Baum'!$C$6,IF(RIGHT('C16_Baum'!$D$3,1)=\"*\",'C16_Baum'!$C$6,IF(RIGHT('C16_Baum'!$D$5,1)=\"*\",'C16_Baum'!$C$4,\"\"))))","v":""},{"$f":"VLOOKUP(K18,C_Quali!$C$10:$H$100,6,FALSE)","v":{"$error":"#N/A"}},{"$f":"VLOOKUP(K18,'C16_Baum'!$C$3:$D$48,2,FALSE)","v":{"$error":"#N/A"}}]
["",null,"","",{"$error":"#N/A"},{"$error":"#N/A"},null,null,null,null,{"$f":"IF('C16_Baum'!$D$9<'C16_Baum'!$D$11,'C16_Baum'!$C$9,IF('C16_Baum'!$D$11<'C16_Baum'!$D$9,'C16_Baum'!$C$11,IF(RIGHT('C16_Baum'!$D$9,1)=\"*\",'C16_Baum'!$C$11,IF(RIGHT('C16_Baum'!$D$11,1)=\"*\",'C16_Baum'!$C$9,\"\"))))","v":""},{"$f":"IF('C16_Baum'!$D$9<'C16_Baum'!$D$11,'C16_Baum'!$C$10,IF('C16_Baum'!$D$11<'C16_Baum'!$D$9,'C16_Baum'!$C$12,IF(RIGHT('C16_Baum'!$D$9,1)=\"*\",'C16_Baum'!$C$12,IF(RIGHT('C16_Baum'!$D$11,1)=\"*\",'C16_Baum'!$C$10,\"\"))))","v":""},{"$f":"VLOOKUP(K19,C_Quali!$C$10:$H$100,6,FALSE)","v":{"$error":"#N/A"}},{"$f":"VLOOKUP(K19,'C16_Baum'!$C$3:$D$48,2,FALSE)","v":{"$error":"#N/A"}}]
["",null,"","",{"$error":"#N/A"},{"$error":"#N/A"},null,null,null,null,{"$f":"IF('C16_Baum'!$D$15<'C16_Baum'!$D$17,'C16_Baum'!$C$15,IF('C16_Baum'!$D$17<'C16_Baum'!$D$15,'C16_Baum'!$C$17,IF(RIGHT('C16_Baum'!$D$15,1)=\"*\",'C16_Baum'!$C$17,IF(RIGHT('C16_Baum'!$D$17,1)=\"*\",'C16_Baum'!$C$15,\"\"))))","v":""},{"$f":"IF('C16_Baum'!$D$15<'C16_Baum'!$D$17,'C16_Baum'!$C$16,IF('C16_Baum'!$D$17<'C16_Baum'!$D$15,'C16_Baum'!$C$18,IF(RIGHT('C16_Baum'!$D$15,1)=\"*\",'C16_Baum'!$C$18,IF(RIGHT('C16_Baum'!$D$17,1)=\"*\",'C16_Baum'!$C$16,\"\"))))","v":""},{"$f":"VLOOKUP(K20,C_Quali!$C$10:$H$100,6,FALSE)","v":{"$error":"#N/A"}},{"$f":"VLOOKUP(K20,'C16_Baum'!$C$3:$D$48,2,FALSE)","v":{"$error":"#N/A"}}]
["",null,"","",{"$error":"#N/A"},{"$error":"#N/A"},null,null,null,null,{"$f":"IF('C16_Baum'!$D$21<'C16_Baum'!$D$23,'C16_Baum'!$C$21,IF('C16_Baum'!$D$23<'C16_Baum'!$D$21,'C16_Baum'!$C$23,IF(RIGHT('C16_Baum'!$D$21,1)=\"*\",'C16_Baum'!$C$23,IF(RIGHT('C16_Baum'!$D$23,1)=\"*\",'C16_Baum'!$C$21,\"\"))))","v":""},{"$f":"IF('C16_Baum'!$D$21<'C16_Baum'!$D$23,'C16_Baum'!$C$22,IF('C16_Baum'!$D$23<'C16_Baum'!$D$21,'C16_Baum'!$C$24,IF(RIGHT('C16_Baum'!$D$21,1)=\"*\",'C16_Baum'!$C$24,IF(RIGHT('C16_Baum'!$D$23,1)=\"*\",'C16_Baum'!$C$22,\"\"))))","v":""},{"$f":"VLOOKUP(K21,C_Quali!$C$10:$H$100,6,FALSE)","v":{"$error":"#N/A"}},{"$f":"VLOOKUP(K21,'C16_Baum'!$C$3:$D$48,2,FALSE)","v":{"$error":"#N/A"}}]
["",null,"","",{"$error":"#N/A"},{"$error":"#N/A"},null,null,null,null,{"$f":"IF('C16_Baum'!$D$27<'C16_Baum'!$D$29,'C16_Baum'!$C$27,IF('C16_Baum'!$D$29<'C16_Baum'!$D$27,'C16_Baum'!$C$29,IF(RIGHT('C16_Baum'!$D$27,1)=\"*\",'C16_Baum'!$C$29,IF(RIGHT('C16_Baum'!$D$29,1)=\"*\",'C16_Baum'!$C$27,\"\"))))","v":""},{"$f":"IF('C16_Baum'!$D$27<'C16_Baum'!$D$29,'C16_Baum'!$C$28,IF('C16_Baum'!$D$29<'C16_Baum'!$D$27,'C16_Baum'!$C$30,IF(RIGHT('C16_Baum'!$D$27,1)=\"*\",'C16_Baum'!$C$30,IF(RIGHT('C16_Baum'!$D$29,1)=\"*\",'C16_Baum'!$C$28,\"\"))))","v":""},{"$f":"VLOOKUP(K22,C_Quali!$C$10:$H$100,6,FALSE)","v":{"$error":"#N/A"}},{"$f":"VLOOKUP(K22,'C16_Baum'!$C$3:$D$48,2,FALSE)","v":{"$error":"#N/A"}}]
["",null,"","",{"$error":"#N/A"},{"$error":"#N/A"},null,null,null,null,{"$f":"IF('C16_Baum'!$D$33<'C16_Baum'!$D$35,'C16_Baum'!$C$33,IF('C16_Baum'!$D$35<'C16_Baum'!$D$33,'C16_Baum'!$C$35,IF(RIGHT('C16_Baum'!$D$33,1)=\"*\",'C16_Baum'!$C$35,IF(RIGHT('C16_Baum'!$D$35,1)=\"*\",'C16_Baum'!$C$33,\"\"))))","v":""},{"$f":"IF('C16_Baum'!$D$33<'C16_Baum'!$D$35,'C16_Baum'!$C$34,IF('C16_Baum'!$D$35<'C16_Baum'!$D$33,'C16_Baum'!$C$36,IF(RIGHT('C16_Baum'!$D$33,1)=\"*\",'C16_Baum'!$C$36,IF(RIGHT('C16_Baum'!$D$35,1)=\"*\",'C16_Baum'!$C$34,\"\"))))","v":""},{"$f":"VLOOKUP(K23,C_Quali!$C$10:$H$100,6,FALSE)","v":{"$error":"#N/A"}},{"$f":"VLOOKUP(K23,'C16_Baum'!$C$3:$D$48,2,FALSE)","v":{"$error":"#N/A"}}]
["",null,"","",{"$error":"#N/A"},{"$error":"#N/A"},null,null,null,null,{"$f":"IF('C16_Baum'!$D$39<'C16_Baum'!$D$41,'C16_Baum'!$C$39,IF('C16_Baum'!$D$41<'C16_Baum'!$D$39,'C16_Baum'!$C$41,IF(RIGHT('C16_Baum'!$D$39,1)=\"*\",'C16_Baum'!$C$41,IF(RIGHT('C16_Baum'!$D$41,1)=\"*\",'C16_Baum'!$C$39,\"\"))))","v":""},{"$f":"IF('C16_Baum'!$D$39<'C16_Baum'!$D$41,'C16_Baum'!$C$40,IF('C16_Baum'!$D$41<'C16_Baum'!$D$39,'C16_Baum'!$C$42,IF(RIGHT('C16_Baum'!$D$39,1)=\"*\",'C16_Baum'!$C$42,IF(RIGHT('C16_Baum'!$D$41,1)=\"*\",'C16_Baum'!$C$40,\"\"))))","v":""},{"$f":"VLOOKUP(K24,C_Quali!$C$10:$H$100,6,FALSE)","v":{"$error":"#N/A"}},{"$f":"VLOOKUP(K24,'C16_Baum'!$C$3:$D$48,2,FALSE)","v":{"$error":"#N/A"}}]
["",null,"","",{"$error":"#N/A"},{"$error":"#N/A"},null,null,null,null,{"$f":"IF('C16_Baum'!$D$45<'C16_Baum'!$D$47,'C16_Baum'!$C$45,IF('C16_Baum'!$D$47<'C16_Baum'!$D$45,'C16_Baum'!$C$47,IF(RIGHT('C16_Baum'!$D$45,1)=\"*\",'C16_Baum'!$C$47,IF(RIGHT('C16_Baum'!$D$47,1)=\"*\",'C16_Baum'!$C$45,\"\"))))","v":""},{"$f":"IF('C16_Baum'!$D$45<'C16_Baum'!$D$47,'C16_Baum'!$C$46,IF('C16_Baum'!$D$47<'C16_Baum'!$D$45,'C16_Baum'!$C$48,IF(RIGHT('C16_Baum'!$D$45,1)=\"*\",'C16_Baum'!$C$48,IF(RIGHT('C16_Baum'!$D$47,1)=\"*\",'C16_Baum'!$C$46,\"\"))))","v":""},{"$f":"VLOOKUP(K25,C_Quali!$C$10:$H$100,6,FALSE)","v":{"$error":"#N/A"}},{"$f":"VLOOKUP(K25,'C16_Baum'!$C$3:$D$48,2,FALSE)","v":{"$error":"#N/A"}}]

{"sheet":"C8_Baum","index":31,"n_rows":62,"n_cols":12,"rows_kept":62,"cut":false,"hidden":true,"merged":[[10,10,10,11],[11,10,11,11],[11,5,12,5],[13,5,14,5],[10,9,11,9],[47,2,48,3],[43,1,44,1],[1,6,2,11],[3,6,4,11],[41,6,42,7],[6,10,6,11],[7,10,7,11],[6,9,7,9],[8,9,9,9],[35,5,36,5],[8,10,8,11],[9,10,9,11],[5,1,6,1],[7,1,8,1],[41,1,42,1],[37,5,38,5],[29,1,30,1],[31,1,32,1],[17,1,18,1],[19,1,20,1],[45,10,46,11],[20,9,21,9],[22,9,23,9],[26,9,27,9],[28,9,29,9],[38,10,39,11]]}
[]
[null,null,null,null,null,null,{"$f":"Select!C12","v":"Demoturnier"}]
[]
[null,null,null,null,null,null,{"$f":"Select!C13","v":"1. April 2019"}]
[null,"Schb","Name","Erg."]
[null,{"$f":"D55","v":"1A"},{"$f":"C_Quali!C10","v":"Steinwender Alois"}]
[1,null,{"$f":"C_Quali!D10","v":"Bogensport Lungau"},{"$f":"C_Quali!H10","v":532},"Quali.",null,null,null,null,"1.",{"$f":"IF($L$21>$L$23,$K$21,IF($L$23>$L$21,$K$23,IF(RIGHT($L$21,1)=\"*\",$K$21,IF(RIGHT($L$23,1)=\"*\",$K$23,\"\"))))","v":""}]
[8,{"$f":"D56","v":"1B"},{"$f":"C_Quali!C17","v":"Richter Oscar"},null,null,null,null,null,null,null,{"$f":"IF($L$21>$L$23,$K$22,IF($L$23>$L$21,$K$24,IF(RIGHT($L$21,1)=\"*\",$K$22,IF(RIGHT($L$23,1)=\"*\",$K$24,\"\"))))","v":""}]
[null,null,{"$f":"C_Quali!D17","v":"BC Golden Arrows"},{"$f":"C_Quali!H17","v":525},"Quali.",null,null,null,null,"2.",{"$f":"IF($L$21<$L$23,$K$21,IF($L$23<$L$21,$K$23,IF(RIGHT($L$23,1)=\"*\",$K$21,IF(RIGHT($L$21,1)=\"*\",$K$23,\"\"))))","v":""}]
[null,null,null,null,null,null,null,null,null,null,{"$f":"IF($L$21<$L$23,$K$22,IF($L$23<$L$21,$K$24,IF(RIGHT($L$23,1)=\"*\",$K$22,IF(RIGHT($L$21,1)=\"*\",$K$24,\"\"))))","v":""}]
[null,null,null,null,null,"Schb","Name","Erg.",null,"3.",{"$f":"IF($L$27>$L$29,$K$27,IF($L$29>$L$27,$K$29,IF(RIGHT($L$27,1)=\"*\",$K$27,IF(RIGHT($L$29,1)=\"*\",$K$29,\"\"))))","v":""}]
[null,null,null,null,null,{"$f":"H55","v":1},{"$f":"IF($D6>$D8,$C6,IF($D8>$D6,$C8,IF(RIGHT($D6,1)=\"*\",$C6,IF(RIGHT($D8,1)=\"*\",$C8,\"\"))))","v":""},null,null,null,{"$f":"IF($L$27>$L$29,$K$28,IF($L$29>$L$27,$K$30,IF(RIGHT($L$27,1)=\"*\",$K$28,IF(RIGHT($L$29,1)=\"*\",$K$30,\"\"))))","v":""}]
[null,null,null,null,null,null,{"$f":"IF($D6>$D8,$C7,IF($D8>$D6,$C9,IF(RIGHT($D6,1)=\"*\",$C7,IF(RIGHT($D8,1)=\"*\",$C9,\"\"))))","v":""}]
[null,null,null,null,null,{"$f":"H56","v":2},{"$f":"IF($D18>$D20,$C18,IF($D20>$D18,$C20,IF(RIGHT($D18,1)=\"*\",$C18,IF(RIGHT($D20,1)=\"*\",$C20,\"\"))))","v":""}]
[null,null,null,null,null,null,{"$f":"IF($D18>$D20,$C19,IF($D20>$D18,$C21,IF(RIGHT($D18,1)=\"*\",$C19,IF(RIGHT($D20,1)=\"*\",$C21,\"\"))))","v":""}]
[]
[]
[null,{"$f":"D57","v":"2A"},{"$f":"C_Quali!C14","v":"Traxler Helmuth"},null,null,null,null,null,null,null,""]
[5,null,{"$f":"C_Quali!D14","v":"UBC Diana NÖ"},{"$f":"C_Quali!H14","v":528},"Quali.",null,null,null,null,null,""]
[4,{"$f":"D58","v":"2B"},{"$f":"C_Quali!C13","v":"Wippel Wolfgang"},null,null,null,null,null,null,"Schb","Name","Erg."]
[null,null,{"$f":"C_Quali!D13","v":"BC Union Graz Seiersberg"},{"$f":"C_Quali!H13","v":529},"Quali.",null,null,null,null,{"$f":"L55","v":5},{"$f":"IF($H12>$H14,$G12,IF($H14>$H12,$G14,IF(RIGHT($H12,1)=\"*\",$G12,IF(RIGHT($H14,1)=\"*\",$G14,\"\"))))","v":""}]
[null,null,null,null,null,null,null,"Finale",null,null,{"$f":"IF($H12>$H14,$G13,IF($H14>$H12,$G15,IF(RIGHT($H12,1)=\"*\",$G13,IF(RIGHT($H14,1)=\"*\",$G15,\"\"))))","v":""}]
[null,null,null,null,null,null,null,"1. und 2. Platz",null,{"$f":"L56","v":6},{"$f":"IF($H36>$H38,$G36,IF($H38>$H36,$G38,IF(RIGHT($H36,1)=\"*\",$G36,IF(RIGHT($H38,1)=\"*\",$G38,\"\"))))","v":""}]
[null,null,null,null,null,null,null,null,null,null,{"$f":"IF($H36>$H38,$G37,IF($H38>$H36,$G39,IF(RIGHT($H36,1)=\"*\",$G37,IF(RIGHT($H38,1)=\"*\",$G39,\"\"))))","v":""}]
[]
[]
[null,null,null,null,null,null,null,null,null,{"$f":"L57","v":5},{"$f":"IF($H12<$H14,$G12,IF($H14<$H12,$G14,IF(RIGHT($H12,1)=\"*\",$G14,IF(RIGHT($H14,1)=\"*\",$G12,\"\"))))","v":""}]
[null,null,null,null,null,null,null,"Finale",null,null,{"$f":"IF($H12<$H14,$G13,IF($H14<$H12,$G15,IF(RIGHT($H12,1)=\"*\",$G12,IF(RIGHT($H14,1)=\"*\",$G14,\"\"))))","v":""}]
[null,null,null,null,null,null,null,"3. und 4. Platz",null,{"$f":"L58","v":6},{"$f":"IF($H36<$H38,$G36,IF($H38<$H36,$G38,IF(RIGHT($H36,1)=\"*\",$G38,IF(RIGHT($H38,1)=\"*\",$G36,\"\"))))","v":""}]
[null,{"$f":"D59","v":"3A"},{"$f":"C_Quali!C12","v":"Hubmann Gerhard"},null,null,null,null,null,null,null,{"$f":"IF($H36<$H38,$G37,IF($H38<$H36,$G39,IF(RIGHT($H36,1)=\"*\",$G39,IF(RIGHT($H38,1)=\"*\",$G37,\"\"))))","v":""}]
[3,null,{"$f":"C_Quali!D12","v":"EAT-Bogensport"},{"$f":"C_Quali!H12","v":530},"Quali."]
[6,{"$f":"D60","v":"3B"},{"$f":"C_Quali!C15","v":"Schneider Wolfgang"}]
[null,null,{"$f":"C_Quali!D15","v":"WBZ Union Zwettl"},{"$f":"C_Quali!H15","v":527},"Quali."]
[]
[]
[null,null,null,null,null,{"$f":"H57","v":3},{"$f":"IF($D30>$D32,$C30,IF($D32>$D30,$C32,IF(RIGHT($D30,1)=\"*\",$C30,IF(RIGHT($D32,1)=\"*\",$C32,\"\"))))","v":""}]
[null,null,null,null,null,null,{"$f":"IF($D30>$D32,$C31,IF($D32>$D30,$C33,IF(RIGHT($D30,1)=\"*\",$C31,IF(RIGHT($D32,1)=\"*\",$C33,\"\"))))","v":""}]
[null,null,null,null,null,{"$f":"H58","v":4},{"$f":"IF($D42>$D44,$C42,IF($D44>$D42,$C44,IF(RIGHT($D42,1)=\"*\",$C42,IF(RIGHT($D44,1)=\"*\",$C44,\"\"))))","v":""}]
[null,null,null,null,null,null,{"$f":"IF($D42>$D44,$C43,IF($D44>$D42,$C45,IF(RIGHT($D42,1)=\"*\",$C43,IF(RIGHT($D44,1)=\"*\",$C45,\"\"))))","v":""},null,null,null,"Finale"]
[]
[]
[null,{"$f":"D61","v":"4A"},{"$f":"C_Quali!C16","v":"Koisegg Johann"},null,null,null,"1/2 Finale"]
[7,null,{"$f":"C_Quali!D16","v":"BSC Sparkasse Jenbach"},{"$f":"C_Quali!H16","v":526},"Quali."]
[2,{"$f":"D62","v":"4B"},{"$f":"C_Quali!C11","v":"Kanduth Wolfgang"}]
[null,null,{"$f":"C_Quali!D11","v":"BC Wildon Weitendorf"},{"$f":"C_Quali!H11","v":531},"Quali."]
[null,null,null,null,null,null,null,null,null,null,{"$f":"Select!C20","v":"Compound Herren"}]
[]
[null,null,"1/4 Finale"]
[null,null,null,null,null,null,null,null,null,"*","= Im Stechen gewonnen"]
[]
[]
[]
[]
[null,null,"Scheibe:"]
[null,1,{"$f":"CONCATENATE($C$54,\" \",D55)","v":"Scheibe: 1A"},"1A",null,1,{"$f":"CONCATENATE($C$54,\" \",H55)","v":"Scheibe: 1"},1,null,1,{"$f":"CONCATENATE($C$54,\" \",L55)","v":"Scheibe: 5"},5]
[null,null,"Scheibe: 1B",{"$f":"IF(RIGHT(D55,1)=\"A\",CONCATENATE(LEFT(D55,LEN(D55)-1),\"B\"),D55+1)","v":"1B"},null,null,{"$f":"CONCATENATE($C$54,\" \",H56)","v":"Scheibe: 2"},{"$f":"IF(RIGHT(H55,1)=\"A\",CONCATENATE(LEFT(H55,LEN(H55)-1),\"B\"),H55+1)","v":2},null,null,{"$f":"CONCATENATE($C$54,\" \",L56)","v":"Scheibe: 6"},{"$f":"IF(RIGHT(L55,1)=\"A\",CONCATENATE(LEFT(L55,LEN(L55)-1),\"B\"),L55+1)","v":6}]
[null,{"$f":"B55+1","v":2},"Scheibe: 2A",{"$f":"IF(RIGHT(D56,1)=\"B\",CONCATENATE(LEFT(D56,LEN(D56)-1)+1,\"A\"),D56+1)","v":"2A"},null,{"$f":"F55+1","v":2},{"$f":"CONCATENATE($C$54,\" \",H57)","v":"Scheibe: 3"},{"$f":"IF(RIGHT(H56,1)=\"B\",CONCATENATE(LEFT(H56,LEN(H56)-1)+1,\"A\"),H56+1)","v":3},null,{"$f":"J55+1","v":2},{"$f":"CONCATENATE($C$54,\" \",L57)","v":"Scheibe: 5"},5]
[null,null,"Scheibe: 2B",{"$f":"IF(RIGHT(D57,1)=\"A\",CONCATENATE(LEFT(D57,LEN(D57)-1),\"B\"),D57+1)","v":"2B"},null,null,{"$f":"CONCATENATE($C$54,\" \",H58)","v":"Scheibe: 4"},{"$f":"IF(RIGHT(H57,1)=\"A\",CONCATENATE(LEFT(H57,LEN(H57)-1),\"B\"),H57+1)","v":4},null,null,{"$f":"CONCATENATE($C$54,\" \",L58)","v":"Scheibe: 6"},{"$f":"IF(RIGHT(L57,1)=\"A\",CONCATENATE(LEFT(L57,LEN(L57)-1),\"B\"),L57+1)","v":6}]
[null,{"$f":"B57+1","v":3},"Scheibe: 3A",{"$f":"IF(RIGHT(D58,1)=\"B\",CONCATENATE(LEFT(D58,LEN(D58)-1)+1,\"A\"),D58+1)","v":"3A"}]
[null,null,"Scheibe: 3B",{"$f":"IF(RIGHT(D59,1)=\"A\",CONCATENATE(LEFT(D59,LEN(D59)-1),\"B\"),D59+1)","v":"3B"}]
[null,{"$f":"B59+1","v":4},"Scheibe: 4A",{"$f":"IF(RIGHT(D60,1)=\"B\",CONCATENATE(LEFT(D60,LEN(D60)-1)+1,\"A\"),D60+1)","v":"4A"}]
[null,null,"Scheibe: 4B",{"$f":"IF(RIGHT(D61,1)=\"A\",CONCATENATE(LEFT(D61,LEN(D61)-1),\"B\"),D61+1)","v":"4B"}]

{"sheet":"C8","index":32,"n_rows":262,"n_cols":22,"rows_kept":262,"cut":false,"hidden":true,"merged":[[248,16,248,19],[248,20,248,22],[249,5,249,6],[249,13,249,14],[249,21,249,22],[248,0,248,3],[248,4,248,6],[248,8,248,11],[248,12,248,14],[240,0,240,6],[241,0,241,6],[242,0,242,6],[243,0,243,6],[236,0,236,6],[237,0,237,6],[238,0,238,6],[239,0,239,6],[233,13,233,14],[233,21,233,22],[234,0,234,6],[235,0,235,6],[232,8,232,11],[232,12,232,14],[232,16,232,19],[232,20,232,22],[215,16,215,19],[215,20,215,22],[216,5,216,6],[216,13,216,14],[216,21,216,22],[215,0,215,3],[215,4,215,6],[215,8,215,11],[215,12,215,14],[207,0,207,6],[208,0,208,6],[209,0,209,6],[210,0,210,6],[203,0,203,6],[204,0,204,6],[205,0,205,6],[206,0,206,6],[200,13,200,14],[200,21,200,22],[201,0,201,6],[202,0,202,6],[199,8,199,11],[199,12,199,14],[199,16,199,19],[199,20,199,22],[182,16,182,19],[182,20,182,22],[183,5,183,6],[183,13,183,14],[183,21,183,22],[182,0,182,3],[182,4,182,6],[182,8,182,11],[182,12,182,14],[174,0,174,6],[175,0,175,6],[176,0,176,6],[177,0,177,6],[170,0,170,6],[171,0,171,6],[172,0,172,6],[173,0,173,6],[167,13,167,14],[167,21,167,22],[168,0,168,6],[169,0,169,6],[166,8,166,11],[166,12,166,14],[166,16,166,19],[166,20,166,22],[149,16,149,19],[149,20,149,22],[150,5,150,6],[150,13,150,14],[150,21,150,22],[149,0,149,3],[149,4,149,6],[149,8,149,11],[149,12,149,14],[141,0,141,6],[142,0,142,6],[143,0,143,6],[144,0,144,6],[137,0,137,6],[138,0,138,6],[139,0,139,6],[140,0,140,6],[134,13,134,14],[134,21,134,22],[135,0,135,6],[136,0,136,6],[133,8,133,11],[133,12,133,14],[133,16,133,19],[133,20,133,22],[116,16,116,19],[116,20,116,22],[117,5,117,6],[117,13,117,14],[117,21,117,22],[116,0,116,3],[116,4,116,6],[116,8,116,11],[116,12,116,14],[108,0,108,6],[109,0,109,6],[110,0,110,6],[111,0,111,6],[104,0,104,6],[105,0,105,6],[106,0,106,6],[107,0,107,6],[101,13,101,14],[101,21,101,22],[102,0,102,6],[103,0,103,6],[100,8,100,11],[100,12,100,14],[100,16,100,19],[100,20,100,22],[83,16,83,19],[83,20,83,22],[84,5,84,6],[84,13,84,14],[84,21,84,22],[83,0,83,3],[83,4,83,6],[83,8,83,11],[83,12,83,14],[75,0,75,6],[76,0,76,6],[77,0,77,6],[78,0,78,6],[71,0,71,6],[72,0,72,6],[73,0,73,6],[74,0,74,6],[68,13,68,14],[68,21,68,22],[69,0,69,6],[70,0,70,6],[67,8,67,11],[67,12,67,14],[67,16,67,19],[67,20,67,22],[50,16,50,19],[50,20,50,22],[51,5,51,6],[51,13,51,14],[51,21,51,22],[50,0,50,3],[50,4,50,6],[50,8,50,11],[50,12,50,14],[42,0,42,6],[43,0,43,6],[44,0,44,6],[45,0,45,6],[38,0,38,6],[39,0,39,6],[40,0,40,6],[41,0,41,6],[35,13,35,14],[35,21,35,22],[36,0,36,6],[37,0,37,6],[34,8,34,11],[34,12,34,14],[34,16,34,19],[34,20,34,22],[10,0,10,6],[11,0,11,6],[12,0,12,6],[17,16,17,19],[17,20,17,22],[17,12,17,14],[18,5,18,6],[18,13,18,14],[18,21,18,22],[17,0,17,3],[17,4,17,6],[17,8,17,11],[6,0,6,6],[7,0,7,6],[8,0,8,6],[9,0,9,6],[1,8,1,11],[1,12,1,14],[1,16,1,19],[1,20,1,22],[2,13,2,14],[2,21,2,22],[3,0,3,6],[4,0,4,6],[5,0,5,6]]}
[]
[null,null,null,null,null,null,null,null,"1/16 Elimination",null,null,null,null,null,null,null,"1/8 Elimination"]
[null,null,null,null,null,null,null,null,null,1,2,3,"Summe","Ges.",null,null,null,1,2,3,"Summe","Ges."]
[{"$f":"Select!$C$12","v":"Demoturnier"},null,null,null,null,null,null,null,1,null,null,null,null,null,null,null,1]
["Veranstaltung",null,null,null,null,null,null,null,2,null,null,null,null,null,null,null,2]
[{"$f":"Select!$C$13","v":"1. April 2019"},null,null,null,null,null,null,null,3,null,null,null,null,null,null,null,3]
["Datum",null,null,null,null,null,null,null,4,null,null,null,null,null,null,null,4]
[{"$f":"'C8_Baum'!$C$6","v":"Steinwender Alois"},null,null,null,null,null,null,null,5,null,null,null,null,null,null,null,5]
["Name",null,null,null,null,null,null,null,"wenn erforderlich",null,null,null,null,null,null,null,"wenn erforderlich"]
[{"$f":"'C8_Baum'!$C$7","v":"Bogensport Lungau"},null,null,null,null,null,null,null,"Stechen",null,null,null,null,null,null,null,"Stechen"]
["Verein",null,null,null,null,null,null,null,null,null,null,null,null,"gewonnen",null,null,null,null,null,null,null,"gewonnen"]
[{"$f":"Select!$C$20","v":"Compound Herren"},null,null,null,null,null,null,null,"Schütze:",null,null,null,null,"verloren",null,null,"Schütze:",null,null,null,null,"verloren"]
["Bogenklasse"]
[null,null,null,null,null,null,null,null,"Gegner:",null,"Name:",null,null,null,null,null,"Gegner:",null,"Name:"]
[null,null,null,null,null,null,null,null,null,null,"Unterschrift:",null,null,null,null,null,null,null,"Unterschrift:"]
[]
[]
["1/4 Finale",null,null,null,{"$f":"'C8_Baum'!$C$55","v":"Scheibe: 1A"},null,null,null,"1/2 Finale",null,null,null,{"$f":"'C8_Baum'!$G$55","v":"Scheibe: 1"},null,null,null,"1./2. od. 3./4. Platz",null,null,null,"Scheibe:"]
[null,1,2,3,"Summe","Ges.",null,null,null,1,2,3,"Summe","Ges.",null,null,null,1,2,3,"Summe","Ges."]
[1,null,null,null,null,null,null,null,1,null,null,null,null,null,null,null,1]
[2,null,null,null,null,null,null,null,2,null,null,null,null,null,null,null,2]
[3,null,null,null,null,null,null,null,3,null,null,null,null,null,null,null,3]
[4,null,null,null,null,null,null,null,4,null,null,null,null,null,null,null,4]
[5,null,null,null,null,null,null,null,5,null,null,null,null,null,null,null,5]
["wenn erforderlich",null,null,null,null,null,null,null,"wenn erforderlich",null,null,null,null,null,null,null,"wenn erforderlich"]
["Stechen",null,null,null,null,null,null,null,"Stechen",null,null,null,null,null,null,null,"Stechen"]
[null,null,null,null,null,"gewonnen",null,null,null,null,null,null,null,"gewonnen",null,null,null,null,null,null,null,"gewonnen"]
["Schütze:",null,null,null,null,"verloren",null,null,"Schütze:",null,null,null,null,"verloren",null,null,"Schütze:",null,null,null,null,"verloren"]
[]
["Gegner:",null,"Name:",{"$f":"'C8_Baum'!C8","v":"Richter Oscar"},null,null,null,null,"Gegner:",null,"Name:",null,null,null,null,null,"Gegner:",null,"Name:"]
[null,null,"Unterschrift:",null,null,null,null,null,null,null,"Unterschrift:",null,null,null,null,null,null,null,"Unterschrift:"]
[]
[]
[]
[null,null,null,null,null,null,null,null,"1/16 Elimination",null,null,null,null,null,null,null,"1/8 Elimination"]
[null,null,null,null,null,null,null,null,null,1,2,3,"Summe","Ges.",null,null,null,1,2,3,"Summe","Ges."]
[{"$f":"Select!$C$12","v":"Demoturnier"},null,null,null,null,null,null,null,1,null,null,null,null,null,null,null,1]
["Veranstaltung",null,null,null,null,null,null,null,2,null,null,null,null,null,null,null,2]
[{"$f":"Select!$C$13","v":"1. April 2019"},null,null,null,null,null,null,null,3,null,null,null,null,null,null,null,3]
["Datum",null,null,null,null,null,null,null,4,null,null,null,null,null,null,null,4]
[{"$f":"'C8_Baum'!$C$8","v":"Richter Oscar"},null,null,null,null,null,null,null,5,null,null,null,null,null,null,null,5]
["Name",null,null,null,null,null,null,null,"wenn erforderlich",null,null,null,null,null,null,null,"wenn erforderlich"]
[{"$f":"'C8_Baum'!$C$9","v":"BC Golden Arrows"},null,null,null,null,null,null,null,"Stechen",null,null,null,null,null,null,null,"Stechen"]
["Verein",null,null,null,null,null,null,null,null,null,null,null,null,"gewonnen",null,null,null,null,null,null,null,"gewonnen"]
[{"$f":"Select!$C$20","v":"Compound Herren"},null,null,null,null,null,null,null,"Schütze:",null,null,null,null,"verloren",null,null,"Schütze:",null,null,null,null,"verloren"]
["Bogenklasse"]
[null,null,null,null,null,null,null,null,"Gegner:",null,"Name:",null,null,null,null,null,"Gegner:",null,"Name:"]
[null,null,null,null,null,null,null,null,null,null,"Unterschrift:",null,null,null,null,null,null,null,"Unterschrift:"]
[]
[]
["1/4 Finale",null,null,null,{"$f":"'C8_Baum'!$C$56","v":"Scheibe: 1B"},null,null,null,"1/2 Finale",null,null,null,{"$f":"'C8_Baum'!$G$55","v":"Scheibe: 1"},null,null,null,"1./2. od. 3./4. Platz",null,null,null,"Scheibe:"]
[null,1,2,3,"Summe","Ges.",null,null,null,1,2,3,"Summe","Ges.",null,null,null,1,2,3,"Summe","Ges."]
[1,null,null,null,null,null,null,null,1,null,null,null,null,null,null,null,1]
[2,null,null,null,null,null,null,null,2,null,null,null,null,null,null,null,2]
[3,null,null,null,null,null,null,null,3,null,null,null,null,null,null,null,3]
[4,null,null,null,null,null,null,null,4,null,null,null,null,null,null,null,4]
[5,null,null,null,null,null,null,null,5,null,null,null,null,null,null,null,5]
["wenn erforderlich",null,null,null,null,null,null,null,"wenn erforderlich",null,null,null,null,null,null,null,"wenn erforderlich"]
["Stechen",null,null,null,null,null,null,null,"Stechen",null,null,null,null,null,null,null,"Stechen"]
[null,null,null,null,null,"gewonnen",null,null,null,null,null,null,null,"gewonnen",null,null,null,null,null,null,null,"gewonnen"]
["Schütze:",null,null,null,null,"verloren",null,null,"Schütze:",null,null,null,null,"verloren",null,null,"Schütze:",null,null,null,null,"verloren"]
[]
["Gegner:",null,"Name:",{"$f":"'C8_Baum'!C6","v":"Steinwender Alois"},null,null,null,null,"Gegner:",null,"Name:",null,null,null,null,null,"Gegner:",null,"Name:"]
[null,null,"Unterschrift:",null,null,null,null,null,null,null,"Unterschrift:",null,null,null,null,null,null,null,"Unterschrift:"]
[]
[]
[]
[null,null,null,null,null,null,null,null,"1/16 Elimination",null,null,null,null,null,null,null,"1/8 Elimination"]
[null,null,null,null,null,null,null,null,null,1,2,3,"Summe","Ges.",null,null,null,1,2,3,"Summe","Ges."]
[{"$f":"Select!$C$12","v":"Demoturnier"},null,null,null,null,null,null,null,1,null,null,null,null,null,null,null,1]
["Veranstaltung",null,null,null,null,null,null,null,2,null,null,null,null,null,null,null,2]
[{"$f":"Select!$C$13","v":"1. April 2019"},null,null,null,null,null,null,null,3,null,null,null,null,null,null,null,3]
["Datum",null,null,null,null,null,null,null,4,null,null,null,null,null,null,null,4]
[{"$f":"'C8_Baum'!$C$18","v":"Traxler Helmuth"},null,null,null,null,null,null,null,5,null,null,null,null,null,null,null,5]
["Name",null,null,null,null,null,null,null,"wenn erforderlich",null,null,null,null,null,null,null,"wenn erforderlich"]
[{"$f":"'C8_Baum'!$C$19","v":"UBC Diana NÖ"},null,null,null,null,null,null,null,"Stechen",null,null,null,null,null,null,null,"Stechen"]
["Verein",null,null,null,null,null,null,null,null,null,null,null,null,"gewonnen",null,null,null,null,null,null,null,"gewonnen"]
[{"$f":"Select!$C$20","v":"Compound Herren"},null,null,null,null,null,null,null,"Schütze:",null,null,null,null,"verloren",null,null,"Schütze:",null,null,null,null,"verloren"]
["Bogenklasse"]
[null,null,null,null,null,null,null,null,"Gegner:",null,"Name:",null,null,null,null,null,"Gegner:",null,"Name:"]
[null,null,null,null,null,null,null,null,null,null,"Unterschrift:",null,null,null,null,null,null,null,"Unterschrift:"]
[]
[]
["1/4 Finale",null,null,null,{"$f":"'C8_Baum'!$C$57","v":"Scheibe: 2A"},null,null,null,"1/2 Finale",null,null,null,{"$f":"'C8_Baum'!$G$56","v":"Scheibe: 2"},null,null,null,"1./2. od. 3./4. Platz",null,null,null,"Scheibe:"]
[null,1,2,3,"Summe","Ges.",null,null,null,1,2,3,"Summe","Ges.",null,null,null,1,2,3,"Summe","Ges."]
[1,null,null,null,null,null,null,null,1,null,null,null,null,null,null,null,1]
[2,null,null,null,null,null,null,null,2,null,null,null,null,null,null,null,2]
[3,null,null,null,null,null,null,null,3,null,null,null,null,null,null,null,3]
[4,null,null,null,null,null,null,null,4,null,null,null,null,null,null,null,4]
[5,null,null,null,null,null,null,null,5,null,null,null,null,null,null,null,5]
["wenn erforderlich",null,null,null,null,null,null,null,"wenn erforderlich",null,null,null,null,null,null,null,"wenn erforderlich"]
["Stechen",null,null,null,null,null,null,null,"Stechen",null,null,null,null,null,null,null,"Stechen"]
[null,null,null,null,null,"gewonnen",null,null,null,null,null,null,null,"gewonnen",null,null,null,null,null,null,null,"gewonnen"]
["Schütze:",null,null,null,null,"verloren",null,null,"Schütze:",null,null,null,null,"verloren",null,null,"Schütze:",null,null,null,null,"verloren"]
[]
["Gegner:",null,"Name:",{"$f":"'C8_Baum'!C20","v":"Wippel Wolfgang"},null,null,null,null,"Gegner:",null,"Name:",null,null,null,null,null,"Gegner:",null,"Name:"]
[null,null,"Unterschrift:",null,null,null,null,null,null,null,"Unterschrift:",null,null,null,null,null,null,null,"Unterschrift:"]
[]
[]
[]
[null,null,null,null,null,null,null,null,"1/16 Elimination",null,null,null,null,null,null,null,"1/8 Elimination"]
[null,null,null,null,null,null,null,null,null,1,2,3,"Summe","Ges.",null,null,null,1,2,3,"Summe","Ges."]
[{"$f":"Select!$C$12","v":"Demoturnier"},null,null,null,null,null,null,null,1,null,null,null,null,null,null,null,1]
["Veranstaltung",null,null,null,null,null,null,null,2,null,null,null,null,null,null,null,2]
[{"$f":"Select!$C$13","v":"1. April 2019"},null,null,null,null,null,null,null,3,null,null,null,null,null,null,null,3]
["Datum",null,null,null,null,null,null,null,4,null,null,null,null,null,null,null,4]
[{"$f":"'C8_Baum'!$C$20","v":"Wippel Wolfgang"},null,null,null,null,null,null,null,5,null,null,null,null,null,null,null,5]
["Name",null,null,null,null,null,null,null,"wenn erforderlich",null,null,null,null,null,null,null,"wenn erforderlich"]
[{"$f":"'C8_Baum'!$C$21","v":"BC Union Graz Seiersberg"},null,null,null,null,null,null,null,"Stechen",null,null,null,null,null,null,null,"Stechen"]
["Verein",null,null,null,null,null,null,null,null,null,null,null,null,"gewonnen",null,null,null,null,null,null,null,"gewonnen"]
[{"$f":"Select!$C$20","v":"Compound Herren"},null,null,null,null,null,null,null,"Schütze:",null,null,null,null,"verloren",null,null,"Schütze:",null,null,null,null,"verloren"]
["Bogenklasse"]
[null,null,null,null,null,null,null,null,"Gegner:",null,"Name:",null,null,null,null,null,"Gegner:",null,"Name:"]
[null,null,null,null,null,null,null,null,null,null,"Unterschrift:",null,null,null,null,null,null,null,"Unterschrift:"]
[]
[]
["1/4 Finale",null,null,null,{"$f":"'C8_Baum'!$C$58","v":"Scheibe: 2B"},null,null,null,"1/2 Finale",null,null,null,{"$f":"'C8_Baum'!$G$56","v":"Scheibe: 2"},null,null,null,"1./2. od. 3./4. Platz",null,null,null,"Scheibe:"]
[null,1,2,3,"Summe","Ges.",null,null,null,1,2,3,"Summe","Ges.",null,null,null,1,2,3,"Summe","Ges."]
[1,null,null,null,null,null,null,null,1,null,null,null,null,null,null,null,1]
[2,null,null,null,null,null,null,null,2,null,null,null,null,null,null,null,2]
[3,null,null,null,null,null,null,null,3,null,null,null,null,null,null,null,3]
[4,null,null,null,null,null,null,null,4,null,null,null,null,null,null,null,4]
[5,null,null,null,null,null,null,null,5,null,null,null,null,null,null,null,5]
["wenn erforderlich",null,null,null,null,null,null,null,"wenn erforderlich",null,null,null,null,null,null,null,"wenn erforderlich"]
["Stechen",null,null,null,null,null,null,null,"Stechen",null,null,null,null,null,null,null,"Stechen"]
[null,null,null,null,null,"gewonnen",null,null,null,null,null,null,null,"gewonnen",null,null,null,null,null,null,null,"gewonnen"]
["Schütze:",null,null,null,null,"verloren",null,null,"Schütze:",null,null,null,null,"verloren",null,null,"Schütze:",null,null,null,null,"verloren"]
[]
["Gegner:",null,"Name:",{"$f":"'C8_Baum'!C18","v":"Traxler Helmuth"},null,null,null,null,"Gegner:",null,"Name:",null,null,null,null,null,"Gegner:",null,"Name:"]
[null,null,"Unterschrift:",null,null,null,null,null,null,null,"Unterschrift:",null,null,null,null,null,null,null,"Unterschrift:"]
[]
[]
[]
[null,null,null,null,null,null,null,null,"1/16 Elimination",null,null,null,null,null,null,null,"1/8 Elimination"]
[null,null,null,null,null,null,null,null,null,1,2,3,"Summe","Ges.",null,null,null,1,2,3,"Summe","Ges."]
[{"$f":"Select!$C$12","v":"Demoturnier"},null,null,null,null,null,null,null,1,null,null,null,null,null,null,null,1]
["Veranstaltung",null,null,null,null,null,null,null,2,null,null,null,null,null,null,null,2]
[{"$f":"Select!$C$13","v":"1. April 2019"},null,null,null,null,null,null,null,3,null,null,null,null,null,null,null,3]
["Datum",null,null,null,null,null,null,null,4,null,null,null,null,null,null,null,4]
[{"$f":"'C8_Baum'!$C$30","v":"Hubmann Gerhard"},null,null,null,null,null,null,null,5,null,null,null,null,null,null,null,5]
["Name",null,null,null,null,null,null,null,"wenn erforderlich",null,null,null,null,null,null,null,"wenn erforderlich"]
[{"$f":"'C8_Baum'!$C$31","v":"EAT-Bogensport"},null,null,null,null,null,null,null,"Stechen",null,null,null,null,null,null,null,"Stechen"]
["Verein",null,null,null,null,null,null,null,null,null,null,null,null,"gewonnen",null,null,null,null,null,null,null,"gewonnen"]
[{"$f":"Select!$C$20","v":"Compound Herren"},null,null,null,null,null,null,null,"Schütze:",null,null,null,null,"verloren",null,null,"Schütze:",null,null,null,null,"verloren"]
["Bogenklasse"]
[null,null,null,null,null,null,null,null,"Gegner:",null,"Name:",null,null,null,null,null,"Gegner:",null,"Name:"]
[null,null,null,null,null,null,null,null,null,null,"Unterschrift:",null,null,null,null,null,null,null,"Unterschrift:"]
[]
[]
["1/4 Finale",null,null,null,{"$f":"'C8_Baum'!$C$59","v":"Scheibe: 3A"},null,null,null,"1/2 Finale",null,null,null,{"$f":"'C8_Baum'!$G$57","v":"Scheibe: 3"},null,null,null,"1./2. od. 3./4. Platz",null,null,null,"Scheibe:"]
[null,1,2,3,"Summe","Ges.",null,null,null,1,2,3,"Summe","Ges.",null,null,null,1,2,3,"Summe","Ges."]
[1,null,null,null,null,null,null,null,1,null,null,null,null,null,null,null,1]
[2,null,null,null,null,null,null,null,2,null,null,null,null,null,null,null,2]
[3,null,null,null,null,null,null,null,3,null,null,null,null,null,null,null,3]
[4,null,null,null,null,null,null,null,4,null,null,null,null,null,null,null,4]
[5,null,null,null,null,null,null,null,5,null,null,null,null,null,null,null,5]
["wenn erforderlich",null,null,null,null,null,null,null,"wenn erforderlich",null,null,null,null,null,null,null,"wenn erforderlich"]
["Stechen",null,null,null,null,null,null,null,"Stechen",null,null,null,null,null,null,null,"Stechen"]
[null,null,null,null,null,"gewonnen",null,null,null,null,null,null,null,"gewonnen",null,null,null,null,null,null,null,"gewonnen"]
["Schütze:",null,null,null,null,"verloren",null,null,"Schütze:",null,null,null,null,"verloren",null,null,"Schütze:",null,null,null,null,"verloren"]
[]
["Gegner:",null,"Name:",{"$f":"'C8_Baum'!C32","v":"Schneider Wolfgang"},null,null,null,null,"Gegner:",null,"Name:",null,null,null,null,null,"Gegner:",null,"Name:"]
[null,null,"Unterschrift:",null,null,null,null,null,null,null,"Unterschrift:",null,null,null,null,null,null,null,"Unterschrift:"]
[]
[]
[]
[null,null,null,null,null,null,null,null,"1/16 Elimination",null,null,null,null,null,null,null,"1/8 Elimination"]
[null,null,null,null,null,null,null,null,null,1,2,3,"Summe","Ges.",null,null,null,1,2,3,"Summe","Ges."]
[{"$f":"Select!$C$12","v":"Demoturnier"},null,null,null,null,null,null,null,1,null,null,null,null,null,null,null,1]
["Veranstaltung",null,null,null,null,null,null,null,2,null,null,null,null,null,null,null,2]
[{"$f":"Select!$C$13","v":"1. April 2019"},null,null,null,null,null,null,null,3,null,null,null,null,null,null,null,3]
["Datum",null,null,null,null,null,null,null,4,null,null,null,null,null,null,null,4]
[{"$f":"'C8_Baum'!$C$32","v":"Schneider Wolfgang"},null,null,null,null,null,null,null,5,null,null,null,null,null,null,null,5]
["Name",null,null,null,null,null,null,null,"wenn erforderlich",null,null,null,null,null,null,null,"wenn erforderlich"]
[{"$f":"'C8_Baum'!$C$33","v":"WBZ Union Zwettl"},null,null,null,null,null,null,null,"Stechen",null,null,null,null,null,null,null,"Stechen"]
["Verein",null,null,null,null,null,null,null,null,null,null,null,null,"gewonnen",null,null,null,null,null,null,null,"gewonnen"]
[{"$f":"Select!$C$20","v":"Compound Herren"},null,null,null,null,null,null,null,"Schütze:",null,null,null,null,"verloren",null,null,"Schütze:",null,null,null,null,"verloren"]
["Bogenklasse"]
[null,null,null,null,null,null,null,null,"Gegner:",null,"Name:",null,null,null,null,null,"Gegner:",null,"Name:"]
[null,null,null,null,null,null,null,null,null,null,"Unterschrift:",null,null,null,null,null,null,null,"Unterschrift:"]
[]
[]
["1/4 Finale",null,null,null,{"$f":"'C8_Baum'!$C$60","v":"Scheibe: 3B"},null,null,null,"1/2 Finale",null,null,null,{"$f":"'C8_Baum'!$G$57","v":"Scheibe: 3"},null,null,null,"1./2. od. 3./4. Platz",null,null,null,"Scheibe:"]
[null,1,2,3,"Summe","Ges.",null,null,null,1,2,3,"Summe","Ges.",null,null,null,1,2,3,"Summe","Ges."]
[1,null,null,null,null,null,null,null,1,null,null,null,null,null,null,null,1]
[2,null,null,null,null,null,null,null,2,null,null,null,null,null,null,null,2]
[3,null,null,null,null,null,null,null,3,null,null,null,null,null,null,null,3]
[4,null,null,null,null,null,null,null,4,null,null,null,null,null,null,null,4]
[5,null,null,null,null,null,null,null,5,null,null,null,null,null,null,null,5]
["wenn erforderlich",null,null,null,null,null,null,null,"wenn erforderlich",null,null,null,null,null,null,null,"wenn erforderlich"]
["Stechen",null,null,null,null,null,null,null,"Stechen",null,null,null,null,null,null,null,"Stechen"]
[null,null,null,null,null,"gewonnen",null,null,null,null,null,null,null,"gewonnen",null,null,null,null,null,null,null,"gewonnen"]
["Schütze:",null,null,null,null,"verloren",null,null,"Schütze:",null,null,null,null,"verloren",null,null,"Schütze:",null,null,null,null,"verloren"]
[]
["Gegner:",null,"Name:",{"$f":"'C8_Baum'!C30","v":"Hubmann Gerhard"},null,null,null,null,"Gegner:",null,"Name:",null,null,null,null,null,"Gegner:",null,"Name:"]
[null,null,"Unterschrift:",null,null,null,null,null,null,null,"Unterschrift:",null,null,null,null,null,null,null,"Unterschrift:"]
[]
[]
[]
[null,null,null,null,null,null,null,null,"1/16 Elimination",null,null,null,null,null,null,null,"1/8 Elimination"]
[null,null,null,null,null,null,null,null,null,1,2,3,"Summe","Ges.",null,null,null,1,2,3,"Summe","Ges."]
[{"$f":"Select!$C$12","v":"Demoturnier"},null,null,null,null,null,null,null,1,null,null,null,null,null,null,null,1]
["Veranstaltung",null,null,null,null,null,null,null,2,null,null,null,null,null,null,null,2]
[{"$f":"Select!$C$13","v":"1. April 2019"},null,null,null,null,null,null,null,3,null,null,null,null,null,null,null,3]
["Datum",null,null,null,null,null,null,null,4,null,null,null,null,null,null,null,4]
[{"$f":"'C8_Baum'!$C$42","v":"Koisegg Johann"},null,null,null,null,null,null,null,5,null,null,null,null,null,null,null,5]
["Name",null,null,null,null,null,null,null,"wenn erforderlich",null,null,null,null,null,null,null,"wenn erforderlich"]
[{"$f":"'C8_Baum'!$C$43","v":"BSC Sparkasse Jenbach"},null,null,null,null,null,null,null,"Stechen",null,null,null,null,null,null,null,"Stechen"]
["Verein",null,null,null,null,null,null,null,null,null,null,null,null,"gewonnen",null,null,null,null,null,null,null,"gewonnen"]
[{"$f":"Select!$C$20","v":"Compound Herren"},null,null,null,null,null,null,null,"Schütze:",null,null,null,null,"verloren",null,null,"Schütze:",null,null,null,null,"verloren"]
["Bogenklasse"]
[null,null,null,null,null,null,null,null,"Gegner:",null,"Name:",null,null,null,null,null,"Gegner:",null,"Name:"]
[null,null,null,null,null,null,null,null,null,null,"Unterschrift:",null,null,null,null,null,null,null,"Unterschrift:"]
[]
[]
["1/4 Finale",null,null,null,{"$f":"'C8_Baum'!$C$61","v":"Scheibe: 4A"},null,null,null,"1/2 Finale",null,null,null,{"$f":"'C8_Baum'!$G$58","v":"Scheibe: 4"},null,null,null,"1./2. od. 3./4. Platz",null,null,null,"Scheibe:"]
[null,1,2,3,"Summe","Ges.",null,null,null,1,2,3,"Summe","Ges.",null,null,null,1,2,3,"Summe","Ges."]
[1,null,null,null,null,null,null,null,1,null,null,null,null,null,null,null,1]
[2,null,null,null,null,null,null,null,2,null,null,null,null,null,null,null,2]
[3,null,null,null,null,null,null,null,3,null,null,null,null,null,null,null,3]
[4,null,null,null,null,null,null,null,4,null,null,null,null,null,null,null,4]
[5,null,null,null,null,null,null,null,5,null,null,null,null,null,null,null,5]
["wenn erforderlich",null,null,null,null,null,null,null,"wenn erforderlich",null,null,null,null,null,null,null,"wenn erforderlich"]
["Stechen",null,null,null,null,null,null,null,"Stechen",null,null,null,null,null,null,null,"Stechen"]
[null,null,null,null,null,"gewonnen",null,null,null,null,null,null,null,"gewonnen",null,null,null,null,null,null,null,"gewonnen"]
["Schütze:",null,null,null,null,"verloren",null,null,"Schütze:",null,null,null,null,"verloren",null,null,"Schütze:",null,null,null,null,"verloren"]
[]
["Gegner:",null,"Name:",{"$f":"'C8_Baum'!C44","v":"Kanduth Wolfgang"},null,null,null,null,"Gegner:",null,"Name:",null,null,null,null,null,"Gegner:",null,"Name:"]
[null,null,"Unterschrift:",null,null,null,null,null,null,null,"Unterschrift:",null,null,null,null,null,null,null,"Unterschrift:"]
[]
[]
[]
[null,null,null,null,null,null,null,null,"1/16 Elimination",null,null,null,null,null,null,null,"1/8 Elimination"]
[null,null,null,null,null,null,null,null,null,1,2,3,"Summe","Ges.",null,null,null,1,2,3,"Summe","Ges."]
[{"$f":"Select!$C$12","v":"Demoturnier"},null,null,null,null,null,null,null,1,null,null,null,null,null,null,null,1]
["Veranstaltung",null,null,null,null,null,null,null,2,null,null,null,null,null,null,null,2]
[{"$f":"Select!$C$13","v":"1. April 2019"},null,null,null,null,null,null,null,3,null,null,null,null,null,null,null,3]
["Datum",null,null,null,null,null,null,null,4,null,null,null,null,null,null,null,4]
[{"$f":"'C8_Baum'!$C$44","v":"Kanduth Wolfgang"},null,null,null,null,null,null,null,5,null,null,null,null,null,null,null,5]
["Name",null,null,null,null,null,null,null,"wenn erforderlich",null,null,null,null,null,null,null,"wenn erforderlich"]
[{"$f":"'C8_Baum'!$C$45","v":"BC Wildon Weitendorf"},null,null,null,null,null,null,null,"Stechen",null,null,null,null,null,null,null,"Stechen"]
["Verein",null,null,null,null,null,null,null,null,null,null,null,null,"gewonnen",null,null,null,null,null,null,null,"gewonnen"]
[{"$f":"Select!$C$20","v":"Compound Herren"},null,null,null,null,null,null,null,"Schütze:",null,null,null,null,"verloren",null,null,"Schütze:",null,null,null,null,"verloren"]
["Bogenklasse"]
[null,null,null,null,null,null,null,null,"Gegner:",null,"Name:",null,null,null,null,null,"Gegner:",null,"Name:"]
[null,null,null,null,null,null,null,null,null,null,"Unterschrift:",null,null,null,null,null,null,null,"Unterschrift:"]
[]
[]
["1/4 Finale",null,null,null,{"$f":"'C8_Baum'!$C$62","v":"Scheibe: 4B"},null,null,null,"1/2 Finale",null,null,null,{"$f":"'C8_Baum'!$G$58","v":"Scheibe: 4"},null,null,null,"1./2. od. 3./4. Platz",null,null,null,"Scheibe:"]
[null,1,2,3,"Summe","Ges.",null,null,null,1,2,3,"Summe","Ges.",null,null,null,1,2,3,"Summe","Ges."]
[1,null,null,null,null,null,null,null,1,null,null,null,null,null,null,null,1]
[2,null,null,null,null,null,null,null,2,null,null,null,null,null,null,null,2]
[3,null,null,null,null,null,null,null,3,null,null,null,null,null,null,null,3]
[4,null,null,null,null,null,null,null,4,null,null,null,null,null,null,null,4]
[5,null,null,null,null,null,null,null,5,null,null,null,null,null,null,null,5]
["wenn erforderlich",null,null,null,null,null,null,null,"wenn erforderlich",null,null,null,null,null,null,null,"wenn erforderlich"]
["Stechen",null,null,null,null,null,null,null,"Stechen",null,null,null,null,null,null,null,"Stechen"]
[null,null,null,null,null,"gewonnen",null,null,null,null,null,null,null,"gewonnen",null,null,null,null,null,null,null,"gewonnen"]
["Schütze:",null,null,null,null,"verloren",null,null,"Schütze:",null,null,null,null,"verloren",null,null,"Schütze:",null,null,null,null,"verloren"]
[]
["Gegner:",null,"Name:",{"$f":"'C8_Baum'!C42","v":"Koisegg Johann"},null,null,null,null,"Gegner:",null,"Name:",null,null,null,null,null,"Gegner:",null,"Name:"]
[null,null,"Unterschrift:",null,null,null,null,null,null,null,"Unterschrift:",null,null,null,null,null,null,null,"Unterschrift:"]

{"sheet":"C8_Ergebnis","index":33,"n_rows":17,"n_cols":15,"rows_kept":17,"cut":false,"hidden":true,"merged":[[6,9,6,15],[6,0,6,3],[2,0,2,3],[1,0,1,3],[4,0,4,7],[1,4,1,7]]}
[]
[{"$f":"Select!$C$12","v":"Demoturnier"},null,null,null,{"$f":"Select!C14","v":"WA-Outdoor"}]
[{"$f":"Select!C13","v":"1. April 2019"}]
[]
["Ergebnisliste"]
[]
[{"$f":"Select!C20","v":"Compound Herren"},null,null,null,null,null,null,null,null,"!!!!!!!!!!!!!!!!!!!!!!!!!!  SORTIERBEREICH - NICHT ENTFERNEN !!!!!!!!!!!!!!!!!!!!!!!!!!"]
[]
["Pl.",null,"Name","Verein","Quali.","1/4","1/2","Finale",null,"SortName","SortVerein","SortQuali","Sort1/4","Sort1/2","SortFinale"]
[{"$f":"IF(C10<>\"\",1,\"\")","v":""},null,"","",{"$error":"#N/A"},{"$error":"#N/A"},0,0,null,{"$f":"IF('C8_Baum'!$L$21>'C8_Baum'!$L$23,'C8_Baum'!$K$21,IF('C8_Baum'!$L$23>'C8_Baum'!$L$21,'C8_Baum'!$K$23,IF(RIGHT('C8_Baum'!$L$21,1)=\"*\",'C8_Baum'!$K$21,IF(RIGHT('C8_Baum'!$L$23,1)=\"*\",'C8_Baum'!$K$23,\"\"))))","v":""},{"$f":"IF('C8_Baum'!$L$21>'C8_Baum'!$L$23,'C8_Baum'!$K$22,IF('C8_Baum'!$L$23>'C8_Baum'!$L$21,'C8_Baum'!$K$24,IF(RIGHT('C8_Baum'!$L$21,1)=\"*\",'C8_Baum'!$K$22,IF(RIGHT('C8_Baum'!$L$23,1)=\"*\",'C8_Baum'!$K$24,\"\"))))","v":""},{"$f":"VLOOKUP(J10,C_Quali!$C$10:$H$100,6,FALSE)","v":{"$error":"#N/A"}},{"$f":"VLOOKUP(J10,'C8_Baum'!$C$6:$D$45,2,FALSE)","v":{"$error":"#N/A"}},{"$f":"VLOOKUP(J10,'C8_Baum'!$G$12:$H$39,2,FALSE)","v":0},{"$f":"VLOOKUP(J10,'C8_Baum'!$K$21:$L$30,2,FALSE)","v":0}]
[{"$f":"IF(C11<>\"\",A10+1,\"\")","v":""},null,"","",{"$error":"#N/A"},{"$error":"#N/A"},0,0,null,{"$f":"IF('C8_Baum'!$L$21<'C8_Baum'!$L$23,'C8_Baum'!$K$21,IF('C8_Baum'!$L$23<'C8_Baum'!$L$21,'C8_Baum'!$K$23,IF(RIGHT('C8_Baum'!$L$21,1)=\"*\",'C8_Baum'!$K$23,IF(RIGHT('C8_Baum'!$L$23,1)=\"*\",'C8_Baum'!$K$21,\"\"))))","v":""},{"$f":"IF('C8_Baum'!$L$21<'C8_Baum'!$L$23,'C8_Baum'!$K$22,IF('C8_Baum'!$L$23<'C8_Baum'!$L$21,'C8_Baum'!$K$24,IF(RIGHT('C8_Baum'!$L$21,1)=\"*\",'C8_Baum'!$K$24,IF(RIGHT('C8_Baum'!$L$23,1)=\"*\",'C8_Baum'!$K$22,\"\"))))","v":""},{"$f":"VLOOKUP(J11,C_Quali!$C$10:$H$100,6,FALSE)","v":{"$error":"#N/A"}},{"$f":"VLOOKUP(J11,'C8_Baum'!$C$6:$D$45,2,FALSE)","v":{"$error":"#N/A"}},{"$f":"VLOOKUP(J11,'C8_Baum'!$G$12:$H$39,2,FALSE)","v":0},{"$f":"VLOOKUP(J11,'C8_Baum'!$K$21:$L$30,2,FALSE)","v":0}]
["",null,"","",{"$error":"#N/A"},{"$error":"#N/A"},0,0,null,{"$f":"IF('C8_Baum'!$L$27>'C8_Baum'!$L$29,'C8_Baum'!$K$27,IF('C8_Baum'!$L$29>'C8_Baum'!$L$27,'C8_Baum'!$K$29,IF(RIGHT('C8_Baum'!$L$27,1)=\"*\",'C8_Baum'!$K$27,IF(RIGHT('C8_Baum'!$L$29,1)=\"*\",'C8_Baum'!$K$29,\"\"))))","v":""},{"$f":"IF('C8_Baum'!$L$27>'C8_Baum'!$L$29,'C8_Baum'!$K$28,IF('C8_Baum'!$L$29>'C8_Baum'!$L$27,'C8_Baum'!$K$30,IF(RIGHT('C8_Baum'!$L$27,1)=\"*\",'C8_Baum'!$K$28,IF(RIGHT('C8_Baum'!$L$29,1)=\"*\",'C8_Baum'!$K$30,\"\"))))","v":""},{"$f":"VLOOKUP(J12,C_Quali!$C$10:$H$100,6,FALSE)","v":{"$error":"#N/A"}},{"$f":"VLOOKUP(J12,'C8_Baum'!$C$6:$D$45,2,FALSE)","v":{"$error":"#N/A"}},{"$f":"VLOOKUP(J12,'C8_Baum'!$G$12:$H$39,2,FALSE)","v":0},{"$f":"VLOOKUP(J12,'C8_Baum'!$K$21:$L$30,2,FALSE)","v":0}]
["",null,"","",{"$error":"#N/A"},{"$error":"#N/A"},0,0,null,{"$f":"IF('C8_Baum'!$L$27<'C8_Baum'!$L$29,'C8_Baum'!$K$27,IF('C8_Baum'!$L$29<'C8_Baum'!$L$27,'C8_Baum'!$K$29,IF(RIGHT('C8_Baum'!$L$27,1)=\"*\",'C8_Baum'!$K$29,IF(RIGHT('C8_Baum'!$L$29,1)=\"*\",'C8_Baum'!$K$27,\"\"))))","v":""},{"$f":"IF('C8_Baum'!$L$27<'C8_Baum'!$L$29,'C8_Baum'!$K$28,IF('C8_Baum'!$L$29<'C8_Baum'!$L$27,'C8_Baum'!$K$30,IF(RIGHT('C8_Baum'!$L$27,1)=\"*\",'C8_Baum'!$K$30,IF(RIGHT('C8_Baum'!$L$29,1)=\"*\",'C8_Baum'!$K$28,\"\"))))","v":""},{"$f":"VLOOKUP(J13,C_Quali!$C$10:$H$100,6,FALSE)","v":{"$error":"#N/A"}},{"$f":"VLOOKUP(J13,'C8_Baum'!$C$6:$D$45,2,FALSE)","v":{"$error":"#N/A"}},{"$f":"VLOOKUP(J13,'C8_Baum'!$G$12:$H$39,2,FALSE)","v":0},{"$f":"VLOOKUP(J13,'C8_Baum'!$K$21:$L$30,2,FALSE)","v":0}]
["",null,"","",{"$error":"#N/A"},{"$error":"#N/A"},null,null,null,{"$f":"IF('C8_Baum'!$D$6<'C8_Baum'!$D$8,'C8_Baum'!$C$6,IF('C8_Baum'!$D$8<'C8_Baum'!$D$6,'C8_Baum'!$C$8,IF(RIGHT('C8_Baum'!$D$6,1)=\"*\",'C8_Baum'!$C$8,IF(RIGHT('C8_Baum'!$D$8,1)=\"*\",'C8_Baum'!$C$6,\"\"))))","v":""},{"$f":"IF('C8_Baum'!$D$6<'C8_Baum'!$D$8,'C8_Baum'!$C$7,IF('C8_Baum'!$D$8<'C8_Baum'!$D$6,'C8_Baum'!$C$9,IF(RIGHT('C8_Baum'!$D$6,1)=\"*\",'C8_Baum'!$C$9,IF(RIGHT('C8_Baum'!$D$8,1)=\"*\",'C8_Baum'!$C$7,\"\"))))","v":""},{"$f":"VLOOKUP(J14,C_Quali!$C$10:$H$100,6,FALSE)","v":{"$error":"#N/A"}},{"$f":"VLOOKUP(J14,'C8_Baum'!$C$6:$D$45,2,FALSE)","v":{"$error":"#N/A"}}]
["",null,"","",{"$error":"#N/A"},{"$error":"#N/A"},null,null,null,{"$f":"IF('C8_Baum'!$D$18<'C8_Baum'!$D$20,'C8_Baum'!$C$18,IF('C8_Baum'!$D$20<'C8_Baum'!$D$18,'C8_Baum'!$C$20,IF(RIGHT('C8_Baum'!$D$18,1)=\"*\",'C8_Baum'!$C$20,IF(RIGHT('C8_Baum'!$D$20,1)=\"*\",'C8_Baum'!$C$18,\"\"))))","v":""},{"$f":"IF('C8_Baum'!$D$18<'C8_Baum'!$D$20,'C8_Baum'!$C$19,IF('C8_Baum'!$D$20<'C8_Baum'!$D$18,'C8_Baum'!$C$21,IF(RIGHT('C8_Baum'!$D$18,1)=\"*\",'C8_Baum'!$C$21,IF(RIGHT('C8_Baum'!$D$20,1)=\"*\",'C8_Baum'!$C$19,\"\"))))","v":""},{"$f":"VLOOKUP(J15,C_Quali!$C$10:$H$100,6,FALSE)","v":{"$error":"#N/A"}},{"$f":"VLOOKUP(J15,'C8_Baum'!$C$6:$D$45,2,FALSE)","v":{"$error":"#N/A"}}]
["",null,"","",{"$error":"#N/A"},{"$error":"#N/A"},null,null,null,{"$f":"IF('C8_Baum'!$D$30<'C8_Baum'!$D$32,'C8_Baum'!$C$30,IF('C8_Baum'!$D$32<'C8_Baum'!$D$30,'C8_Baum'!$C$32,IF(RIGHT('C8_Baum'!$D$30,1)=\"*\",'C8_Baum'!$C$32,IF(RIGHT('C8_Baum'!$D$32,1)=\"*\",'C8_Baum'!$C$30,\"\"))))","v":""},{"$f":"IF('C8_Baum'!$D$30<'C8_Baum'!$D$32,'C8_Baum'!$C$31,IF('C8_Baum'!$D$32<'C8_Baum'!$D$30,'C8_Baum'!$C$33,IF(RIGHT('C8_Baum'!$D$30,1)=\"*\",'C8_Baum'!$C$33,IF(RIGHT('C8_Baum'!$D$32,1)=\"*\",'C8_Baum'!$C$31,\"\"))))","v":""},{"$f":"VLOOKUP(J16,C_Quali!$C$10:$H$100,6,FALSE)","v":{"$error":"#N/A"}},{"$f":"VLOOKUP(J16,'C8_Baum'!$C$6:$D$45,2,FALSE)","v":{"$error":"#N/A"}}]
["",null,"","",{"$error":"#N/A"},{"$error":"#N/A"},null,null,null,{"$f":"IF('C8_Baum'!$D$42<'C8_Baum'!$D$44,'C8_Baum'!$C$42,IF('C8_Baum'!$D$44<'C8_Baum'!$D$42,'C8_Baum'!$C$44,IF(RIGHT('C8_Baum'!$D$42,1)=\"*\",'C8_Baum'!$C$44,IF(RIGHT('C8_Baum'!$D$44,1)=\"*\",'C8_Baum'!$C$42,\"\"))))","v":""},{"$f":"IF('C8_Baum'!$D$42<'C8_Baum'!$D$44,'C8_Baum'!$C$43,IF('C8_Baum'!$D$44<'C8_Baum'!$D$42,'C8_Baum'!$C$45,IF(RIGHT('C8_Baum'!$D$42,1)=\"*\",'C8_Baum'!$C$45,IF(RIGHT('C8_Baum'!$D$44,1)=\"*\",'C8_Baum'!$C$43,\"\"))))","v":""},{"$f":"VLOOKUP(J17,C_Quali!$C$10:$H$100,6,FALSE)","v":{"$error":"#N/A"}},{"$f":"VLOOKUP(J17,'C8_Baum'!$C$6:$D$45,2,FALSE)","v":{"$error":"#N/A"}}]